Workbook

Sheet Deckblatt
B4: Digitaler Branchen-Kompass
B6: Kreislaufwirtschaft, Stadtreinigung
B7: Baubetriebshöfe
B9: Datenbezugsjahr 2025
B11: Erhebungsbogen
B12: Basispaket
B14: initiiert vom
B25: Ansprechpartner:
B26: INFA GmbH, Herr Matthias Adloff, Tel.: 0 23 82 / 9 64 - 5 27, E-Mail: adloff@infa.de
B27: INFA GmbH, Frau Marie-Luise Heckmann, Tel.: 0 23 82 / 9 64 - 5 68, E-Mail: heckmann@infa.de

Sheet Inhaltsverzeichnis
A1: Digitaler Branchen-Kompass
A2: Datenerhebungsbogen - Bezugsjahr 2025
B4: Inhaltsverzeichnis und allgemeine Hinweise
C8: 1. Allgemeine Angaben (relevant für alle Teilnehmenden) | H8: 4. Straßenreinigung
D9: 1.1 Allgemein | I9: 4.1 Personal Straßenreinigung
D10: 1.2 Aufgabenspektrum und Mitarbeitendenübersicht | I10: 4.2 Fuhrpark Straßenreinigung
D11: 1.3 Kosten Verwaltung (nur im Zusatzpaket) | I11: 4.3 Dienstleistung Straßenreinigung
D12: 1.4 Personal Verwaltung | I12: 4.4 SLC Stadtreinigung (nur im Zusatzpaket)
D13: 1.5 Infrastruktur
D14: 1.6 Digitalisierung und KI-Einsatz im Betrieb | H14: 5. Winterdienst
I15: 5.1 Dienstleistung Winterdienst
C16: 2. Kfz-Werkstatt
D17: 2.1 Personal Kfz-Werkstatt | H17: 6. Grünflächenunterhaltung
D18: 2.2 Diensteistung Kfz-Werkstatt | I18: 6.1 Personal Grünflächenunterhaltung
I19: 6.2 Fuhrpark Grünflächenunterhaltung
C20: 3. Kreislaufwirtschaft/Abfallwirtschaft | I20: 6.3 Dienstleistung Grünflächenunterhaltung
D21: 3.1 Personal Abfallwirtschaft
D22: 3.2 Fuhrpark Abfallwirtschaft | H22: 7. Friedhofsunterhaltung
D23: 3.3 Allgemeine Angaben zur Abfallwirtschaft | I23: 7.1 Personal Friedhofsunterhaltung
D24: 3.4 Restabfallabfuhr | I24: 7.2 Fuhrpark Friedhofsunterhaltung
D25: 3.5 Bioabfallabfuhr | I25: 7.3 Dienstleistung Friedhofsunterhaltung
D26: 3.6 Altpapierabfuhr
D27: 3.7 LVP/Wertstoffe | H27: 8. Straßenunterhaltung
D28: 3.8 Sperrabfall und Grünabfall | I28: 8.1 Personal Straßenunterhaltung
D29: 3.9 Wertstoffhof | I29: 8.2 Fuhrpark Straßenunterhaltung
D30: 3.10 SLC Abfall (nur im Zusatzpaket) | I30: 8.3 Dienstleistung Straßenunterhaltung
B32: Die Abfrage wirkt auf den ersten Blick umfangreicher als bisher, ist aber je Dienstleistungsbereich kaum verändert worden!
B34: Aufbau des Erhebungsbogens
B35: Der digitale Branchen-Kompass umfasst das kostenfreie Basispaket „VKU-Betriebsdaten“ sowie das kostenpflichtige Zusatzpaket „Benchmarking“,
B36: das separat bei der INFA GmbH beauftragt werden muss. Nach der Beauftragung des Benchmarkings erhalten Sie einen neuen Erhebungsbogen,
B37: in dem zusätzlich zum Basispaket der Bereich „Zusatzpaket“ freigeschaltet ist. Für die Teilnahme am Benchmarking sind beide Bereiche auszufüllen.
B38: Der vorliegende Fragebogen umfasst nur das Basispaket „VKU-Betriebsdaten“.
B40: Die farbliche Kennzeichnung am linken Seitenrand der einzelnen Tabellenblätter zeigt, welchem Paket die jeweilige Frage zugeordnet ist.
C41: BASISPAKET | F41: ZUSATZPAKET
B42: Für die Auswertung der VKU-Betriebsdaten werden ausschließlich die Angaben aus dem Bereich „Basispaket“ berücksichtigt. Beim Benchmarking
B43: werden die Angaben aus beiden Bereichen ausgewertet, sofern Sie der Auswertung zugestimmt haben (siehe Reiter Allgemein 1.1 a).
B45: Die Reiter der Tabellenblätter sind entsprechend der Farben der Rahmen im Inhaltsverzeichnis eingefärbt. So können Sie über die Farben die
B46: Tabellenblätter den jeweilige Dienstleistungen zuordnen. Auf einzelnen Tabellenblättern können übergreifende Fragen erscheinen. Diese Fragen
B47: können außerhalb Ihres gewählten Teilnahmebereichs liegen (z. B. 1.6 KI-Einsatz: Wenn Sie nur für Kreislaufwirtschaft/Abfallwirtschaft teilnehmen,
B48: entfallen die Fragen ab 1.6 h) . Bitte ignorieren Sie diese Fragen.
B50: Dateneingabe:
B51: => in den | D51: weißen Feldern | E51: erfolgt die Dateneingabe; in allen weiteren (hellblau hinterlegten) Feldern ist mit wenigen Ausnahmen keine Eingabe möglich | I51: hellblauen Feldern | J51: ist mit wenigen Ausnahmen
B52: keine Eingabe möglich (gesperrter Bereich; z. T. autom. Übertragsfelder aus anderen Bearbeitungspunkten)
B53: => Nutzen Sie für Ankreuzfelder gern den Buchstaben "x"
B54: => Einige Felder enthalten zusätzliche Hinweise (Notizfuktion). Diese werden beim Überfahren der Zelle mit der Maus angezeigt und sind durch eine
B55: rote Markierung in der oberen rechten Ecke gekennzeichnet.
B56: => Einige Felder sind mit „0“ vorbelegt. Liegt kein Wert vor, kann die „0“ stehen bleiben.
B57: => Bitte verwenden Sie keine Einträge wie „k. A.“, „nicht bekannt“ oder „nicht zutreffend“. Sofern keine Angabe möglich ist, lassen Sie das Feld leer
B58: oder belassen Sie den voreingestellten Wert „0“.
B60: Navigation des Erhebungsbogens:
B61: => Ausgangspunkt ist das Inhaltsverzeichnis; von hier aus kann über die LINKS zu den jeweiligen Bearbeitungspunkten navigiert werden
B62: => in den jeweiligen Bearbeitungspunkten ist am Ende ein LINK zum Inhaltsverzeichnis vorgesehen
B64: Hinweise zum Datenschutz
B65: => siehe Tabellenblatt 1.1 Allgemein
... B72: Bitte senden Sie den bearbeiteten Bogen bis zum 30. November 2026 an branchen-kompass@infa.de zurück!

Sheet Allgemein
A1: =Inhaltsverzeichnis!$A$1 -> Digitaler Branchen-Kompass | Z1: Zwischenberechnungen
A2: =Inhaltsverzeichnis!$A$2 -> Datenerhebungsbogen - Bezugsjahr 2025
A4: BASISPAKET | B4: 1.1 Allgemeine Angaben: Datenschutz / Grundlagendaten / Organisationsform / Berechnungsbasis / Gesamtkosten
B6: a) | C6: Kontaktdaten teilnehmender Betrieb | AA6: Drop-Down
C7: - Name des teilnehmenden Betriebs
C9: - VKU-Mitgliedsnummer des Betriebs
AA10: Baden-Württemberg
C11: - Bundesland (Drop-Down-Auswahl) | AA11: Bayern
AA12: Berlin
C13: - Ansprechpartner | AA13: Brandenburg
AA14: Bremen
C15: - Telefonnummer Ansprechpartner (optional) | AA15: Hamburg
AA16: Hessen
C17: - E-Mail-Adresse Ansprechpartner | AA17: Mecklenburg-Vorpommern
AA18: Niedersachsen
B19: b) | C19: Datenschutz im Rahmen des Digitalen Branchen-Kompasses | AA19: Nordrhein-Westfalen
C20: Datenschutz: | AA20: Rheinland-Pfalz
C21: Die Betriebsdatenerhebung obliegt dem VKU e. V.. Nach dem Absenden des Datenerhebungsbogens werden Ihre Daten zum Zweck der Betriebs- | AA21: Saarland
C22: datenerhebung gespeichert, genutzt und ausgewertet (Vertragsverhältnis zwischen VKU und Ihrem Betrieb). Hierbei unterstützt die INFA GmbH | AA22: Sachsen
C23: den VKU als Dienstleister. Im Hinblick auf die Verarbeitung Ihrer personenbezogenen Daten wurde ein entsprechender Auftragsverarbeitungs- | AA23: Sachsen-Anhalt
C24: vertrag abgeschlossen. Zur Erfüllung der datenschutzrechtlichen Informationspflichten des VKU hinsichtlich der Verarbeitung Ihrer personen- | AA24: Schleswig-Holstein
C25: bezogenen Daten verweisen wir auf unsere Allgemeine Datenschutzerklärung des VKU e. V., welche Sie unter dem folgenden Link finden: | AA25: Thüringen
C26: https://www.vku.de/privacy/ | F26: . Dort erhalten Sie auch Erläuterungen zu Ihren Betroffenenrechten.
C28: Zustimmung zur Nutzung Ihrer personenbezogenen Daten i.R.d. Digitalen Branchen-Kompass:
C29: Neben dieser (kostenfreien) Betriebsdatenerhebung (Basispaket) haben Sie die Möglichkeit zusätzlich kostenpflichtig am Benchmarking der
C30: INFA GmbH (Zusatzpaket) teilzunehmen. Dies erfordert ein separates Vertragsverhältnis zwischen der INFA GmbH und Ihrem Betrieb.
C31: Der Digitale Branchen-Kompass ermöglicht damit – Ihr nachfolgendes Einverständnis vorausgesetzt – die Zusammenführung der bisherigen
C32: Betriebsdatenerhebung und des Benchmarkings zu einem integrierten Verfahren. Die paketübergreifende Nutzung betrifft sowohl die erhobenen
C33: Daten für die Bildung von Vergleichskennzahlen als auch die Kontaktdaten der benannten Ansprechpartner, soweit dies für die Durchführung
C34: und Betreuung der jeweiligen Erhebung erforderlich ist.
C36: Wenn Sie mit der Nutzung Ihrer Daten aus der Betriebsdatenerhebung (Basispaket) und der Übernahme in die Auswertung zum Benchmarking
C37: durch die INFA GmbH einverstanden sind, erteilen Sie uns, dem VKU, bitte ihr Einverständnis in eine entsprechende Datenübermittlung bzw.
C38: einen entsprechenden Datenaustausch:
D40: Ich bin damit einverstanden, dass der VKU e.V., Invalidenstraße 91, 10115 Berlin, der INFA GmbH, Beckumer Str. 36, 59229 Ahlen, die
D41: im Rahmen der Umfrage eingegebenen Betriebsdaten aus der Betriebsdatenerhebung für die Bildung von Vergleichskennzahlen i.R.d.
D42: Benchmarking in anonymisierter Form zur Verfügung stellt.
C44: In Bezug auf personenbezogene Daten erkläre ich:
D46: Ich bin damit einverstanden, dass der VKU e.V., Invalidenstraße 91, 10115 Berlin, meine im Rahmen der Betriebsdatenerhebung angegebenen
D47: personenbezogenen Daten (Name, Funktion, E-Mail-Adresse und ggf. Telefonnummer ) der INFA GmbH, Beckumer Str. 36, 59229 Ahlen, zur
D48: Teilnahme am Benchmarking zur Verfügung stellt.
C50: Hinweis auf jederzeitiges Widerrufsrecht bei der Weitergabe personenbezogener Daten:
C51: Sie haben das Recht, Ihre erteilte Einwilligung jederzeit zu widerrufen. Bis zum Zeitpunkt Ihres Widerrufs bleibt Ihre Einwilligungserklärung wirksam.
C52: Zur Geltendmachung Ihres Widerrufs können Sie sich an krause@vku.de wenden.
C53: Sofern es aufgrund Ihres Einverständnisses zu einem Datenaustausch bzw. gemeinsamen Nutzung Ihrer personenbezogenen Daten zwischen dem
C54: VKU und der INFA GmbH kommt, liegt datenschutzrechtlich eine gemeinsame Verantwortlichkeit vor. Diesbezüglich haben der VKU und INFA eine
C55: entsprechende Vereinbarung zur gemeinsamen Verantwortlichkeit abgeschlossen. Einzelheiten hinsichtlich der Datenverarbeitung können Sie der
C56: gemeinsamen Datenschutzerklärung von VKU und INFA entnehmen, die hier abrufbar ist:
C57: https://www.vku.de/themen/infrastruktur-und-dienstleistungen/artikel/branchenkompass-2026/
C58: Dort erhalten Sie auch Erläuterungen zu Ihren Betroffenenrechten.
B62: => Bitte alle Eingaben mit dem Bezug auf das Jahr 2025 angeben!
B64: b) | C64: Allgemeine strukturelle Angaben
C65: Einwohner im Zuständigkeitsgebiet im Jahr 2025 | R65: Einwohner
C66: Einwohner im Zuständigkeitsgebiet im Jahr 2015 | R66: Einwohner
C67: Fläche des Zuständigkeitsgebietes | R67: km²
D68: Der Betrieb ist selbst nicht im operativen Geschäft tätig und die Übermittlung von weiteren Daten nur teilweise/nicht möglich
B70: c) | C70: Rechtliche Organisation
C71: Organisationsform (Zutreffendes bitte ankreuzen)
D72: Amt / Regiebetrieb | G72: Eigenbetrieb / eigen- | K72: Anstalt öffentl. Rechts | P72: Zweckverband | T72: Kapitalgesellschaft
G73: betriebsähnliche Einrichtung
C74: Beteiligungsverhältnis (bei Kapitalgesellschaft)
D75: % kommunal / öffentlich gehaltener Anteil | J75: =IF(S72="x",100-C75,"") | K75: % privat gehaltener Anteil

Sheet Aufgaben
A1: =Inhaltsverzeichnis!$A$1 -> Digitaler Branchen-Kompass
A2: =Inhaltsverzeichnis!$A$2 -> Datenerhebungsbogen - Bezugsjahr 2025
A4: =Allgemein!$A$4 -> BASISPAKET | B4: 1.2 Aufgabenspektrum und Mitarbeitendenübersicht
B6: a) | C6: Aufgabenspektrum und Mitarbeitendeverteilung
C7: Bitte kreuzen Sie zunächst an, welche Aufgaben/Dienstleistungen Sie durch Ihren Betrieb wahrnehmen.
C8: Aufgaben, die zu 100 % fremdvergeben sind, sind nicht zu berücksichtigen, Aufgaben, die zum Teil fremdvergeben werden, bitte ebenfalls ankreuzen.
C9: Hierbei sind auch Dienstleistungen zu berücksichtigen, die Sie im Auftrag für ein anderes Amt o. ä. erbringen. Ergänzen Sie die Aufstellung gerne
C10: um weitere Aufgaben/Dienstleistungen.
O12: Abfrage nur für die Teilnahme "Betriebsdaten Baubetriebshöfe" erforderlich!
O13: Gern darf die Abfrage aber auch bei Teilnahme an anderen Bereichen ausgefüllt werden.
C14: Operativ:
D15: Abfallsammlung (Müllabfuhr)
D16: Straßenreinigung
D17: Papierkorbleerungen im Straßenraum
D18: Papierkorbleerungen in Grünanlagen
D19: Grünflächenunterhaltung
D20: Friedhofsunterhaltung
D21: Forstbetrieb
D22: Winterdienst
D23: Kfz-Werkstatt/Lager
D24: Straßenunterhaltung
D25: Straßenbeleuchtung
D26: Kanalbetrieb
... D33: Veranstaltungen
C35: Administrativ:
D36: Planungsabteilung Grün
D37: Friedhofsverwaltung
D38: Forstverwaltung
D39: Planungsabteilung Tiefbau
D40: Planungsabteilung Hochbau
D41: Planungsabteilung Stadtentwässerung
D43: Sonstiges, bitte erläutern:
B45: b) | C45: Wie viele Mitarbeitende sind den einzelnen Bereichen zugeordnet?
C46: Sie können diese Angaben hier machen, wir haben aber auch für die Bereiche, die detaillierter betrachtet werden, eine Verknüpfung hinterlegt,
C47: sodass die Daten aus dem jeweiligen Tabellenblatt hierher übertragen werden. Sie können diese aber auch direkt eintragen.
G48: Verwaltungsmitarbeitende | I48: Mitarbeitende, operativ tätig | K48: Auszubildende | M48: Saisonkräfte
G49: VZÄ | I49: VZÄ | K49: VZÄ | M49: VZÄ
C51: Abfallsammlung | G51: =IF(Pers_AW!K12="","",Pers_AW!K12) | I51: =IF(Pers_AW!K30="","",Pers_AW!K30-K51-M51) | K51: =IF(Pers_AW!K35="","",Pers_AW!K35) | M51: =IF(Pers_AW!K36="","",Pers_AW!K36)
C53: Straßenreinigung | G53: =IF(Pers_StR!K15="","",Pers_StR!K15) | I53: =IF(Pers_StR!K47="","",Pers_StR!K47-K53-M53) | K53: =IF(Pers_StR!K52="","",Pers_StR!K52) | M53: =IF(Pers_StR!K53="","",Pers_StR!K53)
C55: Grünflächenunterhaltung | G55: =IF(Pers_Grün!K16="","",Pers_Grün!K16+Pers_Grün!K15) | I55: =IF(Pers_Grün!K21="","",Pers_Grün!K21-K55-M55) | K55: =IF(Pers_Grün!K26="","",Pers_Grün!K26) | M55: =IF(Pers_Grün!K27="","",Pers_Grün!K27)
C57: Friedhofsunterhaltung | G57: =IF(Pers_FH!K15="","",Pers_FH!K14+Pers_FH!K15) | I57: =IF(Pers_FH!K20="","",Pers_FH!K20-K57-M57) | K57: =IF(Pers_FH!K24="","",Pers_FH!K24) | M57: =IF(Pers_FH!K25="","",Pers_FH!K25)
C59: Forstbetrieb
C61: Kfz-Werkstatt/Lager | G61: =IF(Pers_Kfz!K14="","",Pers_Kfz!K14) | I61: =IF(Pers_Kfz!K19="","",Pers_Kfz!K19-K61-M61) | K61: =IF(Pers_Kfz!K24="","",Pers_Kfz!K24) | M61: =IF(Pers_Kfz!K25="","",Pers_Kfz!K25)
C63: Straßenunterhaltung | G63: =IF(Pers_StU!K23="","",Pers_StU!K22+Pers_StU!K23) | I63: =IF(Pers_StU!K28="","",Pers_StU!K28-K63-M63) | K63: =IF(Pers_StU!K33="","",Pers_StU!K33) | M63: =IF(Pers_StU!K34="","",Pers_StU!K34)
C65: Kanalbetrieb
C67: Abwasserreinigung (Kläranlagen)
C69: Gebäudeunterhaltung
C71: Sonstige Bereiche
C73: Allgemeine Verwaltung
C75: Summe zur Kontrolle | G75: =SUM(G51:H73) -> 0 | I75: =SUM(I51:J73) -> 0 | K75: =SUM(K51:L73) -> 0 | M75: =SUM(M51:N73) -> 0

Sheet Pers_Verw
A1: =Inhaltsverzeichnis!$A$1 -> Digitaler Branchen-Kompass
A2: =Inhaltsverzeichnis!$A$2 -> Datenerhebungsbogen - Bezugsjahr 2025
A4: =Allgemein!$A$4 -> BASISPAKET | B4: 1.3 Personal Verwaltung | C4: Personal - Verwaltung
B6: Verwaltungspersonal des Gesamtbetriebes mit allen Sparten (inkl. Führungskräfte Gesamtbetrieb)
C8: Zur Vereinfachung der betriebsinternen Datenerhebung wird die Verwaltung für den Gesamtbetrieb herangezogen.
C9: Um die Ergebnisse besser einordnen zu können, geben Sie bitte an, welche Tätigkeitsbereiche Ihr Betrieb erfüllt (siehe Frage 0.3 Aufgabenspektrum).
C10: Alle Mitarbeitenden der Verwaltung des Gesamtbetriebes inkl. Führungskräfte. Als Führungskraft wird definiert, wer der oberen, mittleren und unteren Hierarchieebene
C11: als Werk-, Betriebs-, Abteilungs-, Bereichs-, Fachdienst-, Sachgebietsleitung, Einsatzleitung/Disponent etc. zuzuordnen ist und demnach andere Mitarbeitende "führt".
B13: a) | C13: Anzahl Mitarbeitende (inkl. dauerkranke Mitarbeitende) | J13: Vollzeitäquivalente | L13: VZÄ, zzgl. Leiharbeiter: | O13: VZÄ
C14: - davon Mitarbeitende, die mindestens 1x im Bezugsjahr dauerkrank waren | L14: VZÄ
C15: - davon Anz. Personalersatz für Dauerkranke (eingestelltes Personal) | L15: VZÄ
B16: b) | C16: Anzahl Mitarbeitende (ohne dauerkranke Mitarbeitende, Berechnung s. Notiz) | K16: =IF(K13="","",K13-IF(K24="",0,K24/260)) | L16: VZÄ | M16: (automatische Berechnung)
B17: c) | C17: Anzahl tatsächliche Mitarbeitende (zur Quoten-Berechnung) | J17: Beschäftigte | L17: Ma.
B18: d) | C18: Anzahl Auszubildende | J18: Vollzeitäquivalente | L18: VZÄ
B19: e) | C19: Anzahl Saisonkräfte | J19: Vollzeitäquivalente | L19: VZÄ
B20: f) | C20: Durchschnittsalter (bitte ermitteln) | L20: a
B21: g) | C21: Anzahl Mitarbeitende älter als 50 Jahre | J21: Vollzeitäquivalente | L21: VZÄ
B22: h) | C22: Anzahl Mitarbeitende älter als 60 Jahre | J22: Vollzeitäquivalente | L22: VZÄ
B23: i) | C23: Krankheitstage (hier nur Krankheitstage mit Lohnfortzahlung angeben) | L23: d/a
B24: j) | C24: Dauerkrankheitstage (Krankheitstage über Lohnfortzahlung hinaus) | L24: d/a

Sheet Infrastruktur
A1: =Inhaltsverzeichnis!$A$1 -> Digitaler Branchen-Kompass
A2: =Inhaltsverzeichnis!$A$2 -> Datenerhebungsbogen - Bezugsjahr 2025
A4: =Allgemein!$A$4 -> BASISPAKET | B4: 1.5 Infrastruktur
B6: a) | C6: Anzahl der Betriebshofstandorte
C7: - Standorte mit Mitarbeitenden und/oder Fahrzeugen, ohne Lager und reine Friedhofstandorte | M7: Standorte
C8: - weitere Standorte (Steinelager, Salzsilos etc., keine Friedhofsstandorte) | M8: Standorte
B10: Infrastruktur alternative Antriebe
B11: b) | C11: Welche Infrastruktur halten Sie für alternative Antriebe (Stand Ende des Bezugsjahrs) vor bzw. planen Sie aktuell? (Mehrfachnennungen möglich)
C13: Ladestationen | G13: Anzahl Ladepunkte heute | K13: Anzahl aktuell geplante Ladepunkte
G14: AC (< 50 kW) | I14: DC (>= 50 kW) | K14: AC (< 50 kW) | M14: DC (>= 50 kW)
C15: am Betriebshof
C16: weitere eigene Ladepunkte
C17: weitere kommunale Ladepunkte
C19: Wasserstofftankstellen | G19: Anzahl genutzter Zapfstellen heute | I19: Anzahl derzeit geplant
C21: am Betriebshof
C22: bei Kläranlage
C23: bei MVA/Kraftwerk
C24: bei MVA/Kraftwerk
B26: c) | C26: Wie viele Fahrzeuge werden derzeit über die angegebene Infarstruktur geladen/betankt (Stand Ende des Bezugsjahres)?
D27: Fahrzeuge mit E-Motor (ohne H2) | I27: Anzahl
D28: Hybrid-Fahrzeuge | I28: Anzahl
D29: Wasserstofffahrzeuge | I29: Anzahl
C30: Eine detailliertere Betrachtung nach Fahzeugtypen erfolgt in den Tabellenblättern Fuhrpark
B32: Eigenenergieerzeugung
B33: d) | C33: Welche Anlagen zur Eigenenergieerzeugung werden vom Betrieb genutzt bzw. zukünftig geplant? (Mehrfachnennungen möglich)
G34: Leistung | I34: zusätzlich geplante Leistung
C35: bitte ankreuzen
D36: Photovoltaik | K36: kW
D37: Windkraft | K37: kW
D38: Verstromung von Biogas (BHKW) | K38: kW
D39: Holzhackschnitzelanalage | K39: kW
D40: Wärmepunpen | K40: kW
D41: Elektrolyseur | K41: kW
D42: Heizung mit fossilen Energieträgern | K42: kW
D43: Pelletheizung | K43: kW
D44: Sonstiges | K44: kW
D45: bitte benennen:

Sheet KI-Einsatz
A1: =Inhaltsverzeichnis!$A$1 -> Digitaler Branchen-Kompass
A2: =Inhaltsverzeichnis!$A$2 -> Datenerhebungsbogen - Bezugsjahr 2025
A4: =Allgemein!$A$4 -> BASISPAKET | B4: 1.6 Digitalisierung und KI-Einsatz im Betrieb
B6: Der KI-Einsatz wird derzeit aller Orte diskutiert.
B7: Zunächst erhalten Sie einige allgemeine Fragen zum KI-Einsatz. Wenn der Blick im zweiten Teil dann auf
B8: die konkreten Bereiche gerichtet wird, werden neben dem KI-Einsatz auch weitere digitale Leistungen erfragt.
B9: Kreuzen Sie bitte jeweils an, was auf Ihren Betrieb zutrifft.
B11: Allgemeine Angaben zum KI-Einsatz im Betrieb
B13: a) | C13: Werden KI-Anwendungen bereits im Betrieb genutzt?
D14: Nein
D15: Nein, aber in Planung
D16: Ja, im Test / in Pilotprojekten / durch einzelne Mitarbeitende
D17: Ja, findet bereits in vielen Bereichen unseres Betriebes Anwendung
C18: Anmerkungen und Hinweise:
B20: b) | C20: Gibt es im Unternehmen eine Strategie zum Umgang mit KI?
D21: Nein
D22: Nein, aber in Planung
D23: Ja
C24: Anmerkungen und Hinweise:
B26: c) | C26: Welche Ziele verfolgen Sie mit dem Einsatz von KI? (Mehrfachnennungen möglich)
D27: Produktivitätssteigerung
D28: Entlastung bei Fachkräftemangel
D29: Qualitätsverbesserung
D30: Verbesserung des Bürgerservices
D31: Kostensenkung
D32: Erhöhung der Arbeitssicherheit
D33: Nachhaltigkeit und Ressourcenschonung
D34: Sonstiges
C35: Anmerkungen und Hinweise:
B37: d) | C37: Wie stellen Sie Datensicherheit, Datenschutz und IT-Sicherheit beim Einsatz von KI sicher?
C38: Gibt es hierzu eine Dienstanweisung o. ä.?
D39: Nein
D40: Nein, aber in Planung
D41: Ja
C42: Anmerkungen und Hinweise:
B44: e) | C44: Wie bewerten Sie den bisherigen bzw. erwarteten Nutzen des KI-Einsatzes für Ihren Betrieb?
G45: derzeit | I45: zukünftig
D46: Sehr gering
D47: Gering
D48: Mittel
D49: Hoch
D50: Sehr hoch
B52: Digitale Leistungen und KI-Einsatz differenziert nach Bereichen
B53: In welchen Bereichen kommt KI bereits zum Einsatz oder wo planen Sie den Einsatz?
B55: f) | C55: Verwaltungstätigkeiten
G56: in Anwendung | I56: Pilotprojekt | K56: in Planung
C57: Digitale Leistungen
C58: Mitarbeiter-Kommunikations-App (für die interne
C59: Kommunikation mit und unter den Mitarbeitenden)
C61: Homepage: Downloadfunktion für Formulare
C63: Melde-App (Meldefunktion besondere Ver-
C64: schmutzungen, wilde Abfallablagerungen etc.)
C66: Kunden-/Bürgerportal mit passwortgeschütztem
C67: Zugang (Bereitstellung Gebührenbescheide etc.)
C69: Präsenz in sozialen Medien
C71: Sonstiges:
C73: Sonstiges bitte benennen:
C75: KI-Einsatz
... C94: Sonstiges bitte benennen:
B96: g) | C96: im operativen Bereich der Abfallsammlung
G97: in Anwendung | I97: Pilotprojekt | K97: in Planung
C98: Digitale (interne) Leistungen
C99: Digitale Tourenplanungssoftware
C100: (zu Planungszwecken)
C102: Digitale Tages-Einsatzplanung (in der Disposition)
C104: Digitale Routenaufzeichnung
C106: Digitale Routenaufzeichnung mit Echtzeitanzeige
C107: zum Standort des Fahrzeuges
C109: Mobiles Auftragsmanagement
C111: Identifikation-/Verwiegesysteme mit Bereitstellungs-
C112: häufigkeiten, Füllstände, Behälterinhaltsgewichte
C114: Behälter mit digitalen Füllstandsmessungen
C115: zur bedarfsorientierten Leerung
... C133: Sonstiges bitte benennen:
B135: h) | C135: im operativen Bereich der Stadtreinigung
G136: in Anwendung | I136: Pilotprojekt | K136: in Planung
C137: Digitale (interne) Leistungen
C138: Digitale Tourenplanungssoftware
C139: (zu Planungszwecken)
C141: Digitale Tages-Einsatzplanung (in der Disposition)
C143: Digitale Routenaufzeichnung
C145: Digitale Routenaufzeichnung mit Echtzeitanzeige
C146: zum Standort des Fahrzeuges
C148: Mobiles Auftragsmanagement
C150: Digitale Füllgraderfassung an Papierkörben
C152: Sonstiges:
C154: Sonstiges bitte benennen:
C156: KI-Einsatz
... C176: Sonstiges bitte benennen:
B178: i) | C178: im operativen Bereich der Grünflächen-/Friedhofsunterhaltung
G179: in Anwendung | I179: Pilotprojekt | K179: in Planung
C180: Digitale (interne) Leistungen
C181: Digitales Grünflächenkataster
C183: Digitales Baumkataster/-kontrollsystem
C185: Digitales KSP-Kontroll-System
C187: Digitales Grabflächenkataster
C189: Friedhofsverwaltungsprogramm
C191: Digitales Grabstein-Kontroll-System
C193: Mobiles Auftragsmanagement
C195: Sonstiges:
...

Sheet Pers_Kfz
A1: =Inhaltsverzeichnis!$A$1 -> Digitaler Branchen-Kompass
A2: =Inhaltsverzeichnis!$A$2 -> Datenerhebungsbogen - Bezugsjahr 2025
A4: =Allgemein!$A$4 -> BASISPAKET | B4: 2.1 Personal Kfz-Werkstatt
B6: Im Bereich Werkstatt werden nur solche Einrichtungen betrachtet, die zum überwiegenden Teil der Wartung und Reparatur von Fahrzeugen dienen:
B7: Hierzu gehören neben dem Reparatur- und Annahmebereich auch ggf. räumlich getrennte Pflegebereiche (z.B. separate Hallen) sowie Lackierhallen.
B8: Es ist für die Werkstatt als Ganzes zu antworten - keine Abgrenzung einzelner Sparten. Bei mehreren Anlagen soll für diese gemeinsam geantwortet werden.
B9: Nicht zu berücksichtigen ist hier das Materiallager, sowie Waschanlage und Tankstelle.
B11: Personal der Sparte Kfz-Werkstatt"
B13: a) | C13: Gesamtzahl Mitarbeitende Sparte (Verwaltung und operativ) | J13: Vollzeitäquivalente | L13: VZÄ
C14: - davon Mitarbeitende technische Verwaltung der Sparte | J14: Vollzeitäquivalente | L14: VZÄ
C15: - davon disponierende Meister/Mitarbeitende Auftragsannahme | J15: Vollzeitäquivalente | L15: VZÄ
B17: Detailbetrachtung operativ tätige Mitarbeitende (gewerbliches Personal)
C18: Gewerbliche Mitarbeitende der Werkstatt; OHNE Führungskräfte wie Bereichs- / Werkstattleitung etc.
B19: b) | C19: Anzahl Mitarbeitende (inkl. dauerkranke Mitarbeitende) | J19: Vollzeitäquivalente | L19: VZÄ, zzgl. Leiharbeiter: | O19: VZÄ
C20: - davon Mitarbeitende, die mindestens 1x im Bezugsjahr dauerkrank waren | L20: VZÄ
C21: - davon Anz. Personalersatz für Dauerkranke (eingestelltes Personal) | L21: VZÄ
B22: c) | C22: Anzahl Mitarbeitende (ohne dauerkranke Mitarbeitende, Berechnung s. Notiz) | K22: =IF(K19="","",K19-IF(K30="",0,K30/260)) | L22: VZÄ
B23: d) | C23: Anzahl tatsächliche Mitarbeitende (zur Quoten-Berechnung) | J23: Beschäftigte | L23: Ma.
B24: e) | C24: Anzahl Auszubildende | J24: Vollzeitäquivalente | L24: VZÄ
B25: f) | C25: Anzahl Saisonkräfte | J25: Vollzeitäquivalente | L25: VZÄ
B26: g) | C26: Durchschnittsalter (bitte ermitteln) | L26: a
B27: h) | C27: Anzahl Mitarbeitende älter als 50 Jahre | J27: Vollzeitäquivalente | L27: VZÄ
B28: i) | C28: Anzahl Mitarbeitende älter als 60 Jahre | J28: Vollzeitäquivalente | L28: VZÄ
B29: j) | C29: Krankheitstage (hier nur Krankheitstage mit Lohnfortzahlung angeben) | L29: d/a
B30: k) | C30: Dauerkrankheitstage (Krankheitstage über Lohnfortzahlung hinaus) | L30: d/a

Sheet DL_Kfz
A1: =Inhaltsverzeichnis!$A$1 -> Digitaler Branchen-Kompass
A2: =Inhaltsverzeichnis!$A$2 -> Datenerhebungsbogen - Bezugsjahr 2025
A4: =Allgemein!$A$4 -> BASISPAKET | B4: 2.2 Dienstleistungen Kfz-Werkstatt
B6: Werkstatt
C7: Im Bereich Werkstatt werden nur solche Einrichtungen betrachtet, die zum überwiegenden Teil der Wartung und Reparatur von Fahrzeugen dienen:
C8: Hierzu gehören neben dem Reparatur- und Annahmebereich auch ggf. räumlich getrennte Pflegebereiche (z.B. separate Hallen) sowie Lackierhallen.
C9: Es ist für die Werkstatt als Ganzes zu antworten - keine Abgrenzung einzelner Sparten. Bei mehreren Anlagen soll für diese gemeinsam geantwortet werden.
C10: Nicht zu berücksichtigen ist hier das Materiallager, sowie Waschanlage und Tankstelle.
C11: Ebenfalls abzugrenzen ist der Containerdienst/-reparatur/-wartung.
B13: a) | C13: Haben Sie eine eigene Kfz-Werkstatt?
E14: ja
E15: nein, die Werkstatt eines anderen kommunalen Betriebs wird genutzt
E16: nein, ausschließlich Fremdwerkstätten
B18: b) | C18: Welche Fahrzeuge und Geräte betreut die eigene Werkstatt?
G19: eigene Fahrzeuge | I19: Fremdfahrzeuge
D21: Spezialfahrzeuge (Großfahrzeuge) | K21: Anzahl
D22: weitere Großfahrzeuge | K22: Anzahl
D23: Kleinfahrzeuge | K23: Anzahl
D24: PKW | K24: Anzahl
D25: weitere Großgeräte | K25: Anzahl
D26: Gesamt | K26: Anzahl
B28: c)
G29: Anzahl gesamt | I29: davon elektrisch betrieben (Akku)
D31: Kleingeräte | K31: Anzahl
B34: d) | C34: Ausführende Ma. in der Werkstatt | I34: Ma.

Sheet Pers_AW
A1: =Inhaltsverzeichnis!$A$1 -> Digitaler Branchen-Kompass
A2: =Inhaltsverzeichnis!$A$2 -> Datenerhebungsbogen - Bezugsjahr 2025
A4: =Allgemein!$A$4 -> BASISPAKET | B4: 3.1. Personal Kreislaufwirtschaft/Abfallsammlung
B6: Sparte Kreislaufwirtschaft: (hoheitliche) Abfallwirtschaft (u. a. die Entsorgung von: Restabfall, Bioabfall, Sperrabfall (inkl. der Wertstofffraktionen wie Altholz, Metallschrott
B7: etc.), Grünschnitt, Altpapier, Wertstofftonne, EAG/Kühlgeräte, Problemabfälle und sonstige Fraktionen, Wertstoffhof etc.)
B9: Personal der Sparte Kreislaufwirtschaft/Abfallsammlung
B11: a) | C11: Gesamtzahl Mitarbeitende Sparte (Verwaltung und operativ) | J11: Vollzeitäquivalente | L11: VZÄ
C12: - davon Mitarbeitende technische Verwaltung der Sparte | J12: Vollzeitäquivalente | L12: VZÄ
C13: - davon Mitarbeitende Disposition/Einsatzleitung | J13: Vollzeitäquivalente | L13: VZÄ
B15: b) | C15: Arbeitszeitmodell der operativen Mitarbeitenden
C16: - Wochenarbeitszeit pro Mitarbeitende und Woche | K16: h/(Ma.*w)
C17: - Arbeitszeitmodell bei der Abfallsammlung (Holsystem) (bitte ankreuzen)
E18: konventionelle 5-Tagewoche
E19: 4-in 5-Tagewoche / 4- in 6-Tagewoche
E20: 2-Schichtbetrieb
E21: Flexible Arbeitszeiten (inkl. Jahresarbeitszeitkonto)
E22: Sonstiges, bitte erläutern:
C23: - Bieten Sie Ihren Mitarbeitenden ein Lebensarbeitszeitkonto an?
E24: ja
E25: nein
E26: Sonstiges, bitte erläutern:
B28: Detailbetrachtung operativ tätige Mitarbeitende (gewerbliches Personal)
C29: Fahrer, Lader und sonstiges Personal wie z.B. Wertstoffhofbetreuung; OHNE Abteilungs-/Bereichs-/Einsatzleitung, Disponenten, Pförtner etc.
B30: c) | C30: Anzahl Mitarbeitende (inkl. dauerkranke Mitarbeitende) | J30: Vollzeitäquivalente | L30: VZÄ, zzgl. Leiharbeiter: | O30: VZÄ
C31: - davon Mitarbeitende, die mindestens 1x im Bezugsjahr dauerkrank waren | L31: VZÄ
C32: - davon Anz. Personalersatz für Dauerkranke (eingestelltes Personal) | L32: VZÄ
B33: d) | C33: Anzahl Mitarbeitende (ohne dauerkranke Mitarbeitende, Berechnung s. Notiz) | K33: =IF(K30="","",K30-IF(K41="",0,K41/260)) | L33: VZÄ
B34: e) | C34: Anzahl tatsächliche Mitarbeitende (zur Quoten-Berechnung) | J34: Beschäftigte | L34: Ma.
B35: f) | C35: Anzahl Auszubildende | J35: Vollzeitäquivalente | L35: VZÄ
B36: g) | C36: Anzahl Saisonkräfte | J36: Vollzeitäquivalente | L36: VZÄ
B37: h) | C37: Durchschnittsalter (bitte ermitteln) | L37: a
B38: i) | C38: Anzahl Mitarbeitende älter als 50 Jahre | J38: Vollzeitäquivalente | L38: VZÄ
B39: j) | C39: Anzahl Mitarbeitende älter als 60 Jahre | J39: Vollzeitäquivalente | L39: VZÄ
B40: k) | C40: Krankheitstage (hier nur Krankheitstage mit Lohnfortzahlung angeben) | L40: d/a
B41: l) | C41: Dauerkrankheitstage (Krankheitstage über Lohnfortzahlung hinaus) | L41: d/a

Sheet Fuhrpark_AW
A1: =Inhaltsverzeichnis!$A$1 -> Digitaler Branchen-Kompass
A2: =Inhaltsverzeichnis!$A$2 -> Datenerhebungsbogen - Bezugsjahr 2025
A4: =Allgemein!$A$4 -> BASISPAKET | B4: 3.2 Fuhrpark Kreislaufwirtschaft/Abfallsammlung
B6: Fuhrpark der Sparte Kreislaufwirtschaft/Abfallsammlung
C7: Es ist jeweils für alle Fahrzeuge der genannten Fahrzeuggruppen zu antworten, auch soweit einzelne Fahrzeuge betriebsintern als Reservefahrzeuge
C8: geführt werden. Inkl. Leasingfahrzeuge.
C10: Spalte Zeile | G10: A | H10: Sammelfahrzeuge für Behälter | K10: Sonstige Fzg. der Kreislaufwirtschaft
G11: Dimension | H11: Hecklader-Fahrzeuge | I11: Seitenlader-Fahrzeuge | J11: Frontlader-Fahrzeuge | K11: Pritschen- und Kasten-Fahrzeuge | L11: Kranfahrzeuge | M11: Transport-Fahrzeuge (Abroll-/Absetz-Fzg.)
C12: 1 | D12: Anzahl (inkl. Reserve) | G12: [St.]
C13: 1.1 | D13: davon HVO Kraftstoff-Fahrzeuge | G13: [St.]
C14: 1.2 | D14: davon Erdgas-/Biomethan-Fzg. | G14: [St.]
C15: 1.3 | D15: davon synthet. Kraftstoffe-Fzg. | G15: [St.]
C16: 1.4 | D16: davon Hybrid-Fahrzeuge | G16: [St.]
C17: 1.5 | D17: davon Wasserstoff-Fahrzeuge | G17: [St.]
C18: 1.6 | D18: davon andere E-Fahrzeuge | G18: [St.]
C19: 1.7 | D19: davon Engstellenfahrzeuge | G19: [St.]
C20: 2 | D20: davon Anzahl Reserve-Fahrzeuge | G20: [St.]
C21: 3 | D21: Durchschnittsalter | G21: [a]
C22: 4 | D22: Fahrleistung | G22: [km/a]

Sheet DL_AW
A1: =Inhaltsverzeichnis!$A$1 -> Digitaler Branchen-Kompass
A2: =Inhaltsverzeichnis!$A$2 -> Datenerhebungsbogen - Bezugsjahr 2025
A4: =Allgemein!$A$4 -> BASISPAKET | B4: 3.3 Allgemeine Angaben zu Kreislaufwirtschaft/Abfallsammlung
B6: Abfallmengen
B7: a) | C7: Bitte erfasste Mengen pro Jahr differenziert nach Erfassungssystemen angeben.
C8: Beispiele sonstiger Annahmestellen: z. B. Depotcontainer-Standplätze, Wertstoffinseln, separate Mono-Annahmestellen, Direktanlieferung Behandlungsanlage/Deponie…
C9: Grünabfälle ohne öffentliche Mengen (z. B. Straßenlaub aus öffentlichem Straßenland, Grünflächenpflegeabfälle)
L10: Holsysteme | N10: Wertstoffhöfe | P10: sonstige Annahme-stellen | R10: Gesamt
L12: Mg/a | N12: Mg/a | P12: Mg/a | R12: Mg/a
C14: Restabfall (i. d. R. aus Haushalten und ggf. Kleingewerbe im Umleerverfahren)
C15: Bioabfall ("Biotonne")
C16: Grünabfälle (Grünschnitt/Gartenabfälle/Rasenschnitt/Laub)
C17: Altpapier (100 % der Menge, somit inkl. Mengen Duale Systeme)
C18: LVP (Duale Systeme)
C19: Stoffgleiche Nichtverpackungen (StNVP)
C20: Sperrabfall zur Beseitigung / zur Verwertung
C21: Altholzmengen (Kategorien I - III)
C22: Altholzmengen (Kategorie IV)
C23: Elektroaltgeräte (alle Gruppen)
C24: - Gruppe 1: Wärmeüberträger
C25: - Gruppe 2: Bildschirme, Monitore & Geräte mit Bildschirmen (Oberfläche > 100 m²)
... C35: Summe gesamte erfasste Mengen
C37: Alternative Eingabe Elektroaltgeräte (die Angabe in Mg wird bevorzugt, siehe oben!): | L37: Stk./a | N37: Stk./a | P37: Stk./a | R37: Stk./a
C38: Elektroaltgeräte (alle Gruppen)
C39: - Gruppe 1: Wärmeüberträger
C40: - Gruppe 2: Bildschirme, Monitore & Geräte mit Bildschirmen (Oberfläche > 100 m²)
C41: - Gruppe 3: Lampen
C42: - Gruppe 4: Großgeräte
C43: - Gruppe 5: Kleingeräte & kleine Geräte der Informations- & Telekommunikationstechnik
C44: - Gruppe 6: Photovoltaikmodule
B46: Detailfragen Unterflursysteme
B47: b) | C47: Setzen Sie Unterflurcontainer zur Abfallsammlung ein? (Betrachtung ohne Unterflur-Papierkörbe im öffentlichen Raum!)
D48: ja → an wie vielen Standorten? | I48: Standorte
D49: nein
D50: bei Bedarf gerne kurz erläutern:
B52: c) | C52: Welche Fraktionen erfassen Sie über Unterflurcontainer? Geben Sie hierzu bitte auch die jeweilige Anzahl der Unterflurcontainer an.
D53: Restabfall | I53: Container
D54: Bioabfall | I54: Container
D55: Altpapier | I55: Container
D56: Verpackungen/LVP/Wertstoffe | I56: Container
D57: Altglas | I57: Container
D58: Sonstiges, bitte benennen: | I58: Container, bitte Fraktion benennen:
B60: d) | C60: Sofern Sie die Unterflurcontainer selber leeren: Wie viele Leerungen erfolgen durchschnittlich pro Tag und Fahrzeug (bei 7,8 h/d)?
D61: - bei Fahrzeugen mit Presseinrichtung | I61: Leerungen / (Fzg.*d)
D62: - bei Fahrzeugen ohne Presseinrichtung | I62: Leerungen / (Fzg.*d)
B64: Detailfragen Alttextilien
B65: e) | C65: Wie werden bei Ihnen Alttextilien erfasst?
D66: Durch kommunale Systeme: | H66: Holsystem
H67: Depotcontainer, bitte angeben: | N67: Anzahl im Entsorgungsgebiet
H68: Wertstoffhof
D70: durch Dritte | H70: Holsystem
H71: Depotcontainer, bitte angeben: | N71: Anzahl im Entsorgungsgebiet
H72: Wertstoffhof (Betrieb durch Dritte)
B74: Detailfragen Abfallvermeidung
B75: f) | C75: Welche Maßnahmen bieten Sie oder andere in Ihrem Zuständigkeitsgebiet im Hinblick auf die Abfallvermeidung an bzw. planen dieses? Bitte Zutreffendes ankreuzen
H76: in eigener Regie | J76: in Kooperation | K76: anderer Träger | N76: in Planung
D77: - (online)Tausch-Verschenk-Börse
D78: - offenes Bücherregal
D79: - Abgabestelle/n für Gebrauchtes
D80: - Gebrauchtwarenkaufhaus o. ä.
D81: - Repair-Café o. ä.
D82: - Verleih-Läden
D83: - Geschirrmobil
D84: - PR-Kampagne zu Re-Use
D85: - APP mit Re-Use-Orten
D86: - Sonstige
B88: g) | C88: Welche Ansätze verfolgt der Betrieb in eigener Regie mit Blick auf eine Erfassung von Sperrmüll, die die Vorbereitung zur Wiederverwendung ermöglicht?
D89: bereits in Umsetzung: separate Erfassungsstelle für weiter-/wiederverwendbares Material an den Wertstoffhöfen
D90: bereits in Umsetzung: schonende Sperrmüllabfuhr für wieder-/weiterverwendbares Material (i. d. R. Abholung aus dem Haushalt)
D91: bereits in Umsetzung: sonstige Erfassungswege für weiter-/wiederverwendbare Material; Systeme benennen:
D92: bisher nur Planung; über folgende Leistungen denkt der Betrieb konkret nach (bitte benennen):

Sheet Restabfall
A1: =Inhaltsverzeichnis!$A$1 -> Digitaler Branchen-Kompass | X1: Zwischenberechnungen
A2: =Inhaltsverzeichnis!$A$2 -> Datenerhebungsbogen - Bezugsjahr 2025
A4: =Allgemein!$A$4 -> BASISPAKET | B4: 3.4 Restabfall
C6: Entsorgung von Restabfall aus Haushalten und Kleingewerbe im Umleerverfahren bis MGB 1.100 und evtl. Sacksammlungen.
C7: Hausabfallähnliche Gewerbeabfälle sind hierbei nicht zu berücksichtigen (> MGB 1.100). Gemischte und somit nicht getrennt
C8: ausweisbare Touren (bis MGB 1.100 und größer MGB 1.100) sind jedoch mit anzugeben.
B10: a) | C10: Bitte angeben, welche Mengen welcher Einwohner durch den eigenen Betrieb bzw. einen beauftragten Dritten erfasst werden. | L10: durch eigenen Betrieb | Q10: durch beauf- tragten Dritten
C12: Anzahl teilnehmende Einwohner | O12: E | S12: E
C13: Anzahl teilnehmende Haushalte | O13: Hh | S13: Hh
C14: Menge pro Jahr - Holsystem | O14: Mg/a | S14: Mg/a
C15: Menge pro Jahr - Bringsystem | O15: Mg/a | S15: Mg/a
B17: b) | C17: Setzen Sie ein Ident- bzw. Verwiegesystem ein? (bitte ankreuzen)
D18: Identsystem: | G18: ja, "gebührenscharf" | L18: ja, nicht "gebührenscharf" | R18: nein
D20: Verwiegesystem: | G20: ja, "gebührenscharf" | L20: ja, nicht "gebührenscharf" | R20: nein
B22: c) | C22: Welche Leerungsintervalle bieten Sie für Kleinbehälter (2-Rad-Gefäße) an? (Mehrfachnennungen möglich)
G23: mehrmals wöchentlich | L23: 2-wöchentlich (14-täglich) | R23: 4-wöchentlich
G25: wöchentlich | L25: 3-wöchentlich
B27: d) | C27: Wie sind Ihre Sammelfahrzeuge durchschnittlich besetzt | N27: Anzahl Lader pro Tour | P27: Anzahl Mitarbeiter pro Tour | R27: Behälter pro Fzg. und Tour | S27: Behälter pro Ma. und Tour (errechnet)
C28: (differenziert nach Art der Sammeltour, inkl. Rein-/Rausstellern!)
C29: und wie viele Schüttvorgänge erfolgen durchschnittlich je Fahrzeug und Tag?
C31: im Vollservice (alle Touren, die zu über 50 % im Vollservice gefahren werden): | N31: Anz. La. | P31: Anz. Ma. | R31: Beh./(Fzg.*d) | S31: Beh./(La.*d)
C32: - Kleinbehälter-Touren mit Behältern bis 360 l (nur 2-Radgefäße) | P32: =IF(N32="","k. A.",1+N32) -> k. A. | S32: =IF(OR(P32="k. A.",R32=""),"k. A.",R32/P32) -> k. A.
C33: - Großbehälter-Touren mit Behältern ab 550 l (nur 4-Radgefäße) | P33: =IF(N33="","k. A.",1+N33) -> k. A. | S33: =IF(OR(P33="k. A.",R33=""),"k. A.",R33/P33) -> k. A.
C34: - Touren mit gemischter Abfuhr (2- und 4-Radgefäße in einer Tour) | P34: =IF(N34="","k. A.",1+N34) -> k. A. | S34: =IF(OR(P34="k. A.",R34=""),"k. A.",R34/P34) -> k. A.
C35: - Touren mit ausschließlich Sack-, Bündelsammlung | P35: =IF(N35="","k. A.",1+N35) -> k. A. | S35: =IF(OR(P35="k. A.",R35=""),"k. A.",R35/P35) -> k. A.
C36: im Teilservice (alle Touren, die zu über 50 % im Teilservice gefahren werden):
C37: - Kleinbehälter-Touren mit Behältern bis 360 l (nur 2-Radgefäße) | P37: =IF(N37="","k. A.",1+N37) -> k. A. | S37: =IF(OR(P37="k. A.",R37=""),"k. A.",R37/P37) -> k. A.
C38: - Großbehälter-Touren mit Behältern ab 550 l (nur 4-Radgefäße) | P38: siehe Vollservice
C39: - Touren mit gemischter Abfuhr (2- und 4-Radgefäße in einer Tour) | P39: =IF(N39="","k. A.",1+N39) -> k. A. | S39: =IF(OR(P39="k. A.",R39=""),"k. A.",R39/P39) -> k. A.
C40: - Touren mit ausschließlich Sack-, Bündelsammlung | P40: =IF(N40="","k. A.",1+N40) -> k. A. | S40: =IF(OR(P40="k. A.",R40=""),"k. A.",R40/P40) -> k. A.
B42: e) | C42: Durchschnittswerte je Sammeltour (Definitionen beachten)
C43: - Durchschnittliche tägliche Regelarbeitszeit pro Sammeltour | Q43: h/(Fzg.*d)
C44: - Durchschnittliche Anzahl Fahrzeugentladungen pro Sammeltour | Q44: Entl./(Fzg.*d)
C45: - Durchschnittliche Entfernung zur Entsorgungs-/Verwertungsanlage | Q45: km
C46: - Durchschnittliche Gesamtfahrkilometer pro Fahrzeug und Sammeltour | Q46: km/(Fzg.*d)
C47: - Durchschnittliche Anlieferungsmenge pro Fahrzeug und Sammeltour | Q47: Mg/(Fzg.*d)

Sheet Bioabfall
A1: =Inhaltsverzeichnis!$A$1 -> Digitaler Branchen-Kompass | X1: Zwischenberechnungen
A2: =Inhaltsverzeichnis!$A$2 -> Datenerhebungsbogen - Bezugsjahr 2025
A4: =Allgemein!$A$4 -> BASISPAKET | B4: 3.5 Bioabfall
C6: Entsorgung von Bioabfall aus Haushalten und Kleingewerbe im Umleerverfahren bis MGB 1.100 und evtl. Sacksammlungen.
C7: Hausabfallähnliche Gewerbeabfälle sind hierbei nicht zu berücksichtigen (> MGB 1.100). Gemischte und somit nicht getrennt
C8: ausweisbare Touren (bis MGB 1.100 und größer MGB 1.100) sind jedoch mit anzugeben.
B10: a) | C10: Bitte angeben, welche Mengen welcher Einwohner durch den eigenen Betrieb bzw. einen beauftragten Dritten erfrasst werden. | L10: durch eigenen Betrieb | Q10: durch beauf- tragten Dritten
C12: Anzahl teilnehmende Einwohner | O12: E | S12: E
C13: Anzahl teilnehmende Haushalte | O13: Hh | S13: Hh
C14: Menge pro Jahr - Holsystem | O14: Mg/a | S14: Mg/a
C15: Menge pro Jahr - Bringsystem | O15: Mg/a | S15: Mg/a
B17: b) | C17: Setzen Sie ein Ident- bzw. Verwiegesystem ein? (bitte ankreuzen)
D18: Identsystem: | G18: ja, "gebührenscharf" | L18: ja, nicht "gebührenscharf" | R18: nein
D20: Verwiegesystem: | G20: ja, "gebührenscharf" | L20: ja, nicht "gebührenscharf" | R20: nein
B22: c) | C22: Führen Sie eine Störstoffkontrolle durch oder setzen eine Störstofferkennung ein? (bitte ankreuzen)
G23: nein, keine Kontrolle | L23: ja, manuelle Kontrolle | R23: ja, Bilderkennung in Schüttung
G25: ja, Metalldedektion | L25: ja, Bilderkennung im Behälter
B27: d) | C27: Welche Leerungsintervalle bieten Sie für Kleinbehälter (2-Rad-Gefäße) an? (Mehrfachnennungen möglich)
G28: mehrmals wöchentlich | L28: 2-wöchentlich (14-täglich) | R28: 4-wöchentlich
G30: wöchentlich | L30: 3-wöchentlich
B32: e) | C32: Wie sind Ihre Sammelfahrzeuge durchschnittlich besetzt | N32: Anzahl Lader pro Tour | P32: Anzahl Mitarbeiter pro Tour | R32: Behälter pro Fzg. und Tour | S32: Behälter pro Ma. und Tour (errechnet)
C33: (differenziert nach Art der Sammeltour, inkl. Rein-/Rausstellern!)
C34: Und wie viele Schüttvorgänge erfolgen je Fahrzeug und Tag?
C36: im Vollservice (alle Touren, die zu über 50 % im Vollservice gefahren werden): | N36: Anz. La. | P36: Anz. Ma. | R36: Beh./(Fzg.*d) | S36: Beh./(La.*d)
C37: - Kleinbehälter-Touren mit Behältern bis 360 l (nur 2-Radgefäße) | P37: =IF(N37="","k. A.",1+N37) -> k. A. | S37: =IF(OR(P37="k. A.",R37=""),"k. A.",R37/P37) -> k. A.
C38: - Großbehälter-Touren mit Behältern ab 550 l (nur 4-Radgefäße) | P38: =IF(N38="","k. A.",1+N38) -> k. A. | S38: =IF(OR(P38="k. A.",R38=""),"k. A.",R38/P38) -> k. A.
C39: - Touren mit gemischter Abfuhr (2- und 4-Radgefäße in einer Tour) | P39: =IF(N39="","k. A.",1+N39) -> k. A. | S39: =IF(OR(P39="k. A.",R39=""),"k. A.",R39/P39) -> k. A.
C40: - Touren mit ausschließlich Sack-, Bündelsammlung | P40: =IF(N40="","k. A.",1+N40) -> k. A. | S40: =IF(OR(P40="k. A.",R40=""),"k. A.",R40/P40) -> k. A.
C41: im Teilservice (alle Touren, die zu über 50 % im Teilservice gefahren werden):
C42: - Kleinbehälter-Touren mit Behältern bis 360 l (nur 2-Radgefäße) | P42: =IF(N42="","k. A.",1+N42) -> k. A. | S42: =IF(OR(P42="k. A.",R42=""),"k. A.",R42/P42) -> k. A.
C43: - Großbehälter-Touren mit Behältern ab 550 l (nur 4-Radgefäße) | P43: siehe Vollservice
C44: - Touren mit gemischter Abfuhr (2- und 4-Radgefäße in einer Tour) | P44: =IF(N44="","k. A.",1+N44) -> k. A. | S44: =IF(OR(P44="k. A.",R44=""),"k. A.",R44/P44) -> k. A.
C45: - Touren mit ausschließlich Sack-, Bündelsammlung | P45: =IF(N45="","k. A.",1+N45) -> k. A. | S45: =IF(OR(P45="k. A.",R45=""),"k. A.",R45/P45) -> k. A.
B47: f) | C47: Durchschnittswerte je Sammeltour (Definitionen beachten)
C48: - Durchschnittliche tägliche Regelarbeitszeit pro Sammeltour | Q48: h/(Fzg.*d)
C49: - Durchschnittliche Anzahl Fahrzeugentladungen pro Sammeltour | Q49: Entl./(Fzg.*d)
C50: - Durchschnittliche Entfernung zur Entsorgungs-/Verwertungsanlage | Q50: km
C51: - Durchschnittliche Gesamtfahrkilometer pro Fahrzeug und Sammeltour | Q51: km/(Fzg.*d)
C52: - Durchschnittliche Anlieferungsmenge pro Fahrzeug und Sammeltour | Q52: Mg/(Fzg.*d)

Sheet Altpapier
A1: =Inhaltsverzeichnis!$A$1 -> Digitaler Branchen-Kompass | X1: Zwischenberechnungen
A2: =Inhaltsverzeichnis!$A$2 -> Datenerhebungsbogen - Bezugsjahr 2025
A4: =Allgemein!$A$4 -> BASISPAKET | B4: 3.6 Altpapier
C6: Entsorgung von Altpapier aus Haushalten und Kleingewerbe im Umleerverfahren bis MGB 1.100 und evtl. Sacksammlungen.
C7: Hausabfallähnliche Gewerbeabfälle sind hierbei nicht zu berücksichtigen (> MGB 1.100). Gemischte und somit nicht getrennt
C8: ausweisbare Touren (bis MGB 1.100 und größer MGB 1.100) sind jedoch mit anzugeben.
B10: a) | C10: Bitte angeben, welche Mengen welcher Einwohner durch den eigenen Betrieb bzw. einen beauftragten Dritten erfrasst werden. | L10: durch eigenen Betrieb | Q10: durch beauf- tragten Dritten
C12: Anzahl teilnehmende Einwohner - Holsystem | O12: E | S12: E
C13: Anzahl teilnehmende Haushalte - Holsystem | O13: Hh | S13: Hh
C14: Anzahl teilnehmende Einwohner - Bringsystem | O14: E | S14: E
C15: Anzahl teilnehmende Einwohner - Gesamt | O15: E | S15: E
C16: Menge pro Jahr - Holsystem | O16: Mg/a | S16: Mg/a
C17: Menge pro Jahr - Bringsystem | O17: Mg/a | S17: Mg/a
B19: b) | C19: Setzen Sie ein Ident- bzw. Verwiegesystem ein? (bitte ankreuzen)
D20: Identsystem: | G20: ja, "gebührenscharf" | L20: ja, nicht "gebührenscharf" | R20: nein
D22: Verwiegesystem: | G22: ja, "gebührenscharf" | L22: ja, nicht "gebührenscharf" | R22: nein
B24: c) | C24: Welche Leerungsintervalle bieten Sie für Kleinbehälter (2-Rad-Gefäße) an? (Mehrfachnennungen möglich)
G25: mehrmals wöchentlich | L25: 2-wöchentlich (14-täglich) | R25: 4-wöchentlich
G27: wöchentlich | L27: 3-wöchentlich
B29: d) | C29: Wie sind Ihre Sammelfahrzeuge durchschnittlich besetzt | N29: Anzahl Lader pro Tour | P29: Anzahl Mitarbeiter pro Tour | R29: Behälter pro Fzg. und Tour | S29: Behälter pro Ma. und Tour (errechnet)
C30: (differenziert nach Art der Sammeltour, inkl. Rein-/Rausstellern!)
C31: Und wie viele Schüttvorgänge erfolgen je Fahrzeug und Tag?
C33: im Vollservice (alle Touren, die zu über 50 % im Vollservice gefahren werden): | N33: Anz. La. | P33: Anz. Ma. | R33: Beh./(Fzg.*d) | S33: Beh./(La.*d)
C34: - Kleinbehälter-Touren mit Behältern bis 360 l (nur 2-Radgefäße) | P34: =IF(N34="","k. A.",1+N34) -> k. A. | S34: =IF(OR(P34="k. A.",R34=""),"k. A.",R34/P34) -> k. A.
C35: - Großbehälter-Touren mit Behältern ab 550 l (nur 4-Radgefäße) | P35: =IF(N35="","k. A.",1+N35) -> k. A. | S35: =IF(OR(P35="k. A.",R35=""),"k. A.",R35/P35) -> k. A.
C36: - Touren mit gemischter Abfuhr (2- und 4-Radgefäße in einer Tour) | P36: =IF(N36="","k. A.",1+N36) -> k. A. | S36: =IF(OR(P36="k. A.",R36=""),"k. A.",R36/P36) -> k. A.
C37: - Touren mit ausschließlich Sack-, Bündelsammlung | P37: =IF(N37="","k. A.",1+N37) -> k. A. | S37: =IF(OR(P37="k. A.",R37=""),"k. A.",R37/P37) -> k. A.
C38: im Teilservice (alle Touren, die zu über 50 % im Teilservice gefahren werden):
C39: - Kleinbehälter-Touren mit Behältern bis 360 l (nur 2-Radgefäße) | P39: =IF(N39="","k. A.",1+N39) -> k. A. | S39: =IF(OR(P39="k. A.",R39=""),"k. A.",R39/P39) -> k. A.
C40: - Großbehälter-Touren mit Behältern ab 550 l (nur 4-Radgefäße) | P40: siehe Vollservice
C41: - Touren mit gemischter Abfuhr (2- und 4-Radgefäße in einer Tour) | P41: =IF(N41="","k. A.",1+N41) -> k. A. | S41: =IF(OR(P41="k. A.",R41=""),"k. A.",R41/P41) -> k. A.
C42: - Touren mit ausschließlich Sack-, Bündelsammlung | P42: =IF(N42="","k. A.",1+N42) -> k. A. | S42: =IF(OR(P42="k. A.",R42=""),"k. A.",R42/P42) -> k. A.
B44: e) | C44: Durchschnittswerte je Sammeltour (Definitionen beachten)
C45: - Durchschnittliche tägliche Regelarbeitszeit pro Sammeltour | Q45: h/(Fzg.*d)
C46: - Durchschnittliche Anzahl Fahrzeugentladungen pro Sammeltour | Q46: Entl./(Fzg.*d)
C47: - Durchschnittliche Entfernung zur Entsorgungs-/Verwertungsanlage | Q47: km
C48: - Durchschnittliche Gesamtfahrkilometer pro Fahrzeug und Sammeltour | Q48: km/(Fzg.*d)
C49: - Durchschnittliche Anlieferungsmenge pro Fahrzeug und Sammeltour | Q49: Mg/(Fzg.*d)

Sheet Wertstoffe_LVP
A1: =Inhaltsverzeichnis!$A$1 -> Digitaler Branchen-Kompass | X1: Zwischenberechnungen
A2: =Inhaltsverzeichnis!$A$2 -> Datenerhebungsbogen - Bezugsjahr 2025
A4: =Allgemein!$A$4 -> BASISPAKET | B4: Digitaler Branchen-Kompass
C6: Entsorgung von Wertstoffen/LVP aus Haushalten und Kleingewerbe im Umleerverfahren bis MGB 1.100 und evtl. Sacksammlungen.
C7: Hausabfallähnliche Gewerbeabfälle sind hierbei nicht zu berücksichtigen (> MGB 1.100). Gemischte und somit nicht getrennt
C8: ausweisbare Touren (bis MGB 1.100 und größer MGB 1.100) sind jedoch mit anzugeben.
B10: a) | C10: Bitte angeben, welche Mengen welcher Einwohner durch den eigenen Betrieb bzw. Dritte erfrasst werden. | L10: durch eigenen Betrieb | Q10: durch Dritte
C12: Anzahl teilnehmende Einwohner - Holsystem | O12: E | S12: E
C13: Anzahl teilnehmende Haushalte - Holsystem | O13: Hh | S13: Hh
C14: Anzahl teilnehmende Einwohner - Bringsystem | O14: E | S14: E
C15: Anzahl teilnehmende Einwohner - Gesamt | O15: E | S15: E
C16: Menge pro Jahr - Holsystem | O16: Mg/a | S16: Mg/a
C17: Menge pro Jahr - Bringsystem | O17: Mg/a | S17: Mg/a
C19: Über das System wird folgendes erfasst:
E20: nur LVP (Gelbe Tonne)
E21: LVP und stoffgleiche Nichtverpackungen und ggf. weitere Wertstoffe (bitte benennen):
E22: nur stoffgleiche Nichtverpackungen und ggf. weitere Wertstoffe (bitte benennen):
B24: b) | C24: Setzen Sie ein Ident- bzw. Verwiegesystem ein? (bitte ankreuzen)
D25: Identsystem: | G25: ja, "gebührenscharf" | L25: ja, nicht "gebührenscharf" | R25: nein
D27: Verwiegesystem: | G27: ja, "gebührenscharf" | L27: ja, nicht "gebührenscharf" | R27: nein
B29: c) | C29: Welche Leerungsintervalle bieten Sie für Kleinbehälter (2-Rad-Gefäße) an? (Mehrfachnennungen möglich)
G30: mehrmals wöchentlich | L30: 2-wöchentlich (14-täglich) | R30: 4-wöchentlich
G32: wöchentlich | L32: 3-wöchentlich
B34: d) | C34: Wie sind Ihre Sammelfahrzeuge durchschnittlich besetzt | N34: Anzahl Lader pro Tour | P34: Anzahl Mitarbeiter pro Tour | R34: Behälter pro Fzg. und Tour | S34: Behälter pro Ma. und Tour (errechnet)
C35: (differenziert nach Art der Sammeltour, inkl. Rein-/Rausstellern!)
C36: Und wie viele Schüttvorgänge erfolgen je Fahrzeug und Tag?
C38: im Vollservice (alle Touren, die zu über 50 % im Vollservice gefahren werden): | N38: Anz. La. | P38: Anz. Ma. | R38: Beh./(Fzg.*d) | S38: Beh./(La.*d)
C39: - Kleinbehälter-Touren mit Behältern bis 360 l (nur 2-Radgefäße) | P39: =IF(N39="","k. A.",1+N39) -> k. A. | S39: =IF(OR(P39="k. A.",R39=""),"k. A.",R39/P39) -> k. A.
C40: - Großbehälter-Touren mit Behältern ab 550 l (nur 4-Radgefäße) | P40: =IF(N40="","k. A.",1+N40) -> k. A. | S40: =IF(OR(P40="k. A.",R40=""),"k. A.",R40/P40) -> k. A.
C41: - Touren mit gemischter Abfuhr (2- und 4-Radgefäße in einer Tour) | P41: =IF(N41="","k. A.",1+N41) -> k. A. | S41: =IF(OR(P41="k. A.",R41=""),"k. A.",R41/P41) -> k. A.
C42: - Touren mit ausschließlich Sacksammlung | P42: =IF(N42="","k. A.",1+N42) -> k. A. | S42: =IF(OR(P42="k. A.",R42=""),"k. A.",R42/P42) -> k. A.
C43: im Teilservice (alle Touren, die zu über 50 % im Teilservice gefahren werden):
C44: - Kleinbehälter-Touren mit Behältern bis 360 l (nur 2-Radgefäße) | P44: =IF(N44="","k. A.",1+N44) -> k. A. | S44: =IF(OR(P44="k. A.",R44=""),"k. A.",R44/P44) -> k. A.
C45: - Großbehälter-Touren mit Behältern ab 550 l (nur 4-Radgefäße) | P45: siehe Vollservice
C46: - Touren mit gemischter Abfuhr (2- und 4-Radgefäße in einer Tour) | P46: =IF(N46="","k. A.",1+N46) -> k. A. | S46: =IF(OR(P46="k. A.",R46=""),"k. A.",R46/P46) -> k. A.
C47: - Touren mit ausschließlich Sacksammlung | P47: =IF(N47="","k. A.",1+N47) -> k. A. | S47: =IF(OR(P47="k. A.",R47=""),"k. A.",R47/P47) -> k. A.
B49: e) | C49: Durchschnittswerte je Sammeltour (Definitionen beachten)
C50: - Durchschnittliche tägliche Regelarbeitszeit pro Sammeltour | Q50: h/(Fzg.*d)
C51: - Durchschnittliche Anzahl Fahrzeugentladungen pro Sammeltour | Q51: Entl./(Fzg.*d)
C52: - Durchschnittliche Entfernung zur Entsorgungs-/Verwertungsanlage | Q52: km
C53: - Durchschnittliche Gesamtfahrkilometer pro Fahrzeug und Sammeltour | Q53: km/(Fzg.*d)
C54: - Durchschnittliche Anlieferungsmenge pro Fahrzeug und Sammeltour | Q54: Mg/(Fzg.*d)

Sheet Sperrabfall
A1: =Inhaltsverzeichnis!$A$1 -> Digitaler Branchen-Kompass
A2: =Inhaltsverzeichnis!$A$2 -> Datenerhebungsbogen - Bezugsjahr 2025
A4: =Allgemein!$A$4 -> BASISPAKET | B4: 3.8 Sperrabfall und Grünabfall
B6: Sperrabfall
C7: Entsorgung von Sperrabfall und Altholz sowie sonstiger Fraktionen (wie EAG/Schrott) aus Haushalten und Kleingewerbe im Holsystem.
B9: a) | C9: Die Leistung wird durch den eigenen Betrieb erbracht: | K9: durch eigenen Betrieb | N9: durch beauf- tragten Dritten
C11: Anzahl teilnehmende Einwohner | M11: E | P11: E
K12: Holsystem | L12: Bringsystem | N12: Holsystem | O12: Bringsystem
C13: Menge pro Jahr - Holsystem Sperrabfall | M13: Mg/a | P13: Mg/a
C14: Menge pro Jahr - Holsystem Altholz | M14: Mg/a | P14: Mg/a
C15: Menge pro Jahr - Holsystem Schrott/Altmetalle | M15: Mg/a | P15: Mg/a
C16: Menge pro Jahr - Holsystem Elektroaltgeräte | M16: Mg/a | P16: Mg/a
C17: Anzahl pro Jahr - Holsystem Elektroaltgeräte | M17: Stk./a | P17: Stk./a
B19: b) | C19: Art der Sperrabfallerfassung (Mehrfachnennungen möglich)
D20: Abfuhr auf Abruf, Adressen pro Jahr: | N20: Adressen/a
D21: periodische Abfuhr (Straßensammlung; mit Anmeldung), Adressen pro Jahr: | N21: Adressen/a
D22: periodische Abfuhr (Straßensammlung, ohne Anmeldung), Termine pro Jahr: | N22: x pro Haushalt bzw. Bezirk
D23: Sonstige Systeme (bitte stichwortartig beschreiben):
D24: Anlieferung an den Recyclinghof/Wertstoffhof durch den Bürger möglich
B26: c) | C26: Detailbetrachtung Abfuhrorganisation
C27: Abfuhrorganisation der Fraktionen Sperrabfall und Altholz (Holsystem)
E28: Getrennterfassung von Sperrabfall und Altholz, mit zwei separaten Fahrzeugen, am selben Tag
E29: Getrennterfassung von Sperrabfall und Altholz, mit einem Fahrzeug (Fraktionen werden nacheinander abgefahren), am selben Tag
E30: Abfuhr von Sperrabfall und Altholz als eine Fraktion, mit einem Fahrzeug
C32: Abfuhrorganisation der Fraktionen Elektroaltgeräte/Metallschrott und ggf. anderer Fraktionen
E33: Erfassung mit separatem Fzg., am selben Tag, i. d. R. zeitgleich mit Sperrabfall/Altholz (Teams unterstützen sich gegenseitig)
E34: Erfassung mit separatem Fzg., am selben Tag, i. d. R. aber völlig losgelöst von der Tour Sperrabfall/Altholz (keine Unterstützung)
E35: Erfassung mit separatem Fzg., an einem anderen Tag
C37: Abfrage der Leistungswerte (Holsystem) | L37: Sperrabfall (Altholz wird vor Ort getrennt) | M37: Altholz (als separate Fraktion) | N37: Sperrabfall und Altholz (eine Fraktion; keine Trennung vor Ort) | O37: Elektro-Altgeräte (und ggf. Schrott) | P37: Altmetalle/ Schrott (als separate Fraktion)
C41: - Ladepunkte pro Jahr (bei Abfuhr auf Abruf) | K41: Lp./a
C42: - Fahrzeugeinsatztage pro Jahr für alle Sammeltouren | K42: d/a
C43: - Mitarbeitereinsatztage pro Jahr für alle Sammeltouren | K43: d/a
C44: - Durchschnittswerte je Sammeltour
C45: - tägliche Arbeitszeit pro Sammeltour | K45: h/(Fzg.*d)
C46: - Gesamtfahrkilometer pro Fahrzeug und Sammeltour | K46: km/(Fzg.*d)
C47: - Anzahl Fahrzeugentladungen pro Sammeltour | K47: Entl./(Fzg.*d)
C48: - Entfernung zur Entsorgungs-/Verwertungsanlage | K48: km
B51: e) | C51: Sofern im Holsystem keine getrennte Erfassung erfolgt: wird der Sperrabfall gezielt nachsortiert?
E52: ja, Altholz
E53: ja, Altmetalle
E54: ja, Sonstige (bitte benennen):
E55: nein
B57: f) | C57: Welche zusätzlichen/besonderen Serviceleistungen bieten Sie im Rahmen der Sperrabfallabfuhr an?
E58: ja, „Blitz“-/Schnell-/Express-Abfuhrservice
E59: Heraustrageservice aus der Wohnung
E60: Entrümpelungen/Haushaltsauflösungen
E61: es wird keiner der genannten Services angeboten
B63: g) | C63: Finanzierung der Sperrabfallerfassung im Holsystem (Zutreffendes bitte ankreuzen)
E64: für alle Abholungen im Jahr werden keine gesonderten Gebühren und/oder Entgelte bei den Bürgern erhoben
E65: (Finanzierung über Restabfall-Gebühr)
E66: mindestens eine Abholungen pro Haushalt und Jahr sind über die Restabfallgebühr finanziert, ab der
G67: ten Abholung wird eine gesonderte Gebühr erhoben.
E68: alle Abholungen sind für den beauftragenden Bürger kostenpflichtig (Logistikpauschale, Volumenpreis etc.)
E69: Sonstiges (bitte benennen):
B72: Grünabfallsammlung
C73: Entsorgung von Grünabfall aus Haushalten und Kleingewerbe im Holsystem oder über Sammelplätze. Definition Grünabfall: Grünschnitt/
C74: Gartenabfälle, inkl. Weihnachtsbaumsammelaktion; Mengen aus einer Bioabfallsammlung sind hier nicht zu berücksichtigen! => siehe 7. Bioabfall)
B76: h) | C76: Grünabfallerfassung im Holsystem
D77: periodische Straßenabfuhr (z. B. Weihnachtsbaumaktion, Frühjahrs-/Herbstabfuhr etc.)
D78: Anzahl der Abfuhrtermine pro (Haushalt und) Jahr: | O78: Anz./a
D79: Grünabfallabfuhr auf Abruf, Adressen pro Jahr: | O79: Adr./a
D80: spezielle "Laub"-Abfuhr (z. B. zeitlich befristete Aufstellung von Behältern im Straßenraum (für "Straßen"-Laub))
D81: spezielle Laubtonne (separate Abfuhr oder gemeinsam mit Biotonne)
B83: i) | C83: Grünabfallerfassung an Wertstoffhöfen und Grünschnittsammelplätzen
D84: Annahmestellen für Grünabfall/-schnitt an Wertstoffhöfen, Anzahl Annahmestellen: | O84: Anz.
D85: zusätzliche dauerhafte Annahmestellen (nur für Grünschnitt), Anzahl Annahmestellen: | O85: Anz.
D86: zusätzliche zeitlich begrenzte Annahmestellen (nur für Grünschnitt), Anzahl Annahmestellen: | O86: Anz.

Sheet WSH
A1: =Inhaltsverzeichnis!$A$1 -> Digitaler Branchen-Kompass
A2: =Inhaltsverzeichnis!$A$2 -> Datenerhebungsbogen - Bezugsjahr 2025
A4: =Allgemein!$A$4 -> BASISPAKET | B4: 3.9 Wertstoffhof
B6: Wertstoffhöfe
C7: Bitte alle/nur "betreute(n)" Wertstoff-/Recyclinghöfe/Annahmestellen berücksichtigen, an denen verschiedene Abfälle und/oder Wertstoffe
C8: angenommen werden, keine Mono-Annahmestellen, keine Wertstoffinseln ähnlich DC-Standorte.
C9: Mengen bitte unter DL_AW angeben! | I9: LINK
B11: a) | C11: Anzahl Wertstoff-/Recyclinghöfe mit Schadstoffannahme | L11: Wertstoffhöfe
C12: Anzahl Wertstoff-/Recyclinghöfe ohne Schadstoffannahme | L12: Wertstoffhöfe
C13: mobile Annahmestellen (zeitlich befristete Annahmestellen) | L13: Wertstoffhöfe
B15: b) | C15: Servicezeitraum der Wertstoffhöfe (ohne mobile Annahmestellen)
C16: Servicezeitraum Wertstoffhöfe gesamt | L16: h/wo. bitte Kommentar mit Hinweisen zur Berechnung beachten!
C17: Servicezeitraum außerhalb der üblichen Arbeitszeit | L17: h/wo. bitte Kommentar mit Definition beachten!
C18: Servicezeitraum am Samstag | L18: h/wo.
C19: Servicezeitraum des am längsten geöffneten Wertstoffhofes | L19: h/wo.
B21: c) | C21: Summe Öffnungsstunden aller Wertstoff-/Recyclinghöfe | L21: h/a
B23: d) | C23: Mitarbeitendeeinsatzstunden "Wertstoffannahme" | L23: h/a
C24: Mitarbeitende Wertstoffhöfe | L24: VZÄ
B26: e) | C26: Anzahl Anlieferungen pro Jahr (Summe aller WSH) | L26: Anz./a
C27: Es handelt sich bei der Angabe der Anlieferungen um …
D28: einen gezählten Wert | K28: einen Schätzwert
C29: Es werden …
D30: nur gebührenflichtige Anlieferung gezählt | K30: alle (d. h. auch freie) Anlieferungen gezählt
B32: f) | C32: Werden auch Anlieferungen von Gewerbebetrieben und Auswärtige Anlieferungen entgegengenommen (z. T. gegen Gebühr/Entgelt)
D33: ja
D34: nein
D35: Sonstiges
B37: g) | C37: Welche Zahlungsmöglichkeiten bieten Sie am Wertstoffhof an? (Mehrfachnennung möglich)
D38: ausschließlich Bargeld
D39: Bargeld und bargeldlos
D40: in der Regel bargeldlos (mit Ausnahmen: z. B. einzelne Standorte auch Bargeld, Notkasse)
D41: ausschließlich aargeldlos
D42: digitale Zahlungsmöglichkeiten
D43: Sonstiges
B45: h) | C45: Besteht bei Ihnen die Möglichkeit, einen Termin für den Wertstoffhof zu vereinbaren?
D46: ja | F46: wenn ja: Auf welchem Weg? | K46: telefonisch
K47: über die Homepage
K48: in einer App
D49: nein
D50: Sonstiges
B52: i) | C52: Praktizieren Sie bereits bei einem Wertstoffhof das Konzept der personenlosen Annahme (auch Wertstoffhof 24/7 oder Self-Service-Wertstoffhof)?
D53: ja, bitte spezifizieren:
F54: zu Randzeiten (Wertstoffhof ist zu Öffnungszeiten mit Mitarbeitenden besetzt)
F55: 24/7 (Wertstoffhof wird ausschließlich mit personenloser Annahme betrieben)
D56: nein, aber in Planung, bitte spezifizieren:
F57: zu Randzeiten (Wertstoffhof ist zu Öffnungszeiten mit Mitarbeitenden besetzt)
F58: 24/7 (Wertstoffhof wird ausschließlich mit personenloser Annahme betrieben)
D59: nein
D60: Sonstiges

Sheet Pers_StR
A1: =Inhaltsverzeichnis!$A$1 -> Digitaler Branchen-Kompass
A2: =Inhaltsverzeichnis!$A$2 -> Datenerhebungsbogen - Bezugsjahr 2025
A4: =Allgemein!$A$4 -> BASISPAKET | B4: 4.1 Personal Stadtreinigung | C4: Personal - Stadtreinigung
B6: NEU: Die Datenerhebung erfolgt für den gesamten Bereich der Stadtreinigung und Papierkorbleerung in Ihrer Stadt.
B7: Dies schließt alle Reinigungen für städtische Institutionen sowie die Reinigungen, die über den öffentlichen Kostenanteil/Allgemeininteresse
B8: durchgeführt werden, ein.
B9: Andere Leistungen wie z. B. der Winterdienst, Leistungen für Dritte (i. d. R. Abwicklung über Betrieb gewerblicher Art) und von Ihnen beauftragte
B10: Leistungen an beauftragte Dritte sind nicht zu betrachten bzw. aus den Ressourcen, Leistungen und Kosten herauszurechnen.
B12: Personal der Sparte Stadtreinigung
B14: a) | C14: Gesamtzahl Mitarbeitende Sparte (Verwaltung und operativ) | J14: Vollzeitäquivalente | L14: VZÄ
C15: - davon Mitarbeitende technische Verwaltung der Sparte | J15: Vollzeitäquivalente | L15: VZÄ
C16: - davon Mitarbeitende Disposition/Einsatzleitung | J16: Vollzeitäquivalente | L16: VZÄ
B18: b) | C18: Arbeitszeitmodell der operativen Mitarbeitenden
C19: - Wochenarbeitszeit pro Mitarbeitender und Woche | K19: h/(Ma.*w)
C20: - Bitte kreuzen Sie an, was auf das Arbeitszeitmodell der operativ Mitarbeitenden zutrifft (Zutreffendes bitte ankreuzen, Mehrfachnennungen möglich)
E21: 5-Tagewoche
E22: verlängerte Tagesarbeitszeit (bitte Stunden/Tag angeben:) | K22: h/d
E23: strukturelle Minusstunden (bitte Stunden/Tag angeben:) | K23: h/d
E24: 2-Schichtbetrieb (gesamte Abteilung)
E25: teilweise 2-Schichtbetrieb (z. B. einzelne GKM, Kolonnen)
E26: 3-Schichtbetrieb (zumindest teilweise)
E27: wechselnde Schichten für Mitarbeiter
E28: gleichbleibende Schichten für Mitarbeiter (z. B. immer Einsatz in Spätschicht etc.)
E29: Sonntagsreinigung in Überstunden
E30: Samstagsreinigung in Überstunden
E31: 6-Tagewoche (Samstag als Regelarbeitstag)
E32: 6-Tagewoche (Sonntag als Regelarbeitstag)
E33: 4-in 5-Tagewoche / 4- in 6-Tagewoche
E34: 2-Schichtbetrieb
E35: Flexible Arbeitszeiten (inkl. Jahresarbeitszeitkonto)
E36: Sonstiges, bitte erläutern:
C37: - Werden Feiertage nachgeholt?
E38: nein
E39: ja, bitte Jahresaufwand in Mitarbeiterstunden angeben: | K39: Ma.-h/a
C40: - Bieten Sie Ihren Mitarbeitenden ein Lebensarbeitszeitkonto an?
E41: ja
E42: nein
E43: Sonstiges, bitte erläutern:
B45: Detailbetrachtung operativ tätige Mitarbeitende (gewerbliches Personal)
C46: Fahrer, Handreiniger und sonstiges Personal wie z.B. Betriebshofpersonal; OHNE Bereichs-/Einsatzleitung, Disponenten, Pförtner etc.
B47: c) | C47: Anzahl Mitarbeitende (inkl. dauerkranke Mitarbeitende) | J47: Vollzeitäquivalente | L47: VZÄ, zzgl. Leiharbeiter: | O47: VZÄ
C48: - davon Mitarbeitende, die mindestens 1x im Bezugsjahr dauerkrank waren | L48: VZÄ
C49: - davon Anz. Personalersatz für Dauerkranke (eingestelltes Personal) | L49: VZÄ
B50: d) | C50: Anzahl Mitarbeitende (ohne dauerkranke Mitarbeitende, Berechnung s. Notiz) | K50: =IF(K47="","",K47-IF(K58="",0,K58/260)) | L50: VZÄ
B51: e) | C51: Anzahl tatsächliche Mitarbeitende (zur Quoten-Berechnung) | J51: Beschäftigte | L51: Ma.
B52: f) | C52: Anzahl Auszubildende | J52: Vollzeitäquivalente | L52: VZÄ
B53: g) | C53: Anzahl Saisonkräfte | J53: Vollzeitäquivalente | L53: VZÄ
B54: h) | C54: Durchschnittsalter (bitte ermitteln) | L54: a
B55: i) | C55: Anzahl Mitarbeitende älter als 50 Jahre | J55: Vollzeitäquivalente | L55: VZÄ
B56: j) | C56: Anzahl Mitarbeitende älter als 60 Jahre | J56: Vollzeitäquivalente | L56: VZÄ
B57: k) | C57: Krankheitstage (hier nur Krankheitstage mit Lohnfortzahlung angeben) | L57: d/a
B58: l) | C58: Dauerkrankheitstage (Krankheitstage über Lohnfortzahlung hinaus) | L58: d/a

Sheet Fuhrpark_StR
A1: =Inhaltsverzeichnis!$A$1 -> Digitaler Branchen-Kompass
A2: =Inhaltsverzeichnis!$A$2 -> Datenerhebungsbogen - Bezugsjahr 2025
A4: =Allgemein!$A$4 -> BASISPAKET | B4: 4.2 Fuhrpark Stadtreinigung
B6: Fuhrpark der Sparte Stadtreinigung
C7: Es ist jeweils für alle Fahrzeuge der genannten Fahrzeuggruppen zu antworten, auch soweit einzelne Fahrzeuge betriebsintern als Reservefahrzeuge
C8: geführt werden. Inkl. Leasingfahrzeuge.
C10: Spalte Zeile | G10: A | H10: B | I10: C | J10: D | K10: E | L10: F | M10: G | N10: H | O10: I
G11: Dimension | H11: LKW-/Groß- Kehrmaschinen (GKM) | I11: Mittelgroße- Kehrmaschinen (MKM) | J11: Klein- Kehrmaschinen (KKM) | K11: Kleinst- Kehrmaschinen (Kleinst-KM) | L11: Kolonnen-Fahrzeuge | M11: Geräteträger (Stadtreinigung) | N11: handgeführte Kehr-/Saug-maschinen | O11: sonstige Spezial-maschinen
C12: 1 | D12: Anzahl (inkl. Reserve) | G12: [St.]
C13: 1.1 | D13: davon HVO Kraftstoff-Fahrzeuge | G13: [St.]
C14: 1.2 | D14: davon Erdgas-/Biomethan-Fzg. | G14: [St.]
C15: 1.3 | D15: davon synthet. Kraftstoffe-Fzg. | G15: [St.]
C16: 1.4 | D16: davon Hybrid-Fahrzeuge | G16: [St.]
C17: 1.5 | D17: davon Wasserstoff-Fahrzeuge | G17: [St.]
C18: 1.6 | D18: davon andere E-Fahrzeuge | G18: [St.]
C19: 2 | D19: davon Anzahl Reserve-Fahrzeuge | G19: [St.]
C20: 3 | D20: Durchschnittsalter | G20: [a]
C21: 4 | D21: Fahrleistung | G21: [km/a]

Sheet DL_StR
A1: =Inhaltsverzeichnis!$A$1 -> Digitaler Branchen-Kompass | U1: Zwischenberechnungen
A2: =Inhaltsverzeichnis!$A$2 -> Datenerhebungsbogen - Bezugsjahr 2025
A4: =Allgemein!$A$4 -> BASISPAKET | B4: 4.3 Dienstleistungen Stadtreinigung
B6: NEU: Die Datenerhebung erfolgt für den gesamten Bereich der Stadtreinigung und Papierkorbleerung in Ihrer Stadt.
B7: Dies schließt alle Reinigungen für städtische Institutionen sowie die Reinigungen, die über den öffentlichen Kostenanteil/Allgemeininteresse
B8: durchgeführt werden, ein.
B9: Andere Leistungen wie z. B. der Winterdienst, Leistungen für Dritte (i. d. R. Abwicklung über Betrieb gewerblicher Art) und von Ihnen beauftragte
B10: Leistungen an beauftragte Dritte sind nicht zu betrachten bzw. aus den Ressourcen, Leistungen und Kosten herauszurechnen.
B12: Reinigungsumfang
B13: a) | C13: Anzahl Einwohner | J13: E
H15: Netzlänge | J15: Netzlänge
H16: (Gesamtstadt) | J16: (durch Betrieb betreut)
H17: km | J17: km
C18: Fahrbahn
C19: Gehwege | V19: Umrechnungsfaktoren:
B21: b) | C21: Gesamtreinigungsumfang - Bitte geben Sie den Reinigungsumfang Ihres Betriebes an | V21: m in km | X21: 1000
C22: Wichtiger Hinweis: Die Abfrage wurde an die Struktur der Leistungsmeldung zum EWK-Fonds angeglichen! Es sind ausschließlich die Leistungen Ihres | V22: m² in km² | X22: 1000000
C23: Betriebes/des Bereichs "Stadtreinigung" einzutragen! Bitte beachten: Dies kann von den von Ihnen gemeldeten Leistungen nach EWK-Fonds abweichen | V23: km² in km | X23: =1000000/1000 -> 1000
C24: (z. B. Reinigung im Bereich Grün ggf. durch Grünflächenamt gemeldet - wird aber durch Bereich "Stadtreinigung" erbracht: Bitte dann mit angeben!). | V24: Fläche auf Länge | W24: 3 | X24: m² entpricht 1 m für unbefestigt, manuelle Reinigung
H25: Gesamtleistung "Stadtreinigung" | M25: …davon satzungsgemäß | W25: 3 | X25: m² entpricht 1 m für befestigt, manuelle Reinigung
C26: Strecken | H26: Arbeitslänge | J26: Reinigungslänge | M26: Arbeitslänge | O26: Reinigungslänge | V26: Jährliche Reinigungs-km gewichtet nach Straßentyp
H27: (durch Betrieb) | J27: (durch Betrieb) | M27: (durch Betrieb) | O27: (durch Betrieb) | Y27: gewichtete Reinigungs-km
H28: km | J28: km/a | M28: km | O28: km/a | Y28: gesamt | Z28: Satzung
C29: Fahrbahn | X29: Faktor | Y29: km/a
C30: Geh- und kombinierte Geh-/Radwege | V30: Fahrbahn | X30: 1 | Y30: =X30*J29 -> 0 | Z30: =Y30*O29 -> 0
C31: davon mit erhöhtem Reinigungsaufwand | V31: Geh- und kombinierte Geh-/Radwege | X31: 1.5 | Y31: =X31*J30 -> 0 | Z31: =Y31*O30 -> 0
C32: selbstständige (separate) Radwege | V32: mit erhöhtem Aufwand | X32: =1.5*1.5 -> 2.25 | Y32: =X32*J31 -> 0 | Z32: =Y32*O31 -> 0
C33: Sonstige Wege | V33: Selbstständige Radwege | X33: 1.3 | Y33: =X33*J32 -> 0 | Z33: =Y33*O32 -> 0
C34: Summe | H34: =SUM(H29,H30,H32,H33) -> 0 | J34: =SUM(J29,J30,J32,J33) -> 0 | M34: =SUM(M29,M30,M32,M33) -> 0 | O34: =SUM(O29,O30,O32,O33) -> 0 | V34: Sonstige Wege | X34: 1 | Y34: =X34*J33 -> 0 | Z34: =Y34*O33 -> 0
C36: Flächen | H36: Arbeitsfläche | J36: Reinigungsfläche | M36: Arbeitsfläche | O36: Reinigungsfläche | X36: Anteil zu reinigender Fläche
H37: (durch Betrieb) | J37: (durch Betrieb) | M37: (durch Betrieb) | O37: (durch Betrieb) | V37: Grünflächen/Parkanlagen | X37: 0.25 | Y37: =X37*J39*$X$23/$W$24 -> 0 | Z37: =X37*O39*$X$23/$W$24 -> 0
C38: Reinigungsopjekte unbefestigt | H38: km² | J38: km²/a | M38: km² | O38: km²/a | V38: Spielplätze | X38: 0.75 | Y38: =X38*J40*$X$23/$W$24 -> 0 | Z38: =X38*O40*$X$23/$W$24 -> 0
C39: Grünflächen/Parkanlagen | V39: Baumscheiben | X39: 0.9 | Y39: =X39*J41*$X$23/$W$24 -> 0 | Z39: =X39*O41*$X$23/$W$24 -> 0
C40: Spielplätze | V40: Straßenbegleitgrün | X40: 0.75 | Y40: =X40*J42*$X$23/$W$24 -> 0 | Z40: =X40*O42*$X$23/$W$24 -> 0
C41: Baumscheiben | V41: Böschungen/Gräben/Uferbereiche/Strände | X41: 0.25 | Y41: =X41*J43*$X$23/$W$24 -> 0 | Z41: =X41*O43*$X$23/$W$24 -> 0
C42: Straßenbegleitgrün | V42: Sonstige unbefestigte Flächen | X42: 0.5 | Y42: =X42*J44*$X$23/$W$24 -> 0 | Z42: =X42*O44*$X$23/$W$24 -> 0
C43: Böschungen/Gräben/Uferbereiche/Strände
C44: Sonstige unbefestigte Flächen | V44: Plätze/Fußgängerzonen | X44: 0.75 | Y44: =X44*J47*$X$23/$W$25 -> 0 | Z44: =X44*O47*$X$23/$W$25 -> 0
C45: Summe | H45: =SUM(H39:I44) -> 0 | J45: =SUM(J39:K44) -> 0 | M45: =SUM(M39:N44) -> 0 | O45: =SUM(O39:P44) -> 0 | V45: Parkplätze | X45: 0.5 | Y45: =X45*J48*$X$23/$W$25 -> 0 | Z45: =X45*O48*$X$23/$W$25 -> 0
C46: Reinigungsobjekte befestigt | H46: km² | J46: km²/a | M46: km² | O46: km²/a | V46: Sonstige befestigte Flächen | X46: 0.5 | Y46: =X46*J49*$X$23/$W$25 -> 0 | Z46: =X46*O49*$X$23/$W$25 -> 0
C47: Plätze/Fußgängerzonen | V47: Faktorisierte Reinigungslänge km/a | Y47: =SUM(Y30:Y46) -> 0 | Z47: =SUM(Z30:Z46) -> 0
C48: Parkplätze
C49: Sonstige befestigte Flächen | V49: Produkteinheiten
C50: Summe | H50: =SUM(H47:I49) -> 0 | J50: =SUM(J47:K49) -> 0 | M50: =SUM(M47:N49) -> 0 | O50: =SUM(O47:P49) -> 0 | V50: Produkt | W50: Anzahl | X50: Kostenbezug | Y50: Ergebnis
V51: GKM | W51: =#REF! -> #REF! | X51: 1.4 | Y51: =W51*X51 -> #REF!
B52: c) | C52: Leistungskennzahlen Reinigungssystem | V52: MKM | W52: =#REF! -> #REF! | X52: 1.34 | Y52: =W52*X52 -> #REF!
C53: Bitte geben Sie die durchschnittlichen Reinigungs-km je Reinigungsystem und Tag an (bei Schichtsystem je Schicht). | V53: KKM | W53: =#REF! -> #REF! | X53: 1.28 | Y53: =W53*X53 -> #REF!
C54: Bitte zudem die Arbeitszeit je Tag bzw. je Schicht angeben. | V54: operative Ma. | W54: =#REF! -> #REF! | X54: 1 | Y54: =W54*X54 -> #REF!
C55: 1. | D55: Großkehrmaschine (separater Einsatz) | J55: km/(Fzg.*d) | M55: → bei | O55: h Arbeitszeit je d bzw. je Schicht | V55: Produkteinheiten | Y55: =SUM(Y51:Y54) -> #REF!
C56: 2. | D56: mittelgroße Kehrmaschine (separater Einsatz) | J56: km/(Fzg.*d) | M56: → bei | O56: h Arbeitszeit je d bzw. je Schicht
C57: 3. | D57: Kleinkehrmaschine (separater Einsatz) | J57: km/(Fzg.*d) | M57: → bei | O57: h Arbeitszeit je d bzw. je Schicht | V57: Papierkorbfaktor
C58: 4. | D58: Handreinigerkolonne manuell (sep.) | J58: km/(Kolonne*d) | M58: → bei | O58: h Arbeitszeit je d bzw. je Schicht | V58: Leerungen/a
D59: - eine Handreinigerkolonne besteht typischerweise aus | K59: Mitarbeitenden | V59: Standard | W59: Ascher | X59: Verdichtung | Y59: Unterflur | Z59: Gesamt
D60: - wenn zutreffend, bitte ankreuzen: | V60: =SUM(J86,J87,J88,J89,J90,J91) -> 0 | W60: =SUM(J95,J96,J97,J99,J98,J100) -> 0 | X60: =SUM(J104,J105,J106,J107,J108,J109) -> 0 | Y60: =SUM(J113,J114,J115,J116,J117,J118)*(1000/60) -> 0 | Z60: =SUM(V60:Y60) -> 0
G61: ja, die Handreinigerkolonne leert auch die Papierkörbe | V61: Aufwand je km
G62: ja, die Handreinigerkolonne reinigt auch (angrenzende) Grünflächen, z. B. Straßenbegleitgrün, Parkflächen
C63: 5. | D63: Kombination Kehrmaschine/Zukehrende | J63: km/(Team*d) | M63: → bei | O63: h Arbeitszeit je d bzw. je Schicht | V63: Anzahl Ma. | W63: Jahreseinsatz-h | X63: Reinigungslänge | Y63: Aufwand
D64: - Eine Kombination Kehrmaschine/Zukehrende besteht aus (bitte Anzahl angeben!) | V64: =W54 -> #REF! | W64: 1500 | X64: =Y47 -> 0 | Y64: =IF(X64=0,0,V64*W64/X64) -> 0
H65: GKM | J65: MKM | L65: KKM | O65: Zukehrern / sonst. Ma | V65: Leerungsleistung (h/Pk.-Leerungen)
D66: - wenn zutreffend, bitte ankreuzen: | V66: =7.8/250 -> 0.0312
G67: ja, das Team leert auch die Papierkörbe | V67: Umrechnungsfaktor
G68: ja, das Team reinigt auch (angrenzende) Grünflächen, z. B. Straßenbegleitgrün, Parkflächen | V68: =Y64/V66 -> 0
C69: 6. | D69: Handreinigerkolonne manuell (Grün-)Flächen | J69: m²/(Kolonne*d) | M69: → bei | O69: h Arbeitszeit je d bzw. je Schicht | V69: => Papierkorbfaktor: | Y69: =IF(V68=0,0,Z60/V68) -> 0 | Z69: km/a
D70: - eine Handreinigerkolonne besteht typischerweise aus | K70: Mitarbeitenden
D71: - wenn zutreffend, bitte ankreuzen: | V71: Gewichtete Reinigungskilometer (inkl. Papierkörbe)
G72: ja, die Handreinigerkolonne leert auch die Papierkörbe | Y72: =SUM(Y47,Y69) -> 0 | Z72: km/a
C73: 7. | D73: Kombinationsreinigung (Grün-)Flächen | J73: m²/(Team*d) | M73: → bei | O73: h Arbeitszeit je d bzw. je Schicht | V73: Gesamtproduktivität hoheitl. Leistung
D74: - Eine Kombination Kehrmaschine/Zukehrende besteht aus (bitte Anzahl angeben!) | Y74: =IF(Y55=0,0,Y72/(Y55*52)) -> #REF! | Z74: km/(PE*w.)
H75: GKM | J75: MKM | L75: KKM | O75: Zukehrern / sonst. Ma
D76: - wenn zutreffend, bitte ankreuzen:
G77: ja, das Team leert auch die Papierkörbe
B79: d) | C79: Umfang Papierkorbleerungen
C80: Wichtiger Hinweis: Die Abfrage wurde an die Struktur der Leistungsmeldung zum EWK-Fonds angeglichen! Es sind ausschließlich die Leistungen Ihres
C81: Betriebes/des Bereichs "Stadtreinigung" einzutragen! Bitte beachten: Dies kann von den von Ihnen gemeldeten Leistungen nach EWK-Fonds abweichen
C82: (z. B. Pk._Leerung im Bereich Grün ggf. durch Grünflächenamt gemeldet - wird aber durch Bereich "Stadtreinigung" erbracht: Bitte dann mitangeben!).
E83: Gesamtleistung "Stadtreinigung" | M83: …davon satzungsgemäß | V83: Produkteinheiten je Team
C84: Standard- papierkörbe | E84: Papierkörbe | H84: Volumen pro Papierkorb | J84: Gesamtleerungen | M84: Papierkörbe | O84: Gesamtleerungen | V84: Produkt | W84: Anzahl | X84: Kostenbezug | Y84: Ergebnis
E85: Anzahl | H85: l/Papierkorb | J85: Leerungen/a | M85: Anzahl | O85: Leerungen/a | V85: GKM | W85: =G65 -> 0 | X85: =X51 -> 1.4 | Y85: =W85*X85 -> 0
D86: Typ 1 | V86: MKM | W86: =I65 -> 0 | X86: =X52 -> 1.34 | Y86: =W86*X86 -> 0
D87: Typ 2 | V87: KKM | W87: =K65 -> 0 | X87: =X53 -> 1.28 | Y87: =W87*X87 -> 0
D88: Typ 3 | V88: operative Ma. | W88: =N65 -> 0 | X88: =X54 -> 1 | Y88: =W88*X88 -> 0
D89: Typ 4 | V89: Produkteinheiten | Y89: =SUM(Y85:Y88) -> 0
D90: Typ 5
D91: Typ 6 | V91: Anzahl Papierkörbe
V92: Anzahl
C93: Separate Ascher | E93: Ascher | H93: Volumen pro Ascher | J93: Gesamtleerungen | M93: Ascher | O93: Gesamtleerungen | V93: Standard | W93: Ascher | X93: Verdichtung | Y93: Unterflur | Z93: Gesamt
E94: Anzahl | H94: l/Ascher | J94: Leerungen/a | M94: Anzahl | O94: Leerungen/a | V94: =SUM(E86,E87,E88,E89,E90,E91) -> 0 | W94: =SUM(E95,E96,E97,E98,E99,E100) -> 0 | X94: =SUM(E104,E105,E106,E107,E108,E109) -> 0 | Y94: =SUM(E113,E114,E115,E116,E117,E118) -> 0 | Z94: =SUM(V94:Y94) -> 0 | AA94: ohne Wichtung
D95: Typ 1
D96: Typ 2
D97: Typ 3
D98: Typ 4
D99: Typ 5
D100: Typ 6
C102: Papierkörbe mit Verdich-tungsfunktion | E102: Papierkörbe | H102: Verdichtungs- faktor | I102: Volumen ohne Verdichtung | J102: Gesamtleerungen | M102: Papierkörbe | O102: Gesamtleerungen
E103: Anzahl | H103: Faktor | I103: l/Papierkorb | J103: Leerungen/a | M103: Anzahl | O103: Leerungen/a
D104: Typ 1
D105: Typ 2
D106: Typ 3
D107: Typ 4
D108: Typ 5
...

Sheet Winterdienst
A1: =Inhaltsverzeichnis!$A$1 -> Digitaler Branchen-Kompass
A2: =Inhaltsverzeichnis!$A$2 -> Datenerhebungsbogen - Bezugsjahr 2025
A4: =Allgemein!$A$4 -> BASISPAKET | B4: 4. Winterdienst
C6: Fahrbahn-, Radweg- und Gehwegwinterdienst sowie alle zusätzlichen Räum- und Streuaufgaben.
C7: Nur die hoheitlichen Aufgaben angeben (z. B. keine Gehwege vor privaten Grundstücken, Drittgeschäft).
B9: Winterdienst - Leistungen eigener Betrieb
B10: a) | C10: Anzahl Einwohner (Übernahme aus Kapitel 1.1 Allgemein, ändern, wenn abweichend) | N10: =IF(Allgemein!P65="","",Allgemein!P65) | O10: E
B12: b) | C12: Organisation
C13: Welcher Bereich organisiert in Ihrem Betrieb federführend den Winterdienst?
D14: Straßenreinigung
D15: Straßenunterhaltung
D16: Sonstige Bereiche (bitte benennen):
C18: Welche Bereiche beteiligen sich (i. d. R. personell sowie ggf. mit Fahrzeugen) am Winterdienst?
D19: Abfallsammlung (Müllabfuhr) | J19: Straßenreinigung/Papierkorbleerung
D20: Straßenunterhaltung | J20: Grünflächenwesen
D21: Friedhofswesen | J21: Kfz-Werkstatt/Lager
D22: Gebäudeunterhaltung (Handwerkerdienste) | J22: Gebäudereinigung
D23: Kanalbetrieb | J23: Abwasserreinigung (Kläranlagen)
D24: Gewässerunterhaltung | J24: Sonstige:
B26: b) | C26: Steuumfang | F26: einfache Länge | I26: Streulänge
C27: - Fahrbahnen | L27: km
C28: - Geh-/Radwege | L28: km
C29: - Radschnellwege | L29: km
C31: - Gesamtanzahl der betreuten Fußgängerquerungen | L31: Stck.
B33: c) | C33: Streumittel
C34: Welche Streumittel setzen Sie ein? (Bitte ankreuzen)
D35: Salz | G35: Feuchtsalz | J35: Sole | M35: Splitt/Sand etc.
C37: Wie lagern und beladen Sie Ihr Streusalz?
C38: Lagerung | F38: am Bauhof | I38: außerhalb
E39: Silo | L39: m³
E40: Soletank | L40: m³
E41: Salzhalle | L41: m³
C42: Beladen (Bitte ankreuzen)
D43: Radlader | G43: Förderband
C45: Für wie viele Volleinsätze reicht ihre Lagerkapazität am Bauhof? | L45: (zirka) Volleinsatztage
C47: Arbeiten Sie mit …. (Bitte ankreuzen)
D48: ...präventivem Streuen ? | J48: ...Wechselaufbauten für LKW?
D49: ...Eigenaufbereitung von Sole? | J49: ...Bereitschaft der Werkstatt beim Winterdienst?
C51: Wenn Sie mit präventivem Streuen arbeiten, wo wenden Sie dies an?
D52: auf Fahrbahnen | J52: auf Geh-/Radwegen
D53: auf Radschnellwegen | J53: Sonstige:
B55: d) | C55: Digitalisierung
C56: Verfügen Sie über folgende EDV-Systeme? (Bitte ankreuzen)
D57: Telematik (WiDi-Bericht) | J57: Tourenplanungssoftware
D58: Sensorik (am Fahrzeug) | J58: Glättemeldeanlagen (stationär)

Sheet Pers_Grün
A1: =Inhaltsverzeichnis!$A$1 -> Digitaler Branchen-Kompass
A2: =Inhaltsverzeichnis!$A$2 -> Datenerhebungsbogen - Bezugsjahr 2025
A4: =Allgemein!$A$4 -> BASISPAKET | B4: 6.1 Personal Grünflächenunterhaltung
B6: Betrachtung ohne Forst und ohne Friedhofsunterhaltung
B8: Personal der Sparte Grünflächenunterhaltung
B10: a) | C10: Sind die Grünflächenplanung und Grünflächenunterhaltung organisatorisch getrennt oder vereint? (Bitte ankreuzen)
E11: getrennt (z.B. Betriebshof und Grünflächenamt)
E12: vereint
B14: b) | C14: Gesamtzahl Mitarbeitende Sparte (Verwaltung und operativ) | J14: Vollzeitäquivalente | L14: VZÄ
C15: - davon Anzahl Mitarbeitende Grünflächenplanung (sofern im Betrieb) | J15: Vollzeitäquivalente | L15: VZÄ
C16: - davon Mitarbeitende technische Verwaltung der Sparte | J16: Vollzeitäquivalente | L16: VZÄ
C17: - davon Mitarbeitende Meister/Disposition/Einsatzleitung | J17: Vollzeitäquivalente | L17: VZÄ
B19: Detailbetrachtung operativ tätige Mitarbeitende (gewerbliches Personal)
C20: Mitarbeitende Meister, Vorarbeiter, Fachkräfte (z. B. Gärtner), angelernte Kräfte etc.
B21: c) | C21: Anzahl Mitarbeitende (inkl. dauerkranke Mitarbeitende) | J21: Vollzeitäquivalente | L21: VZÄ, zzgl. Leiharbeiter: | O21: VZÄ
C22: - davon Mitarbeitende, die mindestens 1x im Bezugsjahr dauerkrank waren | L22: VZÄ
C23: - davon Anz. Personalersatz für Dauerkranke (eingestelltes Personal) | L23: VZÄ
B24: d) | C24: Anzahl Mitarbeitende (ohne dauerkranke Mitarbeitende, Berechnung s. Notiz) | K24: =IF(K21="","",K21-IF(K32="",0,K32/260)) | L24: VZÄ
B25: e) | C25: Anzahl tatsächliche Mitarbeitende (zur Quoten-Berechnung) | J25: Beschäftigte | L25: Ma.
B26: f) | C26: Anzahl Auszubildende | J26: Vollzeitäquivalente | L26: VZÄ
B27: g) | C27: Anzahl Saisonkräfte | J27: Vollzeitäquivalente | L27: VZÄ
B28: h) | C28: Durchschnittsalter (bitte ermitteln) | L28: a
B29: i) | C29: Anzahl Mitarbeitende älter als 50 Jahre | J29: Vollzeitäquivalente | L29: VZÄ
B30: j) | C30: Anzahl Mitarbeitende älter als 60 Jahre | J30: Vollzeitäquivalente | L30: VZÄ
B31: k) | C31: Krankheitstage (hier nur Krankheitstage mit Lohnfortzahlung angeben) | L31: d/a
B32: l) | C32: Dauerkrankheitstage (Krankheitstage über Lohnfortzahlung hinaus) | L32: d/a

Sheet Fuhrpark_Grün
A1: =Inhaltsverzeichnis!$A$1 -> Digitaler Branchen-Kompass
A2: =Inhaltsverzeichnis!$A$2 -> Datenerhebungsbogen - Bezugsjahr 2025
A4: =Allgemein!$A$4 -> BASISPAKET | B4: 6.2 Fuhrpark Grünflächenunterhaltung
B6: Fuhrpark der Sparte Grünflächenunterhaltung
C7: Es ist jeweils für alle Fahrzeuge der genannten Fahrzeuggruppen zu antworten, auch soweit einzelne Fahrzeuge betriebsintern als Reservefahrzeuge geführt werden.
C8: Inkl. Leasingfahrzeuge.
C10: Spalte Zeile | G10: A | H10: B | I10: C | J10: D | K10: E | L10: F | M10: G | N10: H | O10: I
G11: Dimension | H11: Großgeräte-träger/Acker-schlepper | I11: Steiger | J11: LKW > 7,5 t | K11: LKW ≤ 7,5 t | L11: Transporter (Pritsche, Sprinter etc.) ≤ 3,5 t | M11: Bagger/ Radlader | N11: Kleintraktoren/ Kleingeräte-träger/ Großflächen-mäher | O11: PKW
C12: 1 | D12: Anzahl (inkl. Reserve) | G12: [St.]
C13: 1.1 | D13: davon HVO Kraftstoff-Fahrzeuge | G13: [St.]
C14: 1.2 | D14: davon Erdgas-/Biomethan-Fzg. | G14: [St.]
C15: 1.3 | D15: davon synthet. Kraftstoffe-Fzg. | G15: [St.]
C16: 1.4 | D16: davon Hybrid-Fahrzeuge | G16: [St.]
C17: 1.5 | D17: davon Wasserstoff-Fahrzeuge | G17: [St.]
C18: 1.6 | D18: davon andere E-Fahrzeuge | G18: [St.]
C19: 2 | D19: davon Anzahl Reserve-Fahrzeuge | G19: [St.]
C20: 3 | D20: Durchschnittsalter | G20: [a]
C21: 4 | D21: Fahrleistung | G21: [km/a]

Sheet DL_Grün
A1: =Inhaltsverzeichnis!$A$1 -> Digitaler Branchen-Kompass
A2: =Inhaltsverzeichnis!$A$2 -> Datenerhebungsbogen - Bezugsjahr 2025
A4: =Allgemein!$A$4 -> BASISPAKET | B4: 6.3 Dienstleistungen der Grünflächenunterhaltung
C6: Abfragen zum Personal siehe Tabellenblatt Pers_Grün
C7: Abfragen zum Fuhrpark siehe Tabellenblatt Fuhrpark_Grün
B9: a) | C9: Objekte | V9: Gesamtfläche: | X9: =SUM(X11,#REF!) -> #REF! | Y9: ha
C10: nur vom Betrieb betreute Grünflächen im Stadtgebiet (ohne Forst und Friedhof => sep. Abfrage)
L11: Anzahl Flächen in Stück | N11: Fläche in ha | V11: Gesamtfläche (eigen): | X11: =SUM(N13:O21) -> 0 | Y11: ha
D12: Gesamtfläche
D13: - Grünanlagen/Parks (inkl. Wasserflächen in Grünanlagen)
D14: - Kinderspielplätze/Bolzplätze/Erwachsenenspielplätze etc.
D15: - Flächen an Schulen/Kitas
D16: - Flächen sonstiger städtischer Einrichtungen
D17: - Sportplätze
D18: - Straßenbegleitgrün
D19: - Extensivflächen (Naturschutzflächen etc.)
D20: - Waldflächen (ohne Forst)
D21: - Sonstige Flächen (botanischer Garten/Tierparks etc.)
E22: bitte Art der Fläche(n) benennen:
C24: Ergänzend: Anzahl der Spielgeräte auf den Flächen: | N24: Anzahl Spielgeräte
C26: Ergänzend: Sind Gebäude aus Flächen herausgerechnet?
D27: Ja
D28: Nein
C30: Baumbestand
C31: vom Betrieb betreut (ohne Forst) | L31: Einzel- bäume | M31: Baumgruppen
M32: Anzahl Gruppen | N32: ø Anz. Bäume je Gruppe | O32: Stück
L33: Stück
D35: Anzahl Bäume gesamt
D36: Anteil Jungbäume:
B38: b) | C38: Leistung/ausgewählte Aufwandskennzahlen
C39: Sofern Ihre Stundenaufzeichnung eine Zuordnung von Pflege- und Reinigungsleistung auf Objektebene zulässt,
C40: bitte nachfolgend die Jahresstunden zuordnen.
I41: Personal-
I42: stundenaufwand (h/a)
D43: Pflege Grünanlagen und Parks
D44: Kinderspielplatzkontrolle
D45: Kinderspielplatzpflege
D46: Pflege Grünanlagen an öffntl. Gebäuden
D47: Baumkontrolle
D48: Baumpflege
D49: Pflege Straßenbegleitgrün
D50: Pflege Sportplätze
D51: Pflege Extensivflächen

Sheet Pers_FH
A1: =Inhaltsverzeichnis!$A$1 -> Digitaler Branchen-Kompass
A2: =Inhaltsverzeichnis!$A$2 -> Datenerhebungsbogen - Bezugsjahr 2025
A4: =Allgemein!$A$4 -> BASISPAKET | B4: 7.1 Personal Friedhofsunterhaltung
B6: Pesonal der Sparte Friedhofsunterhaltung
B9: a) | C9: Sind Friedhofsverwaltung und Friedhofsunterhaltung organisatorisch getrennt oder vereint? (Bitte ankreuzen)
E10: getrennt (z.B. Betriebshof und Standesamt)
E11: vereint
B13: b) | C13: Gesamtzahl Mitarbeitende Sparte (Verwaltung und operativ) | J13: Vollzeitäquivalente | L13: VZÄ
C14: - Anzahl Mitarbeitende in der Friedhofsverwaltung (Sachbearbeitung) | J14: Vollzeitäquivalente | L14: VZÄ
C15: - davon Mitarbeitende technische Verwaltung der Sparte | J15: Vollzeitäquivalente | L15: VZÄ
C16: - davon Mitarbeitende Meister/Disposition/Einsatzleitung | J16: Vollzeitäquivalente | L16: VZÄ
B18: Detailbetrachtung operativ tätige Mitarbeitende (gewerbliches Personal)
C19: Mitarbeitende Meister, Vorarbeiter, Fachkräfte (z. B. Gärtner), angelernte Kräfte etc.
B20: c) | C20: Anzahl Mitarbeitende (inkl. dauerkranke Mitarbeitende) | J20: Vollzeitäquivalente | L20: VZÄ, zzgl. Leiharbeiter: | O20: VZÄ
C21: - davon Mitarbeitende, die mindestens 1x im Bezugsjahr dauerkrank waren | L21: VZÄ
C22: - davon Anz. Personalersatz für Dauerkranke (eingestelltes Personal) | L22: VZÄ
B23: d) | C23: Anzahl Mitarbeitende (ohne dauerkranke Mitarbeitende, Berechnung s. Notiz) | K23: =IF(K20="","",K20-IF(K31="",0,K31/260)) | L23: VZÄ
B24: e) | C24: Anzahl tatsächliche Mitarbeitende (zur Quoten-Berechnung) | J24: Beschäftigte | L24: Ma.
B25: f) | C25: Anzahl Auszubildende | J25: Vollzeitäquivalente | L25: VZÄ
B26: g) | C26: Anzahl Saisonkräfte | J26: Vollzeitäquivalente | L26: VZÄ
B27: h) | C27: Durchschnittsalter (bitte ermitteln) | L27: a
B28: i) | C28: Anzahl Mitarbeitende älter als 50 Jahre | J28: Vollzeitäquivalente | L28: VZÄ
B29: j) | C29: Anzahl Mitarbeitende älter als 60 Jahre | J29: Vollzeitäquivalente | L29: VZÄ
B30: k) | C30: Krankheitstage (hier nur Krankheitstage mit Lohnfortzahlung angeben) | L30: d/a
B31: l) | C31: Dauerkrankheitstage (Krankheitstage über Lohnfortzahlung hinaus) | L31: d/a

Sheet Fuhrpark_FH
A1: =Inhaltsverzeichnis!$A$1 -> Digitaler Branchen-Kompass
A2: =Inhaltsverzeichnis!$A$2 -> Datenerhebungsbogen - Bezugsjahr 2025
A4: =Allgemein!$A$4 -> BASISPAKET | B4: 7.2 Fuhrpark Friedhofsunterhaltung
B6: Fuhrpark der Sparte Friedhofsunterhaltung
C7: Es ist jeweils für alle Fahrzeuge der genannten Fahrzeuggruppen zu antworten, auch soweit einzelne Fahrzeuge betriebsintern als Reservefahrzeuge geführt werden.
C8: Inkl. Leasingfahrzeuge.
C10: Spalte Zeile | G10: A | H10: B | I10: C | J10: D | K10: E | L10: F | M10: G | N10: H | O10: I
G11: Dimension | H11: Friedhofs-Bagger | I11: Steiger | J11: LKW > 7,5 t | K11: LKW ≤ 7,5 t | L11: Transporter (Pritsche, Sprinter etc.) ≤ 3,5 t | M11: Bagger/ Radlader | N11: Kleintraktoren/ Kleingeräte-träger/ Großflächen-mäher | O11: PKW
C12: 1 | D12: Anzahl (inkl. Reserve) | G12: [St.]
C13: 1.1 | D13: davon HVO Kraftstoff-Fahrzeuge | G13: [St.]
C14: 1.2 | D14: davon Erdgas-/Biomethan-Fzg. | G14: [St.]
C15: 1.3 | D15: davon synthet. Kraftstoffe-Fzg. | G15: [St.]
C16: 1.4 | D16: davon Hybrid-Fahrzeuge | G16: [St.]
C17: 1.5 | D17: davon Wasserstoff-Fahrzeuge | G17: [St.]
C18: 1.6 | D18: davon andere E-Fahrzeuge | G18: [St.]
C19: 2 | D19: davon Anzahl Reserve-Fahrzeuge | G19: [St.]
C20: 3 | D20: Durchschnittsalter | G20: [a]
C21: 4 | D21: Fahrleistung | G21: [km/a]

Sheet DL_FH
A1: =Inhaltsverzeichnis!$A$1 -> Digitaler Branchen-Kompass
A2: =Inhaltsverzeichnis!$A$2 -> Datenerhebungsbogen - Bezugsjahr 2025
A4: =Allgemein!$A$4 -> BASISPAKET | B4: 7.3 Dienstleistungen der Friedhofsunterhaltung
C6: Abfragen zum Personal siehe Tabellenblatt Pers_FH
C7: Abfragen zum Fuhrpark siehe Tabellenblatt Fuhrpark_FH
B8: a) | C8: Anzahl operativ Mitarbeitende (inkl. dauerkranke), Übernahme aus Pers_FH | L8: =IF(Pers_FH!K20="","",Pers_FH!K20) | M8: VZÄ
C9: - davon für Pflege | M9: VZÄ
C10: - davon für Bestattungen | M10: VZÄ
B12: b) | C12: Objekte
L13: Anzahl in Stück | N13: Fläche in ha
C14: Anzahl städtischen Friedhöfe (nur Friedhöfe mit Bestattungsbetrieb):
C15: Anzahl nichtstädtische Friedhöfe (nur Friedhöfe mit Bestattungsbetrieb):
C16: Anzahl betreute Friedhöfe ohne Bestattungen (z. B. historische)
B18: c) | C18: Organisation/Bestattungen
C19: Organisationsstruktur auf den Friedhöfen
D20: jeweils separate Pflege- und Bestattungskolonnen
D21: Teilleistungen durch Kolonnen des Bereichs Grünpflege (z. B. Baumpflege)
D22: Kolonnen für Bestattungen sowie Pflege
D23: Gesamte Pflege durch Kolonnen der Grünflächenpflege
C25: Bestattungen
C26: - Anzahl Bestattungen | J26: Anz./a
C27: - Grabarten (Neuvergaben)
D28: Wahlgräber | J28: Anz./a | L28: davon Urnengräber: | O28: Anz./a
D29: Reihengräber | J29: Anz./a | L29: davon Urnengräber: | O29: Anz./a
D30: pflegefreie Rasengräber | J30: Anz./a | L30: davon Urnengräber: | O30: Anz./a
D31: Anonyme Rasengräber | J31: Anz./a | L31: davon Urnengräber: | O31: Anz./a
D32: Baumgräber (Urne) | J32: Anz./a
D33: Kolumbarien (Urne) | J33: Anz./a
D34: Sonstige | J34: Anz./a | L34: bitte benennen:
B36: d) | C36: Leistung/ausgewählte Aufwandskennzahlen
C37: Sofern Ihre Stundenaufzeichnung eine Zuordnung von Pflege- und Bestattungsleistung zulässt,
C38: bitte nachfolgend die Jahresstunden zuordnen.
I39: Personal-
I40: stundenaufwand (h/a)
D41: Pflege Friedhöfe
D42: Bestattungen

Sheet Pers_StU
A1: =Inhaltsverzeichnis!$A$1 -> Digitaler Branchen-Kompass
A2: =Inhaltsverzeichnis!$A$2 -> Datenerhebungsbogen - Bezugsjahr 2025
A4: =Allgemein!$A$4 -> BASISPAKET | B4: 8.1 Personal Straßenunterhaltung
B6: Straßenunterhaltung umfasst folgende Bereiche: Betriebliche Unterhaltung (Kontrolle und Wartung) sowie bauliche Unterhaltung (Instandhaltung,
B7: Instandsetzung, Erneuerung); daneben steht der Neubau von Straßen. Zur Instandhaltung [nur punktuell] zählen z. B.: Schlaglochbeseitigung,
B8: kleine Oberflächenbehandlungen, kürzere Spurrinnenbeseitigung, Verguss von Fugen, kleinere Pflasterreparaturen, Abfräsen von Verformungen
B9: in kürzeren Abschnitten. Zur Instandsetzung [nur Deckschicht] zählen z. B.: Oberflächenbehandlungen (ganze Fahrstreifenbreite), Hoch- und
B10: Tiefeinbau einer Deckschicht, Spurrinnenbeseitigung auf längeren Abschnitten, großflächige Pflasterarbeiten, Aufbringen dünner Schichten.
B11: Zur Erneuerung [mehr als Deckschicht] zählen z. B.: Oberflächenbehandlungen (ganze Straßenbreite), Hoch- und Tiefeinbau einer Deck- und
B12: Binderschicht, Ersatz einer Betondecke.
B14: Personal der Sparte Straßenunterhaltung
B17: a) | C17: Sind Tiefbauamt (Planung, Neubau, Aufbruchmanagement etc.) und Unterhaltung organisatorisch getrennt oder vereint ? (Bitte ankreuzen)
E18: getrennt
E19: vereint
B21: b) | C21: Gesamtzahl Mitarbeitende Sparte | J21: Vollzeitäquivalente | L21: VZÄ
C22: - davon Mitarbeitende Planung (Ingenieure/Sachbearbeiter) | J22: Vollzeitäquivalente | L22: VZÄ
C23: - davon Mitarbeitende technische Verwaltung der Sparte | J23: Vollzeitäquivalente | L23: VZÄ
C24: - davon Mitarbeitende Meister/Disposition/Einsatzleitung | J24: Vollzeitäquivalente | L24: VZÄ
B26: Detailbetrachtung operativ tätige Mitarbeitende (gewerbliches Personal)
C27: Mitarbeitende Meister, Vorarbeiter, Fachkräfte (z. B. des Straßenbaus), angelernte Kräfte etc.
B28: c) | C28: Anzahl Mitarbeitende (inkl. dauerkranke Mitarbeitende) | J28: Vollzeitäquivalente | L28: VZÄ, zzgl. Leiharbeiter: | O28: VZÄ
C29: - davon Mitarbeitende, die mindestens 1x im Bezugsjahr dauerkrank waren | L29: VZÄ
C30: - davon Anz. Personalersatz für Dauerkranke (eingestelltes Personal) | L30: VZÄ
B31: d) | C31: Anzahl Mitarbeitende (ohne dauerkranke Mitarbeitende, Berechnung s. Notiz) | K31: =IF(K28="","",K28-IF(K39="",0,K39/260)) | L31: VZÄ
B32: e) | C32: Anzahl tatsächliche Mitarbeitende (zur Quoten-Berechnung) | J32: Beschäftigte | L32: Ma.
B33: f) | C33: Anzahl Auszubildende | J33: Vollzeitäquivalente | L33: VZÄ
B34: g) | C34: Anzahl Saisonkräfte | J34: Vollzeitäquivalente | L34: VZÄ
B35: h) | C35: Durchschnittsalter (bitte ermitteln) | L35: a
B36: i) | C36: Anzahl Mitarbeitende älter als 50 Jahre | J36: Vollzeitäquivalente | L36: VZÄ
B37: j) | C37: Anzahl Mitarbeitende älter als 60 Jahre | J37: Vollzeitäquivalente | L37: VZÄ
B38: k) | C38: Krankheitstage (hier nur Krankheitstage mit Lohnfortzahlung angeben) | L38: d/a
B39: l) | C39: Dauerkrankheitstage (Krankheitstage über Lohnfortzahlung hinaus) | L39: d/a

Sheet Fuhrpark_StU
A1: =Inhaltsverzeichnis!$A$1 -> Digitaler Branchen-Kompass
A2: =Inhaltsverzeichnis!$A$2 -> Datenerhebungsbogen - Bezugsjahr 2025
A4: =Allgemein!$A$4 -> BASISPAKET | B4: 8.2 Fuhrpark Straßenunterhaltung
B6: Fuhrpark der Sparte Straßenunterhaltung
C7: Es ist jeweils für alle Fahrzeuge der genannten Fahrzeuggruppen zu antworten, auch soweit einzelne Fahrzeuge betriebsintern als Reservefahrzeuge geführt. werden
C8: Inkl. Leasingfahrzeuge.
C10: Spalte Zeile | G10: A | H10: B | I10: C | J10: D | K10: E | L10: F | M10: G | N10: H
G11: Dimension | H11: Fertiger | I11: LKW > 7,5 t | J11: LKW ≤ 7,5 t | K11: Transporter (Pritsche, Sprinter etc.) ≤ 3,5 t | L11: Bagger/ Radlader/ Ackerschlepper | M11: Kleintraktoren/ Kleingeräte-träger | N11: PKW
C12: 1 | D12: Anzahl (inkl. Reserve) | G12: [St.]
C13: 1.1 | D13: davon HVO Kraftstoff-Fahrzeuge | G13: [St.]
C14: 1.2 | D14: davon Erdgas-/Biomethan-Fzg. | G14: [St.]
C15: 1.3 | D15: davon synthet. Kraftstoffe-Fzg. | G15: [St.]
C16: 1.4 | D16: davon Hybrid-Fahrzeuge | G16: [St.]
C17: 1.5 | D17: davon Wasserstoff-Fahrzeuge | G17: [St.]
C18: 1.6 | D18: davon andere E-Fahrzeuge | G18: [St.]
C19: 2 | D19: davon Anzahl Reserve-Fahrzeuge | G19: [St.]
C20: 3 | D20: Durchschnittsalter | G20: [a]
C21: 4 | D21: Fahrleistung | G21: [km/a]

Sheet DL_StU
A1: =Inhaltsverzeichnis!$A$1 -> Digitaler Branchen-Kompass
A2: =Inhaltsverzeichnis!$A$2 -> Datenerhebungsbogen - Bezugsjahr 2025
A4: =Allgemein!$A$4 -> BASISPAKET | B4: 8.3 Dienstleistungen der Straßenunterhaltung
B6: Straßenunterhaltung umfasst folgende Bereiche: betriebliche Unterhaltung (Kontrolle und Wartung) sowie bauliche Unterhaltung (Instandhaltung,
B7: Instandsetzung, Erneuerung), Beschilderung; daneben steht der Neubau von Straßen. Zur Instandhaltung [nur punktuell] zählen z. B.: Schlagloch-
B8: beseitigung, kleine Oberflächenbehandlungen, kürzere Spurrinnenbeseitigung, Verguss von Fugen, kleinere Pflasterreparaturen, Abfräsen von
B9: Verformungen in kürzeren Abschnitten. Zur Instandsetzung [nur Deckschicht] zählen z. B.: Oberflächenbehandlungen (ganze Fahrstreifenbreite),
B10: Hoch- und Tiefeinbau einer Deckschicht, Spurrinnenbeseitigung auf längeren Abschnitten, großflächige Pflasterarbeiten, Aufbringen dünner Schichten.
B11: Zur Erneuerung [mehr als Deckschicht] zählen z. B.: Oberflächenbehandlungen (ganze Straßenbreite), Hoch- und Tiefeinbau einer Deck- und
B12: Binderschicht, Ersatz einer Betondecke.
C14: Abfragen zum Personal siehe Tabellenblatt Pers_StU
C15: Abfragen zum Fuhrpark siehe Tabellenblatt Fuhrpark_StU
B16: a) | C16: Anzahl Mitarbeitende (inkl. dauerkranke Mitarbeitende) | K16: Vollzeitäquivalente | M16: VZÄ
C17: - davon für Straßenkontrolle | M17: VZÄ
C18: - davon für Straßenunterhaltung | M18: VZÄ
D19: - davon Instandhaltung | M19: VZÄ
D20: - davon Instandsetzung | M20: VZÄ
D21: - davon Erneuerung | M21: VZÄ
C22: - davon für Beschilderung | M22: VZÄ
C23: - davon für Markierung | M23: VZÄ
B25: b) | C25: Betreutes Straßennetz durch Straßenunterhaltung (vom Betrieb betreut)
C26: - Straßen/Fahrbahnen | J26: km | K26: → davon: | L26: - Durchfahrtsstraßen | O26: km
C27: - Wirtschafts-/Feldwege | J27: km | L27: - Neben-/Anliegerstraßen | O27: km
C28: - Geh- und Radwege | J28: km
C29: - Radwanderwege | J29: km
C30: Betreute Bauwerke
C31: - Brücken | J31: Anz.
C32: - Unterführungen | J32: Anz.
C34: Leistung/ausgewählte Aufwandskennzahlen
B35: c) | C35: Straßenkontrolle (wenn zuständig) | U35: Aufwand Streckenkontrolle
D36: Straßen/Wege-Typ | I36: Länge (einmalig) | L36: Kontroll-Turnus | U36: Nur Fahrbahnen: | W36: =SUM(I37*L37,I38*L38) -> 0 | X36: km/a
D37: Durchgangsstraße | J37: km | M37: pro Jahr | U37: Gesamt: | W37: =SUM(W36,I39*L39,I40*L40,,I41*L41,I42*L42) -> 0 | X37: km/a
D38: Neben-/Anliegerstraße | J38: km | M38: pro Jahr
D39: Wirtschafts-/Feldwege | J39: km | M39: pro Jahr
D40: Geh- und Radwege | J40: km | M40: pro Jahr
D41: Radwanderwege | J41: km | M41: pro Jahr
D42: Wanderwege/Forstwege | J42: km | M42: pro Jahr
D44: Gemeldete Schäden | J44: Stück/a
D46: Jährliche Kontrollstunden | J46: h/a
E47: Keine Angabe möglich, weil:
F48: Anteil nicht ermittelbar/bekannt ist
F49: Kontrolle in Vergabe ist
B51: d) | C51: Instandhaltungsmaßnahmen
D52: Anzahl Instandhaltungskolonnen | L52: Anz.
D53: durchschnittliche Anzahl Mitarbeitende je Kolonne | L53: Ma./Kolonne
D55: Instandhaltungsaufträge | L55: Aufträge/a
D56: Instandhaltungsstunden | L56: h/a
B58: e) | C58: Beschilderung
D59: Anzahl Beschilderungskolonnen | L59: Anz.
D60: durchschnittliche Anzahl Mitarbeitende je Kolonne | L60: Ma./Kolonne
D62: Beschilderungssaufträge | L62: Aufträge/a
D63: Stunden für Beschilderungsarbeiten | L63: h/a
B65: f) | C65: Markierungen
D66: Anzahl Markierungskolonnen | L66: Anz.
D67: durchschnittliche Anzahl Mitarbeitende je Kolonne | L67: Ma./Kolonne
D69: Markierungssaufträge | L69: Aufträge/a
D70: Stunden für Markierungsarbeiten | L70: h/a
