{"text_format":"1","workbook":"xlsx","n_sheets":9,"sheets":["Stammdaten","Analysedaten","Überprüfungsergebnisse","Berechnungsblatt","Werte =<15°C","Werte >15°C","Tageswerte","Monatliche Auswertung","Grenzwerte"],"not_rendered":{"charts":0,"images":0,"macros":1,"external_links":2,"defined_names":3,"comments":1,"pivot_tables":2},"unopened":[],"bounds":{"document_bytes":16777216,"sheet_cells":100000,"rows_first":2000,"rows_last":500,"rows_between":2000,"halvings":0,"cell_chars":16384,"cell_head_chars":4096},"cells_cut":0,"cells_raw":0,"read":"whole","date_system":"1900"}

{"sheet":"Stammdaten","index":0,"n_rows":737,"n_cols":11,"rows_kept":737,"cut":false,"hidden":false,"merged":[]}
["Datum","Restlast (an D-1 von D-2 für D)","Restlast (an M+2 M+ 10 WT von D-2 für D)","Differenz [%]","Anzahl Tage < -5%","Anzahl Tage > 5%",null,"Ist- Temperatur (D)","Prognose-temperatur (D)","Ist-Temperatur (D) geometrische Reihe analog Leitfaden","Vorhersagetemperatur (D) geometrische Reihe analog Leitfaden mit Ist- und Prognose-Temperaturen"]
[null,"Vorvorvortageswert des Vorjahres eintragen",null,null,null,null,null,"dito.","dito."]
[null,"Vorvortageswert des Vorjahres eintragen",null,null,null,null,null,"dito.","dito."]
[null,"Vortageswert des Vorjahres eintragen",null,null,null,null,null,"dito.","dito."]
[null,null,null,{"$f":"IF(A5=\"\",\"\",(C5-B5)/C5)","v":""},{"$f":"IF(A5=\"\",\"\",IF(D5<-5%,1,0))","v":""},{"$f":"IF(A5=\"\",\"\",IF(D5>5%,1,0))","v":""},null,null,null,{"$f":"IF(A5=\"\",\"\",(H5+0.5*H4+0.25*H3+0.125*H2)/(1+0.5+0.25+0.125))","v":""},{"$f":"IF(A5=\"\",\"\",(I6+0.5*I5+0.25*H4+0.125*H3)/(1+0.5+0.25+0.125))","v":""}]
[null,null,null,{"$f":"IF(A6=\"\",\"\",(C6-B6)/C6)","v":""},{"$f":"IF(A6=\"\",\"\",IF(D6<-5%,1,0))","v":""},{"$f":"IF(A6=\"\",\"\",IF(D6>5%,1,0))","v":""},null,null,null,{"$f":"IF(A6=\"\",\"\",(H6+0.5*H5+0.25*H4+0.125*H3)/(1+0.5+0.25+0.125))","v":""},{"$f":"IF(A6=\"\",\"\",(I7+0.5*I6+0.25*H5+0.125*H4)/(1+0.5+0.25+0.125))","v":""}]
[null,null,null,"","","",null,null,null,"",""]
[null,null,null,"","","",null,null,null,"",""]
[null,null,null,"","","",null,null,null,"",""]
[null,null,null,"","","",null,null,null,"",""]
[null,null,null,"","","",null,null,null,"",""]
[null,null,null,"","","",null,null,null,"",""]
[null,null,null,"","","",null,null,null,"",""]
[null,null,null,"","","",null,null,null,"",""]
[null,null,null,"","","",null,null,null,"",""]
[null,null,null,"","","",null,null,null,"",""]
[null,null,null,"","","",null,null,null,"",""]
[null,null,null,"","","",null,null,null,"",""]
[null,null,null,"","","",null,null,null,"",""]
[null,null,null,"","","",null,null,null,"",""]
[null,null,null,"","","",null,null,null,"",""]
[null,null,null,"","","",null,null,null,"",""]
[null,null,null,"","","",null,null,null,"",""]
[null,null,null,"","","",null,null,null,"",""]
[null,null,null,"","","",null,null,null,"",""]
[null,null,null,"","","",null,null,null,"",""]
[null,null,null,"","","",null,null,null,"",""]
[null,null,null,"","","",null,null,null,"",""]
[null,null,null,"","","",null,null,null,"",""]
[null,null,null,"","","",null,null,null,"",""]
[null,null,null,"","","",null,null,null,"",""]
[null,null,null,"","","",null,null,null,"",""]
[null,null,null,"","","",null,null,null,"",""]
[null,null,null,"","","",null,null,null,"",""]
[null,null,null,"","","",null,null,null,"",""]
[null,null,null,"","","",null,null,null,"",""]
[null,null,null,"","","",null,null,null,"",""]
[null,null,null,"","","",null,null,null,"",""]
[null,null,null,"","","",null,null,null,"",""]
[null,null,null,"","","",null,null,null,"",""]
[null,null,null,"","","",null,null,null,"",""]
[null,null,null,"","","",null,null,null,"",""]
[null,null,null,"","","",null,null,null,"",""]
[null,null,null,"","","",null,null,null,"",""]
[null,null,null,"","","",null,null,null,"",""]
[null,null,null,"","","",null,null,null,"",""]
[null,null,null,"","","",null,null,null,"",""]
[null,null,null,"","","",null,null,null,"",""]
[null,null,null,"","","",null,null,null,"",""]
[null,null,null,"","","",null,null,null,"",""]
[null,null,null,"","","",null,null,null,"",""]
[null,null,null,"","","",null,null,null,"",""]
[null,null,null,"","","",null,null,null,"",""]
[null,null,null,"","","",null,null,null,"",""]
[null,null,null,"","","",null,null,null,"",""]
[null,null,null,"","","",null,null,null,"",""]
[null,null,null,"","","",null,null,null,"",""]
[null,null,null,"","","",null,null,null,"",""]
[null,null,null,"","","",null,null,null,"",""]
[null,null,null,"","","",null,null,null,"",""]
[null,null,null,"","","",null,null,null,"",""]
[null,null,null,"","","",null,null,null,"",""]
[null,null,null,"","","",null,null,null,"",""]
[null,null,null,"","","",null,null,null,"",""]
[null,null,null,"","","",null,null,null,"",""]
[null,null,null,"","","",null,null,null,"",""]
[null,null,null,"","","",null,null,null,"",""]
[null,null,null,"","","",null,null,null,"",""]
[null,null,null,"","","",null,null,null,"",""]
[null,null,null,{"$f":"IF(A70=\"\",\"\",(C70-B70)/C70)","v":""},{"$f":"IF(A70=\"\",\"\",IF(D70<-5%,1,0))","v":""},{"$f":"IF(A70=\"\",\"\",IF(D70>5%,1,0))","v":""},null,null,null,{"$f":"IF(A70=\"\",\"\",(H70+0.5*H69+0.25*H68+0.125*H67)/(1+0.5+0.25+0.125))","v":""},{"$f":"IF(A70=\"\",\"\",(I71+0.5*I70+0.25*H69+0.125*H68)/(1+0.5+0.25+0.125))","v":""}]
[null,null,null,"","","",null,null,null,"",""]
[null,null,null,"","","",null,null,null,"",""]
[null,null,null,"","","",null,null,null,"",""]
[null,null,null,"","","",null,null,null,"",""]
[null,null,null,"","","",null,null,null,"",""]
[null,null,null,"","","",null,null,null,"",""]
[null,null,null,"","","",null,null,null,"",""]
[null,null,null,"","","",null,null,null,"",""]
[null,null,null,"","","",null,null,null,"",""]
[null,null,null,"","","",null,null,null,"",""]
[null,null,null,"","","",null,null,null,"",""]
[null,null,null,"","","",null,null,null,"",""]
[null,null,null,"","","",null,null,null,"",""]
[null,null,null,"","","",null,null,null,"",""]
[null,null,null,"","","",null,null,null,"",""]
[null,null,null,"","","",null,null,null,"",""]
[null,null,null,"","","",null,null,null,"",""]
[null,null,null,"","","",null,null,null,"",""]
[null,null,null,"","","",null,null,null,"",""]
[null,null,null,"","","",null,null,null,"",""]
[null,null,null,"","","",null,null,null,"",""]
[null,null,null,"","","",null,null,null,"",""]
[null,null,null,"","","",null,null,null,"",""]
[null,null,null,"","","",null,null,null,"",""]
[null,null,null,"","","",null,null,null,"",""]
[null,null,null,"","","",null,null,null,"",""]
[null,null,null,"","","",null,null,null,"",""]
[null,null,null,"","","",null,null,null,"",""]
[null,null,null,"","","",null,null,null,"",""]
[null,null,null,"","","",null,null,null,"",""]
[null,null,null,"","","",null,null,null,"",""]
[null,null,null,"","","",null,null,null,"",""]
[null,null,null,"","","",null,null,null,"",""]
[null,null,null,"","","",null,null,null,"",""]
[null,null,null,"","","",null,null,null,"",""]
[null,null,null,"","","",null,null,null,"",""]
[null,null,null,"","","",null,null,null,"",""]
[null,null,null,"","","",null,null,null,"",""]
[null,null,null,"","","",null,null,null,"",""]
[null,null,null,"","","",null,null,null,"",""]
[null,null,null,"","","",null,null,null,"",""]
[null,null,null,"","","",null,null,null,"",""]
[null,null,null,"","","",null,null,null,"",""]
[null,null,null,"","","",null,null,null,"",""]
[null,null,null,"","","",null,null,null,"",""]
[null,null,null,"","","",null,null,null,"",""]
[null,null,null,"","","",null,null,null,"",""]
[null,null,null,"","","",null,null,null,"",""]
[null,null,null,"","","",null,null,null,"",""]
[null,null,null,"","","",null,null,null,"",""]
[null,null,null,"","","",null,null,null,"",""]
[null,null,null,"","","",null,null,null,"",""]
[null,null,null,"","","",null,null,null,"",""]
[null,null,null,"","","",null,null,null,"",""]
[null,null,null,"","","",null,null,null,"",""]
[null,null,null,"","","",null,null,null,"",""]
[null,null,null,"","","",null,null,null,"",""]
[null,null,null,"","","",null,null,null,"",""]
[null,null,null,"","","",null,null,null,"",""]
[null,null,null,"","","",null,null,null,"",""]
[null,null,null,"","","",null,null,null,"",""]
[null,null,null,"","","",null,null,null,"",""]
[null,null,null,"","","",null,null,null,"",""]
[null,null,null,{"$f":"IF(A134=\"\",\"\",(C134-B134)/C134)","v":""},{"$f":"IF(A134=\"\",\"\",IF(D134<-5%,1,0))","v":""},{"$f":"IF(A134=\"\",\"\",IF(D134>5%,1,0))","v":""},null,null,null,{"$f":"IF(A134=\"\",\"\",(H134+0.5*H133+0.25*H132+0.125*H131)/(1+0.5+0.25+0.125))","v":""},{"$f":"IF(A134=\"\",\"\",(I135+0.5*I134+0.25*H133+0.125*H132)/(1+0.5+0.25+0.125))","v":""}]
[null,null,null,"","","",null,null,null,"",""]
[null,null,null,"","","",null,null,null,"",""]
[null,null,null,"","","",null,null,null,"",""]
[null,null,null,"","","",null,null,null,"",""]
[null,null,null,"","","",null,null,null,"",""]
[null,null,null,"","","",null,null,null,"",""]
[null,null,null,"","","",null,null,null,"",""]
[null,null,null,"","","",null,null,null,"",""]
[null,null,null,"","","",null,null,null,"",""]
[null,null,null,"","","",null,null,null,"",""]
[null,null,null,"","","",null,null,null,"",""]
[null,null,null,"","","",null,null,null,"",""]
[null,null,null,"","","",null,null,null,"",""]
[null,null,null,"","","",null,null,null,"",""]
[null,null,null,"","","",null,null,null,"",""]
[null,null,null,"","","",null,null,null,"",""]
[null,null,null,"","","",null,null,null,"",""]
[null,null,null,"","","",null,null,null,"",""]
[null,null,null,"","","",null,null,null,"",""]
[null,null,null,"","","",null,null,null,"",""]
[null,null,null,"","","",null,null,null,"",""]
[null,null,null,"","","",null,null,null,"",""]
[null,null,null,"","","",null,null,null,"",""]
[null,null,null,"","","",null,null,null,"",""]
[null,null,null,"","","",null,null,null,"",""]
[null,null,null,"","","",null,null,null,"",""]
[null,null,null,"","","",null,null,null,"",""]
[null,null,null,"","","",null,null,null,"",""]
[null,null,null,"","","",null,null,null,"",""]
[null,null,null,"","","",null,null,null,"",""]
[null,null,null,"","","",null,null,null,"",""]
[null,null,null,"","","",null,null,null,"",""]
[null,null,null,"","","",null,null,null,"",""]
[null,null,null,"","","",null,null,null,"",""]
[null,null,null,"","","",null,null,null,"",""]
[null,null,null,"","","",null,null,null,"",""]
[null,null,null,"","","",null,null,null,"",""]
[null,null,null,"","","",null,null,null,"",""]
[null,null,null,"","","",null,null,null,"",""]
[null,null,null,"","","",null,null,null,"",""]
[null,null,null,"","","",null,null,null,"",""]
[null,null,null,"","","",null,null,null,"",""]
[null,null,null,"","","",null,null,null,"",""]
[null,null,null,"","","",null,null,null,"",""]
[null,null,null,"","","",null,null,null,"",""]
[null,null,null,"","","",null,null,null,"",""]
[null,null,null,"","","",null,null,null,"",""]
[null,null,null,"","","",null,null,null,"",""]
[null,null,null,"","","",null,null,null,"",""]
[null,null,null,"","","",null,null,null,"",""]
[null,null,null,"","","",null,null,null,"",""]
[null,null,null,"","","",null,null,null,"",""]
[null,null,null,"","","",null,null,null,"",""]
[null,null,null,"","","",null,null,null,"",""]
[null,null,null,"","","",null,null,null,"",""]
[null,null,null,"","","",null,null,null,"",""]
[null,null,null,"","","",null,null,null,"",""]
[null,null,null,"","","",null,null,null,"",""]
[null,null,null,"","","",null,null,null,"",""]
[null,null,null,"","","",null,null,null,"",""]
[null,null,null,"","","",null,null,null,"",""]
[null,null,null,"","","",null,null,null,"",""]
[null,null,null,"","","",null,null,null,"",""]
[null,null,null,{"$f":"IF(A198=\"\",\"\",(C198-B198)/C198)","v":""},{"$f":"IF(A198=\"\",\"\",IF(D198<-5%,1,0))","v":""},{"$f":"IF(A198=\"\",\"\",IF(D198>5%,1,0))","v":""},null,null,null,{"$f":"IF(A198=\"\",\"\",(H198+0.5*H197+0.25*H196+0.125*H195)/(1+0.5+0.25+0.125))","v":""},{"$f":"IF(A198=\"\",\"\",(I199+0.5*I198+0.25*H197+0.125*H196)/(1+0.5+0.25+0.125))","v":""}]
[null,null,null,"","","",null,null,null,"",""]
[null,null,null,"","","",null,null,null,"",""]
[null,null,null,"","","",null,null,null,"",""]
[null,null,null,"","","",null,null,null,"",""]
[null,null,null,"","","",null,null,null,"",""]
[null,null,null,"","","",null,null,null,"",""]
[null,null,null,"","","",null,null,null,"",""]
[null,null,null,"","","",null,null,null,"",""]
[null,null,null,"","","",null,null,null,"",""]
[null,null,null,"","","",null,null,null,"",""]
[null,null,null,"","","",null,null,null,"",""]
[null,null,null,"","","",null,null,null,"",""]
[null,null,null,"","","",null,null,null,"",""]
[null,null,null,"","","",null,null,null,"",""]
[null,null,null,"","","",null,null,null,"",""]
[null,null,null,"","","",null,null,null,"",""]
[null,null,null,"","","",null,null,null,"",""]
[null,null,null,"","","",null,null,null,"",""]
[null,null,null,"","","",null,null,null,"",""]
[null,null,null,"","","",null,null,null,"",""]
[null,null,null,"","","",null,null,null,"",""]
[null,null,null,"","","",null,null,null,"",""]
[null,null,null,"","","",null,null,null,"",""]
[null,null,null,"","","",null,null,null,"",""]
[null,null,null,"","","",null,null,null,"",""]
[null,null,null,"","","",null,null,null,"",""]
[null,null,null,"","","",null,null,null,"",""]
[null,null,null,"","","",null,null,null,"",""]
[null,null,null,"","","",null,null,null,"",""]
[null,null,null,"","","",null,null,null,"",""]
[null,null,null,"","","",null,null,null,"",""]
[null,null,null,"","","",null,null,null,"",""]
[null,null,null,"","","",null,null,null,"",""]
[null,null,null,"","","",null,null,null,"",""]
[null,null,null,"","","",null,null,null,"",""]
[null,null,null,"","","",null,null,null,"",""]
[null,null,null,"","","",null,null,null,"",""]
[null,null,null,"","","",null,null,null,"",""]
[null,null,null,"","","",null,null,null,"",""]
[null,null,null,"","","",null,null,null,"",""]
[null,null,null,"","","",null,null,null,"",""]
[null,null,null,"","","",null,null,null,"",""]
[null,null,null,"","","",null,null,null,"",""]
[null,null,null,"","","",null,null,null,"",""]
[null,null,null,"","","",null,null,null,"",""]
[null,null,null,"","","",null,null,null,"",""]
[null,null,null,"","","",null,null,null,"",""]
[null,null,null,"","","",null,null,null,"",""]
[null,null,null,"","","",null,null,null,"",""]
[null,null,null,"","","",null,null,null,"",""]
[null,null,null,"","","",null,null,null,"",""]
[null,null,null,"","","",null,null,null,"",""]
[null,null,null,"","","",null,null,null,"",""]
[null,null,null,"","","",null,null,null,"",""]
[null,null,null,"","","",null,null,null,"",""]
[null,null,null,"","","",null,null,null,"",""]
[null,null,null,"","","",null,null,null,"",""]
[null,null,null,"","","",null,null,null,"",""]
[null,null,null,"","","",null,null,null,"",""]
[null,null,null,"","","",null,null,null,"",""]
[null,null,null,"","","",null,null,null,"",""]
[null,null,null,"","","",null,null,null,"",""]
[null,null,null,"","","",null,null,null,"",""]
[null,null,null,{"$f":"IF(A262=\"\",\"\",(C262-B262)/C262)","v":""},{"$f":"IF(A262=\"\",\"\",IF(D262<-5%,1,0))","v":""},{"$f":"IF(A262=\"\",\"\",IF(D262>5%,1,0))","v":""},null,null,null,{"$f":"IF(A262=\"\",\"\",(H262+0.5*H261+0.25*H260+0.125*H259)/(1+0.5+0.25+0.125))","v":""},{"$f":"IF(A262=\"\",\"\",(I263+0.5*I262+0.25*H261+0.125*H260)/(1+0.5+0.25+0.125))","v":""}]
[null,null,null,"","","",null,null,null,"",""]
[null,null,null,"","","",null,null,null,"",""]
[null,null,null,"","","",null,null,null,"",""]
[null,null,null,"","","",null,null,null,"",""]
[null,null,null,"","","",null,null,null,"",""]
[null,null,null,"","","",null,null,null,"",""]
[null,null,null,"","","",null,null,null,"",""]
[null,null,null,"","","",null,null,null,"",""]
[null,null,null,"","","",null,null,null,"",""]
[null,null,null,"","","",null,null,null,"",""]
[null,null,null,"","","",null,null,null,"",""]
[null,null,null,"","","",null,null,null,"",""]
[null,null,null,"","","",null,null,null,"",""]
[null,null,null,"","","",null,null,null,"",""]
[null,null,null,"","","",null,null,null,"",""]
[null,null,null,"","","",null,null,null,"",""]
[null,null,null,"","","",null,null,null,"",""]
[null,null,null,"","","",null,null,null,"",""]
[null,null,null,"","","",null,null,null,"",""]
[null,null,null,"","","",null,null,null,"",""]
[null,null,null,"","","",null,null,null,"",""]
[null,null,null,"","","",null,null,null,"",""]
[null,null,null,"","","",null,null,null,"",""]
[null,null,null,"","","",null,null,null,"",""]
[null,null,null,"","","",null,null,null,"",""]
[null,null,null,"","","",null,null,null,"",""]
[null,null,null,"","","",null,null,null,"",""]
[null,null,null,"","","",null,null,null,"",""]
[null,null,null,"","","",null,null,null,"",""]
[null,null,null,"","","",null,null,null,"",""]
[null,null,null,"","","",null,null,null,"",""]
[null,null,null,"","","",null,null,null,"",""]
[null,null,null,"","","",null,null,null,"",""]
[null,null,null,"","","",null,null,null,"",""]
[null,null,null,"","","",null,null,null,"",""]
[null,null,null,"","","",null,null,null,"",""]
[null,null,null,"","","",null,null,null,"",""]
[null,null,null,"","","",null,null,null,"",""]
[null,null,null,"","","",null,null,null,"",""]
[null,null,null,"","","",null,null,null,"",""]
[null,null,null,"","","",null,null,null,"",""]
[null,null,null,"","","",null,null,null,"",""]
[null,null,null,"","","",null,null,null,"",""]
[null,null,null,"","","",null,null,null,"",""]
[null,null,null,"","","",null,null,null,"",""]
[null,null,null,"","","",null,null,null,"",""]
[null,null,null,"","","",null,null,null,"",""]
[null,null,null,"","","",null,null,null,"",""]
[null,null,null,"","","",null,null,null,"",""]
[null,null,null,"","","",null,null,null,"",""]
[null,null,null,"","","",null,null,null,"",""]
[null,null,null,"","","",null,null,null,"",""]
[null,null,null,"","","",null,null,null,"",""]
[null,null,null,"","","",null,null,null,"",""]
[null,null,null,"","","",null,null,null,"",""]
[null,null,null,"","","",null,null,null,"",""]
[null,null,null,"","","",null,null,null,"",""]
[null,null,null,"","","",null,null,null,"",""]
[null,null,null,"","","",null,null,null,"",""]
[null,null,null,"","","",null,null,null,"",""]
[null,null,null,"","","",null,null,null,"",""]
[null,null,null,"","","",null,null,null,"",""]
[null,null,null,"","","",null,null,null,"",""]
[null,null,null,{"$f":"IF(A326=\"\",\"\",(C326-B326)/C326)","v":""},{"$f":"IF(A326=\"\",\"\",IF(D326<-5%,1,0))","v":""},{"$f":"IF(A326=\"\",\"\",IF(D326>5%,1,0))","v":""},null,null,null,{"$f":"IF(A326=\"\",\"\",(H326+0.5*H325+0.25*H324+0.125*H323)/(1+0.5+0.25+0.125))","v":""},{"$f":"IF(A326=\"\",\"\",(I327+0.5*I326+0.25*H325+0.125*H324)/(1+0.5+0.25+0.125))","v":""}]
[null,null,null,"","","",null,null,null,"",""]
[null,null,null,"","","",null,null,null,"",""]
[null,null,null,"","","",null,null,null,"",""]
[null,null,null,"","","",null,null,null,"",""]
[null,null,null,"","","",null,null,null,"",""]
[null,null,null,"","","",null,null,null,"",""]
[null,null,null,"","","",null,null,null,"",""]
[null,null,null,"","","",null,null,null,"",""]
[null,null,null,"","","",null,null,null,"",""]
[null,null,null,"","","",null,null,null,"",""]
[null,null,null,"","","",null,null,null,"",""]
[null,null,null,"","","",null,null,null,"",""]
[null,null,null,"","","",null,null,null,"",""]
[null,null,null,"","","",null,null,null,"",""]
[null,null,null,"","","",null,null,null,"",""]
[null,null,null,"","","",null,null,null,"",""]
[null,null,null,"","","",null,null,null,"",""]
[null,null,null,"","","",null,null,null,"",""]
[null,null,null,"","","",null,null,null,"",""]
[null,null,null,"","","",null,null,null,"",""]
[null,null,null,"","","",null,null,null,"",""]
[null,null,null,"","","",null,null,null,"",""]
[null,null,null,"","","",null,null,null,"",""]
[null,null,null,"","","",null,null,null,"",""]
[null,null,null,"","","",null,null,null,"",""]
[null,null,null,"","","",null,null,null,"",""]
[null,null,null,"","","",null,null,null,"",""]
[null,null,null,"","","",null,null,null,"",""]
[null,null,null,"","","",null,null,null,"",""]
[null,null,null,"","","",null,null,null,"",""]
[null,null,null,"","","",null,null,null,"",""]
[null,null,null,"","","",null,null,null,"",""]
[null,null,null,"","","",null,null,null,"",""]
[null,null,null,"","","",null,null,null,"",""]
[null,null,null,"","","",null,null,null,"",""]
[null,null,null,"","","",null,null,null,"",""]
[null,null,null,"","","",null,null,null,"",""]
[null,null,null,"","","",null,null,null,"",""]
[null,null,null,"","","",null,null,null,"",""]
[null,null,null,"","","",null,null,null,"",""]
[null,null,null,"","","",null,null,null,"",""]
[null,null,null,"","","",null,null,null,"",""]
[null,null,null,"","","",null,null,null,"",""]
[null,null,null,"","","",null,null,null,"",""]
[null,null,null,"","","",null,null,null,"",""]
[null,null,null,"","","",null,null,null,"",""]
[null,null,null,"","","",null,null,null,"",""]
[null,null,null,"","","",null,null,null,"",""]
[null,null,null,"","","",null,null,null,"",""]
[null,null,null,"","","",null,null,null,"",""]
[null,null,null,"","","",null,null,null,"",""]
[null,null,null,"","","",null,null,null,"",""]
[null,null,null,"","","",null,null,null,"",""]
[null,null,null,"","","",null,null,null,"",""]
[null,null,null,"","","",null,null,null,"",""]
[null,null,null,"","","",null,null,null,"",""]
[null,null,null,"","","",null,null,null,"",""]
[null,null,null,"","","",null,null,null,"",""]
[null,null,null,"","","",null,null,null,"",""]
[null,null,null,"","","",null,null,null,"",""]
[null,null,null,"","","",null,null,null,"",""]
[null,null,null,"","","",null,null,null,"",""]
[null,null,null,"","","",null,null,null,"",""]
[null,null,null,{"$f":"IF(A390=\"\",\"\",(C390-B390)/C390)","v":""},{"$f":"IF(A390=\"\",\"\",IF(D390<-5%,1,0))","v":""},{"$f":"IF(A390=\"\",\"\",IF(D390>5%,1,0))","v":""},null,null,null,{"$f":"IF(A390=\"\",\"\",(H390+0.5*H389+0.25*H388+0.125*H387)/(1+0.5+0.25+0.125))","v":""},{"$f":"IF(A390=\"\",\"\",(I391+0.5*I390+0.25*H389+0.125*H388)/(1+0.5+0.25+0.125))","v":""}]
[null,null,null,"","","",null,null,null,"",""]
[null,null,null,"","","",null,null,null,"",""]
[null,null,null,"","","",null,null,null,"",""]
[null,null,null,"","","",null,null,null,"",""]
[null,null,null,"","","",null,null,null,"",""]
[null,null,null,"","","",null,null,null,"",""]
[null,null,null,"","","",null,null,null,"",""]
[null,null,null,"","","",null,null,null,"",""]
[null,null,null,"","","",null,null,null,"",""]
[null,null,null,"","","",null,null,null,"",""]
[null,null,null,"","","",null,null,null,"",""]
[null,null,null,"","","",null,null,null,"",""]
[null,null,null,"","","",null,null,null,"",""]
[null,null,null,"","","",null,null,null,"",""]
[null,null,null,"","","",null,null,null,"",""]
[null,null,null,"","","",null,null,null,"",""]
[null,null,null,"","","",null,null,null,"",""]
[null,null,null,"","","",null,null,null,"",""]
[null,null,null,"","","",null,null,null,"",""]
[null,null,null,"","","",null,null,null,"",""]
[null,null,null,"","","",null,null,null,"",""]
[null,null,null,"","","",null,null,null,"",""]
[null,null,null,"","","",null,null,null,"",""]
[null,null,null,"","","",null,null,null,"",""]
[null,null,null,"","","",null,null,null,"",""]
[null,null,null,"","","",null,null,null,"",""]
[null,null,null,"","","",null,null,null,"",""]
[null,null,null,"","","",null,null,null,"",""]
[null,null,null,"","","",null,null,null,"",""]
[null,null,null,"","","",null,null,null,"",""]
[null,null,null,"","","",null,null,null,"",""]
[null,null,null,"","","",null,null,null,"",""]
[null,null,null,"","","",null,null,null,"",""]
[null,null,null,"","","",null,null,null,"",""]
[null,null,null,"","","",null,null,null,"",""]
[null,null,null,"","","",null,null,null,"",""]
[null,null,null,"","","",null,null,null,"",""]
[null,null,null,"","","",null,null,null,"",""]
[null,null,null,"","","",null,null,null,"",""]
[null,null,null,"","","",null,null,null,"",""]
[null,null,null,"","","",null,null,null,"",""]
[null,null,null,"","","",null,null,null,"",""]
[null,null,null,"","","",null,null,null,"",""]
[null,null,null,"","","",null,null,null,"",""]
[null,null,null,"","","",null,null,null,"",""]
[null,null,null,"","","",null,null,null,"",""]
[null,null,null,"","","",null,null,null,"",""]
[null,null,null,"","","",null,null,null,"",""]
[null,null,null,"","","",null,null,null,"",""]
[null,null,null,"","","",null,null,null,"",""]
[null,null,null,"","","",null,null,null,"",""]
[null,null,null,"","","",null,null,null,"",""]
[null,null,null,"","","",null,null,null,"",""]
[null,null,null,"","","",null,null,null,"",""]
[null,null,null,"","","",null,null,null,"",""]
[null,null,null,"","","",null,null,null,"",""]
[null,null,null,"","","",null,null,null,"",""]
[null,null,null,"","","",null,null,null,"",""]
[null,null,null,"","","",null,null,null,"",""]
[null,null,null,"","","",null,null,null,"",""]
[null,null,null,"","","",null,null,null,"",""]
[null,null,null,"","","",null,null,null,"",""]
[null,null,null,"","","",null,null,null,"",""]
[null,null,null,{"$f":"IF(A454=\"\",\"\",(C454-B454)/C454)","v":""},{"$f":"IF(A454=\"\",\"\",IF(D454<-5%,1,0))","v":""},{"$f":"IF(A454=\"\",\"\",IF(D454>5%,1,0))","v":""},null,null,null,{"$f":"IF(A454=\"\",\"\",(H454+0.5*H453+0.25*H452+0.125*H451)/(1+0.5+0.25+0.125))","v":""},{"$f":"IF(A454=\"\",\"\",(I455+0.5*I454+0.25*H453+0.125*H452)/(1+0.5+0.25+0.125))","v":""}]
[null,null,null,"","","",null,null,null,"",""]
[null,null,null,"","","",null,null,null,"",""]
[null,null,null,"","","",null,null,null,"",""]
[null,null,null,"","","",null,null,null,"",""]
[null,null,null,"","","",null,null,null,"",""]
[null,null,null,"","","",null,null,null,"",""]
[null,null,null,"","","",null,null,null,"",""]
[null,null,null,"","","",null,null,null,"",""]
[null,null,null,"","","",null,null,null,"",""]
[null,null,null,"","","",null,null,null,"",""]
[null,null,null,"","","",null,null,null,"",""]
[null,null,null,"","","",null,null,null,"",""]
[null,null,null,"","","",null,null,null,"",""]
[null,null,null,"","","",null,null,null,"",""]
[null,null,null,"","","",null,null,null,"",""]
[null,null,null,"","","",null,null,null,"",""]
[null,null,null,"","","",null,null,null,"",""]
[null,null,null,"","","",null,null,null,"",""]
[null,null,null,"","","",null,null,null,"",""]
[null,null,null,"","","",null,null,null,"",""]
[null,null,null,"","","",null,null,null,"",""]
[null,null,null,"","","",null,null,null,"",""]
[null,null,null,"","","",null,null,null,"",""]
[null,null,null,"","","",null,null,null,"",""]
[null,null,null,"","","",null,null,null,"",""]
[null,null,null,"","","",null,null,null,"",""]
[null,null,null,"","","",null,null,null,"",""]
[null,null,null,"","","",null,null,null,"",""]
[null,null,null,"","","",null,null,null,"",""]
[null,null,null,"","","",null,null,null,"",""]
[null,null,null,"","","",null,null,null,"",""]
[null,null,null,"","","",null,null,null,"",""]
[null,null,null,"","","",null,null,null,"",""]
[null,null,null,"","","",null,null,null,"",""]
[null,null,null,"","","",null,null,null,"",""]
[null,null,null,"","","",null,null,null,"",""]
[null,null,null,"","","",null,null,null,"",""]
[null,null,null,"","","",null,null,null,"",""]
[null,null,null,"","","",null,null,null,"",""]
[null,null,null,"","","",null,null,null,"",""]
[null,null,null,"","","",null,null,null,"",""]
[null,null,null,"","","",null,null,null,"",""]
[null,null,null,"","","",null,null,null,"",""]
[null,null,null,"","","",null,null,null,"",""]
[null,null,null,"","","",null,null,null,"",""]
[null,null,null,"","","",null,null,null,"",""]
[null,null,null,"","","",null,null,null,"",""]
[null,null,null,"","","",null,null,null,"",""]
[null,null,null,"","","",null,null,null,"",""]
[null,null,null,"","","",null,null,null,"",""]
[null,null,null,"","","",null,null,null,"",""]
[null,null,null,"","","",null,null,null,"",""]
[null,null,null,"","","",null,null,null,"",""]
[null,null,null,"","","",null,null,null,"",""]
[null,null,null,"","","",null,null,null,"",""]
[null,null,null,"","","",null,null,null,"",""]
[null,null,null,"","","",null,null,null,"",""]
[null,null,null,"","","",null,null,null,"",""]
[null,null,null,"","","",null,null,null,"",""]
[null,null,null,"","","",null,null,null,"",""]
[null,null,null,"","","",null,null,null,"",""]
[null,null,null,"","","",null,null,null,"",""]
[null,null,null,"","","",null,null,null,"",""]
[null,null,null,{"$f":"IF(A518=\"\",\"\",(C518-B518)/C518)","v":""},{"$f":"IF(A518=\"\",\"\",IF(D518<-5%,1,0))","v":""},{"$f":"IF(A518=\"\",\"\",IF(D518>5%,1,0))","v":""},null,null,null,{"$f":"IF(A518=\"\",\"\",(H518+0.5*H517+0.25*H516+0.125*H515)/(1+0.5+0.25+0.125))","v":""},{"$f":"IF(A518=\"\",\"\",(I519+0.5*I518+0.25*H517+0.125*H516)/(1+0.5+0.25+0.125))","v":""}]
[null,null,null,"","","",null,null,null,"",""]
[null,null,null,"","","",null,null,null,"",""]
[null,null,null,"","","",null,null,null,"",""]
[null,null,null,"","","",null,null,null,"",""]
[null,null,null,"","","",null,null,null,"",""]
[null,null,null,"","","",null,null,null,"",""]
[null,null,null,"","","",null,null,null,"",""]
[null,null,null,"","","",null,null,null,"",""]
[null,null,null,"","","",null,null,null,"",""]
[null,null,null,"","","",null,null,null,"",""]
[null,null,null,"","","",null,null,null,"",""]
[null,null,null,"","","",null,null,null,"",""]
[null,null,null,"","","",null,null,null,"",""]
[null,null,null,"","","",null,null,null,"",""]
[null,null,null,"","","",null,null,null,"",""]
[null,null,null,"","","",null,null,null,"",""]
[null,null,null,"","","",null,null,null,"",""]
[null,null,null,"","","",null,null,null,"",""]
[null,null,null,"","","",null,null,null,"",""]
[null,null,null,"","","",null,null,null,"",""]
[null,null,null,"","","",null,null,null,"",""]
[null,null,null,"","","",null,null,null,"",""]
[null,null,null,"","","",null,null,null,"",""]
[null,null,null,"","","",null,null,null,"",""]
[null,null,null,"","","",null,null,null,"",""]
[null,null,null,"","","",null,null,null,"",""]
[null,null,null,"","","",null,null,null,"",""]
[null,null,null,"","","",null,null,null,"",""]
[null,null,null,"","","",null,null,null,"",""]
[null,null,null,"","","",null,null,null,"",""]
[null,null,null,"","","",null,null,null,"",""]
[null,null,null,"","","",null,null,null,"",""]
[null,null,null,"","","",null,null,null,"",""]
[null,null,null,"","","",null,null,null,"",""]
[null,null,null,"","","",null,null,null,"",""]
[null,null,null,"","","",null,null,null,"",""]
[null,null,null,"","","",null,null,null,"",""]
[null,null,null,"","","",null,null,null,"",""]
[null,null,null,"","","",null,null,null,"",""]
[null,null,null,"","","",null,null,null,"",""]
[null,null,null,"","","",null,null,null,"",""]
[null,null,null,"","","",null,null,null,"",""]
[null,null,null,"","","",null,null,null,"",""]
[null,null,null,"","","",null,null,null,"",""]
[null,null,null,"","","",null,null,null,"",""]
[null,null,null,"","","",null,null,null,"",""]
[null,null,null,"","","",null,null,null,"",""]
[null,null,null,"","","",null,null,null,"",""]
[null,null,null,"","","",null,null,null,"",""]
[null,null,null,"","","",null,null,null,"",""]
[null,null,null,"","","",null,null,null,"",""]
[null,null,null,"","","",null,null,null,"",""]
[null,null,null,"","","",null,null,null,"",""]
[null,null,null,"","","",null,null,null,"",""]
[null,null,null,"","","",null,null,null,"",""]
[null,null,null,"","","",null,null,null,"",""]
[null,null,null,"","","",null,null,null,"",""]
[null,null,null,"","","",null,null,null,"",""]
[null,null,null,"","","",null,null,null,"",""]
[null,null,null,"","","",null,null,null,"",""]
[null,null,null,"","","",null,null,null,"",""]
[null,null,null,"","","",null,null,null,"",""]
[null,null,null,"","","",null,null,null,"",""]
[null,null,null,{"$f":"IF(A582=\"\",\"\",(C582-B582)/C582)","v":""},{"$f":"IF(A582=\"\",\"\",IF(D582<-5%,1,0))","v":""},{"$f":"IF(A582=\"\",\"\",IF(D582>5%,1,0))","v":""},null,null,null,{"$f":"IF(A582=\"\",\"\",(H582+0.5*H581+0.25*H580+0.125*H579)/(1+0.5+0.25+0.125))","v":""},{"$f":"IF(A582=\"\",\"\",(I583+0.5*I582+0.25*H581+0.125*H580)/(1+0.5+0.25+0.125))","v":""}]
[null,null,null,"","","",null,null,null,"",""]
[null,null,null,"","","",null,null,null,"",""]
[null,null,null,"","","",null,null,null,"",""]
[null,null,null,"","","",null,null,null,"",""]
[null,null,null,"","","",null,null,null,"",""]
[null,null,null,"","","",null,null,null,"",""]
[null,null,null,"","","",null,null,null,"",""]
[null,null,null,"","","",null,null,null,"",""]
[null,null,null,"","","",null,null,null,"",""]
[null,null,null,"","","",null,null,null,"",""]
[null,null,null,"","","",null,null,null,"",""]
[null,null,null,"","","",null,null,null,"",""]
[null,null,null,"","","",null,null,null,"",""]
[null,null,null,"","","",null,null,null,"",""]
[null,null,null,"","","",null,null,null,"",""]
[null,null,null,"","","",null,null,null,"",""]
[null,null,null,"","","",null,null,null,"",""]
[null,null,null,"","","",null,null,null,"",""]
[null,null,null,"","","",null,null,null,"",""]
[null,null,null,"","","",null,null,null,"",""]
[null,null,null,"","","",null,null,null,"",""]
[null,null,null,"","","",null,null,null,"",""]
[null,null,null,"","","",null,null,null,"",""]
[null,null,null,"","","",null,null,null,"",""]
[null,null,null,"","","",null,null,null,"",""]
[null,null,null,"","","",null,null,null,"",""]
[null,null,null,"","","",null,null,null,"",""]
[null,null,null,"","","",null,null,null,"",""]
[null,null,null,"","","",null,null,null,"",""]
[null,null,null,"","","",null,null,null,"",""]
[null,null,null,"","","",null,null,null,"",""]
[null,null,null,"","","",null,null,null,"",""]
[null,null,null,"","","",null,null,null,"",""]
[null,null,null,"","","",null,null,null,"",""]
[null,null,null,"","","",null,null,null,"",""]
[null,null,null,"","","",null,null,null,"",""]
[null,null,null,"","","",null,null,null,"",""]
[null,null,null,"","","",null,null,null,"",""]
[null,null,null,"","","",null,null,null,"",""]
[null,null,null,"","","",null,null,null,"",""]
[null,null,null,"","","",null,null,null,"",""]
[null,null,null,"","","",null,null,null,"",""]
[null,null,null,"","","",null,null,null,"",""]
[null,null,null,"","","",null,null,null,"",""]
[null,null,null,"","","",null,null,null,"",""]
[null,null,null,"","","",null,null,null,"",""]
[null,null,null,"","","",null,null,null,"",""]
[null,null,null,"","","",null,null,null,"",""]
[null,null,null,"","","",null,null,null,"",""]
[null,null,null,"","","",null,null,null,"",""]
[null,null,null,"","","",null,null,null,"",""]
[null,null,null,"","","",null,null,null,"",""]
[null,null,null,"","","",null,null,null,"",""]
[null,null,null,"","","",null,null,null,"",""]
[null,null,null,"","","",null,null,null,"",""]
[null,null,null,"","","",null,null,null,"",""]
[null,null,null,"","","",null,null,null,"",""]
[null,null,null,"","","",null,null,null,"",""]
[null,null,null,"","","",null,null,null,"",""]
[null,null,null,"","","",null,null,null,"",""]
[null,null,null,"","","",null,null,null,"",""]
[null,null,null,"","","",null,null,null,"",""]
[null,null,null,"","","",null,null,null,"",""]
[null,null,null,{"$f":"IF(A646=\"\",\"\",(C646-B646)/C646)","v":""},{"$f":"IF(A646=\"\",\"\",IF(D646<-5%,1,0))","v":""},{"$f":"IF(A646=\"\",\"\",IF(D646>5%,1,0))","v":""},null,null,null,{"$f":"IF(A646=\"\",\"\",(H646+0.5*H645+0.25*H644+0.125*H643)/(1+0.5+0.25+0.125))","v":""},{"$f":"IF(A646=\"\",\"\",(I647+0.5*I646+0.25*H645+0.125*H644)/(1+0.5+0.25+0.125))","v":""}]
[null,null,null,"","","",null,null,null,"",""]
[null,null,null,"","","",null,null,null,"",""]
[null,null,null,"","","",null,null,null,"",""]
[null,null,null,"","","",null,null,null,"",""]
[null,null,null,"","","",null,null,null,"",""]
[null,null,null,"","","",null,null,null,"",""]
[null,null,null,"","","",null,null,null,"",""]
[null,null,null,"","","",null,null,null,"",""]
[null,null,null,"","","",null,null,null,"",""]
[null,null,null,"","","",null,null,null,"",""]
[null,null,null,"","","",null,null,null,"",""]
[null,null,null,"","","",null,null,null,"",""]
[null,null,null,"","","",null,null,null,"",""]
[null,null,null,"","","",null,null,null,"",""]
[null,null,null,"","","",null,null,null,"",""]
[null,null,null,"","","",null,null,null,"",""]
[null,null,null,"","","",null,null,null,"",""]
[null,null,null,"","","",null,null,null,"",""]
[null,null,null,"","","",null,null,null,"",""]
[null,null,null,"","","",null,null,null,"",""]
[null,null,null,"","","",null,null,null,"",""]
[null,null,null,"","","",null,null,null,"",""]
[null,null,null,"","","",null,null,null,"",""]
[null,null,null,"","","",null,null,null,"",""]
[null,null,null,"","","",null,null,null,"",""]
[null,null,null,"","","",null,null,null,"",""]
[null,null,null,"","","",null,null,null,"",""]
[null,null,null,"","","",null,null,null,"",""]
[null,null,null,"","","",null,null,null,"",""]
[null,null,null,"","","",null,null,null,"",""]
[null,null,null,"","","",null,null,null,"",""]
[null,null,null,"","","",null,null,null,"",""]
[null,null,null,"","","",null,null,null,"",""]
[null,null,null,"","","",null,null,null,"",""]
[null,null,null,"","","",null,null,null,"",""]
[null,null,null,"","","",null,null,null,"",""]
[null,null,null,"","","",null,null,null,"",""]
[null,null,null,"","","",null,null,null,"",""]
[null,null,null,"","","",null,null,null,"",""]
[null,null,null,"","","",null,null,null,"",""]
[null,null,null,"","","",null,null,null,"",""]
[null,null,null,"","","",null,null,null,"",""]
[null,null,null,"","","",null,null,null,"",""]
[null,null,null,"","","",null,null,null,"",""]
[null,null,null,"","","",null,null,null,"",""]
[null,null,null,"","","",null,null,null,"",""]
[null,null,null,"","","",null,null,null,"",""]
[null,null,null,"","","",null,null,null,"",""]
[null,null,null,"","","",null,null,null,"",""]
[null,null,null,"","","",null,null,null,"",""]
[null,null,null,"","","",null,null,null,"",""]
[null,null,null,"","","",null,null,null,"",""]
[null,null,null,"","","",null,null,null,"",""]
[null,null,null,"","","",null,null,null,"",""]
[null,null,null,"","","",null,null,null,"",""]
[null,null,null,"","","",null,null,null,"",""]
[null,null,null,"","","",null,null,null,"",""]
[null,null,null,"","","",null,null,null,"",""]
[null,null,null,"","","",null,null,null,"",""]
[null,null,null,"","","",null,null,null,"",""]
[null,null,null,"","","",null,null,null,"",""]
[null,null,null,"","","",null,null,null,"",""]
[null,null,null,"","","",null,null,null,"",""]
[null,null,null,{"$f":"IF(A710=\"\",\"\",(C710-B710)/C710)","v":""},{"$f":"IF(A710=\"\",\"\",IF(D710<-5%,1,0))","v":""},{"$f":"IF(A710=\"\",\"\",IF(D710>5%,1,0))","v":""},null,null,null,{"$f":"IF(A710=\"\",\"\",(H710+0.5*H709+0.25*H708+0.125*H707)/(1+0.5+0.25+0.125))","v":""},{"$f":"IF(A710=\"\",\"\",(I711+0.5*I710+0.25*H709+0.125*H708)/(1+0.5+0.25+0.125))","v":""}]
[null,null,null,"","","",null,null,null,"",""]
[null,null,null,"","","",null,null,null,"",""]
[null,null,null,"","","",null,null,null,"",""]
[null,null,null,"","","",null,null,null,"",""]
[null,null,null,"","","",null,null,null,"",""]
[null,null,null,"","","",null,null,null,"",""]
[null,null,null,"","","",null,null,null,"",""]
[null,null,null,"","","",null,null,null,"",""]
[null,null,null,"","","",null,null,null,"",""]
[null,null,null,"","","",null,null,null,"",""]
[null,null,null,"","","",null,null,null,"",""]
[null,null,null,"","","",null,null,null,"",""]
[null,null,null,"","","",null,null,null,"",""]
[null,null,null,"","","",null,null,null,"",""]
[null,null,null,"","","",null,null,null,"",""]
[null,null,null,"","","",null,null,null,"",""]
[null,null,null,"","","",null,null,null,"",""]
[null,null,null,"","","",null,null,null,"",""]
[null,null,null,"","","",null,null,null,"",""]
[null,null,null,"","","",null,null,null,"",""]
[null,null,null,"","","",null,null,null,"",""]
[null,null,null,"","","",null,null,null,{"$f":"IF(A732=\"\",\"\",(H732+0.5*H731+0.25*H730+0.125*H729)/(1+0.5+0.25+0.125))","v":""},{"$f":"IF(A732=\"\",\"\",(I733+0.5*I732+0.25*H731+0.125*H730)/(1+0.5+0.25+0.125))","v":""}]
[null,null,null,"","","",null,null,null,"",""]
[null,null,null,"","","",null,null,null,"",""]
[null,"Nachtageswert des Nachjahres eintragen",null,"","","",null,"dito.","dito.","",""]
[null,"Nachnachtageswert des Nachjahres eintragen",null,null,null,null,null,"dito.","dito.","",""]
[null,"Nachnachnachtageswert des Nachjahres eintragen",null,null,null,null,null,"dito.","dito.","",{"$f":"IF(A737=\"\",\"\",(#REF!+0.5*I737+0.25*H736+0.125*H735)/(1+0.5+0.25+0.125))","v":""}]

{"sheet":"Analysedaten","index":1,"n_rows":734,"n_cols":9,"rows_kept":734,"cut":false,"hidden":false,"merged":[]}
["Datum",null,"Restlast (an D-1 von D-2 für D)",{"$f":"IF(Tageswerte!R4=1,Tageswerte!Q11,Tageswerte!Q12)","v":"Ist- Temperatur (D) geometrische Reihe analog Leitfaden mit Ist- Temperaturen [°C]"},{"$f":"IF(Tageswerte!R4=1,Tageswerte!Q7,Tageswerte!Q8)","v":"Vorhersagetemperatur (D) geometrische Reihe analog Leitfaden mit Ist und Prognosetemperaturen [°C]"},null,null,null,"Auswahl Temperaturzeitreihe"]
[{"$f":"IF(Stammdaten!A5=\"\",\"\",Stammdaten!A5)","v":""},null,{"$f":"IF(Stammdaten!C5=\"\",\"\",Stammdaten!C5)","v":""},{"$f":"IF(Tageswerte!$R$4=1,Stammdaten!H5,Stammdaten!J5)","v":""},{"$f":"IF(Tageswerte!$R$4=1,Stammdaten!I5,Stammdaten!K5)","v":""}]
[{"$f":"IF(Stammdaten!A6=\"\",\"\",Stammdaten!A6)","v":""},null,{"$f":"IF(Stammdaten!C6=\"\",\"\",Stammdaten!C6)","v":""},{"$f":"IF(Tageswerte!$R$4=1,Stammdaten!H6,Stammdaten!J6)","v":""},{"$f":"IF(Tageswerte!$R$4=1,Stammdaten!I6,Stammdaten!K6)","v":""}]
[{"$f":"IF(Stammdaten!A7=\"\",\"\",Stammdaten!A7)","v":""},null,{"$f":"IF(Stammdaten!C7=\"\",\"\",Stammdaten!C7)","v":""},{"$f":"IF(Tageswerte!$R$4=1,Stammdaten!H7,Stammdaten!J7)","v":""},{"$f":"IF(Tageswerte!$R$4=1,Stammdaten!I7,Stammdaten!K7)","v":""}]
[{"$f":"IF(Stammdaten!A8=\"\",\"\",Stammdaten!A8)","v":""},null,{"$f":"IF(Stammdaten!C8=\"\",\"\",Stammdaten!C8)","v":""},{"$f":"IF(Tageswerte!$R$4=1,Stammdaten!H8,Stammdaten!J8)","v":""},{"$f":"IF(Tageswerte!$R$4=1,Stammdaten!I8,Stammdaten!K8)","v":""}]
[{"$f":"IF(Stammdaten!A9=\"\",\"\",Stammdaten!A9)","v":""},null,{"$f":"IF(Stammdaten!C9=\"\",\"\",Stammdaten!C9)","v":""},{"$f":"IF(Tageswerte!$R$4=1,Stammdaten!H9,Stammdaten!J9)","v":""},{"$f":"IF(Tageswerte!$R$4=1,Stammdaten!I9,Stammdaten!K9)","v":""}]
[{"$f":"IF(Stammdaten!A10=\"\",\"\",Stammdaten!A10)","v":""},null,{"$f":"IF(Stammdaten!C10=\"\",\"\",Stammdaten!C10)","v":""},{"$f":"IF(Tageswerte!$R$4=1,Stammdaten!H10,Stammdaten!J10)","v":""},{"$f":"IF(Tageswerte!$R$4=1,Stammdaten!I10,Stammdaten!K10)","v":""}]
[{"$f":"IF(Stammdaten!A11=\"\",\"\",Stammdaten!A11)","v":""},null,{"$f":"IF(Stammdaten!C11=\"\",\"\",Stammdaten!C11)","v":""},{"$f":"IF(Tageswerte!$R$4=1,Stammdaten!H11,Stammdaten!J11)","v":""},{"$f":"IF(Tageswerte!$R$4=1,Stammdaten!I11,Stammdaten!K11)","v":""}]
[{"$f":"IF(Stammdaten!A12=\"\",\"\",Stammdaten!A12)","v":""},null,{"$f":"IF(Stammdaten!C12=\"\",\"\",Stammdaten!C12)","v":""},{"$f":"IF(Tageswerte!$R$4=1,Stammdaten!H12,Stammdaten!J12)","v":""},{"$f":"IF(Tageswerte!$R$4=1,Stammdaten!I12,Stammdaten!K12)","v":""}]
[{"$f":"IF(Stammdaten!A13=\"\",\"\",Stammdaten!A13)","v":""},null,{"$f":"IF(Stammdaten!C13=\"\",\"\",Stammdaten!C13)","v":""},{"$f":"IF(Tageswerte!$R$4=1,Stammdaten!H13,Stammdaten!J13)","v":""},{"$f":"IF(Tageswerte!$R$4=1,Stammdaten!I13,Stammdaten!K13)","v":""}]
[{"$f":"IF(Stammdaten!A14=\"\",\"\",Stammdaten!A14)","v":""},null,{"$f":"IF(Stammdaten!C14=\"\",\"\",Stammdaten!C14)","v":""},{"$f":"IF(Tageswerte!$R$4=1,Stammdaten!H14,Stammdaten!J14)","v":""},{"$f":"IF(Tageswerte!$R$4=1,Stammdaten!I14,Stammdaten!K14)","v":""}]
[{"$f":"IF(Stammdaten!A15=\"\",\"\",Stammdaten!A15)","v":""},null,{"$f":"IF(Stammdaten!C15=\"\",\"\",Stammdaten!C15)","v":""},{"$f":"IF(Tageswerte!$R$4=1,Stammdaten!H15,Stammdaten!J15)","v":""},{"$f":"IF(Tageswerte!$R$4=1,Stammdaten!I15,Stammdaten!K15)","v":""}]
[{"$f":"IF(Stammdaten!A16=\"\",\"\",Stammdaten!A16)","v":""},null,{"$f":"IF(Stammdaten!C16=\"\",\"\",Stammdaten!C16)","v":""},{"$f":"IF(Tageswerte!$R$4=1,Stammdaten!H16,Stammdaten!J16)","v":""},{"$f":"IF(Tageswerte!$R$4=1,Stammdaten!I16,Stammdaten!K16)","v":""}]
[{"$f":"IF(Stammdaten!A17=\"\",\"\",Stammdaten!A17)","v":""},null,{"$f":"IF(Stammdaten!C17=\"\",\"\",Stammdaten!C17)","v":""},{"$f":"IF(Tageswerte!$R$4=1,Stammdaten!H17,Stammdaten!J17)","v":""},{"$f":"IF(Tageswerte!$R$4=1,Stammdaten!I17,Stammdaten!K17)","v":""}]
[{"$f":"IF(Stammdaten!A18=\"\",\"\",Stammdaten!A18)","v":""},null,{"$f":"IF(Stammdaten!C18=\"\",\"\",Stammdaten!C18)","v":""},{"$f":"IF(Tageswerte!$R$4=1,Stammdaten!H18,Stammdaten!J18)","v":""},{"$f":"IF(Tageswerte!$R$4=1,Stammdaten!I18,Stammdaten!K18)","v":""}]
[{"$f":"IF(Stammdaten!A19=\"\",\"\",Stammdaten!A19)","v":""},null,{"$f":"IF(Stammdaten!C19=\"\",\"\",Stammdaten!C19)","v":""},{"$f":"IF(Tageswerte!$R$4=1,Stammdaten!H19,Stammdaten!J19)","v":""},{"$f":"IF(Tageswerte!$R$4=1,Stammdaten!I19,Stammdaten!K19)","v":""}]
[{"$f":"IF(Stammdaten!A20=\"\",\"\",Stammdaten!A20)","v":""},null,{"$f":"IF(Stammdaten!C20=\"\",\"\",Stammdaten!C20)","v":""},{"$f":"IF(Tageswerte!$R$4=1,Stammdaten!H20,Stammdaten!J20)","v":""},{"$f":"IF(Tageswerte!$R$4=1,Stammdaten!I20,Stammdaten!K20)","v":""}]
[{"$f":"IF(Stammdaten!A21=\"\",\"\",Stammdaten!A21)","v":""},null,{"$f":"IF(Stammdaten!C21=\"\",\"\",Stammdaten!C21)","v":""},{"$f":"IF(Tageswerte!$R$4=1,Stammdaten!H21,Stammdaten!J21)","v":""},{"$f":"IF(Tageswerte!$R$4=1,Stammdaten!I21,Stammdaten!K21)","v":""}]
[{"$f":"IF(Stammdaten!A22=\"\",\"\",Stammdaten!A22)","v":""},null,{"$f":"IF(Stammdaten!C22=\"\",\"\",Stammdaten!C22)","v":""},{"$f":"IF(Tageswerte!$R$4=1,Stammdaten!H22,Stammdaten!J22)","v":""},{"$f":"IF(Tageswerte!$R$4=1,Stammdaten!I22,Stammdaten!K22)","v":""}]
[{"$f":"IF(Stammdaten!A23=\"\",\"\",Stammdaten!A23)","v":""},null,{"$f":"IF(Stammdaten!C23=\"\",\"\",Stammdaten!C23)","v":""},{"$f":"IF(Tageswerte!$R$4=1,Stammdaten!H23,Stammdaten!J23)","v":""},{"$f":"IF(Tageswerte!$R$4=1,Stammdaten!I23,Stammdaten!K23)","v":""}]
[{"$f":"IF(Stammdaten!A24=\"\",\"\",Stammdaten!A24)","v":""},null,{"$f":"IF(Stammdaten!C24=\"\",\"\",Stammdaten!C24)","v":""},{"$f":"IF(Tageswerte!$R$4=1,Stammdaten!H24,Stammdaten!J24)","v":""},{"$f":"IF(Tageswerte!$R$4=1,Stammdaten!I24,Stammdaten!K24)","v":""}]
[{"$f":"IF(Stammdaten!A25=\"\",\"\",Stammdaten!A25)","v":""},null,{"$f":"IF(Stammdaten!C25=\"\",\"\",Stammdaten!C25)","v":""},{"$f":"IF(Tageswerte!$R$4=1,Stammdaten!H25,Stammdaten!J25)","v":""},{"$f":"IF(Tageswerte!$R$4=1,Stammdaten!I25,Stammdaten!K25)","v":""}]
[{"$f":"IF(Stammdaten!A26=\"\",\"\",Stammdaten!A26)","v":""},null,{"$f":"IF(Stammdaten!C26=\"\",\"\",Stammdaten!C26)","v":""},{"$f":"IF(Tageswerte!$R$4=1,Stammdaten!H26,Stammdaten!J26)","v":""},{"$f":"IF(Tageswerte!$R$4=1,Stammdaten!I26,Stammdaten!K26)","v":""}]
[{"$f":"IF(Stammdaten!A27=\"\",\"\",Stammdaten!A27)","v":""},null,{"$f":"IF(Stammdaten!C27=\"\",\"\",Stammdaten!C27)","v":""},{"$f":"IF(Tageswerte!$R$4=1,Stammdaten!H27,Stammdaten!J27)","v":""},{"$f":"IF(Tageswerte!$R$4=1,Stammdaten!I27,Stammdaten!K27)","v":""}]
[{"$f":"IF(Stammdaten!A28=\"\",\"\",Stammdaten!A28)","v":""},null,{"$f":"IF(Stammdaten!C28=\"\",\"\",Stammdaten!C28)","v":""},{"$f":"IF(Tageswerte!$R$4=1,Stammdaten!H28,Stammdaten!J28)","v":""},{"$f":"IF(Tageswerte!$R$4=1,Stammdaten!I28,Stammdaten!K28)","v":""}]
[{"$f":"IF(Stammdaten!A29=\"\",\"\",Stammdaten!A29)","v":""},null,{"$f":"IF(Stammdaten!C29=\"\",\"\",Stammdaten!C29)","v":""},{"$f":"IF(Tageswerte!$R$4=1,Stammdaten!H29,Stammdaten!J29)","v":""},{"$f":"IF(Tageswerte!$R$4=1,Stammdaten!I29,Stammdaten!K29)","v":""}]
[{"$f":"IF(Stammdaten!A30=\"\",\"\",Stammdaten!A30)","v":""},null,{"$f":"IF(Stammdaten!C30=\"\",\"\",Stammdaten!C30)","v":""},{"$f":"IF(Tageswerte!$R$4=1,Stammdaten!H30,Stammdaten!J30)","v":""},{"$f":"IF(Tageswerte!$R$4=1,Stammdaten!I30,Stammdaten!K30)","v":""}]
[{"$f":"IF(Stammdaten!A31=\"\",\"\",Stammdaten!A31)","v":""},null,{"$f":"IF(Stammdaten!C31=\"\",\"\",Stammdaten!C31)","v":""},{"$f":"IF(Tageswerte!$R$4=1,Stammdaten!H31,Stammdaten!J31)","v":""},{"$f":"IF(Tageswerte!$R$4=1,Stammdaten!I31,Stammdaten!K31)","v":""}]
[{"$f":"IF(Stammdaten!A32=\"\",\"\",Stammdaten!A32)","v":""},null,{"$f":"IF(Stammdaten!C32=\"\",\"\",Stammdaten!C32)","v":""},{"$f":"IF(Tageswerte!$R$4=1,Stammdaten!H32,Stammdaten!J32)","v":""},{"$f":"IF(Tageswerte!$R$4=1,Stammdaten!I32,Stammdaten!K32)","v":""}]
[{"$f":"IF(Stammdaten!A33=\"\",\"\",Stammdaten!A33)","v":""},null,{"$f":"IF(Stammdaten!C33=\"\",\"\",Stammdaten!C33)","v":""},{"$f":"IF(Tageswerte!$R$4=1,Stammdaten!H33,Stammdaten!J33)","v":""},{"$f":"IF(Tageswerte!$R$4=1,Stammdaten!I33,Stammdaten!K33)","v":""}]
[{"$f":"IF(Stammdaten!A34=\"\",\"\",Stammdaten!A34)","v":""},null,{"$f":"IF(Stammdaten!C34=\"\",\"\",Stammdaten!C34)","v":""},{"$f":"IF(Tageswerte!$R$4=1,Stammdaten!H34,Stammdaten!J34)","v":""},{"$f":"IF(Tageswerte!$R$4=1,Stammdaten!I34,Stammdaten!K34)","v":""}]
[{"$f":"IF(Stammdaten!A35=\"\",\"\",Stammdaten!A35)","v":""},null,{"$f":"IF(Stammdaten!C35=\"\",\"\",Stammdaten!C35)","v":""},{"$f":"IF(Tageswerte!$R$4=1,Stammdaten!H35,Stammdaten!J35)","v":""},{"$f":"IF(Tageswerte!$R$4=1,Stammdaten!I35,Stammdaten!K35)","v":""}]
[{"$f":"IF(Stammdaten!A36=\"\",\"\",Stammdaten!A36)","v":""},null,{"$f":"IF(Stammdaten!C36=\"\",\"\",Stammdaten!C36)","v":""},{"$f":"IF(Tageswerte!$R$4=1,Stammdaten!H36,Stammdaten!J36)","v":""},{"$f":"IF(Tageswerte!$R$4=1,Stammdaten!I36,Stammdaten!K36)","v":""}]
[{"$f":"IF(Stammdaten!A37=\"\",\"\",Stammdaten!A37)","v":""},null,{"$f":"IF(Stammdaten!C37=\"\",\"\",Stammdaten!C37)","v":""},{"$f":"IF(Tageswerte!$R$4=1,Stammdaten!H37,Stammdaten!J37)","v":""},{"$f":"IF(Tageswerte!$R$4=1,Stammdaten!I37,Stammdaten!K37)","v":""}]
[{"$f":"IF(Stammdaten!A38=\"\",\"\",Stammdaten!A38)","v":""},null,{"$f":"IF(Stammdaten!C38=\"\",\"\",Stammdaten!C38)","v":""},{"$f":"IF(Tageswerte!$R$4=1,Stammdaten!H38,Stammdaten!J38)","v":""},{"$f":"IF(Tageswerte!$R$4=1,Stammdaten!I38,Stammdaten!K38)","v":""}]
[{"$f":"IF(Stammdaten!A39=\"\",\"\",Stammdaten!A39)","v":""},null,{"$f":"IF(Stammdaten!C39=\"\",\"\",Stammdaten!C39)","v":""},{"$f":"IF(Tageswerte!$R$4=1,Stammdaten!H39,Stammdaten!J39)","v":""},{"$f":"IF(Tageswerte!$R$4=1,Stammdaten!I39,Stammdaten!K39)","v":""}]
[{"$f":"IF(Stammdaten!A40=\"\",\"\",Stammdaten!A40)","v":""},null,{"$f":"IF(Stammdaten!C40=\"\",\"\",Stammdaten!C40)","v":""},{"$f":"IF(Tageswerte!$R$4=1,Stammdaten!H40,Stammdaten!J40)","v":""},{"$f":"IF(Tageswerte!$R$4=1,Stammdaten!I40,Stammdaten!K40)","v":""}]
[{"$f":"IF(Stammdaten!A41=\"\",\"\",Stammdaten!A41)","v":""},null,{"$f":"IF(Stammdaten!C41=\"\",\"\",Stammdaten!C41)","v":""},{"$f":"IF(Tageswerte!$R$4=1,Stammdaten!H41,Stammdaten!J41)","v":""},{"$f":"IF(Tageswerte!$R$4=1,Stammdaten!I41,Stammdaten!K41)","v":""}]
[{"$f":"IF(Stammdaten!A42=\"\",\"\",Stammdaten!A42)","v":""},null,{"$f":"IF(Stammdaten!C42=\"\",\"\",Stammdaten!C42)","v":""},{"$f":"IF(Tageswerte!$R$4=1,Stammdaten!H42,Stammdaten!J42)","v":""},{"$f":"IF(Tageswerte!$R$4=1,Stammdaten!I42,Stammdaten!K42)","v":""}]
[{"$f":"IF(Stammdaten!A43=\"\",\"\",Stammdaten!A43)","v":""},null,{"$f":"IF(Stammdaten!C43=\"\",\"\",Stammdaten!C43)","v":""},{"$f":"IF(Tageswerte!$R$4=1,Stammdaten!H43,Stammdaten!J43)","v":""},{"$f":"IF(Tageswerte!$R$4=1,Stammdaten!I43,Stammdaten!K43)","v":""}]
[{"$f":"IF(Stammdaten!A44=\"\",\"\",Stammdaten!A44)","v":""},null,{"$f":"IF(Stammdaten!C44=\"\",\"\",Stammdaten!C44)","v":""},{"$f":"IF(Tageswerte!$R$4=1,Stammdaten!H44,Stammdaten!J44)","v":""},{"$f":"IF(Tageswerte!$R$4=1,Stammdaten!I44,Stammdaten!K44)","v":""}]
[{"$f":"IF(Stammdaten!A45=\"\",\"\",Stammdaten!A45)","v":""},null,{"$f":"IF(Stammdaten!C45=\"\",\"\",Stammdaten!C45)","v":""},{"$f":"IF(Tageswerte!$R$4=1,Stammdaten!H45,Stammdaten!J45)","v":""},{"$f":"IF(Tageswerte!$R$4=1,Stammdaten!I45,Stammdaten!K45)","v":""}]
[{"$f":"IF(Stammdaten!A46=\"\",\"\",Stammdaten!A46)","v":""},null,{"$f":"IF(Stammdaten!C46=\"\",\"\",Stammdaten!C46)","v":""},{"$f":"IF(Tageswerte!$R$4=1,Stammdaten!H46,Stammdaten!J46)","v":""},{"$f":"IF(Tageswerte!$R$4=1,Stammdaten!I46,Stammdaten!K46)","v":""}]
[{"$f":"IF(Stammdaten!A47=\"\",\"\",Stammdaten!A47)","v":""},null,{"$f":"IF(Stammdaten!C47=\"\",\"\",Stammdaten!C47)","v":""},{"$f":"IF(Tageswerte!$R$4=1,Stammdaten!H47,Stammdaten!J47)","v":""},{"$f":"IF(Tageswerte!$R$4=1,Stammdaten!I47,Stammdaten!K47)","v":""}]
[{"$f":"IF(Stammdaten!A48=\"\",\"\",Stammdaten!A48)","v":""},null,{"$f":"IF(Stammdaten!C48=\"\",\"\",Stammdaten!C48)","v":""},{"$f":"IF(Tageswerte!$R$4=1,Stammdaten!H48,Stammdaten!J48)","v":""},{"$f":"IF(Tageswerte!$R$4=1,Stammdaten!I48,Stammdaten!K48)","v":""}]
[{"$f":"IF(Stammdaten!A49=\"\",\"\",Stammdaten!A49)","v":""},null,{"$f":"IF(Stammdaten!C49=\"\",\"\",Stammdaten!C49)","v":""},{"$f":"IF(Tageswerte!$R$4=1,Stammdaten!H49,Stammdaten!J49)","v":""},{"$f":"IF(Tageswerte!$R$4=1,Stammdaten!I49,Stammdaten!K49)","v":""}]
[{"$f":"IF(Stammdaten!A50=\"\",\"\",Stammdaten!A50)","v":""},null,{"$f":"IF(Stammdaten!C50=\"\",\"\",Stammdaten!C50)","v":""},{"$f":"IF(Tageswerte!$R$4=1,Stammdaten!H50,Stammdaten!J50)","v":""},{"$f":"IF(Tageswerte!$R$4=1,Stammdaten!I50,Stammdaten!K50)","v":""}]
[{"$f":"IF(Stammdaten!A51=\"\",\"\",Stammdaten!A51)","v":""},null,{"$f":"IF(Stammdaten!C51=\"\",\"\",Stammdaten!C51)","v":""},{"$f":"IF(Tageswerte!$R$4=1,Stammdaten!H51,Stammdaten!J51)","v":""},{"$f":"IF(Tageswerte!$R$4=1,Stammdaten!I51,Stammdaten!K51)","v":""}]
[{"$f":"IF(Stammdaten!A52=\"\",\"\",Stammdaten!A52)","v":""},null,{"$f":"IF(Stammdaten!C52=\"\",\"\",Stammdaten!C52)","v":""},{"$f":"IF(Tageswerte!$R$4=1,Stammdaten!H52,Stammdaten!J52)","v":""},{"$f":"IF(Tageswerte!$R$4=1,Stammdaten!I52,Stammdaten!K52)","v":""}]
[{"$f":"IF(Stammdaten!A53=\"\",\"\",Stammdaten!A53)","v":""},null,{"$f":"IF(Stammdaten!C53=\"\",\"\",Stammdaten!C53)","v":""},{"$f":"IF(Tageswerte!$R$4=1,Stammdaten!H53,Stammdaten!J53)","v":""},{"$f":"IF(Tageswerte!$R$4=1,Stammdaten!I53,Stammdaten!K53)","v":""}]
[{"$f":"IF(Stammdaten!A54=\"\",\"\",Stammdaten!A54)","v":""},null,{"$f":"IF(Stammdaten!C54=\"\",\"\",Stammdaten!C54)","v":""},{"$f":"IF(Tageswerte!$R$4=1,Stammdaten!H54,Stammdaten!J54)","v":""},{"$f":"IF(Tageswerte!$R$4=1,Stammdaten!I54,Stammdaten!K54)","v":""}]
[{"$f":"IF(Stammdaten!A55=\"\",\"\",Stammdaten!A55)","v":""},null,{"$f":"IF(Stammdaten!C55=\"\",\"\",Stammdaten!C55)","v":""},{"$f":"IF(Tageswerte!$R$4=1,Stammdaten!H55,Stammdaten!J55)","v":""},{"$f":"IF(Tageswerte!$R$4=1,Stammdaten!I55,Stammdaten!K55)","v":""}]
[{"$f":"IF(Stammdaten!A56=\"\",\"\",Stammdaten!A56)","v":""},null,{"$f":"IF(Stammdaten!C56=\"\",\"\",Stammdaten!C56)","v":""},{"$f":"IF(Tageswerte!$R$4=1,Stammdaten!H56,Stammdaten!J56)","v":""},{"$f":"IF(Tageswerte!$R$4=1,Stammdaten!I56,Stammdaten!K56)","v":""}]
[{"$f":"IF(Stammdaten!A57=\"\",\"\",Stammdaten!A57)","v":""},null,{"$f":"IF(Stammdaten!C57=\"\",\"\",Stammdaten!C57)","v":""},{"$f":"IF(Tageswerte!$R$4=1,Stammdaten!H57,Stammdaten!J57)","v":""},{"$f":"IF(Tageswerte!$R$4=1,Stammdaten!I57,Stammdaten!K57)","v":""}]
[{"$f":"IF(Stammdaten!A58=\"\",\"\",Stammdaten!A58)","v":""},null,{"$f":"IF(Stammdaten!C58=\"\",\"\",Stammdaten!C58)","v":""},{"$f":"IF(Tageswerte!$R$4=1,Stammdaten!H58,Stammdaten!J58)","v":""},{"$f":"IF(Tageswerte!$R$4=1,Stammdaten!I58,Stammdaten!K58)","v":""}]
[{"$f":"IF(Stammdaten!A59=\"\",\"\",Stammdaten!A59)","v":""},null,{"$f":"IF(Stammdaten!C59=\"\",\"\",Stammdaten!C59)","v":""},{"$f":"IF(Tageswerte!$R$4=1,Stammdaten!H59,Stammdaten!J59)","v":""},{"$f":"IF(Tageswerte!$R$4=1,Stammdaten!I59,Stammdaten!K59)","v":""}]
[{"$f":"IF(Stammdaten!A60=\"\",\"\",Stammdaten!A60)","v":""},null,{"$f":"IF(Stammdaten!C60=\"\",\"\",Stammdaten!C60)","v":""},{"$f":"IF(Tageswerte!$R$4=1,Stammdaten!H60,Stammdaten!J60)","v":""},{"$f":"IF(Tageswerte!$R$4=1,Stammdaten!I60,Stammdaten!K60)","v":""}]
[{"$f":"IF(Stammdaten!A61=\"\",\"\",Stammdaten!A61)","v":""},null,{"$f":"IF(Stammdaten!C61=\"\",\"\",Stammdaten!C61)","v":""},{"$f":"IF(Tageswerte!$R$4=1,Stammdaten!H61,Stammdaten!J61)","v":""},{"$f":"IF(Tageswerte!$R$4=1,Stammdaten!I61,Stammdaten!K61)","v":""}]
[{"$f":"IF(Stammdaten!A62=\"\",\"\",Stammdaten!A62)","v":""},null,{"$f":"IF(Stammdaten!C62=\"\",\"\",Stammdaten!C62)","v":""},{"$f":"IF(Tageswerte!$R$4=1,Stammdaten!H62,Stammdaten!J62)","v":""},{"$f":"IF(Tageswerte!$R$4=1,Stammdaten!I62,Stammdaten!K62)","v":""}]
[{"$f":"IF(Stammdaten!A63=\"\",\"\",Stammdaten!A63)","v":""},null,{"$f":"IF(Stammdaten!C63=\"\",\"\",Stammdaten!C63)","v":""},{"$f":"IF(Tageswerte!$R$4=1,Stammdaten!H63,Stammdaten!J63)","v":""},{"$f":"IF(Tageswerte!$R$4=1,Stammdaten!I63,Stammdaten!K63)","v":""}]
[{"$f":"IF(Stammdaten!A64=\"\",\"\",Stammdaten!A64)","v":""},null,{"$f":"IF(Stammdaten!C64=\"\",\"\",Stammdaten!C64)","v":""},{"$f":"IF(Tageswerte!$R$4=1,Stammdaten!H64,Stammdaten!J64)","v":""},{"$f":"IF(Tageswerte!$R$4=1,Stammdaten!I64,Stammdaten!K64)","v":""}]
[{"$f":"IF(Stammdaten!A65=\"\",\"\",Stammdaten!A65)","v":""},null,{"$f":"IF(Stammdaten!C65=\"\",\"\",Stammdaten!C65)","v":""},{"$f":"IF(Tageswerte!$R$4=1,Stammdaten!H65,Stammdaten!J65)","v":""},{"$f":"IF(Tageswerte!$R$4=1,Stammdaten!I65,Stammdaten!K65)","v":""}]
[{"$f":"IF(Stammdaten!A66=\"\",\"\",Stammdaten!A66)","v":""},null,{"$f":"IF(Stammdaten!C66=\"\",\"\",Stammdaten!C66)","v":""},{"$f":"IF(Tageswerte!$R$4=1,Stammdaten!H66,Stammdaten!J66)","v":""},{"$f":"IF(Tageswerte!$R$4=1,Stammdaten!I66,Stammdaten!K66)","v":""}]
[{"$f":"IF(Stammdaten!A67=\"\",\"\",Stammdaten!A67)","v":""},null,{"$f":"IF(Stammdaten!C67=\"\",\"\",Stammdaten!C67)","v":""},{"$f":"IF(Tageswerte!$R$4=1,Stammdaten!H67,Stammdaten!J67)","v":""},{"$f":"IF(Tageswerte!$R$4=1,Stammdaten!I67,Stammdaten!K67)","v":""}]
[{"$f":"IF(Stammdaten!A68=\"\",\"\",Stammdaten!A68)","v":""},null,{"$f":"IF(Stammdaten!C68=\"\",\"\",Stammdaten!C68)","v":""},{"$f":"IF(Tageswerte!$R$4=1,Stammdaten!H68,Stammdaten!J68)","v":""},{"$f":"IF(Tageswerte!$R$4=1,Stammdaten!I68,Stammdaten!K68)","v":""}]
[{"$f":"IF(Stammdaten!A69=\"\",\"\",Stammdaten!A69)","v":""},null,{"$f":"IF(Stammdaten!C69=\"\",\"\",Stammdaten!C69)","v":""},{"$f":"IF(Tageswerte!$R$4=1,Stammdaten!H69,Stammdaten!J69)","v":""},{"$f":"IF(Tageswerte!$R$4=1,Stammdaten!I69,Stammdaten!K69)","v":""}]
[{"$f":"IF(Stammdaten!A70=\"\",\"\",Stammdaten!A70)","v":""},null,{"$f":"IF(Stammdaten!C70=\"\",\"\",Stammdaten!C70)","v":""},{"$f":"IF(Tageswerte!$R$4=1,Stammdaten!H70,Stammdaten!J70)","v":""},{"$f":"IF(Tageswerte!$R$4=1,Stammdaten!I70,Stammdaten!K70)","v":""}]
[{"$f":"IF(Stammdaten!A71=\"\",\"\",Stammdaten!A71)","v":""},null,{"$f":"IF(Stammdaten!C71=\"\",\"\",Stammdaten!C71)","v":""},{"$f":"IF(Tageswerte!$R$4=1,Stammdaten!H71,Stammdaten!J71)","v":""},{"$f":"IF(Tageswerte!$R$4=1,Stammdaten!I71,Stammdaten!K71)","v":""}]
[{"$f":"IF(Stammdaten!A72=\"\",\"\",Stammdaten!A72)","v":""},null,{"$f":"IF(Stammdaten!C72=\"\",\"\",Stammdaten!C72)","v":""},{"$f":"IF(Tageswerte!$R$4=1,Stammdaten!H72,Stammdaten!J72)","v":""},{"$f":"IF(Tageswerte!$R$4=1,Stammdaten!I72,Stammdaten!K72)","v":""}]
[{"$f":"IF(Stammdaten!A73=\"\",\"\",Stammdaten!A73)","v":""},null,{"$f":"IF(Stammdaten!C73=\"\",\"\",Stammdaten!C73)","v":""},{"$f":"IF(Tageswerte!$R$4=1,Stammdaten!H73,Stammdaten!J73)","v":""},{"$f":"IF(Tageswerte!$R$4=1,Stammdaten!I73,Stammdaten!K73)","v":""}]
[{"$f":"IF(Stammdaten!A74=\"\",\"\",Stammdaten!A74)","v":""},null,{"$f":"IF(Stammdaten!C74=\"\",\"\",Stammdaten!C74)","v":""},{"$f":"IF(Tageswerte!$R$4=1,Stammdaten!H74,Stammdaten!J74)","v":""},{"$f":"IF(Tageswerte!$R$4=1,Stammdaten!I74,Stammdaten!K74)","v":""}]
[{"$f":"IF(Stammdaten!A75=\"\",\"\",Stammdaten!A75)","v":""},null,{"$f":"IF(Stammdaten!C75=\"\",\"\",Stammdaten!C75)","v":""},{"$f":"IF(Tageswerte!$R$4=1,Stammdaten!H75,Stammdaten!J75)","v":""},{"$f":"IF(Tageswerte!$R$4=1,Stammdaten!I75,Stammdaten!K75)","v":""}]
[{"$f":"IF(Stammdaten!A76=\"\",\"\",Stammdaten!A76)","v":""},null,{"$f":"IF(Stammdaten!C76=\"\",\"\",Stammdaten!C76)","v":""},{"$f":"IF(Tageswerte!$R$4=1,Stammdaten!H76,Stammdaten!J76)","v":""},{"$f":"IF(Tageswerte!$R$4=1,Stammdaten!I76,Stammdaten!K76)","v":""}]
[{"$f":"IF(Stammdaten!A77=\"\",\"\",Stammdaten!A77)","v":""},null,{"$f":"IF(Stammdaten!C77=\"\",\"\",Stammdaten!C77)","v":""},{"$f":"IF(Tageswerte!$R$4=1,Stammdaten!H77,Stammdaten!J77)","v":""},{"$f":"IF(Tageswerte!$R$4=1,Stammdaten!I77,Stammdaten!K77)","v":""}]
[{"$f":"IF(Stammdaten!A78=\"\",\"\",Stammdaten!A78)","v":""},null,{"$f":"IF(Stammdaten!C78=\"\",\"\",Stammdaten!C78)","v":""},{"$f":"IF(Tageswerte!$R$4=1,Stammdaten!H78,Stammdaten!J78)","v":""},{"$f":"IF(Tageswerte!$R$4=1,Stammdaten!I78,Stammdaten!K78)","v":""}]
[{"$f":"IF(Stammdaten!A79=\"\",\"\",Stammdaten!A79)","v":""},null,{"$f":"IF(Stammdaten!C79=\"\",\"\",Stammdaten!C79)","v":""},{"$f":"IF(Tageswerte!$R$4=1,Stammdaten!H79,Stammdaten!J79)","v":""},{"$f":"IF(Tageswerte!$R$4=1,Stammdaten!I79,Stammdaten!K79)","v":""}]
[{"$f":"IF(Stammdaten!A80=\"\",\"\",Stammdaten!A80)","v":""},null,{"$f":"IF(Stammdaten!C80=\"\",\"\",Stammdaten!C80)","v":""},{"$f":"IF(Tageswerte!$R$4=1,Stammdaten!H80,Stammdaten!J80)","v":""},{"$f":"IF(Tageswerte!$R$4=1,Stammdaten!I80,Stammdaten!K80)","v":""}]
[{"$f":"IF(Stammdaten!A81=\"\",\"\",Stammdaten!A81)","v":""},null,{"$f":"IF(Stammdaten!C81=\"\",\"\",Stammdaten!C81)","v":""},{"$f":"IF(Tageswerte!$R$4=1,Stammdaten!H81,Stammdaten!J81)","v":""},{"$f":"IF(Tageswerte!$R$4=1,Stammdaten!I81,Stammdaten!K81)","v":""}]
[{"$f":"IF(Stammdaten!A82=\"\",\"\",Stammdaten!A82)","v":""},null,{"$f":"IF(Stammdaten!C82=\"\",\"\",Stammdaten!C82)","v":""},{"$f":"IF(Tageswerte!$R$4=1,Stammdaten!H82,Stammdaten!J82)","v":""},{"$f":"IF(Tageswerte!$R$4=1,Stammdaten!I82,Stammdaten!K82)","v":""}]
[{"$f":"IF(Stammdaten!A83=\"\",\"\",Stammdaten!A83)","v":""},null,{"$f":"IF(Stammdaten!C83=\"\",\"\",Stammdaten!C83)","v":""},{"$f":"IF(Tageswerte!$R$4=1,Stammdaten!H83,Stammdaten!J83)","v":""},{"$f":"IF(Tageswerte!$R$4=1,Stammdaten!I83,Stammdaten!K83)","v":""}]
[{"$f":"IF(Stammdaten!A84=\"\",\"\",Stammdaten!A84)","v":""},null,{"$f":"IF(Stammdaten!C84=\"\",\"\",Stammdaten!C84)","v":""},{"$f":"IF(Tageswerte!$R$4=1,Stammdaten!H84,Stammdaten!J84)","v":""},{"$f":"IF(Tageswerte!$R$4=1,Stammdaten!I84,Stammdaten!K84)","v":""}]
[{"$f":"IF(Stammdaten!A85=\"\",\"\",Stammdaten!A85)","v":""},null,{"$f":"IF(Stammdaten!C85=\"\",\"\",Stammdaten!C85)","v":""},{"$f":"IF(Tageswerte!$R$4=1,Stammdaten!H85,Stammdaten!J85)","v":""},{"$f":"IF(Tageswerte!$R$4=1,Stammdaten!I85,Stammdaten!K85)","v":""}]
[{"$f":"IF(Stammdaten!A86=\"\",\"\",Stammdaten!A86)","v":""},null,{"$f":"IF(Stammdaten!C86=\"\",\"\",Stammdaten!C86)","v":""},{"$f":"IF(Tageswerte!$R$4=1,Stammdaten!H86,Stammdaten!J86)","v":""},{"$f":"IF(Tageswerte!$R$4=1,Stammdaten!I86,Stammdaten!K86)","v":""}]
[{"$f":"IF(Stammdaten!A87=\"\",\"\",Stammdaten!A87)","v":""},null,{"$f":"IF(Stammdaten!C87=\"\",\"\",Stammdaten!C87)","v":""},{"$f":"IF(Tageswerte!$R$4=1,Stammdaten!H87,Stammdaten!J87)","v":""},{"$f":"IF(Tageswerte!$R$4=1,Stammdaten!I87,Stammdaten!K87)","v":""}]
[{"$f":"IF(Stammdaten!A88=\"\",\"\",Stammdaten!A88)","v":""},null,{"$f":"IF(Stammdaten!C88=\"\",\"\",Stammdaten!C88)","v":""},{"$f":"IF(Tageswerte!$R$4=1,Stammdaten!H88,Stammdaten!J88)","v":""},{"$f":"IF(Tageswerte!$R$4=1,Stammdaten!I88,Stammdaten!K88)","v":""}]
[{"$f":"IF(Stammdaten!A89=\"\",\"\",Stammdaten!A89)","v":""},null,{"$f":"IF(Stammdaten!C89=\"\",\"\",Stammdaten!C89)","v":""},{"$f":"IF(Tageswerte!$R$4=1,Stammdaten!H89,Stammdaten!J89)","v":""},{"$f":"IF(Tageswerte!$R$4=1,Stammdaten!I89,Stammdaten!K89)","v":""}]
[{"$f":"IF(Stammdaten!A90=\"\",\"\",Stammdaten!A90)","v":""},null,{"$f":"IF(Stammdaten!C90=\"\",\"\",Stammdaten!C90)","v":""},{"$f":"IF(Tageswerte!$R$4=1,Stammdaten!H90,Stammdaten!J90)","v":""},{"$f":"IF(Tageswerte!$R$4=1,Stammdaten!I90,Stammdaten!K90)","v":""}]
[{"$f":"IF(Stammdaten!A91=\"\",\"\",Stammdaten!A91)","v":""},null,{"$f":"IF(Stammdaten!C91=\"\",\"\",Stammdaten!C91)","v":""},{"$f":"IF(Tageswerte!$R$4=1,Stammdaten!H91,Stammdaten!J91)","v":""},{"$f":"IF(Tageswerte!$R$4=1,Stammdaten!I91,Stammdaten!K91)","v":""}]
[{"$f":"IF(Stammdaten!A92=\"\",\"\",Stammdaten!A92)","v":""},null,{"$f":"IF(Stammdaten!C92=\"\",\"\",Stammdaten!C92)","v":""},{"$f":"IF(Tageswerte!$R$4=1,Stammdaten!H92,Stammdaten!J92)","v":""},{"$f":"IF(Tageswerte!$R$4=1,Stammdaten!I92,Stammdaten!K92)","v":""}]
[{"$f":"IF(Stammdaten!A93=\"\",\"\",Stammdaten!A93)","v":""},null,{"$f":"IF(Stammdaten!C93=\"\",\"\",Stammdaten!C93)","v":""},{"$f":"IF(Tageswerte!$R$4=1,Stammdaten!H93,Stammdaten!J93)","v":""},{"$f":"IF(Tageswerte!$R$4=1,Stammdaten!I93,Stammdaten!K93)","v":""}]
[{"$f":"IF(Stammdaten!A94=\"\",\"\",Stammdaten!A94)","v":""},null,{"$f":"IF(Stammdaten!C94=\"\",\"\",Stammdaten!C94)","v":""},{"$f":"IF(Tageswerte!$R$4=1,Stammdaten!H94,Stammdaten!J94)","v":""},{"$f":"IF(Tageswerte!$R$4=1,Stammdaten!I94,Stammdaten!K94)","v":""}]
[{"$f":"IF(Stammdaten!A95=\"\",\"\",Stammdaten!A95)","v":""},null,{"$f":"IF(Stammdaten!C95=\"\",\"\",Stammdaten!C95)","v":""},{"$f":"IF(Tageswerte!$R$4=1,Stammdaten!H95,Stammdaten!J95)","v":""},{"$f":"IF(Tageswerte!$R$4=1,Stammdaten!I95,Stammdaten!K95)","v":""}]
[{"$f":"IF(Stammdaten!A96=\"\",\"\",Stammdaten!A96)","v":""},null,{"$f":"IF(Stammdaten!C96=\"\",\"\",Stammdaten!C96)","v":""},{"$f":"IF(Tageswerte!$R$4=1,Stammdaten!H96,Stammdaten!J96)","v":""},{"$f":"IF(Tageswerte!$R$4=1,Stammdaten!I96,Stammdaten!K96)","v":""}]
[{"$f":"IF(Stammdaten!A97=\"\",\"\",Stammdaten!A97)","v":""},null,{"$f":"IF(Stammdaten!C97=\"\",\"\",Stammdaten!C97)","v":""},{"$f":"IF(Tageswerte!$R$4=1,Stammdaten!H97,Stammdaten!J97)","v":""},{"$f":"IF(Tageswerte!$R$4=1,Stammdaten!I97,Stammdaten!K97)","v":""}]
[{"$f":"IF(Stammdaten!A98=\"\",\"\",Stammdaten!A98)","v":""},null,{"$f":"IF(Stammdaten!C98=\"\",\"\",Stammdaten!C98)","v":""},{"$f":"IF(Tageswerte!$R$4=1,Stammdaten!H98,Stammdaten!J98)","v":""},{"$f":"IF(Tageswerte!$R$4=1,Stammdaten!I98,Stammdaten!K98)","v":""}]
[{"$f":"IF(Stammdaten!A99=\"\",\"\",Stammdaten!A99)","v":""},null,{"$f":"IF(Stammdaten!C99=\"\",\"\",Stammdaten!C99)","v":""},{"$f":"IF(Tageswerte!$R$4=1,Stammdaten!H99,Stammdaten!J99)","v":""},{"$f":"IF(Tageswerte!$R$4=1,Stammdaten!I99,Stammdaten!K99)","v":""}]
[{"$f":"IF(Stammdaten!A100=\"\",\"\",Stammdaten!A100)","v":""},null,{"$f":"IF(Stammdaten!C100=\"\",\"\",Stammdaten!C100)","v":""},{"$f":"IF(Tageswerte!$R$4=1,Stammdaten!H100,Stammdaten!J100)","v":""},{"$f":"IF(Tageswerte!$R$4=1,Stammdaten!I100,Stammdaten!K100)","v":""}]
[{"$f":"IF(Stammdaten!A101=\"\",\"\",Stammdaten!A101)","v":""},null,{"$f":"IF(Stammdaten!C101=\"\",\"\",Stammdaten!C101)","v":""},{"$f":"IF(Tageswerte!$R$4=1,Stammdaten!H101,Stammdaten!J101)","v":""},{"$f":"IF(Tageswerte!$R$4=1,Stammdaten!I101,Stammdaten!K101)","v":""}]
[{"$f":"IF(Stammdaten!A102=\"\",\"\",Stammdaten!A102)","v":""},null,{"$f":"IF(Stammdaten!C102=\"\",\"\",Stammdaten!C102)","v":""},{"$f":"IF(Tageswerte!$R$4=1,Stammdaten!H102,Stammdaten!J102)","v":""},{"$f":"IF(Tageswerte!$R$4=1,Stammdaten!I102,Stammdaten!K102)","v":""}]
[{"$f":"IF(Stammdaten!A103=\"\",\"\",Stammdaten!A103)","v":""},null,{"$f":"IF(Stammdaten!C103=\"\",\"\",Stammdaten!C103)","v":""},{"$f":"IF(Tageswerte!$R$4=1,Stammdaten!H103,Stammdaten!J103)","v":""},{"$f":"IF(Tageswerte!$R$4=1,Stammdaten!I103,Stammdaten!K103)","v":""}]
[{"$f":"IF(Stammdaten!A104=\"\",\"\",Stammdaten!A104)","v":""},null,{"$f":"IF(Stammdaten!C104=\"\",\"\",Stammdaten!C104)","v":""},{"$f":"IF(Tageswerte!$R$4=1,Stammdaten!H104,Stammdaten!J104)","v":""},{"$f":"IF(Tageswerte!$R$4=1,Stammdaten!I104,Stammdaten!K104)","v":""}]
[{"$f":"IF(Stammdaten!A105=\"\",\"\",Stammdaten!A105)","v":""},null,{"$f":"IF(Stammdaten!C105=\"\",\"\",Stammdaten!C105)","v":""},{"$f":"IF(Tageswerte!$R$4=1,Stammdaten!H105,Stammdaten!J105)","v":""},{"$f":"IF(Tageswerte!$R$4=1,Stammdaten!I105,Stammdaten!K105)","v":""}]
[{"$f":"IF(Stammdaten!A106=\"\",\"\",Stammdaten!A106)","v":""},null,{"$f":"IF(Stammdaten!C106=\"\",\"\",Stammdaten!C106)","v":""},{"$f":"IF(Tageswerte!$R$4=1,Stammdaten!H106,Stammdaten!J106)","v":""},{"$f":"IF(Tageswerte!$R$4=1,Stammdaten!I106,Stammdaten!K106)","v":""}]
[{"$f":"IF(Stammdaten!A107=\"\",\"\",Stammdaten!A107)","v":""},null,{"$f":"IF(Stammdaten!C107=\"\",\"\",Stammdaten!C107)","v":""},{"$f":"IF(Tageswerte!$R$4=1,Stammdaten!H107,Stammdaten!J107)","v":""},{"$f":"IF(Tageswerte!$R$4=1,Stammdaten!I107,Stammdaten!K107)","v":""}]
[{"$f":"IF(Stammdaten!A108=\"\",\"\",Stammdaten!A108)","v":""},null,{"$f":"IF(Stammdaten!C108=\"\",\"\",Stammdaten!C108)","v":""},{"$f":"IF(Tageswerte!$R$4=1,Stammdaten!H108,Stammdaten!J108)","v":""},{"$f":"IF(Tageswerte!$R$4=1,Stammdaten!I108,Stammdaten!K108)","v":""}]
[{"$f":"IF(Stammdaten!A109=\"\",\"\",Stammdaten!A109)","v":""},null,{"$f":"IF(Stammdaten!C109=\"\",\"\",Stammdaten!C109)","v":""},{"$f":"IF(Tageswerte!$R$4=1,Stammdaten!H109,Stammdaten!J109)","v":""},{"$f":"IF(Tageswerte!$R$4=1,Stammdaten!I109,Stammdaten!K109)","v":""}]
[{"$f":"IF(Stammdaten!A110=\"\",\"\",Stammdaten!A110)","v":""},null,{"$f":"IF(Stammdaten!C110=\"\",\"\",Stammdaten!C110)","v":""},{"$f":"IF(Tageswerte!$R$4=1,Stammdaten!H110,Stammdaten!J110)","v":""},{"$f":"IF(Tageswerte!$R$4=1,Stammdaten!I110,Stammdaten!K110)","v":""}]
[{"$f":"IF(Stammdaten!A111=\"\",\"\",Stammdaten!A111)","v":""},null,{"$f":"IF(Stammdaten!C111=\"\",\"\",Stammdaten!C111)","v":""},{"$f":"IF(Tageswerte!$R$4=1,Stammdaten!H111,Stammdaten!J111)","v":""},{"$f":"IF(Tageswerte!$R$4=1,Stammdaten!I111,Stammdaten!K111)","v":""}]
[{"$f":"IF(Stammdaten!A112=\"\",\"\",Stammdaten!A112)","v":""},null,{"$f":"IF(Stammdaten!C112=\"\",\"\",Stammdaten!C112)","v":""},{"$f":"IF(Tageswerte!$R$4=1,Stammdaten!H112,Stammdaten!J112)","v":""},{"$f":"IF(Tageswerte!$R$4=1,Stammdaten!I112,Stammdaten!K112)","v":""}]
[{"$f":"IF(Stammdaten!A113=\"\",\"\",Stammdaten!A113)","v":""},null,{"$f":"IF(Stammdaten!C113=\"\",\"\",Stammdaten!C113)","v":""},{"$f":"IF(Tageswerte!$R$4=1,Stammdaten!H113,Stammdaten!J113)","v":""},{"$f":"IF(Tageswerte!$R$4=1,Stammdaten!I113,Stammdaten!K113)","v":""}]
[{"$f":"IF(Stammdaten!A114=\"\",\"\",Stammdaten!A114)","v":""},null,{"$f":"IF(Stammdaten!C114=\"\",\"\",Stammdaten!C114)","v":""},{"$f":"IF(Tageswerte!$R$4=1,Stammdaten!H114,Stammdaten!J114)","v":""},{"$f":"IF(Tageswerte!$R$4=1,Stammdaten!I114,Stammdaten!K114)","v":""}]
[{"$f":"IF(Stammdaten!A115=\"\",\"\",Stammdaten!A115)","v":""},null,{"$f":"IF(Stammdaten!C115=\"\",\"\",Stammdaten!C115)","v":""},{"$f":"IF(Tageswerte!$R$4=1,Stammdaten!H115,Stammdaten!J115)","v":""},{"$f":"IF(Tageswerte!$R$4=1,Stammdaten!I115,Stammdaten!K115)","v":""}]
[{"$f":"IF(Stammdaten!A116=\"\",\"\",Stammdaten!A116)","v":""},null,{"$f":"IF(Stammdaten!C116=\"\",\"\",Stammdaten!C116)","v":""},{"$f":"IF(Tageswerte!$R$4=1,Stammdaten!H116,Stammdaten!J116)","v":""},{"$f":"IF(Tageswerte!$R$4=1,Stammdaten!I116,Stammdaten!K116)","v":""}]
[{"$f":"IF(Stammdaten!A117=\"\",\"\",Stammdaten!A117)","v":""},null,{"$f":"IF(Stammdaten!C117=\"\",\"\",Stammdaten!C117)","v":""},{"$f":"IF(Tageswerte!$R$4=1,Stammdaten!H117,Stammdaten!J117)","v":""},{"$f":"IF(Tageswerte!$R$4=1,Stammdaten!I117,Stammdaten!K117)","v":""}]
[{"$f":"IF(Stammdaten!A118=\"\",\"\",Stammdaten!A118)","v":""},null,{"$f":"IF(Stammdaten!C118=\"\",\"\",Stammdaten!C118)","v":""},{"$f":"IF(Tageswerte!$R$4=1,Stammdaten!H118,Stammdaten!J118)","v":""},{"$f":"IF(Tageswerte!$R$4=1,Stammdaten!I118,Stammdaten!K118)","v":""}]
[{"$f":"IF(Stammdaten!A119=\"\",\"\",Stammdaten!A119)","v":""},null,{"$f":"IF(Stammdaten!C119=\"\",\"\",Stammdaten!C119)","v":""},{"$f":"IF(Tageswerte!$R$4=1,Stammdaten!H119,Stammdaten!J119)","v":""},{"$f":"IF(Tageswerte!$R$4=1,Stammdaten!I119,Stammdaten!K119)","v":""}]
[{"$f":"IF(Stammdaten!A120=\"\",\"\",Stammdaten!A120)","v":""},null,{"$f":"IF(Stammdaten!C120=\"\",\"\",Stammdaten!C120)","v":""},{"$f":"IF(Tageswerte!$R$4=1,Stammdaten!H120,Stammdaten!J120)","v":""},{"$f":"IF(Tageswerte!$R$4=1,Stammdaten!I120,Stammdaten!K120)","v":""}]
[{"$f":"IF(Stammdaten!A121=\"\",\"\",Stammdaten!A121)","v":""},null,{"$f":"IF(Stammdaten!C121=\"\",\"\",Stammdaten!C121)","v":""},{"$f":"IF(Tageswerte!$R$4=1,Stammdaten!H121,Stammdaten!J121)","v":""},{"$f":"IF(Tageswerte!$R$4=1,Stammdaten!I121,Stammdaten!K121)","v":""}]
[{"$f":"IF(Stammdaten!A122=\"\",\"\",Stammdaten!A122)","v":""},null,{"$f":"IF(Stammdaten!C122=\"\",\"\",Stammdaten!C122)","v":""},{"$f":"IF(Tageswerte!$R$4=1,Stammdaten!H122,Stammdaten!J122)","v":""},{"$f":"IF(Tageswerte!$R$4=1,Stammdaten!I122,Stammdaten!K122)","v":""}]
[{"$f":"IF(Stammdaten!A123=\"\",\"\",Stammdaten!A123)","v":""},null,{"$f":"IF(Stammdaten!C123=\"\",\"\",Stammdaten!C123)","v":""},{"$f":"IF(Tageswerte!$R$4=1,Stammdaten!H123,Stammdaten!J123)","v":""},{"$f":"IF(Tageswerte!$R$4=1,Stammdaten!I123,Stammdaten!K123)","v":""}]
[{"$f":"IF(Stammdaten!A124=\"\",\"\",Stammdaten!A124)","v":""},null,{"$f":"IF(Stammdaten!C124=\"\",\"\",Stammdaten!C124)","v":""},{"$f":"IF(Tageswerte!$R$4=1,Stammdaten!H124,Stammdaten!J124)","v":""},{"$f":"IF(Tageswerte!$R$4=1,Stammdaten!I124,Stammdaten!K124)","v":""}]
[{"$f":"IF(Stammdaten!A125=\"\",\"\",Stammdaten!A125)","v":""},null,{"$f":"IF(Stammdaten!C125=\"\",\"\",Stammdaten!C125)","v":""},{"$f":"IF(Tageswerte!$R$4=1,Stammdaten!H125,Stammdaten!J125)","v":""},{"$f":"IF(Tageswerte!$R$4=1,Stammdaten!I125,Stammdaten!K125)","v":""}]
[{"$f":"IF(Stammdaten!A126=\"\",\"\",Stammdaten!A126)","v":""},null,{"$f":"IF(Stammdaten!C126=\"\",\"\",Stammdaten!C126)","v":""},{"$f":"IF(Tageswerte!$R$4=1,Stammdaten!H126,Stammdaten!J126)","v":""},{"$f":"IF(Tageswerte!$R$4=1,Stammdaten!I126,Stammdaten!K126)","v":""}]
[{"$f":"IF(Stammdaten!A127=\"\",\"\",Stammdaten!A127)","v":""},null,{"$f":"IF(Stammdaten!C127=\"\",\"\",Stammdaten!C127)","v":""},{"$f":"IF(Tageswerte!$R$4=1,Stammdaten!H127,Stammdaten!J127)","v":""},{"$f":"IF(Tageswerte!$R$4=1,Stammdaten!I127,Stammdaten!K127)","v":""}]
[{"$f":"IF(Stammdaten!A128=\"\",\"\",Stammdaten!A128)","v":""},null,{"$f":"IF(Stammdaten!C128=\"\",\"\",Stammdaten!C128)","v":""},{"$f":"IF(Tageswerte!$R$4=1,Stammdaten!H128,Stammdaten!J128)","v":""},{"$f":"IF(Tageswerte!$R$4=1,Stammdaten!I128,Stammdaten!K128)","v":""}]
[{"$f":"IF(Stammdaten!A129=\"\",\"\",Stammdaten!A129)","v":""},null,{"$f":"IF(Stammdaten!C129=\"\",\"\",Stammdaten!C129)","v":""},{"$f":"IF(Tageswerte!$R$4=1,Stammdaten!H129,Stammdaten!J129)","v":""},{"$f":"IF(Tageswerte!$R$4=1,Stammdaten!I129,Stammdaten!K129)","v":""}]
[{"$f":"IF(Stammdaten!A130=\"\",\"\",Stammdaten!A130)","v":""},null,{"$f":"IF(Stammdaten!C130=\"\",\"\",Stammdaten!C130)","v":""},{"$f":"IF(Tageswerte!$R$4=1,Stammdaten!H130,Stammdaten!J130)","v":""},{"$f":"IF(Tageswerte!$R$4=1,Stammdaten!I130,Stammdaten!K130)","v":""}]
[{"$f":"IF(Stammdaten!A131=\"\",\"\",Stammdaten!A131)","v":""},null,{"$f":"IF(Stammdaten!C131=\"\",\"\",Stammdaten!C131)","v":""},{"$f":"IF(Tageswerte!$R$4=1,Stammdaten!H131,Stammdaten!J131)","v":""},{"$f":"IF(Tageswerte!$R$4=1,Stammdaten!I131,Stammdaten!K131)","v":""}]
[{"$f":"IF(Stammdaten!A132=\"\",\"\",Stammdaten!A132)","v":""},null,{"$f":"IF(Stammdaten!C132=\"\",\"\",Stammdaten!C132)","v":""},{"$f":"IF(Tageswerte!$R$4=1,Stammdaten!H132,Stammdaten!J132)","v":""},{"$f":"IF(Tageswerte!$R$4=1,Stammdaten!I132,Stammdaten!K132)","v":""}]
[{"$f":"IF(Stammdaten!A133=\"\",\"\",Stammdaten!A133)","v":""},null,{"$f":"IF(Stammdaten!C133=\"\",\"\",Stammdaten!C133)","v":""},{"$f":"IF(Tageswerte!$R$4=1,Stammdaten!H133,Stammdaten!J133)","v":""},{"$f":"IF(Tageswerte!$R$4=1,Stammdaten!I133,Stammdaten!K133)","v":""}]
[{"$f":"IF(Stammdaten!A134=\"\",\"\",Stammdaten!A134)","v":""},null,{"$f":"IF(Stammdaten!C134=\"\",\"\",Stammdaten!C134)","v":""},{"$f":"IF(Tageswerte!$R$4=1,Stammdaten!H134,Stammdaten!J134)","v":""},{"$f":"IF(Tageswerte!$R$4=1,Stammdaten!I134,Stammdaten!K134)","v":""}]
[{"$f":"IF(Stammdaten!A135=\"\",\"\",Stammdaten!A135)","v":""},null,{"$f":"IF(Stammdaten!C135=\"\",\"\",Stammdaten!C135)","v":""},{"$f":"IF(Tageswerte!$R$4=1,Stammdaten!H135,Stammdaten!J135)","v":""},{"$f":"IF(Tageswerte!$R$4=1,Stammdaten!I135,Stammdaten!K135)","v":""}]
[{"$f":"IF(Stammdaten!A136=\"\",\"\",Stammdaten!A136)","v":""},null,{"$f":"IF(Stammdaten!C136=\"\",\"\",Stammdaten!C136)","v":""},{"$f":"IF(Tageswerte!$R$4=1,Stammdaten!H136,Stammdaten!J136)","v":""},{"$f":"IF(Tageswerte!$R$4=1,Stammdaten!I136,Stammdaten!K136)","v":""}]
[{"$f":"IF(Stammdaten!A137=\"\",\"\",Stammdaten!A137)","v":""},null,{"$f":"IF(Stammdaten!C137=\"\",\"\",Stammdaten!C137)","v":""},{"$f":"IF(Tageswerte!$R$4=1,Stammdaten!H137,Stammdaten!J137)","v":""},{"$f":"IF(Tageswerte!$R$4=1,Stammdaten!I137,Stammdaten!K137)","v":""}]
[{"$f":"IF(Stammdaten!A138=\"\",\"\",Stammdaten!A138)","v":""},null,{"$f":"IF(Stammdaten!C138=\"\",\"\",Stammdaten!C138)","v":""},{"$f":"IF(Tageswerte!$R$4=1,Stammdaten!H138,Stammdaten!J138)","v":""},{"$f":"IF(Tageswerte!$R$4=1,Stammdaten!I138,Stammdaten!K138)","v":""}]
[{"$f":"IF(Stammdaten!A139=\"\",\"\",Stammdaten!A139)","v":""},null,{"$f":"IF(Stammdaten!C139=\"\",\"\",Stammdaten!C139)","v":""},{"$f":"IF(Tageswerte!$R$4=1,Stammdaten!H139,Stammdaten!J139)","v":""},{"$f":"IF(Tageswerte!$R$4=1,Stammdaten!I139,Stammdaten!K139)","v":""}]
[{"$f":"IF(Stammdaten!A140=\"\",\"\",Stammdaten!A140)","v":""},null,{"$f":"IF(Stammdaten!C140=\"\",\"\",Stammdaten!C140)","v":""},{"$f":"IF(Tageswerte!$R$4=1,Stammdaten!H140,Stammdaten!J140)","v":""},{"$f":"IF(Tageswerte!$R$4=1,Stammdaten!I140,Stammdaten!K140)","v":""}]
[{"$f":"IF(Stammdaten!A141=\"\",\"\",Stammdaten!A141)","v":""},null,{"$f":"IF(Stammdaten!C141=\"\",\"\",Stammdaten!C141)","v":""},{"$f":"IF(Tageswerte!$R$4=1,Stammdaten!H141,Stammdaten!J141)","v":""},{"$f":"IF(Tageswerte!$R$4=1,Stammdaten!I141,Stammdaten!K141)","v":""}]
[{"$f":"IF(Stammdaten!A142=\"\",\"\",Stammdaten!A142)","v":""},null,{"$f":"IF(Stammdaten!C142=\"\",\"\",Stammdaten!C142)","v":""},{"$f":"IF(Tageswerte!$R$4=1,Stammdaten!H142,Stammdaten!J142)","v":""},{"$f":"IF(Tageswerte!$R$4=1,Stammdaten!I142,Stammdaten!K142)","v":""}]
[{"$f":"IF(Stammdaten!A143=\"\",\"\",Stammdaten!A143)","v":""},null,{"$f":"IF(Stammdaten!C143=\"\",\"\",Stammdaten!C143)","v":""},{"$f":"IF(Tageswerte!$R$4=1,Stammdaten!H143,Stammdaten!J143)","v":""},{"$f":"IF(Tageswerte!$R$4=1,Stammdaten!I143,Stammdaten!K143)","v":""}]
[{"$f":"IF(Stammdaten!A144=\"\",\"\",Stammdaten!A144)","v":""},null,{"$f":"IF(Stammdaten!C144=\"\",\"\",Stammdaten!C144)","v":""},{"$f":"IF(Tageswerte!$R$4=1,Stammdaten!H144,Stammdaten!J144)","v":""},{"$f":"IF(Tageswerte!$R$4=1,Stammdaten!I144,Stammdaten!K144)","v":""}]
[{"$f":"IF(Stammdaten!A145=\"\",\"\",Stammdaten!A145)","v":""},null,{"$f":"IF(Stammdaten!C145=\"\",\"\",Stammdaten!C145)","v":""},{"$f":"IF(Tageswerte!$R$4=1,Stammdaten!H145,Stammdaten!J145)","v":""},{"$f":"IF(Tageswerte!$R$4=1,Stammdaten!I145,Stammdaten!K145)","v":""}]
[{"$f":"IF(Stammdaten!A146=\"\",\"\",Stammdaten!A146)","v":""},null,{"$f":"IF(Stammdaten!C146=\"\",\"\",Stammdaten!C146)","v":""},{"$f":"IF(Tageswerte!$R$4=1,Stammdaten!H146,Stammdaten!J146)","v":""},{"$f":"IF(Tageswerte!$R$4=1,Stammdaten!I146,Stammdaten!K146)","v":""}]
[{"$f":"IF(Stammdaten!A147=\"\",\"\",Stammdaten!A147)","v":""},null,{"$f":"IF(Stammdaten!C147=\"\",\"\",Stammdaten!C147)","v":""},{"$f":"IF(Tageswerte!$R$4=1,Stammdaten!H147,Stammdaten!J147)","v":""},{"$f":"IF(Tageswerte!$R$4=1,Stammdaten!I147,Stammdaten!K147)","v":""}]
[{"$f":"IF(Stammdaten!A148=\"\",\"\",Stammdaten!A148)","v":""},null,{"$f":"IF(Stammdaten!C148=\"\",\"\",Stammdaten!C148)","v":""},{"$f":"IF(Tageswerte!$R$4=1,Stammdaten!H148,Stammdaten!J148)","v":""},{"$f":"IF(Tageswerte!$R$4=1,Stammdaten!I148,Stammdaten!K148)","v":""}]
[{"$f":"IF(Stammdaten!A149=\"\",\"\",Stammdaten!A149)","v":""},null,{"$f":"IF(Stammdaten!C149=\"\",\"\",Stammdaten!C149)","v":""},{"$f":"IF(Tageswerte!$R$4=1,Stammdaten!H149,Stammdaten!J149)","v":""},{"$f":"IF(Tageswerte!$R$4=1,Stammdaten!I149,Stammdaten!K149)","v":""}]
[{"$f":"IF(Stammdaten!A150=\"\",\"\",Stammdaten!A150)","v":""},null,{"$f":"IF(Stammdaten!C150=\"\",\"\",Stammdaten!C150)","v":""},{"$f":"IF(Tageswerte!$R$4=1,Stammdaten!H150,Stammdaten!J150)","v":""},{"$f":"IF(Tageswerte!$R$4=1,Stammdaten!I150,Stammdaten!K150)","v":""}]
[{"$f":"IF(Stammdaten!A151=\"\",\"\",Stammdaten!A151)","v":""},null,{"$f":"IF(Stammdaten!C151=\"\",\"\",Stammdaten!C151)","v":""},{"$f":"IF(Tageswerte!$R$4=1,Stammdaten!H151,Stammdaten!J151)","v":""},{"$f":"IF(Tageswerte!$R$4=1,Stammdaten!I151,Stammdaten!K151)","v":""}]
[{"$f":"IF(Stammdaten!A152=\"\",\"\",Stammdaten!A152)","v":""},null,{"$f":"IF(Stammdaten!C152=\"\",\"\",Stammdaten!C152)","v":""},{"$f":"IF(Tageswerte!$R$4=1,Stammdaten!H152,Stammdaten!J152)","v":""},{"$f":"IF(Tageswerte!$R$4=1,Stammdaten!I152,Stammdaten!K152)","v":""}]
[{"$f":"IF(Stammdaten!A153=\"\",\"\",Stammdaten!A153)","v":""},null,{"$f":"IF(Stammdaten!C153=\"\",\"\",Stammdaten!C153)","v":""},{"$f":"IF(Tageswerte!$R$4=1,Stammdaten!H153,Stammdaten!J153)","v":""},{"$f":"IF(Tageswerte!$R$4=1,Stammdaten!I153,Stammdaten!K153)","v":""}]
[{"$f":"IF(Stammdaten!A154=\"\",\"\",Stammdaten!A154)","v":""},null,{"$f":"IF(Stammdaten!C154=\"\",\"\",Stammdaten!C154)","v":""},{"$f":"IF(Tageswerte!$R$4=1,Stammdaten!H154,Stammdaten!J154)","v":""},{"$f":"IF(Tageswerte!$R$4=1,Stammdaten!I154,Stammdaten!K154)","v":""}]
[{"$f":"IF(Stammdaten!A155=\"\",\"\",Stammdaten!A155)","v":""},null,{"$f":"IF(Stammdaten!C155=\"\",\"\",Stammdaten!C155)","v":""},{"$f":"IF(Tageswerte!$R$4=1,Stammdaten!H155,Stammdaten!J155)","v":""},{"$f":"IF(Tageswerte!$R$4=1,Stammdaten!I155,Stammdaten!K155)","v":""}]
[{"$f":"IF(Stammdaten!A156=\"\",\"\",Stammdaten!A156)","v":""},null,{"$f":"IF(Stammdaten!C156=\"\",\"\",Stammdaten!C156)","v":""},{"$f":"IF(Tageswerte!$R$4=1,Stammdaten!H156,Stammdaten!J156)","v":""},{"$f":"IF(Tageswerte!$R$4=1,Stammdaten!I156,Stammdaten!K156)","v":""}]
[{"$f":"IF(Stammdaten!A157=\"\",\"\",Stammdaten!A157)","v":""},null,{"$f":"IF(Stammdaten!C157=\"\",\"\",Stammdaten!C157)","v":""},{"$f":"IF(Tageswerte!$R$4=1,Stammdaten!H157,Stammdaten!J157)","v":""},{"$f":"IF(Tageswerte!$R$4=1,Stammdaten!I157,Stammdaten!K157)","v":""}]
[{"$f":"IF(Stammdaten!A158=\"\",\"\",Stammdaten!A158)","v":""},null,{"$f":"IF(Stammdaten!C158=\"\",\"\",Stammdaten!C158)","v":""},{"$f":"IF(Tageswerte!$R$4=1,Stammdaten!H158,Stammdaten!J158)","v":""},{"$f":"IF(Tageswerte!$R$4=1,Stammdaten!I158,Stammdaten!K158)","v":""}]
[{"$f":"IF(Stammdaten!A159=\"\",\"\",Stammdaten!A159)","v":""},null,{"$f":"IF(Stammdaten!C159=\"\",\"\",Stammdaten!C159)","v":""},{"$f":"IF(Tageswerte!$R$4=1,Stammdaten!H159,Stammdaten!J159)","v":""},{"$f":"IF(Tageswerte!$R$4=1,Stammdaten!I159,Stammdaten!K159)","v":""}]
[{"$f":"IF(Stammdaten!A160=\"\",\"\",Stammdaten!A160)","v":""},null,{"$f":"IF(Stammdaten!C160=\"\",\"\",Stammdaten!C160)","v":""},{"$f":"IF(Tageswerte!$R$4=1,Stammdaten!H160,Stammdaten!J160)","v":""},{"$f":"IF(Tageswerte!$R$4=1,Stammdaten!I160,Stammdaten!K160)","v":""}]
[{"$f":"IF(Stammdaten!A161=\"\",\"\",Stammdaten!A161)","v":""},null,{"$f":"IF(Stammdaten!C161=\"\",\"\",Stammdaten!C161)","v":""},{"$f":"IF(Tageswerte!$R$4=1,Stammdaten!H161,Stammdaten!J161)","v":""},{"$f":"IF(Tageswerte!$R$4=1,Stammdaten!I161,Stammdaten!K161)","v":""}]
[{"$f":"IF(Stammdaten!A162=\"\",\"\",Stammdaten!A162)","v":""},null,{"$f":"IF(Stammdaten!C162=\"\",\"\",Stammdaten!C162)","v":""},{"$f":"IF(Tageswerte!$R$4=1,Stammdaten!H162,Stammdaten!J162)","v":""},{"$f":"IF(Tageswerte!$R$4=1,Stammdaten!I162,Stammdaten!K162)","v":""}]
[{"$f":"IF(Stammdaten!A163=\"\",\"\",Stammdaten!A163)","v":""},null,{"$f":"IF(Stammdaten!C163=\"\",\"\",Stammdaten!C163)","v":""},{"$f":"IF(Tageswerte!$R$4=1,Stammdaten!H163,Stammdaten!J163)","v":""},{"$f":"IF(Tageswerte!$R$4=1,Stammdaten!I163,Stammdaten!K163)","v":""}]
[{"$f":"IF(Stammdaten!A164=\"\",\"\",Stammdaten!A164)","v":""},null,{"$f":"IF(Stammdaten!C164=\"\",\"\",Stammdaten!C164)","v":""},{"$f":"IF(Tageswerte!$R$4=1,Stammdaten!H164,Stammdaten!J164)","v":""},{"$f":"IF(Tageswerte!$R$4=1,Stammdaten!I164,Stammdaten!K164)","v":""}]
[{"$f":"IF(Stammdaten!A165=\"\",\"\",Stammdaten!A165)","v":""},null,{"$f":"IF(Stammdaten!C165=\"\",\"\",Stammdaten!C165)","v":""},{"$f":"IF(Tageswerte!$R$4=1,Stammdaten!H165,Stammdaten!J165)","v":""},{"$f":"IF(Tageswerte!$R$4=1,Stammdaten!I165,Stammdaten!K165)","v":""}]
[{"$f":"IF(Stammdaten!A166=\"\",\"\",Stammdaten!A166)","v":""},null,{"$f":"IF(Stammdaten!C166=\"\",\"\",Stammdaten!C166)","v":""},{"$f":"IF(Tageswerte!$R$4=1,Stammdaten!H166,Stammdaten!J166)","v":""},{"$f":"IF(Tageswerte!$R$4=1,Stammdaten!I166,Stammdaten!K166)","v":""}]
[{"$f":"IF(Stammdaten!A167=\"\",\"\",Stammdaten!A167)","v":""},null,{"$f":"IF(Stammdaten!C167=\"\",\"\",Stammdaten!C167)","v":""},{"$f":"IF(Tageswerte!$R$4=1,Stammdaten!H167,Stammdaten!J167)","v":""},{"$f":"IF(Tageswerte!$R$4=1,Stammdaten!I167,Stammdaten!K167)","v":""}]
[{"$f":"IF(Stammdaten!A168=\"\",\"\",Stammdaten!A168)","v":""},null,{"$f":"IF(Stammdaten!C168=\"\",\"\",Stammdaten!C168)","v":""},{"$f":"IF(Tageswerte!$R$4=1,Stammdaten!H168,Stammdaten!J168)","v":""},{"$f":"IF(Tageswerte!$R$4=1,Stammdaten!I168,Stammdaten!K168)","v":""}]
[{"$f":"IF(Stammdaten!A169=\"\",\"\",Stammdaten!A169)","v":""},null,{"$f":"IF(Stammdaten!C169=\"\",\"\",Stammdaten!C169)","v":""},{"$f":"IF(Tageswerte!$R$4=1,Stammdaten!H169,Stammdaten!J169)","v":""},{"$f":"IF(Tageswerte!$R$4=1,Stammdaten!I169,Stammdaten!K169)","v":""}]
[{"$f":"IF(Stammdaten!A170=\"\",\"\",Stammdaten!A170)","v":""},null,{"$f":"IF(Stammdaten!C170=\"\",\"\",Stammdaten!C170)","v":""},{"$f":"IF(Tageswerte!$R$4=1,Stammdaten!H170,Stammdaten!J170)","v":""},{"$f":"IF(Tageswerte!$R$4=1,Stammdaten!I170,Stammdaten!K170)","v":""}]
[{"$f":"IF(Stammdaten!A171=\"\",\"\",Stammdaten!A171)","v":""},null,{"$f":"IF(Stammdaten!C171=\"\",\"\",Stammdaten!C171)","v":""},{"$f":"IF(Tageswerte!$R$4=1,Stammdaten!H171,Stammdaten!J171)","v":""},{"$f":"IF(Tageswerte!$R$4=1,Stammdaten!I171,Stammdaten!K171)","v":""}]
[{"$f":"IF(Stammdaten!A172=\"\",\"\",Stammdaten!A172)","v":""},null,{"$f":"IF(Stammdaten!C172=\"\",\"\",Stammdaten!C172)","v":""},{"$f":"IF(Tageswerte!$R$4=1,Stammdaten!H172,Stammdaten!J172)","v":""},{"$f":"IF(Tageswerte!$R$4=1,Stammdaten!I172,Stammdaten!K172)","v":""}]
[{"$f":"IF(Stammdaten!A173=\"\",\"\",Stammdaten!A173)","v":""},null,{"$f":"IF(Stammdaten!C173=\"\",\"\",Stammdaten!C173)","v":""},{"$f":"IF(Tageswerte!$R$4=1,Stammdaten!H173,Stammdaten!J173)","v":""},{"$f":"IF(Tageswerte!$R$4=1,Stammdaten!I173,Stammdaten!K173)","v":""}]
[{"$f":"IF(Stammdaten!A174=\"\",\"\",Stammdaten!A174)","v":""},null,{"$f":"IF(Stammdaten!C174=\"\",\"\",Stammdaten!C174)","v":""},{"$f":"IF(Tageswerte!$R$4=1,Stammdaten!H174,Stammdaten!J174)","v":""},{"$f":"IF(Tageswerte!$R$4=1,Stammdaten!I174,Stammdaten!K174)","v":""}]
[{"$f":"IF(Stammdaten!A175=\"\",\"\",Stammdaten!A175)","v":""},null,{"$f":"IF(Stammdaten!C175=\"\",\"\",Stammdaten!C175)","v":""},{"$f":"IF(Tageswerte!$R$4=1,Stammdaten!H175,Stammdaten!J175)","v":""},{"$f":"IF(Tageswerte!$R$4=1,Stammdaten!I175,Stammdaten!K175)","v":""}]
[{"$f":"IF(Stammdaten!A176=\"\",\"\",Stammdaten!A176)","v":""},null,{"$f":"IF(Stammdaten!C176=\"\",\"\",Stammdaten!C176)","v":""},{"$f":"IF(Tageswerte!$R$4=1,Stammdaten!H176,Stammdaten!J176)","v":""},{"$f":"IF(Tageswerte!$R$4=1,Stammdaten!I176,Stammdaten!K176)","v":""}]
[{"$f":"IF(Stammdaten!A177=\"\",\"\",Stammdaten!A177)","v":""},null,{"$f":"IF(Stammdaten!C177=\"\",\"\",Stammdaten!C177)","v":""},{"$f":"IF(Tageswerte!$R$4=1,Stammdaten!H177,Stammdaten!J177)","v":""},{"$f":"IF(Tageswerte!$R$4=1,Stammdaten!I177,Stammdaten!K177)","v":""}]
[{"$f":"IF(Stammdaten!A178=\"\",\"\",Stammdaten!A178)","v":""},null,{"$f":"IF(Stammdaten!C178=\"\",\"\",Stammdaten!C178)","v":""},{"$f":"IF(Tageswerte!$R$4=1,Stammdaten!H178,Stammdaten!J178)","v":""},{"$f":"IF(Tageswerte!$R$4=1,Stammdaten!I178,Stammdaten!K178)","v":""}]
[{"$f":"IF(Stammdaten!A179=\"\",\"\",Stammdaten!A179)","v":""},null,{"$f":"IF(Stammdaten!C179=\"\",\"\",Stammdaten!C179)","v":""},{"$f":"IF(Tageswerte!$R$4=1,Stammdaten!H179,Stammdaten!J179)","v":""},{"$f":"IF(Tageswerte!$R$4=1,Stammdaten!I179,Stammdaten!K179)","v":""}]
[{"$f":"IF(Stammdaten!A180=\"\",\"\",Stammdaten!A180)","v":""},null,{"$f":"IF(Stammdaten!C180=\"\",\"\",Stammdaten!C180)","v":""},{"$f":"IF(Tageswerte!$R$4=1,Stammdaten!H180,Stammdaten!J180)","v":""},{"$f":"IF(Tageswerte!$R$4=1,Stammdaten!I180,Stammdaten!K180)","v":""}]
[{"$f":"IF(Stammdaten!A181=\"\",\"\",Stammdaten!A181)","v":""},null,{"$f":"IF(Stammdaten!C181=\"\",\"\",Stammdaten!C181)","v":""},{"$f":"IF(Tageswerte!$R$4=1,Stammdaten!H181,Stammdaten!J181)","v":""},{"$f":"IF(Tageswerte!$R$4=1,Stammdaten!I181,Stammdaten!K181)","v":""}]
[{"$f":"IF(Stammdaten!A182=\"\",\"\",Stammdaten!A182)","v":""},null,{"$f":"IF(Stammdaten!C182=\"\",\"\",Stammdaten!C182)","v":""},{"$f":"IF(Tageswerte!$R$4=1,Stammdaten!H182,Stammdaten!J182)","v":""},{"$f":"IF(Tageswerte!$R$4=1,Stammdaten!I182,Stammdaten!K182)","v":""}]
[{"$f":"IF(Stammdaten!A183=\"\",\"\",Stammdaten!A183)","v":""},null,{"$f":"IF(Stammdaten!C183=\"\",\"\",Stammdaten!C183)","v":""},{"$f":"IF(Tageswerte!$R$4=1,Stammdaten!H183,Stammdaten!J183)","v":""},{"$f":"IF(Tageswerte!$R$4=1,Stammdaten!I183,Stammdaten!K183)","v":""}]
[{"$f":"IF(Stammdaten!A184=\"\",\"\",Stammdaten!A184)","v":""},null,{"$f":"IF(Stammdaten!C184=\"\",\"\",Stammdaten!C184)","v":""},{"$f":"IF(Tageswerte!$R$4=1,Stammdaten!H184,Stammdaten!J184)","v":""},{"$f":"IF(Tageswerte!$R$4=1,Stammdaten!I184,Stammdaten!K184)","v":""}]
[{"$f":"IF(Stammdaten!A185=\"\",\"\",Stammdaten!A185)","v":""},null,{"$f":"IF(Stammdaten!C185=\"\",\"\",Stammdaten!C185)","v":""},{"$f":"IF(Tageswerte!$R$4=1,Stammdaten!H185,Stammdaten!J185)","v":""},{"$f":"IF(Tageswerte!$R$4=1,Stammdaten!I185,Stammdaten!K185)","v":""}]
[{"$f":"IF(Stammdaten!A186=\"\",\"\",Stammdaten!A186)","v":""},null,{"$f":"IF(Stammdaten!C186=\"\",\"\",Stammdaten!C186)","v":""},{"$f":"IF(Tageswerte!$R$4=1,Stammdaten!H186,Stammdaten!J186)","v":""},{"$f":"IF(Tageswerte!$R$4=1,Stammdaten!I186,Stammdaten!K186)","v":""}]
[{"$f":"IF(Stammdaten!A187=\"\",\"\",Stammdaten!A187)","v":""},null,{"$f":"IF(Stammdaten!C187=\"\",\"\",Stammdaten!C187)","v":""},{"$f":"IF(Tageswerte!$R$4=1,Stammdaten!H187,Stammdaten!J187)","v":""},{"$f":"IF(Tageswerte!$R$4=1,Stammdaten!I187,Stammdaten!K187)","v":""}]
[{"$f":"IF(Stammdaten!A188=\"\",\"\",Stammdaten!A188)","v":""},null,{"$f":"IF(Stammdaten!C188=\"\",\"\",Stammdaten!C188)","v":""},{"$f":"IF(Tageswerte!$R$4=1,Stammdaten!H188,Stammdaten!J188)","v":""},{"$f":"IF(Tageswerte!$R$4=1,Stammdaten!I188,Stammdaten!K188)","v":""}]
[{"$f":"IF(Stammdaten!A189=\"\",\"\",Stammdaten!A189)","v":""},null,{"$f":"IF(Stammdaten!C189=\"\",\"\",Stammdaten!C189)","v":""},{"$f":"IF(Tageswerte!$R$4=1,Stammdaten!H189,Stammdaten!J189)","v":""},{"$f":"IF(Tageswerte!$R$4=1,Stammdaten!I189,Stammdaten!K189)","v":""}]
[{"$f":"IF(Stammdaten!A190=\"\",\"\",Stammdaten!A190)","v":""},null,{"$f":"IF(Stammdaten!C190=\"\",\"\",Stammdaten!C190)","v":""},{"$f":"IF(Tageswerte!$R$4=1,Stammdaten!H190,Stammdaten!J190)","v":""},{"$f":"IF(Tageswerte!$R$4=1,Stammdaten!I190,Stammdaten!K190)","v":""}]
[{"$f":"IF(Stammdaten!A191=\"\",\"\",Stammdaten!A191)","v":""},null,{"$f":"IF(Stammdaten!C191=\"\",\"\",Stammdaten!C191)","v":""},{"$f":"IF(Tageswerte!$R$4=1,Stammdaten!H191,Stammdaten!J191)","v":""},{"$f":"IF(Tageswerte!$R$4=1,Stammdaten!I191,Stammdaten!K191)","v":""}]
[{"$f":"IF(Stammdaten!A192=\"\",\"\",Stammdaten!A192)","v":""},null,{"$f":"IF(Stammdaten!C192=\"\",\"\",Stammdaten!C192)","v":""},{"$f":"IF(Tageswerte!$R$4=1,Stammdaten!H192,Stammdaten!J192)","v":""},{"$f":"IF(Tageswerte!$R$4=1,Stammdaten!I192,Stammdaten!K192)","v":""}]
[{"$f":"IF(Stammdaten!A193=\"\",\"\",Stammdaten!A193)","v":""},null,{"$f":"IF(Stammdaten!C193=\"\",\"\",Stammdaten!C193)","v":""},{"$f":"IF(Tageswerte!$R$4=1,Stammdaten!H193,Stammdaten!J193)","v":""},{"$f":"IF(Tageswerte!$R$4=1,Stammdaten!I193,Stammdaten!K193)","v":""}]
[{"$f":"IF(Stammdaten!A194=\"\",\"\",Stammdaten!A194)","v":""},null,{"$f":"IF(Stammdaten!C194=\"\",\"\",Stammdaten!C194)","v":""},{"$f":"IF(Tageswerte!$R$4=1,Stammdaten!H194,Stammdaten!J194)","v":""},{"$f":"IF(Tageswerte!$R$4=1,Stammdaten!I194,Stammdaten!K194)","v":""}]
[{"$f":"IF(Stammdaten!A195=\"\",\"\",Stammdaten!A195)","v":""},null,{"$f":"IF(Stammdaten!C195=\"\",\"\",Stammdaten!C195)","v":""},{"$f":"IF(Tageswerte!$R$4=1,Stammdaten!H195,Stammdaten!J195)","v":""},{"$f":"IF(Tageswerte!$R$4=1,Stammdaten!I195,Stammdaten!K195)","v":""}]
[{"$f":"IF(Stammdaten!A196=\"\",\"\",Stammdaten!A196)","v":""},null,{"$f":"IF(Stammdaten!C196=\"\",\"\",Stammdaten!C196)","v":""},{"$f":"IF(Tageswerte!$R$4=1,Stammdaten!H196,Stammdaten!J196)","v":""},{"$f":"IF(Tageswerte!$R$4=1,Stammdaten!I196,Stammdaten!K196)","v":""}]
[{"$f":"IF(Stammdaten!A197=\"\",\"\",Stammdaten!A197)","v":""},null,{"$f":"IF(Stammdaten!C197=\"\",\"\",Stammdaten!C197)","v":""},{"$f":"IF(Tageswerte!$R$4=1,Stammdaten!H197,Stammdaten!J197)","v":""},{"$f":"IF(Tageswerte!$R$4=1,Stammdaten!I197,Stammdaten!K197)","v":""}]
[{"$f":"IF(Stammdaten!A198=\"\",\"\",Stammdaten!A198)","v":""},null,{"$f":"IF(Stammdaten!C198=\"\",\"\",Stammdaten!C198)","v":""},{"$f":"IF(Tageswerte!$R$4=1,Stammdaten!H198,Stammdaten!J198)","v":""},{"$f":"IF(Tageswerte!$R$4=1,Stammdaten!I198,Stammdaten!K198)","v":""}]
[{"$f":"IF(Stammdaten!A199=\"\",\"\",Stammdaten!A199)","v":""},null,{"$f":"IF(Stammdaten!C199=\"\",\"\",Stammdaten!C199)","v":""},{"$f":"IF(Tageswerte!$R$4=1,Stammdaten!H199,Stammdaten!J199)","v":""},{"$f":"IF(Tageswerte!$R$4=1,Stammdaten!I199,Stammdaten!K199)","v":""}]
[{"$f":"IF(Stammdaten!A200=\"\",\"\",Stammdaten!A200)","v":""},null,{"$f":"IF(Stammdaten!C200=\"\",\"\",Stammdaten!C200)","v":""},{"$f":"IF(Tageswerte!$R$4=1,Stammdaten!H200,Stammdaten!J200)","v":""},{"$f":"IF(Tageswerte!$R$4=1,Stammdaten!I200,Stammdaten!K200)","v":""}]
[{"$f":"IF(Stammdaten!A201=\"\",\"\",Stammdaten!A201)","v":""},null,{"$f":"IF(Stammdaten!C201=\"\",\"\",Stammdaten!C201)","v":""},{"$f":"IF(Tageswerte!$R$4=1,Stammdaten!H201,Stammdaten!J201)","v":""},{"$f":"IF(Tageswerte!$R$4=1,Stammdaten!I201,Stammdaten!K201)","v":""}]
[{"$f":"IF(Stammdaten!A202=\"\",\"\",Stammdaten!A202)","v":""},null,{"$f":"IF(Stammdaten!C202=\"\",\"\",Stammdaten!C202)","v":""},{"$f":"IF(Tageswerte!$R$4=1,Stammdaten!H202,Stammdaten!J202)","v":""},{"$f":"IF(Tageswerte!$R$4=1,Stammdaten!I202,Stammdaten!K202)","v":""}]
[{"$f":"IF(Stammdaten!A203=\"\",\"\",Stammdaten!A203)","v":""},null,{"$f":"IF(Stammdaten!C203=\"\",\"\",Stammdaten!C203)","v":""},{"$f":"IF(Tageswerte!$R$4=1,Stammdaten!H203,Stammdaten!J203)","v":""},{"$f":"IF(Tageswerte!$R$4=1,Stammdaten!I203,Stammdaten!K203)","v":""}]
[{"$f":"IF(Stammdaten!A204=\"\",\"\",Stammdaten!A204)","v":""},null,{"$f":"IF(Stammdaten!C204=\"\",\"\",Stammdaten!C204)","v":""},{"$f":"IF(Tageswerte!$R$4=1,Stammdaten!H204,Stammdaten!J204)","v":""},{"$f":"IF(Tageswerte!$R$4=1,Stammdaten!I204,Stammdaten!K204)","v":""}]
[{"$f":"IF(Stammdaten!A205=\"\",\"\",Stammdaten!A205)","v":""},null,{"$f":"IF(Stammdaten!C205=\"\",\"\",Stammdaten!C205)","v":""},{"$f":"IF(Tageswerte!$R$4=1,Stammdaten!H205,Stammdaten!J205)","v":""},{"$f":"IF(Tageswerte!$R$4=1,Stammdaten!I205,Stammdaten!K205)","v":""}]
[{"$f":"IF(Stammdaten!A206=\"\",\"\",Stammdaten!A206)","v":""},null,{"$f":"IF(Stammdaten!C206=\"\",\"\",Stammdaten!C206)","v":""},{"$f":"IF(Tageswerte!$R$4=1,Stammdaten!H206,Stammdaten!J206)","v":""},{"$f":"IF(Tageswerte!$R$4=1,Stammdaten!I206,Stammdaten!K206)","v":""}]
[{"$f":"IF(Stammdaten!A207=\"\",\"\",Stammdaten!A207)","v":""},null,{"$f":"IF(Stammdaten!C207=\"\",\"\",Stammdaten!C207)","v":""},{"$f":"IF(Tageswerte!$R$4=1,Stammdaten!H207,Stammdaten!J207)","v":""},{"$f":"IF(Tageswerte!$R$4=1,Stammdaten!I207,Stammdaten!K207)","v":""}]
[{"$f":"IF(Stammdaten!A208=\"\",\"\",Stammdaten!A208)","v":""},null,{"$f":"IF(Stammdaten!C208=\"\",\"\",Stammdaten!C208)","v":""},{"$f":"IF(Tageswerte!$R$4=1,Stammdaten!H208,Stammdaten!J208)","v":""},{"$f":"IF(Tageswerte!$R$4=1,Stammdaten!I208,Stammdaten!K208)","v":""}]
[{"$f":"IF(Stammdaten!A209=\"\",\"\",Stammdaten!A209)","v":""},null,{"$f":"IF(Stammdaten!C209=\"\",\"\",Stammdaten!C209)","v":""},{"$f":"IF(Tageswerte!$R$4=1,Stammdaten!H209,Stammdaten!J209)","v":""},{"$f":"IF(Tageswerte!$R$4=1,Stammdaten!I209,Stammdaten!K209)","v":""}]
[{"$f":"IF(Stammdaten!A210=\"\",\"\",Stammdaten!A210)","v":""},null,{"$f":"IF(Stammdaten!C210=\"\",\"\",Stammdaten!C210)","v":""},{"$f":"IF(Tageswerte!$R$4=1,Stammdaten!H210,Stammdaten!J210)","v":""},{"$f":"IF(Tageswerte!$R$4=1,Stammdaten!I210,Stammdaten!K210)","v":""}]
[{"$f":"IF(Stammdaten!A211=\"\",\"\",Stammdaten!A211)","v":""},null,{"$f":"IF(Stammdaten!C211=\"\",\"\",Stammdaten!C211)","v":""},{"$f":"IF(Tageswerte!$R$4=1,Stammdaten!H211,Stammdaten!J211)","v":""},{"$f":"IF(Tageswerte!$R$4=1,Stammdaten!I211,Stammdaten!K211)","v":""}]
[{"$f":"IF(Stammdaten!A212=\"\",\"\",Stammdaten!A212)","v":""},null,{"$f":"IF(Stammdaten!C212=\"\",\"\",Stammdaten!C212)","v":""},{"$f":"IF(Tageswerte!$R$4=1,Stammdaten!H212,Stammdaten!J212)","v":""},{"$f":"IF(Tageswerte!$R$4=1,Stammdaten!I212,Stammdaten!K212)","v":""}]
[{"$f":"IF(Stammdaten!A213=\"\",\"\",Stammdaten!A213)","v":""},null,{"$f":"IF(Stammdaten!C213=\"\",\"\",Stammdaten!C213)","v":""},{"$f":"IF(Tageswerte!$R$4=1,Stammdaten!H213,Stammdaten!J213)","v":""},{"$f":"IF(Tageswerte!$R$4=1,Stammdaten!I213,Stammdaten!K213)","v":""}]
[{"$f":"IF(Stammdaten!A214=\"\",\"\",Stammdaten!A214)","v":""},null,{"$f":"IF(Stammdaten!C214=\"\",\"\",Stammdaten!C214)","v":""},{"$f":"IF(Tageswerte!$R$4=1,Stammdaten!H214,Stammdaten!J214)","v":""},{"$f":"IF(Tageswerte!$R$4=1,Stammdaten!I214,Stammdaten!K214)","v":""}]
[{"$f":"IF(Stammdaten!A215=\"\",\"\",Stammdaten!A215)","v":""},null,{"$f":"IF(Stammdaten!C215=\"\",\"\",Stammdaten!C215)","v":""},{"$f":"IF(Tageswerte!$R$4=1,Stammdaten!H215,Stammdaten!J215)","v":""},{"$f":"IF(Tageswerte!$R$4=1,Stammdaten!I215,Stammdaten!K215)","v":""}]
[{"$f":"IF(Stammdaten!A216=\"\",\"\",Stammdaten!A216)","v":""},null,{"$f":"IF(Stammdaten!C216=\"\",\"\",Stammdaten!C216)","v":""},{"$f":"IF(Tageswerte!$R$4=1,Stammdaten!H216,Stammdaten!J216)","v":""},{"$f":"IF(Tageswerte!$R$4=1,Stammdaten!I216,Stammdaten!K216)","v":""}]
[{"$f":"IF(Stammdaten!A217=\"\",\"\",Stammdaten!A217)","v":""},null,{"$f":"IF(Stammdaten!C217=\"\",\"\",Stammdaten!C217)","v":""},{"$f":"IF(Tageswerte!$R$4=1,Stammdaten!H217,Stammdaten!J217)","v":""},{"$f":"IF(Tageswerte!$R$4=1,Stammdaten!I217,Stammdaten!K217)","v":""}]
[{"$f":"IF(Stammdaten!A218=\"\",\"\",Stammdaten!A218)","v":""},null,{"$f":"IF(Stammdaten!C218=\"\",\"\",Stammdaten!C218)","v":""},{"$f":"IF(Tageswerte!$R$4=1,Stammdaten!H218,Stammdaten!J218)","v":""},{"$f":"IF(Tageswerte!$R$4=1,Stammdaten!I218,Stammdaten!K218)","v":""}]
[{"$f":"IF(Stammdaten!A219=\"\",\"\",Stammdaten!A219)","v":""},null,{"$f":"IF(Stammdaten!C219=\"\",\"\",Stammdaten!C219)","v":""},{"$f":"IF(Tageswerte!$R$4=1,Stammdaten!H219,Stammdaten!J219)","v":""},{"$f":"IF(Tageswerte!$R$4=1,Stammdaten!I219,Stammdaten!K219)","v":""}]
[{"$f":"IF(Stammdaten!A220=\"\",\"\",Stammdaten!A220)","v":""},null,{"$f":"IF(Stammdaten!C220=\"\",\"\",Stammdaten!C220)","v":""},{"$f":"IF(Tageswerte!$R$4=1,Stammdaten!H220,Stammdaten!J220)","v":""},{"$f":"IF(Tageswerte!$R$4=1,Stammdaten!I220,Stammdaten!K220)","v":""}]
[{"$f":"IF(Stammdaten!A221=\"\",\"\",Stammdaten!A221)","v":""},null,{"$f":"IF(Stammdaten!C221=\"\",\"\",Stammdaten!C221)","v":""},{"$f":"IF(Tageswerte!$R$4=1,Stammdaten!H221,Stammdaten!J221)","v":""},{"$f":"IF(Tageswerte!$R$4=1,Stammdaten!I221,Stammdaten!K221)","v":""}]
[{"$f":"IF(Stammdaten!A222=\"\",\"\",Stammdaten!A222)","v":""},null,{"$f":"IF(Stammdaten!C222=\"\",\"\",Stammdaten!C222)","v":""},{"$f":"IF(Tageswerte!$R$4=1,Stammdaten!H222,Stammdaten!J222)","v":""},{"$f":"IF(Tageswerte!$R$4=1,Stammdaten!I222,Stammdaten!K222)","v":""}]
[{"$f":"IF(Stammdaten!A223=\"\",\"\",Stammdaten!A223)","v":""},null,{"$f":"IF(Stammdaten!C223=\"\",\"\",Stammdaten!C223)","v":""},{"$f":"IF(Tageswerte!$R$4=1,Stammdaten!H223,Stammdaten!J223)","v":""},{"$f":"IF(Tageswerte!$R$4=1,Stammdaten!I223,Stammdaten!K223)","v":""}]
[{"$f":"IF(Stammdaten!A224=\"\",\"\",Stammdaten!A224)","v":""},null,{"$f":"IF(Stammdaten!C224=\"\",\"\",Stammdaten!C224)","v":""},{"$f":"IF(Tageswerte!$R$4=1,Stammdaten!H224,Stammdaten!J224)","v":""},{"$f":"IF(Tageswerte!$R$4=1,Stammdaten!I224,Stammdaten!K224)","v":""}]
[{"$f":"IF(Stammdaten!A225=\"\",\"\",Stammdaten!A225)","v":""},null,{"$f":"IF(Stammdaten!C225=\"\",\"\",Stammdaten!C225)","v":""},{"$f":"IF(Tageswerte!$R$4=1,Stammdaten!H225,Stammdaten!J225)","v":""},{"$f":"IF(Tageswerte!$R$4=1,Stammdaten!I225,Stammdaten!K225)","v":""}]
[{"$f":"IF(Stammdaten!A226=\"\",\"\",Stammdaten!A226)","v":""},null,{"$f":"IF(Stammdaten!C226=\"\",\"\",Stammdaten!C226)","v":""},{"$f":"IF(Tageswerte!$R$4=1,Stammdaten!H226,Stammdaten!J226)","v":""},{"$f":"IF(Tageswerte!$R$4=1,Stammdaten!I226,Stammdaten!K226)","v":""}]
[{"$f":"IF(Stammdaten!A227=\"\",\"\",Stammdaten!A227)","v":""},null,{"$f":"IF(Stammdaten!C227=\"\",\"\",Stammdaten!C227)","v":""},{"$f":"IF(Tageswerte!$R$4=1,Stammdaten!H227,Stammdaten!J227)","v":""},{"$f":"IF(Tageswerte!$R$4=1,Stammdaten!I227,Stammdaten!K227)","v":""}]
[{"$f":"IF(Stammdaten!A228=\"\",\"\",Stammdaten!A228)","v":""},null,{"$f":"IF(Stammdaten!C228=\"\",\"\",Stammdaten!C228)","v":""},{"$f":"IF(Tageswerte!$R$4=1,Stammdaten!H228,Stammdaten!J228)","v":""},{"$f":"IF(Tageswerte!$R$4=1,Stammdaten!I228,Stammdaten!K228)","v":""}]
[{"$f":"IF(Stammdaten!A229=\"\",\"\",Stammdaten!A229)","v":""},null,{"$f":"IF(Stammdaten!C229=\"\",\"\",Stammdaten!C229)","v":""},{"$f":"IF(Tageswerte!$R$4=1,Stammdaten!H229,Stammdaten!J229)","v":""},{"$f":"IF(Tageswerte!$R$4=1,Stammdaten!I229,Stammdaten!K229)","v":""}]
[{"$f":"IF(Stammdaten!A230=\"\",\"\",Stammdaten!A230)","v":""},null,{"$f":"IF(Stammdaten!C230=\"\",\"\",Stammdaten!C230)","v":""},{"$f":"IF(Tageswerte!$R$4=1,Stammdaten!H230,Stammdaten!J230)","v":""},{"$f":"IF(Tageswerte!$R$4=1,Stammdaten!I230,Stammdaten!K230)","v":""}]
[{"$f":"IF(Stammdaten!A231=\"\",\"\",Stammdaten!A231)","v":""},null,{"$f":"IF(Stammdaten!C231=\"\",\"\",Stammdaten!C231)","v":""},{"$f":"IF(Tageswerte!$R$4=1,Stammdaten!H231,Stammdaten!J231)","v":""},{"$f":"IF(Tageswerte!$R$4=1,Stammdaten!I231,Stammdaten!K231)","v":""}]
[{"$f":"IF(Stammdaten!A232=\"\",\"\",Stammdaten!A232)","v":""},null,{"$f":"IF(Stammdaten!C232=\"\",\"\",Stammdaten!C232)","v":""},{"$f":"IF(Tageswerte!$R$4=1,Stammdaten!H232,Stammdaten!J232)","v":""},{"$f":"IF(Tageswerte!$R$4=1,Stammdaten!I232,Stammdaten!K232)","v":""}]
[{"$f":"IF(Stammdaten!A233=\"\",\"\",Stammdaten!A233)","v":""},null,{"$f":"IF(Stammdaten!C233=\"\",\"\",Stammdaten!C233)","v":""},{"$f":"IF(Tageswerte!$R$4=1,Stammdaten!H233,Stammdaten!J233)","v":""},{"$f":"IF(Tageswerte!$R$4=1,Stammdaten!I233,Stammdaten!K233)","v":""}]
[{"$f":"IF(Stammdaten!A234=\"\",\"\",Stammdaten!A234)","v":""},null,{"$f":"IF(Stammdaten!C234=\"\",\"\",Stammdaten!C234)","v":""},{"$f":"IF(Tageswerte!$R$4=1,Stammdaten!H234,Stammdaten!J234)","v":""},{"$f":"IF(Tageswerte!$R$4=1,Stammdaten!I234,Stammdaten!K234)","v":""}]
[{"$f":"IF(Stammdaten!A235=\"\",\"\",Stammdaten!A235)","v":""},null,{"$f":"IF(Stammdaten!C235=\"\",\"\",Stammdaten!C235)","v":""},{"$f":"IF(Tageswerte!$R$4=1,Stammdaten!H235,Stammdaten!J235)","v":""},{"$f":"IF(Tageswerte!$R$4=1,Stammdaten!I235,Stammdaten!K235)","v":""}]
[{"$f":"IF(Stammdaten!A236=\"\",\"\",Stammdaten!A236)","v":""},null,{"$f":"IF(Stammdaten!C236=\"\",\"\",Stammdaten!C236)","v":""},{"$f":"IF(Tageswerte!$R$4=1,Stammdaten!H236,Stammdaten!J236)","v":""},{"$f":"IF(Tageswerte!$R$4=1,Stammdaten!I236,Stammdaten!K236)","v":""}]
[{"$f":"IF(Stammdaten!A237=\"\",\"\",Stammdaten!A237)","v":""},null,{"$f":"IF(Stammdaten!C237=\"\",\"\",Stammdaten!C237)","v":""},{"$f":"IF(Tageswerte!$R$4=1,Stammdaten!H237,Stammdaten!J237)","v":""},{"$f":"IF(Tageswerte!$R$4=1,Stammdaten!I237,Stammdaten!K237)","v":""}]
[{"$f":"IF(Stammdaten!A238=\"\",\"\",Stammdaten!A238)","v":""},null,{"$f":"IF(Stammdaten!C238=\"\",\"\",Stammdaten!C238)","v":""},{"$f":"IF(Tageswerte!$R$4=1,Stammdaten!H238,Stammdaten!J238)","v":""},{"$f":"IF(Tageswerte!$R$4=1,Stammdaten!I238,Stammdaten!K238)","v":""}]
[{"$f":"IF(Stammdaten!A239=\"\",\"\",Stammdaten!A239)","v":""},null,{"$f":"IF(Stammdaten!C239=\"\",\"\",Stammdaten!C239)","v":""},{"$f":"IF(Tageswerte!$R$4=1,Stammdaten!H239,Stammdaten!J239)","v":""},{"$f":"IF(Tageswerte!$R$4=1,Stammdaten!I239,Stammdaten!K239)","v":""}]
[{"$f":"IF(Stammdaten!A240=\"\",\"\",Stammdaten!A240)","v":""},null,{"$f":"IF(Stammdaten!C240=\"\",\"\",Stammdaten!C240)","v":""},{"$f":"IF(Tageswerte!$R$4=1,Stammdaten!H240,Stammdaten!J240)","v":""},{"$f":"IF(Tageswerte!$R$4=1,Stammdaten!I240,Stammdaten!K240)","v":""}]
[{"$f":"IF(Stammdaten!A241=\"\",\"\",Stammdaten!A241)","v":""},null,{"$f":"IF(Stammdaten!C241=\"\",\"\",Stammdaten!C241)","v":""},{"$f":"IF(Tageswerte!$R$4=1,Stammdaten!H241,Stammdaten!J241)","v":""},{"$f":"IF(Tageswerte!$R$4=1,Stammdaten!I241,Stammdaten!K241)","v":""}]
[{"$f":"IF(Stammdaten!A242=\"\",\"\",Stammdaten!A242)","v":""},null,{"$f":"IF(Stammdaten!C242=\"\",\"\",Stammdaten!C242)","v":""},{"$f":"IF(Tageswerte!$R$4=1,Stammdaten!H242,Stammdaten!J242)","v":""},{"$f":"IF(Tageswerte!$R$4=1,Stammdaten!I242,Stammdaten!K242)","v":""}]
[{"$f":"IF(Stammdaten!A243=\"\",\"\",Stammdaten!A243)","v":""},null,{"$f":"IF(Stammdaten!C243=\"\",\"\",Stammdaten!C243)","v":""},{"$f":"IF(Tageswerte!$R$4=1,Stammdaten!H243,Stammdaten!J243)","v":""},{"$f":"IF(Tageswerte!$R$4=1,Stammdaten!I243,Stammdaten!K243)","v":""}]
[{"$f":"IF(Stammdaten!A244=\"\",\"\",Stammdaten!A244)","v":""},null,{"$f":"IF(Stammdaten!C244=\"\",\"\",Stammdaten!C244)","v":""},{"$f":"IF(Tageswerte!$R$4=1,Stammdaten!H244,Stammdaten!J244)","v":""},{"$f":"IF(Tageswerte!$R$4=1,Stammdaten!I244,Stammdaten!K244)","v":""}]
[{"$f":"IF(Stammdaten!A245=\"\",\"\",Stammdaten!A245)","v":""},null,{"$f":"IF(Stammdaten!C245=\"\",\"\",Stammdaten!C245)","v":""},{"$f":"IF(Tageswerte!$R$4=1,Stammdaten!H245,Stammdaten!J245)","v":""},{"$f":"IF(Tageswerte!$R$4=1,Stammdaten!I245,Stammdaten!K245)","v":""}]
[{"$f":"IF(Stammdaten!A246=\"\",\"\",Stammdaten!A246)","v":""},null,{"$f":"IF(Stammdaten!C246=\"\",\"\",Stammdaten!C246)","v":""},{"$f":"IF(Tageswerte!$R$4=1,Stammdaten!H246,Stammdaten!J246)","v":""},{"$f":"IF(Tageswerte!$R$4=1,Stammdaten!I246,Stammdaten!K246)","v":""}]
[{"$f":"IF(Stammdaten!A247=\"\",\"\",Stammdaten!A247)","v":""},null,{"$f":"IF(Stammdaten!C247=\"\",\"\",Stammdaten!C247)","v":""},{"$f":"IF(Tageswerte!$R$4=1,Stammdaten!H247,Stammdaten!J247)","v":""},{"$f":"IF(Tageswerte!$R$4=1,Stammdaten!I247,Stammdaten!K247)","v":""}]
[{"$f":"IF(Stammdaten!A248=\"\",\"\",Stammdaten!A248)","v":""},null,{"$f":"IF(Stammdaten!C248=\"\",\"\",Stammdaten!C248)","v":""},{"$f":"IF(Tageswerte!$R$4=1,Stammdaten!H248,Stammdaten!J248)","v":""},{"$f":"IF(Tageswerte!$R$4=1,Stammdaten!I248,Stammdaten!K248)","v":""}]
[{"$f":"IF(Stammdaten!A249=\"\",\"\",Stammdaten!A249)","v":""},null,{"$f":"IF(Stammdaten!C249=\"\",\"\",Stammdaten!C249)","v":""},{"$f":"IF(Tageswerte!$R$4=1,Stammdaten!H249,Stammdaten!J249)","v":""},{"$f":"IF(Tageswerte!$R$4=1,Stammdaten!I249,Stammdaten!K249)","v":""}]
[{"$f":"IF(Stammdaten!A250=\"\",\"\",Stammdaten!A250)","v":""},null,{"$f":"IF(Stammdaten!C250=\"\",\"\",Stammdaten!C250)","v":""},{"$f":"IF(Tageswerte!$R$4=1,Stammdaten!H250,Stammdaten!J250)","v":""},{"$f":"IF(Tageswerte!$R$4=1,Stammdaten!I250,Stammdaten!K250)","v":""}]
[{"$f":"IF(Stammdaten!A251=\"\",\"\",Stammdaten!A251)","v":""},null,{"$f":"IF(Stammdaten!C251=\"\",\"\",Stammdaten!C251)","v":""},{"$f":"IF(Tageswerte!$R$4=1,Stammdaten!H251,Stammdaten!J251)","v":""},{"$f":"IF(Tageswerte!$R$4=1,Stammdaten!I251,Stammdaten!K251)","v":""}]
[{"$f":"IF(Stammdaten!A252=\"\",\"\",Stammdaten!A252)","v":""},null,{"$f":"IF(Stammdaten!C252=\"\",\"\",Stammdaten!C252)","v":""},{"$f":"IF(Tageswerte!$R$4=1,Stammdaten!H252,Stammdaten!J252)","v":""},{"$f":"IF(Tageswerte!$R$4=1,Stammdaten!I252,Stammdaten!K252)","v":""}]
[{"$f":"IF(Stammdaten!A253=\"\",\"\",Stammdaten!A253)","v":""},null,{"$f":"IF(Stammdaten!C253=\"\",\"\",Stammdaten!C253)","v":""},{"$f":"IF(Tageswerte!$R$4=1,Stammdaten!H253,Stammdaten!J253)","v":""},{"$f":"IF(Tageswerte!$R$4=1,Stammdaten!I253,Stammdaten!K253)","v":""}]
[{"$f":"IF(Stammdaten!A254=\"\",\"\",Stammdaten!A254)","v":""},null,{"$f":"IF(Stammdaten!C254=\"\",\"\",Stammdaten!C254)","v":""},{"$f":"IF(Tageswerte!$R$4=1,Stammdaten!H254,Stammdaten!J254)","v":""},{"$f":"IF(Tageswerte!$R$4=1,Stammdaten!I254,Stammdaten!K254)","v":""}]
[{"$f":"IF(Stammdaten!A255=\"\",\"\",Stammdaten!A255)","v":""},null,{"$f":"IF(Stammdaten!C255=\"\",\"\",Stammdaten!C255)","v":""},{"$f":"IF(Tageswerte!$R$4=1,Stammdaten!H255,Stammdaten!J255)","v":""},{"$f":"IF(Tageswerte!$R$4=1,Stammdaten!I255,Stammdaten!K255)","v":""}]
[{"$f":"IF(Stammdaten!A256=\"\",\"\",Stammdaten!A256)","v":""},null,{"$f":"IF(Stammdaten!C256=\"\",\"\",Stammdaten!C256)","v":""},{"$f":"IF(Tageswerte!$R$4=1,Stammdaten!H256,Stammdaten!J256)","v":""},{"$f":"IF(Tageswerte!$R$4=1,Stammdaten!I256,Stammdaten!K256)","v":""}]
[{"$f":"IF(Stammdaten!A257=\"\",\"\",Stammdaten!A257)","v":""},null,{"$f":"IF(Stammdaten!C257=\"\",\"\",Stammdaten!C257)","v":""},{"$f":"IF(Tageswerte!$R$4=1,Stammdaten!H257,Stammdaten!J257)","v":""},{"$f":"IF(Tageswerte!$R$4=1,Stammdaten!I257,Stammdaten!K257)","v":""}]
[{"$f":"IF(Stammdaten!A258=\"\",\"\",Stammdaten!A258)","v":""},null,{"$f":"IF(Stammdaten!C258=\"\",\"\",Stammdaten!C258)","v":""},{"$f":"IF(Tageswerte!$R$4=1,Stammdaten!H258,Stammdaten!J258)","v":""},{"$f":"IF(Tageswerte!$R$4=1,Stammdaten!I258,Stammdaten!K258)","v":""}]
[{"$f":"IF(Stammdaten!A259=\"\",\"\",Stammdaten!A259)","v":""},null,{"$f":"IF(Stammdaten!C259=\"\",\"\",Stammdaten!C259)","v":""},{"$f":"IF(Tageswerte!$R$4=1,Stammdaten!H259,Stammdaten!J259)","v":""},{"$f":"IF(Tageswerte!$R$4=1,Stammdaten!I259,Stammdaten!K259)","v":""}]
[{"$f":"IF(Stammdaten!A260=\"\",\"\",Stammdaten!A260)","v":""},null,{"$f":"IF(Stammdaten!C260=\"\",\"\",Stammdaten!C260)","v":""},{"$f":"IF(Tageswerte!$R$4=1,Stammdaten!H260,Stammdaten!J260)","v":""},{"$f":"IF(Tageswerte!$R$4=1,Stammdaten!I260,Stammdaten!K260)","v":""}]
[{"$f":"IF(Stammdaten!A261=\"\",\"\",Stammdaten!A261)","v":""},null,{"$f":"IF(Stammdaten!C261=\"\",\"\",Stammdaten!C261)","v":""},{"$f":"IF(Tageswerte!$R$4=1,Stammdaten!H261,Stammdaten!J261)","v":""},{"$f":"IF(Tageswerte!$R$4=1,Stammdaten!I261,Stammdaten!K261)","v":""}]
[{"$f":"IF(Stammdaten!A262=\"\",\"\",Stammdaten!A262)","v":""},null,{"$f":"IF(Stammdaten!C262=\"\",\"\",Stammdaten!C262)","v":""},{"$f":"IF(Tageswerte!$R$4=1,Stammdaten!H262,Stammdaten!J262)","v":""},{"$f":"IF(Tageswerte!$R$4=1,Stammdaten!I262,Stammdaten!K262)","v":""}]
[{"$f":"IF(Stammdaten!A263=\"\",\"\",Stammdaten!A263)","v":""},null,{"$f":"IF(Stammdaten!C263=\"\",\"\",Stammdaten!C263)","v":""},{"$f":"IF(Tageswerte!$R$4=1,Stammdaten!H263,Stammdaten!J263)","v":""},{"$f":"IF(Tageswerte!$R$4=1,Stammdaten!I263,Stammdaten!K263)","v":""}]
[{"$f":"IF(Stammdaten!A264=\"\",\"\",Stammdaten!A264)","v":""},null,{"$f":"IF(Stammdaten!C264=\"\",\"\",Stammdaten!C264)","v":""},{"$f":"IF(Tageswerte!$R$4=1,Stammdaten!H264,Stammdaten!J264)","v":""},{"$f":"IF(Tageswerte!$R$4=1,Stammdaten!I264,Stammdaten!K264)","v":""}]
[{"$f":"IF(Stammdaten!A265=\"\",\"\",Stammdaten!A265)","v":""},null,{"$f":"IF(Stammdaten!C265=\"\",\"\",Stammdaten!C265)","v":""},{"$f":"IF(Tageswerte!$R$4=1,Stammdaten!H265,Stammdaten!J265)","v":""},{"$f":"IF(Tageswerte!$R$4=1,Stammdaten!I265,Stammdaten!K265)","v":""}]
[{"$f":"IF(Stammdaten!A266=\"\",\"\",Stammdaten!A266)","v":""},null,{"$f":"IF(Stammdaten!C266=\"\",\"\",Stammdaten!C266)","v":""},{"$f":"IF(Tageswerte!$R$4=1,Stammdaten!H266,Stammdaten!J266)","v":""},{"$f":"IF(Tageswerte!$R$4=1,Stammdaten!I266,Stammdaten!K266)","v":""}]
[{"$f":"IF(Stammdaten!A267=\"\",\"\",Stammdaten!A267)","v":""},null,{"$f":"IF(Stammdaten!C267=\"\",\"\",Stammdaten!C267)","v":""},{"$f":"IF(Tageswerte!$R$4=1,Stammdaten!H267,Stammdaten!J267)","v":""},{"$f":"IF(Tageswerte!$R$4=1,Stammdaten!I267,Stammdaten!K267)","v":""}]
[{"$f":"IF(Stammdaten!A268=\"\",\"\",Stammdaten!A268)","v":""},null,{"$f":"IF(Stammdaten!C268=\"\",\"\",Stammdaten!C268)","v":""},{"$f":"IF(Tageswerte!$R$4=1,Stammdaten!H268,Stammdaten!J268)","v":""},{"$f":"IF(Tageswerte!$R$4=1,Stammdaten!I268,Stammdaten!K268)","v":""}]
[{"$f":"IF(Stammdaten!A269=\"\",\"\",Stammdaten!A269)","v":""},null,{"$f":"IF(Stammdaten!C269=\"\",\"\",Stammdaten!C269)","v":""},{"$f":"IF(Tageswerte!$R$4=1,Stammdaten!H269,Stammdaten!J269)","v":""},{"$f":"IF(Tageswerte!$R$4=1,Stammdaten!I269,Stammdaten!K269)","v":""}]
[{"$f":"IF(Stammdaten!A270=\"\",\"\",Stammdaten!A270)","v":""},null,{"$f":"IF(Stammdaten!C270=\"\",\"\",Stammdaten!C270)","v":""},{"$f":"IF(Tageswerte!$R$4=1,Stammdaten!H270,Stammdaten!J270)","v":""},{"$f":"IF(Tageswerte!$R$4=1,Stammdaten!I270,Stammdaten!K270)","v":""}]
[{"$f":"IF(Stammdaten!A271=\"\",\"\",Stammdaten!A271)","v":""},null,{"$f":"IF(Stammdaten!C271=\"\",\"\",Stammdaten!C271)","v":""},{"$f":"IF(Tageswerte!$R$4=1,Stammdaten!H271,Stammdaten!J271)","v":""},{"$f":"IF(Tageswerte!$R$4=1,Stammdaten!I271,Stammdaten!K271)","v":""}]
[{"$f":"IF(Stammdaten!A272=\"\",\"\",Stammdaten!A272)","v":""},null,{"$f":"IF(Stammdaten!C272=\"\",\"\",Stammdaten!C272)","v":""},{"$f":"IF(Tageswerte!$R$4=1,Stammdaten!H272,Stammdaten!J272)","v":""},{"$f":"IF(Tageswerte!$R$4=1,Stammdaten!I272,Stammdaten!K272)","v":""}]
[{"$f":"IF(Stammdaten!A273=\"\",\"\",Stammdaten!A273)","v":""},null,{"$f":"IF(Stammdaten!C273=\"\",\"\",Stammdaten!C273)","v":""},{"$f":"IF(Tageswerte!$R$4=1,Stammdaten!H273,Stammdaten!J273)","v":""},{"$f":"IF(Tageswerte!$R$4=1,Stammdaten!I273,Stammdaten!K273)","v":""}]
[{"$f":"IF(Stammdaten!A274=\"\",\"\",Stammdaten!A274)","v":""},null,{"$f":"IF(Stammdaten!C274=\"\",\"\",Stammdaten!C274)","v":""},{"$f":"IF(Tageswerte!$R$4=1,Stammdaten!H274,Stammdaten!J274)","v":""},{"$f":"IF(Tageswerte!$R$4=1,Stammdaten!I274,Stammdaten!K274)","v":""}]
[{"$f":"IF(Stammdaten!A275=\"\",\"\",Stammdaten!A275)","v":""},null,{"$f":"IF(Stammdaten!C275=\"\",\"\",Stammdaten!C275)","v":""},{"$f":"IF(Tageswerte!$R$4=1,Stammdaten!H275,Stammdaten!J275)","v":""},{"$f":"IF(Tageswerte!$R$4=1,Stammdaten!I275,Stammdaten!K275)","v":""}]
[{"$f":"IF(Stammdaten!A276=\"\",\"\",Stammdaten!A276)","v":""},null,{"$f":"IF(Stammdaten!C276=\"\",\"\",Stammdaten!C276)","v":""},{"$f":"IF(Tageswerte!$R$4=1,Stammdaten!H276,Stammdaten!J276)","v":""},{"$f":"IF(Tageswerte!$R$4=1,Stammdaten!I276,Stammdaten!K276)","v":""}]
[{"$f":"IF(Stammdaten!A277=\"\",\"\",Stammdaten!A277)","v":""},null,{"$f":"IF(Stammdaten!C277=\"\",\"\",Stammdaten!C277)","v":""},{"$f":"IF(Tageswerte!$R$4=1,Stammdaten!H277,Stammdaten!J277)","v":""},{"$f":"IF(Tageswerte!$R$4=1,Stammdaten!I277,Stammdaten!K277)","v":""}]
[{"$f":"IF(Stammdaten!A278=\"\",\"\",Stammdaten!A278)","v":""},null,{"$f":"IF(Stammdaten!C278=\"\",\"\",Stammdaten!C278)","v":""},{"$f":"IF(Tageswerte!$R$4=1,Stammdaten!H278,Stammdaten!J278)","v":""},{"$f":"IF(Tageswerte!$R$4=1,Stammdaten!I278,Stammdaten!K278)","v":""}]
[{"$f":"IF(Stammdaten!A279=\"\",\"\",Stammdaten!A279)","v":""},null,{"$f":"IF(Stammdaten!C279=\"\",\"\",Stammdaten!C279)","v":""},{"$f":"IF(Tageswerte!$R$4=1,Stammdaten!H279,Stammdaten!J279)","v":""},{"$f":"IF(Tageswerte!$R$4=1,Stammdaten!I279,Stammdaten!K279)","v":""}]
[{"$f":"IF(Stammdaten!A280=\"\",\"\",Stammdaten!A280)","v":""},null,{"$f":"IF(Stammdaten!C280=\"\",\"\",Stammdaten!C280)","v":""},{"$f":"IF(Tageswerte!$R$4=1,Stammdaten!H280,Stammdaten!J280)","v":""},{"$f":"IF(Tageswerte!$R$4=1,Stammdaten!I280,Stammdaten!K280)","v":""}]
[{"$f":"IF(Stammdaten!A281=\"\",\"\",Stammdaten!A281)","v":""},null,{"$f":"IF(Stammdaten!C281=\"\",\"\",Stammdaten!C281)","v":""},{"$f":"IF(Tageswerte!$R$4=1,Stammdaten!H281,Stammdaten!J281)","v":""},{"$f":"IF(Tageswerte!$R$4=1,Stammdaten!I281,Stammdaten!K281)","v":""}]
[{"$f":"IF(Stammdaten!A282=\"\",\"\",Stammdaten!A282)","v":""},null,{"$f":"IF(Stammdaten!C282=\"\",\"\",Stammdaten!C282)","v":""},{"$f":"IF(Tageswerte!$R$4=1,Stammdaten!H282,Stammdaten!J282)","v":""},{"$f":"IF(Tageswerte!$R$4=1,Stammdaten!I282,Stammdaten!K282)","v":""}]
[{"$f":"IF(Stammdaten!A283=\"\",\"\",Stammdaten!A283)","v":""},null,{"$f":"IF(Stammdaten!C283=\"\",\"\",Stammdaten!C283)","v":""},{"$f":"IF(Tageswerte!$R$4=1,Stammdaten!H283,Stammdaten!J283)","v":""},{"$f":"IF(Tageswerte!$R$4=1,Stammdaten!I283,Stammdaten!K283)","v":""}]
[{"$f":"IF(Stammdaten!A284=\"\",\"\",Stammdaten!A284)","v":""},null,{"$f":"IF(Stammdaten!C284=\"\",\"\",Stammdaten!C284)","v":""},{"$f":"IF(Tageswerte!$R$4=1,Stammdaten!H284,Stammdaten!J284)","v":""},{"$f":"IF(Tageswerte!$R$4=1,Stammdaten!I284,Stammdaten!K284)","v":""}]
[{"$f":"IF(Stammdaten!A285=\"\",\"\",Stammdaten!A285)","v":""},null,{"$f":"IF(Stammdaten!C285=\"\",\"\",Stammdaten!C285)","v":""},{"$f":"IF(Tageswerte!$R$4=1,Stammdaten!H285,Stammdaten!J285)","v":""},{"$f":"IF(Tageswerte!$R$4=1,Stammdaten!I285,Stammdaten!K285)","v":""}]
[{"$f":"IF(Stammdaten!A286=\"\",\"\",Stammdaten!A286)","v":""},null,{"$f":"IF(Stammdaten!C286=\"\",\"\",Stammdaten!C286)","v":""},{"$f":"IF(Tageswerte!$R$4=1,Stammdaten!H286,Stammdaten!J286)","v":""},{"$f":"IF(Tageswerte!$R$4=1,Stammdaten!I286,Stammdaten!K286)","v":""}]
[{"$f":"IF(Stammdaten!A287=\"\",\"\",Stammdaten!A287)","v":""},null,{"$f":"IF(Stammdaten!C287=\"\",\"\",Stammdaten!C287)","v":""},{"$f":"IF(Tageswerte!$R$4=1,Stammdaten!H287,Stammdaten!J287)","v":""},{"$f":"IF(Tageswerte!$R$4=1,Stammdaten!I287,Stammdaten!K287)","v":""}]
[{"$f":"IF(Stammdaten!A288=\"\",\"\",Stammdaten!A288)","v":""},null,{"$f":"IF(Stammdaten!C288=\"\",\"\",Stammdaten!C288)","v":""},{"$f":"IF(Tageswerte!$R$4=1,Stammdaten!H288,Stammdaten!J288)","v":""},{"$f":"IF(Tageswerte!$R$4=1,Stammdaten!I288,Stammdaten!K288)","v":""}]
[{"$f":"IF(Stammdaten!A289=\"\",\"\",Stammdaten!A289)","v":""},null,{"$f":"IF(Stammdaten!C289=\"\",\"\",Stammdaten!C289)","v":""},{"$f":"IF(Tageswerte!$R$4=1,Stammdaten!H289,Stammdaten!J289)","v":""},{"$f":"IF(Tageswerte!$R$4=1,Stammdaten!I289,Stammdaten!K289)","v":""}]
[{"$f":"IF(Stammdaten!A290=\"\",\"\",Stammdaten!A290)","v":""},null,{"$f":"IF(Stammdaten!C290=\"\",\"\",Stammdaten!C290)","v":""},{"$f":"IF(Tageswerte!$R$4=1,Stammdaten!H290,Stammdaten!J290)","v":""},{"$f":"IF(Tageswerte!$R$4=1,Stammdaten!I290,Stammdaten!K290)","v":""}]
[{"$f":"IF(Stammdaten!A291=\"\",\"\",Stammdaten!A291)","v":""},null,{"$f":"IF(Stammdaten!C291=\"\",\"\",Stammdaten!C291)","v":""},{"$f":"IF(Tageswerte!$R$4=1,Stammdaten!H291,Stammdaten!J291)","v":""},{"$f":"IF(Tageswerte!$R$4=1,Stammdaten!I291,Stammdaten!K291)","v":""}]
[{"$f":"IF(Stammdaten!A292=\"\",\"\",Stammdaten!A292)","v":""},null,{"$f":"IF(Stammdaten!C292=\"\",\"\",Stammdaten!C292)","v":""},{"$f":"IF(Tageswerte!$R$4=1,Stammdaten!H292,Stammdaten!J292)","v":""},{"$f":"IF(Tageswerte!$R$4=1,Stammdaten!I292,Stammdaten!K292)","v":""}]
[{"$f":"IF(Stammdaten!A293=\"\",\"\",Stammdaten!A293)","v":""},null,{"$f":"IF(Stammdaten!C293=\"\",\"\",Stammdaten!C293)","v":""},{"$f":"IF(Tageswerte!$R$4=1,Stammdaten!H293,Stammdaten!J293)","v":""},{"$f":"IF(Tageswerte!$R$4=1,Stammdaten!I293,Stammdaten!K293)","v":""}]
[{"$f":"IF(Stammdaten!A294=\"\",\"\",Stammdaten!A294)","v":""},null,{"$f":"IF(Stammdaten!C294=\"\",\"\",Stammdaten!C294)","v":""},{"$f":"IF(Tageswerte!$R$4=1,Stammdaten!H294,Stammdaten!J294)","v":""},{"$f":"IF(Tageswerte!$R$4=1,Stammdaten!I294,Stammdaten!K294)","v":""}]
[{"$f":"IF(Stammdaten!A295=\"\",\"\",Stammdaten!A295)","v":""},null,{"$f":"IF(Stammdaten!C295=\"\",\"\",Stammdaten!C295)","v":""},{"$f":"IF(Tageswerte!$R$4=1,Stammdaten!H295,Stammdaten!J295)","v":""},{"$f":"IF(Tageswerte!$R$4=1,Stammdaten!I295,Stammdaten!K295)","v":""}]
[{"$f":"IF(Stammdaten!A296=\"\",\"\",Stammdaten!A296)","v":""},null,{"$f":"IF(Stammdaten!C296=\"\",\"\",Stammdaten!C296)","v":""},{"$f":"IF(Tageswerte!$R$4=1,Stammdaten!H296,Stammdaten!J296)","v":""},{"$f":"IF(Tageswerte!$R$4=1,Stammdaten!I296,Stammdaten!K296)","v":""}]
[{"$f":"IF(Stammdaten!A297=\"\",\"\",Stammdaten!A297)","v":""},null,{"$f":"IF(Stammdaten!C297=\"\",\"\",Stammdaten!C297)","v":""},{"$f":"IF(Tageswerte!$R$4=1,Stammdaten!H297,Stammdaten!J297)","v":""},{"$f":"IF(Tageswerte!$R$4=1,Stammdaten!I297,Stammdaten!K297)","v":""}]
[{"$f":"IF(Stammdaten!A298=\"\",\"\",Stammdaten!A298)","v":""},null,{"$f":"IF(Stammdaten!C298=\"\",\"\",Stammdaten!C298)","v":""},{"$f":"IF(Tageswerte!$R$4=1,Stammdaten!H298,Stammdaten!J298)","v":""},{"$f":"IF(Tageswerte!$R$4=1,Stammdaten!I298,Stammdaten!K298)","v":""}]
[{"$f":"IF(Stammdaten!A299=\"\",\"\",Stammdaten!A299)","v":""},null,{"$f":"IF(Stammdaten!C299=\"\",\"\",Stammdaten!C299)","v":""},{"$f":"IF(Tageswerte!$R$4=1,Stammdaten!H299,Stammdaten!J299)","v":""},{"$f":"IF(Tageswerte!$R$4=1,Stammdaten!I299,Stammdaten!K299)","v":""}]
[{"$f":"IF(Stammdaten!A300=\"\",\"\",Stammdaten!A300)","v":""},null,{"$f":"IF(Stammdaten!C300=\"\",\"\",Stammdaten!C300)","v":""},{"$f":"IF(Tageswerte!$R$4=1,Stammdaten!H300,Stammdaten!J300)","v":""},{"$f":"IF(Tageswerte!$R$4=1,Stammdaten!I300,Stammdaten!K300)","v":""}]
[{"$f":"IF(Stammdaten!A301=\"\",\"\",Stammdaten!A301)","v":""},null,{"$f":"IF(Stammdaten!C301=\"\",\"\",Stammdaten!C301)","v":""},{"$f":"IF(Tageswerte!$R$4=1,Stammdaten!H301,Stammdaten!J301)","v":""},{"$f":"IF(Tageswerte!$R$4=1,Stammdaten!I301,Stammdaten!K301)","v":""}]
[{"$f":"IF(Stammdaten!A302=\"\",\"\",Stammdaten!A302)","v":""},null,{"$f":"IF(Stammdaten!C302=\"\",\"\",Stammdaten!C302)","v":""},{"$f":"IF(Tageswerte!$R$4=1,Stammdaten!H302,Stammdaten!J302)","v":""},{"$f":"IF(Tageswerte!$R$4=1,Stammdaten!I302,Stammdaten!K302)","v":""}]
[{"$f":"IF(Stammdaten!A303=\"\",\"\",Stammdaten!A303)","v":""},null,{"$f":"IF(Stammdaten!C303=\"\",\"\",Stammdaten!C303)","v":""},{"$f":"IF(Tageswerte!$R$4=1,Stammdaten!H303,Stammdaten!J303)","v":""},{"$f":"IF(Tageswerte!$R$4=1,Stammdaten!I303,Stammdaten!K303)","v":""}]
[{"$f":"IF(Stammdaten!A304=\"\",\"\",Stammdaten!A304)","v":""},null,{"$f":"IF(Stammdaten!C304=\"\",\"\",Stammdaten!C304)","v":""},{"$f":"IF(Tageswerte!$R$4=1,Stammdaten!H304,Stammdaten!J304)","v":""},{"$f":"IF(Tageswerte!$R$4=1,Stammdaten!I304,Stammdaten!K304)","v":""}]
[{"$f":"IF(Stammdaten!A305=\"\",\"\",Stammdaten!A305)","v":""},null,{"$f":"IF(Stammdaten!C305=\"\",\"\",Stammdaten!C305)","v":""},{"$f":"IF(Tageswerte!$R$4=1,Stammdaten!H305,Stammdaten!J305)","v":""},{"$f":"IF(Tageswerte!$R$4=1,Stammdaten!I305,Stammdaten!K305)","v":""}]
[{"$f":"IF(Stammdaten!A306=\"\",\"\",Stammdaten!A306)","v":""},null,{"$f":"IF(Stammdaten!C306=\"\",\"\",Stammdaten!C306)","v":""},{"$f":"IF(Tageswerte!$R$4=1,Stammdaten!H306,Stammdaten!J306)","v":""},{"$f":"IF(Tageswerte!$R$4=1,Stammdaten!I306,Stammdaten!K306)","v":""}]
[{"$f":"IF(Stammdaten!A307=\"\",\"\",Stammdaten!A307)","v":""},null,{"$f":"IF(Stammdaten!C307=\"\",\"\",Stammdaten!C307)","v":""},{"$f":"IF(Tageswerte!$R$4=1,Stammdaten!H307,Stammdaten!J307)","v":""},{"$f":"IF(Tageswerte!$R$4=1,Stammdaten!I307,Stammdaten!K307)","v":""}]
[{"$f":"IF(Stammdaten!A308=\"\",\"\",Stammdaten!A308)","v":""},null,{"$f":"IF(Stammdaten!C308=\"\",\"\",Stammdaten!C308)","v":""},{"$f":"IF(Tageswerte!$R$4=1,Stammdaten!H308,Stammdaten!J308)","v":""},{"$f":"IF(Tageswerte!$R$4=1,Stammdaten!I308,Stammdaten!K308)","v":""}]
[{"$f":"IF(Stammdaten!A309=\"\",\"\",Stammdaten!A309)","v":""},null,{"$f":"IF(Stammdaten!C309=\"\",\"\",Stammdaten!C309)","v":""},{"$f":"IF(Tageswerte!$R$4=1,Stammdaten!H309,Stammdaten!J309)","v":""},{"$f":"IF(Tageswerte!$R$4=1,Stammdaten!I309,Stammdaten!K309)","v":""}]
[{"$f":"IF(Stammdaten!A310=\"\",\"\",Stammdaten!A310)","v":""},null,{"$f":"IF(Stammdaten!C310=\"\",\"\",Stammdaten!C310)","v":""},{"$f":"IF(Tageswerte!$R$4=1,Stammdaten!H310,Stammdaten!J310)","v":""},{"$f":"IF(Tageswerte!$R$4=1,Stammdaten!I310,Stammdaten!K310)","v":""}]
[{"$f":"IF(Stammdaten!A311=\"\",\"\",Stammdaten!A311)","v":""},null,{"$f":"IF(Stammdaten!C311=\"\",\"\",Stammdaten!C311)","v":""},{"$f":"IF(Tageswerte!$R$4=1,Stammdaten!H311,Stammdaten!J311)","v":""},{"$f":"IF(Tageswerte!$R$4=1,Stammdaten!I311,Stammdaten!K311)","v":""}]
[{"$f":"IF(Stammdaten!A312=\"\",\"\",Stammdaten!A312)","v":""},null,{"$f":"IF(Stammdaten!C312=\"\",\"\",Stammdaten!C312)","v":""},{"$f":"IF(Tageswerte!$R$4=1,Stammdaten!H312,Stammdaten!J312)","v":""},{"$f":"IF(Tageswerte!$R$4=1,Stammdaten!I312,Stammdaten!K312)","v":""}]
[{"$f":"IF(Stammdaten!A313=\"\",\"\",Stammdaten!A313)","v":""},null,{"$f":"IF(Stammdaten!C313=\"\",\"\",Stammdaten!C313)","v":""},{"$f":"IF(Tageswerte!$R$4=1,Stammdaten!H313,Stammdaten!J313)","v":""},{"$f":"IF(Tageswerte!$R$4=1,Stammdaten!I313,Stammdaten!K313)","v":""}]
[{"$f":"IF(Stammdaten!A314=\"\",\"\",Stammdaten!A314)","v":""},null,{"$f":"IF(Stammdaten!C314=\"\",\"\",Stammdaten!C314)","v":""},{"$f":"IF(Tageswerte!$R$4=1,Stammdaten!H314,Stammdaten!J314)","v":""},{"$f":"IF(Tageswerte!$R$4=1,Stammdaten!I314,Stammdaten!K314)","v":""}]
[{"$f":"IF(Stammdaten!A315=\"\",\"\",Stammdaten!A315)","v":""},null,{"$f":"IF(Stammdaten!C315=\"\",\"\",Stammdaten!C315)","v":""},{"$f":"IF(Tageswerte!$R$4=1,Stammdaten!H315,Stammdaten!J315)","v":""},{"$f":"IF(Tageswerte!$R$4=1,Stammdaten!I315,Stammdaten!K315)","v":""}]
[{"$f":"IF(Stammdaten!A316=\"\",\"\",Stammdaten!A316)","v":""},null,{"$f":"IF(Stammdaten!C316=\"\",\"\",Stammdaten!C316)","v":""},{"$f":"IF(Tageswerte!$R$4=1,Stammdaten!H316,Stammdaten!J316)","v":""},{"$f":"IF(Tageswerte!$R$4=1,Stammdaten!I316,Stammdaten!K316)","v":""}]
[{"$f":"IF(Stammdaten!A317=\"\",\"\",Stammdaten!A317)","v":""},null,{"$f":"IF(Stammdaten!C317=\"\",\"\",Stammdaten!C317)","v":""},{"$f":"IF(Tageswerte!$R$4=1,Stammdaten!H317,Stammdaten!J317)","v":""},{"$f":"IF(Tageswerte!$R$4=1,Stammdaten!I317,Stammdaten!K317)","v":""}]
[{"$f":"IF(Stammdaten!A318=\"\",\"\",Stammdaten!A318)","v":""},null,{"$f":"IF(Stammdaten!C318=\"\",\"\",Stammdaten!C318)","v":""},{"$f":"IF(Tageswerte!$R$4=1,Stammdaten!H318,Stammdaten!J318)","v":""},{"$f":"IF(Tageswerte!$R$4=1,Stammdaten!I318,Stammdaten!K318)","v":""}]
[{"$f":"IF(Stammdaten!A319=\"\",\"\",Stammdaten!A319)","v":""},null,{"$f":"IF(Stammdaten!C319=\"\",\"\",Stammdaten!C319)","v":""},{"$f":"IF(Tageswerte!$R$4=1,Stammdaten!H319,Stammdaten!J319)","v":""},{"$f":"IF(Tageswerte!$R$4=1,Stammdaten!I319,Stammdaten!K319)","v":""}]
[{"$f":"IF(Stammdaten!A320=\"\",\"\",Stammdaten!A320)","v":""},null,{"$f":"IF(Stammdaten!C320=\"\",\"\",Stammdaten!C320)","v":""},{"$f":"IF(Tageswerte!$R$4=1,Stammdaten!H320,Stammdaten!J320)","v":""},{"$f":"IF(Tageswerte!$R$4=1,Stammdaten!I320,Stammdaten!K320)","v":""}]
[{"$f":"IF(Stammdaten!A321=\"\",\"\",Stammdaten!A321)","v":""},null,{"$f":"IF(Stammdaten!C321=\"\",\"\",Stammdaten!C321)","v":""},{"$f":"IF(Tageswerte!$R$4=1,Stammdaten!H321,Stammdaten!J321)","v":""},{"$f":"IF(Tageswerte!$R$4=1,Stammdaten!I321,Stammdaten!K321)","v":""}]
[{"$f":"IF(Stammdaten!A322=\"\",\"\",Stammdaten!A322)","v":""},null,{"$f":"IF(Stammdaten!C322=\"\",\"\",Stammdaten!C322)","v":""},{"$f":"IF(Tageswerte!$R$4=1,Stammdaten!H322,Stammdaten!J322)","v":""},{"$f":"IF(Tageswerte!$R$4=1,Stammdaten!I322,Stammdaten!K322)","v":""}]
[{"$f":"IF(Stammdaten!A323=\"\",\"\",Stammdaten!A323)","v":""},null,{"$f":"IF(Stammdaten!C323=\"\",\"\",Stammdaten!C323)","v":""},{"$f":"IF(Tageswerte!$R$4=1,Stammdaten!H323,Stammdaten!J323)","v":""},{"$f":"IF(Tageswerte!$R$4=1,Stammdaten!I323,Stammdaten!K323)","v":""}]
[{"$f":"IF(Stammdaten!A324=\"\",\"\",Stammdaten!A324)","v":""},null,{"$f":"IF(Stammdaten!C324=\"\",\"\",Stammdaten!C324)","v":""},{"$f":"IF(Tageswerte!$R$4=1,Stammdaten!H324,Stammdaten!J324)","v":""},{"$f":"IF(Tageswerte!$R$4=1,Stammdaten!I324,Stammdaten!K324)","v":""}]
[{"$f":"IF(Stammdaten!A325=\"\",\"\",Stammdaten!A325)","v":""},null,{"$f":"IF(Stammdaten!C325=\"\",\"\",Stammdaten!C325)","v":""},{"$f":"IF(Tageswerte!$R$4=1,Stammdaten!H325,Stammdaten!J325)","v":""},{"$f":"IF(Tageswerte!$R$4=1,Stammdaten!I325,Stammdaten!K325)","v":""}]
[{"$f":"IF(Stammdaten!A326=\"\",\"\",Stammdaten!A326)","v":""},null,{"$f":"IF(Stammdaten!C326=\"\",\"\",Stammdaten!C326)","v":""},{"$f":"IF(Tageswerte!$R$4=1,Stammdaten!H326,Stammdaten!J326)","v":""},{"$f":"IF(Tageswerte!$R$4=1,Stammdaten!I326,Stammdaten!K326)","v":""}]
[{"$f":"IF(Stammdaten!A327=\"\",\"\",Stammdaten!A327)","v":""},null,{"$f":"IF(Stammdaten!C327=\"\",\"\",Stammdaten!C327)","v":""},{"$f":"IF(Tageswerte!$R$4=1,Stammdaten!H327,Stammdaten!J327)","v":""},{"$f":"IF(Tageswerte!$R$4=1,Stammdaten!I327,Stammdaten!K327)","v":""}]
[{"$f":"IF(Stammdaten!A328=\"\",\"\",Stammdaten!A328)","v":""},null,{"$f":"IF(Stammdaten!C328=\"\",\"\",Stammdaten!C328)","v":""},{"$f":"IF(Tageswerte!$R$4=1,Stammdaten!H328,Stammdaten!J328)","v":""},{"$f":"IF(Tageswerte!$R$4=1,Stammdaten!I328,Stammdaten!K328)","v":""}]
[{"$f":"IF(Stammdaten!A329=\"\",\"\",Stammdaten!A329)","v":""},null,{"$f":"IF(Stammdaten!C329=\"\",\"\",Stammdaten!C329)","v":""},{"$f":"IF(Tageswerte!$R$4=1,Stammdaten!H329,Stammdaten!J329)","v":""},{"$f":"IF(Tageswerte!$R$4=1,Stammdaten!I329,Stammdaten!K329)","v":""}]
[{"$f":"IF(Stammdaten!A330=\"\",\"\",Stammdaten!A330)","v":""},null,{"$f":"IF(Stammdaten!C330=\"\",\"\",Stammdaten!C330)","v":""},{"$f":"IF(Tageswerte!$R$4=1,Stammdaten!H330,Stammdaten!J330)","v":""},{"$f":"IF(Tageswerte!$R$4=1,Stammdaten!I330,Stammdaten!K330)","v":""}]
[{"$f":"IF(Stammdaten!A331=\"\",\"\",Stammdaten!A331)","v":""},null,{"$f":"IF(Stammdaten!C331=\"\",\"\",Stammdaten!C331)","v":""},{"$f":"IF(Tageswerte!$R$4=1,Stammdaten!H331,Stammdaten!J331)","v":""},{"$f":"IF(Tageswerte!$R$4=1,Stammdaten!I331,Stammdaten!K331)","v":""}]
[{"$f":"IF(Stammdaten!A332=\"\",\"\",Stammdaten!A332)","v":""},null,{"$f":"IF(Stammdaten!C332=\"\",\"\",Stammdaten!C332)","v":""},{"$f":"IF(Tageswerte!$R$4=1,Stammdaten!H332,Stammdaten!J332)","v":""},{"$f":"IF(Tageswerte!$R$4=1,Stammdaten!I332,Stammdaten!K332)","v":""}]
[{"$f":"IF(Stammdaten!A333=\"\",\"\",Stammdaten!A333)","v":""},null,{"$f":"IF(Stammdaten!C333=\"\",\"\",Stammdaten!C333)","v":""},{"$f":"IF(Tageswerte!$R$4=1,Stammdaten!H333,Stammdaten!J333)","v":""},{"$f":"IF(Tageswerte!$R$4=1,Stammdaten!I333,Stammdaten!K333)","v":""}]
[{"$f":"IF(Stammdaten!A334=\"\",\"\",Stammdaten!A334)","v":""},null,{"$f":"IF(Stammdaten!C334=\"\",\"\",Stammdaten!C334)","v":""},{"$f":"IF(Tageswerte!$R$4=1,Stammdaten!H334,Stammdaten!J334)","v":""},{"$f":"IF(Tageswerte!$R$4=1,Stammdaten!I334,Stammdaten!K334)","v":""}]
[{"$f":"IF(Stammdaten!A335=\"\",\"\",Stammdaten!A335)","v":""},null,{"$f":"IF(Stammdaten!C335=\"\",\"\",Stammdaten!C335)","v":""},{"$f":"IF(Tageswerte!$R$4=1,Stammdaten!H335,Stammdaten!J335)","v":""},{"$f":"IF(Tageswerte!$R$4=1,Stammdaten!I335,Stammdaten!K335)","v":""}]
[{"$f":"IF(Stammdaten!A336=\"\",\"\",Stammdaten!A336)","v":""},null,{"$f":"IF(Stammdaten!C336=\"\",\"\",Stammdaten!C336)","v":""},{"$f":"IF(Tageswerte!$R$4=1,Stammdaten!H336,Stammdaten!J336)","v":""},{"$f":"IF(Tageswerte!$R$4=1,Stammdaten!I336,Stammdaten!K336)","v":""}]
[{"$f":"IF(Stammdaten!A337=\"\",\"\",Stammdaten!A337)","v":""},null,{"$f":"IF(Stammdaten!C337=\"\",\"\",Stammdaten!C337)","v":""},{"$f":"IF(Tageswerte!$R$4=1,Stammdaten!H337,Stammdaten!J337)","v":""},{"$f":"IF(Tageswerte!$R$4=1,Stammdaten!I337,Stammdaten!K337)","v":""}]
[{"$f":"IF(Stammdaten!A338=\"\",\"\",Stammdaten!A338)","v":""},null,{"$f":"IF(Stammdaten!C338=\"\",\"\",Stammdaten!C338)","v":""},{"$f":"IF(Tageswerte!$R$4=1,Stammdaten!H338,Stammdaten!J338)","v":""},{"$f":"IF(Tageswerte!$R$4=1,Stammdaten!I338,Stammdaten!K338)","v":""}]
[{"$f":"IF(Stammdaten!A339=\"\",\"\",Stammdaten!A339)","v":""},null,{"$f":"IF(Stammdaten!C339=\"\",\"\",Stammdaten!C339)","v":""},{"$f":"IF(Tageswerte!$R$4=1,Stammdaten!H339,Stammdaten!J339)","v":""},{"$f":"IF(Tageswerte!$R$4=1,Stammdaten!I339,Stammdaten!K339)","v":""}]
[{"$f":"IF(Stammdaten!A340=\"\",\"\",Stammdaten!A340)","v":""},null,{"$f":"IF(Stammdaten!C340=\"\",\"\",Stammdaten!C340)","v":""},{"$f":"IF(Tageswerte!$R$4=1,Stammdaten!H340,Stammdaten!J340)","v":""},{"$f":"IF(Tageswerte!$R$4=1,Stammdaten!I340,Stammdaten!K340)","v":""}]
[{"$f":"IF(Stammdaten!A341=\"\",\"\",Stammdaten!A341)","v":""},null,{"$f":"IF(Stammdaten!C341=\"\",\"\",Stammdaten!C341)","v":""},{"$f":"IF(Tageswerte!$R$4=1,Stammdaten!H341,Stammdaten!J341)","v":""},{"$f":"IF(Tageswerte!$R$4=1,Stammdaten!I341,Stammdaten!K341)","v":""}]
[{"$f":"IF(Stammdaten!A342=\"\",\"\",Stammdaten!A342)","v":""},null,{"$f":"IF(Stammdaten!C342=\"\",\"\",Stammdaten!C342)","v":""},{"$f":"IF(Tageswerte!$R$4=1,Stammdaten!H342,Stammdaten!J342)","v":""},{"$f":"IF(Tageswerte!$R$4=1,Stammdaten!I342,Stammdaten!K342)","v":""}]
[{"$f":"IF(Stammdaten!A343=\"\",\"\",Stammdaten!A343)","v":""},null,{"$f":"IF(Stammdaten!C343=\"\",\"\",Stammdaten!C343)","v":""},{"$f":"IF(Tageswerte!$R$4=1,Stammdaten!H343,Stammdaten!J343)","v":""},{"$f":"IF(Tageswerte!$R$4=1,Stammdaten!I343,Stammdaten!K343)","v":""}]
[{"$f":"IF(Stammdaten!A344=\"\",\"\",Stammdaten!A344)","v":""},null,{"$f":"IF(Stammdaten!C344=\"\",\"\",Stammdaten!C344)","v":""},{"$f":"IF(Tageswerte!$R$4=1,Stammdaten!H344,Stammdaten!J344)","v":""},{"$f":"IF(Tageswerte!$R$4=1,Stammdaten!I344,Stammdaten!K344)","v":""}]
[{"$f":"IF(Stammdaten!A345=\"\",\"\",Stammdaten!A345)","v":""},null,{"$f":"IF(Stammdaten!C345=\"\",\"\",Stammdaten!C345)","v":""},{"$f":"IF(Tageswerte!$R$4=1,Stammdaten!H345,Stammdaten!J345)","v":""},{"$f":"IF(Tageswerte!$R$4=1,Stammdaten!I345,Stammdaten!K345)","v":""}]
[{"$f":"IF(Stammdaten!A346=\"\",\"\",Stammdaten!A346)","v":""},null,{"$f":"IF(Stammdaten!C346=\"\",\"\",Stammdaten!C346)","v":""},{"$f":"IF(Tageswerte!$R$4=1,Stammdaten!H346,Stammdaten!J346)","v":""},{"$f":"IF(Tageswerte!$R$4=1,Stammdaten!I346,Stammdaten!K346)","v":""}]
[{"$f":"IF(Stammdaten!A347=\"\",\"\",Stammdaten!A347)","v":""},null,{"$f":"IF(Stammdaten!C347=\"\",\"\",Stammdaten!C347)","v":""},{"$f":"IF(Tageswerte!$R$4=1,Stammdaten!H347,Stammdaten!J347)","v":""},{"$f":"IF(Tageswerte!$R$4=1,Stammdaten!I347,Stammdaten!K347)","v":""}]
[{"$f":"IF(Stammdaten!A348=\"\",\"\",Stammdaten!A348)","v":""},null,{"$f":"IF(Stammdaten!C348=\"\",\"\",Stammdaten!C348)","v":""},{"$f":"IF(Tageswerte!$R$4=1,Stammdaten!H348,Stammdaten!J348)","v":""},{"$f":"IF(Tageswerte!$R$4=1,Stammdaten!I348,Stammdaten!K348)","v":""}]
[{"$f":"IF(Stammdaten!A349=\"\",\"\",Stammdaten!A349)","v":""},null,{"$f":"IF(Stammdaten!C349=\"\",\"\",Stammdaten!C349)","v":""},{"$f":"IF(Tageswerte!$R$4=1,Stammdaten!H349,Stammdaten!J349)","v":""},{"$f":"IF(Tageswerte!$R$4=1,Stammdaten!I349,Stammdaten!K349)","v":""}]
[{"$f":"IF(Stammdaten!A350=\"\",\"\",Stammdaten!A350)","v":""},null,{"$f":"IF(Stammdaten!C350=\"\",\"\",Stammdaten!C350)","v":""},{"$f":"IF(Tageswerte!$R$4=1,Stammdaten!H350,Stammdaten!J350)","v":""},{"$f":"IF(Tageswerte!$R$4=1,Stammdaten!I350,Stammdaten!K350)","v":""}]
[{"$f":"IF(Stammdaten!A351=\"\",\"\",Stammdaten!A351)","v":""},null,{"$f":"IF(Stammdaten!C351=\"\",\"\",Stammdaten!C351)","v":""},{"$f":"IF(Tageswerte!$R$4=1,Stammdaten!H351,Stammdaten!J351)","v":""},{"$f":"IF(Tageswerte!$R$4=1,Stammdaten!I351,Stammdaten!K351)","v":""}]
[{"$f":"IF(Stammdaten!A352=\"\",\"\",Stammdaten!A352)","v":""},null,{"$f":"IF(Stammdaten!C352=\"\",\"\",Stammdaten!C352)","v":""},{"$f":"IF(Tageswerte!$R$4=1,Stammdaten!H352,Stammdaten!J352)","v":""},{"$f":"IF(Tageswerte!$R$4=1,Stammdaten!I352,Stammdaten!K352)","v":""}]
[{"$f":"IF(Stammdaten!A353=\"\",\"\",Stammdaten!A353)","v":""},null,{"$f":"IF(Stammdaten!C353=\"\",\"\",Stammdaten!C353)","v":""},{"$f":"IF(Tageswerte!$R$4=1,Stammdaten!H353,Stammdaten!J353)","v":""},{"$f":"IF(Tageswerte!$R$4=1,Stammdaten!I353,Stammdaten!K353)","v":""}]
[{"$f":"IF(Stammdaten!A354=\"\",\"\",Stammdaten!A354)","v":""},null,{"$f":"IF(Stammdaten!C354=\"\",\"\",Stammdaten!C354)","v":""},{"$f":"IF(Tageswerte!$R$4=1,Stammdaten!H354,Stammdaten!J354)","v":""},{"$f":"IF(Tageswerte!$R$4=1,Stammdaten!I354,Stammdaten!K354)","v":""}]
[{"$f":"IF(Stammdaten!A355=\"\",\"\",Stammdaten!A355)","v":""},null,{"$f":"IF(Stammdaten!C355=\"\",\"\",Stammdaten!C355)","v":""},{"$f":"IF(Tageswerte!$R$4=1,Stammdaten!H355,Stammdaten!J355)","v":""},{"$f":"IF(Tageswerte!$R$4=1,Stammdaten!I355,Stammdaten!K355)","v":""}]
[{"$f":"IF(Stammdaten!A356=\"\",\"\",Stammdaten!A356)","v":""},null,{"$f":"IF(Stammdaten!C356=\"\",\"\",Stammdaten!C356)","v":""},{"$f":"IF(Tageswerte!$R$4=1,Stammdaten!H356,Stammdaten!J356)","v":""},{"$f":"IF(Tageswerte!$R$4=1,Stammdaten!I356,Stammdaten!K356)","v":""}]
[{"$f":"IF(Stammdaten!A357=\"\",\"\",Stammdaten!A357)","v":""},null,{"$f":"IF(Stammdaten!C357=\"\",\"\",Stammdaten!C357)","v":""},{"$f":"IF(Tageswerte!$R$4=1,Stammdaten!H357,Stammdaten!J357)","v":""},{"$f":"IF(Tageswerte!$R$4=1,Stammdaten!I357,Stammdaten!K357)","v":""}]
[{"$f":"IF(Stammdaten!A358=\"\",\"\",Stammdaten!A358)","v":""},null,{"$f":"IF(Stammdaten!C358=\"\",\"\",Stammdaten!C358)","v":""},{"$f":"IF(Tageswerte!$R$4=1,Stammdaten!H358,Stammdaten!J358)","v":""},{"$f":"IF(Tageswerte!$R$4=1,Stammdaten!I358,Stammdaten!K358)","v":""}]
[{"$f":"IF(Stammdaten!A359=\"\",\"\",Stammdaten!A359)","v":""},null,{"$f":"IF(Stammdaten!C359=\"\",\"\",Stammdaten!C359)","v":""},{"$f":"IF(Tageswerte!$R$4=1,Stammdaten!H359,Stammdaten!J359)","v":""},{"$f":"IF(Tageswerte!$R$4=1,Stammdaten!I359,Stammdaten!K359)","v":""}]
[{"$f":"IF(Stammdaten!A360=\"\",\"\",Stammdaten!A360)","v":""},null,{"$f":"IF(Stammdaten!C360=\"\",\"\",Stammdaten!C360)","v":""},{"$f":"IF(Tageswerte!$R$4=1,Stammdaten!H360,Stammdaten!J360)","v":""},{"$f":"IF(Tageswerte!$R$4=1,Stammdaten!I360,Stammdaten!K360)","v":""}]
[{"$f":"IF(Stammdaten!A361=\"\",\"\",Stammdaten!A361)","v":""},null,{"$f":"IF(Stammdaten!C361=\"\",\"\",Stammdaten!C361)","v":""},{"$f":"IF(Tageswerte!$R$4=1,Stammdaten!H361,Stammdaten!J361)","v":""},{"$f":"IF(Tageswerte!$R$4=1,Stammdaten!I361,Stammdaten!K361)","v":""}]
[{"$f":"IF(Stammdaten!A362=\"\",\"\",Stammdaten!A362)","v":""},null,{"$f":"IF(Stammdaten!C362=\"\",\"\",Stammdaten!C362)","v":""},{"$f":"IF(Tageswerte!$R$4=1,Stammdaten!H362,Stammdaten!J362)","v":""},{"$f":"IF(Tageswerte!$R$4=1,Stammdaten!I362,Stammdaten!K362)","v":""}]
[{"$f":"IF(Stammdaten!A363=\"\",\"\",Stammdaten!A363)","v":""},null,{"$f":"IF(Stammdaten!C363=\"\",\"\",Stammdaten!C363)","v":""},{"$f":"IF(Tageswerte!$R$4=1,Stammdaten!H363,Stammdaten!J363)","v":""},{"$f":"IF(Tageswerte!$R$4=1,Stammdaten!I363,Stammdaten!K363)","v":""}]
[{"$f":"IF(Stammdaten!A364=\"\",\"\",Stammdaten!A364)","v":""},null,{"$f":"IF(Stammdaten!C364=\"\",\"\",Stammdaten!C364)","v":""},{"$f":"IF(Tageswerte!$R$4=1,Stammdaten!H364,Stammdaten!J364)","v":""},{"$f":"IF(Tageswerte!$R$4=1,Stammdaten!I364,Stammdaten!K364)","v":""}]
[{"$f":"IF(Stammdaten!A365=\"\",\"\",Stammdaten!A365)","v":""},null,{"$f":"IF(Stammdaten!C365=\"\",\"\",Stammdaten!C365)","v":""},{"$f":"IF(Tageswerte!$R$4=1,Stammdaten!H365,Stammdaten!J365)","v":""},{"$f":"IF(Tageswerte!$R$4=1,Stammdaten!I365,Stammdaten!K365)","v":""}]
[{"$f":"IF(Stammdaten!A366=\"\",\"\",Stammdaten!A366)","v":""},null,{"$f":"IF(Stammdaten!C366=\"\",\"\",Stammdaten!C366)","v":""},{"$f":"IF(Tageswerte!$R$4=1,Stammdaten!H366,Stammdaten!J366)","v":""},{"$f":"IF(Tageswerte!$R$4=1,Stammdaten!I366,Stammdaten!K366)","v":""}]
[{"$f":"IF(Stammdaten!A367=\"\",\"\",Stammdaten!A367)","v":""},null,{"$f":"IF(Stammdaten!C367=\"\",\"\",Stammdaten!C367)","v":""},{"$f":"IF(Tageswerte!$R$4=1,Stammdaten!H367,Stammdaten!J367)","v":""},{"$f":"IF(Tageswerte!$R$4=1,Stammdaten!I367,Stammdaten!K367)","v":""}]
[{"$f":"IF(Stammdaten!A368=\"\",\"\",Stammdaten!A368)","v":""},null,{"$f":"IF(Stammdaten!C368=\"\",\"\",Stammdaten!C368)","v":""},{"$f":"IF(Tageswerte!$R$4=1,Stammdaten!H368,Stammdaten!J368)","v":""},{"$f":"IF(Tageswerte!$R$4=1,Stammdaten!I368,Stammdaten!K368)","v":""}]
[{"$f":"IF(Stammdaten!A369=\"\",\"\",Stammdaten!A369)","v":""},null,{"$f":"IF(Stammdaten!C369=\"\",\"\",Stammdaten!C369)","v":""},{"$f":"IF(Tageswerte!$R$4=1,Stammdaten!H369,Stammdaten!J369)","v":""},{"$f":"IF(Tageswerte!$R$4=1,Stammdaten!I369,Stammdaten!K369)","v":""}]
[{"$f":"IF(Stammdaten!A370=\"\",\"\",Stammdaten!A370)","v":""},null,{"$f":"IF(Stammdaten!C370=\"\",\"\",Stammdaten!C370)","v":""},{"$f":"IF(Tageswerte!$R$4=1,Stammdaten!H370,Stammdaten!J370)","v":""},{"$f":"IF(Tageswerte!$R$4=1,Stammdaten!I370,Stammdaten!K370)","v":""}]
[{"$f":"IF(Stammdaten!A371=\"\",\"\",Stammdaten!A371)","v":""},null,{"$f":"IF(Stammdaten!C371=\"\",\"\",Stammdaten!C371)","v":""},{"$f":"IF(Tageswerte!$R$4=1,Stammdaten!H371,Stammdaten!J371)","v":""},{"$f":"IF(Tageswerte!$R$4=1,Stammdaten!I371,Stammdaten!K371)","v":""}]
[{"$f":"IF(Stammdaten!A372=\"\",\"\",Stammdaten!A372)","v":""},null,{"$f":"IF(Stammdaten!C372=\"\",\"\",Stammdaten!C372)","v":""},{"$f":"IF(Tageswerte!$R$4=1,Stammdaten!H372,Stammdaten!J372)","v":""},{"$f":"IF(Tageswerte!$R$4=1,Stammdaten!I372,Stammdaten!K372)","v":""}]
[{"$f":"IF(Stammdaten!A373=\"\",\"\",Stammdaten!A373)","v":""},null,{"$f":"IF(Stammdaten!C373=\"\",\"\",Stammdaten!C373)","v":""},{"$f":"IF(Tageswerte!$R$4=1,Stammdaten!H373,Stammdaten!J373)","v":""},{"$f":"IF(Tageswerte!$R$4=1,Stammdaten!I373,Stammdaten!K373)","v":""}]
[{"$f":"IF(Stammdaten!A374=\"\",\"\",Stammdaten!A374)","v":""},null,{"$f":"IF(Stammdaten!C374=\"\",\"\",Stammdaten!C374)","v":""},{"$f":"IF(Tageswerte!$R$4=1,Stammdaten!H374,Stammdaten!J374)","v":""},{"$f":"IF(Tageswerte!$R$4=1,Stammdaten!I374,Stammdaten!K374)","v":""}]
[{"$f":"IF(Stammdaten!A375=\"\",\"\",Stammdaten!A375)","v":""},null,{"$f":"IF(Stammdaten!C375=\"\",\"\",Stammdaten!C375)","v":""},{"$f":"IF(Tageswerte!$R$4=1,Stammdaten!H375,Stammdaten!J375)","v":""},{"$f":"IF(Tageswerte!$R$4=1,Stammdaten!I375,Stammdaten!K375)","v":""}]
[{"$f":"IF(Stammdaten!A376=\"\",\"\",Stammdaten!A376)","v":""},null,{"$f":"IF(Stammdaten!C376=\"\",\"\",Stammdaten!C376)","v":""},{"$f":"IF(Tageswerte!$R$4=1,Stammdaten!H376,Stammdaten!J376)","v":""},{"$f":"IF(Tageswerte!$R$4=1,Stammdaten!I376,Stammdaten!K376)","v":""}]
[{"$f":"IF(Stammdaten!A377=\"\",\"\",Stammdaten!A377)","v":""},null,{"$f":"IF(Stammdaten!C377=\"\",\"\",Stammdaten!C377)","v":""},{"$f":"IF(Tageswerte!$R$4=1,Stammdaten!H377,Stammdaten!J377)","v":""},{"$f":"IF(Tageswerte!$R$4=1,Stammdaten!I377,Stammdaten!K377)","v":""}]
[{"$f":"IF(Stammdaten!A378=\"\",\"\",Stammdaten!A378)","v":""},null,{"$f":"IF(Stammdaten!C378=\"\",\"\",Stammdaten!C378)","v":""},{"$f":"IF(Tageswerte!$R$4=1,Stammdaten!H378,Stammdaten!J378)","v":""},{"$f":"IF(Tageswerte!$R$4=1,Stammdaten!I378,Stammdaten!K378)","v":""}]
[{"$f":"IF(Stammdaten!A379=\"\",\"\",Stammdaten!A379)","v":""},null,{"$f":"IF(Stammdaten!C379=\"\",\"\",Stammdaten!C379)","v":""},{"$f":"IF(Tageswerte!$R$4=1,Stammdaten!H379,Stammdaten!J379)","v":""},{"$f":"IF(Tageswerte!$R$4=1,Stammdaten!I379,Stammdaten!K379)","v":""}]
[{"$f":"IF(Stammdaten!A380=\"\",\"\",Stammdaten!A380)","v":""},null,{"$f":"IF(Stammdaten!C380=\"\",\"\",Stammdaten!C380)","v":""},{"$f":"IF(Tageswerte!$R$4=1,Stammdaten!H380,Stammdaten!J380)","v":""},{"$f":"IF(Tageswerte!$R$4=1,Stammdaten!I380,Stammdaten!K380)","v":""}]
[{"$f":"IF(Stammdaten!A381=\"\",\"\",Stammdaten!A381)","v":""},null,{"$f":"IF(Stammdaten!C381=\"\",\"\",Stammdaten!C381)","v":""},{"$f":"IF(Tageswerte!$R$4=1,Stammdaten!H381,Stammdaten!J381)","v":""},{"$f":"IF(Tageswerte!$R$4=1,Stammdaten!I381,Stammdaten!K381)","v":""}]
[{"$f":"IF(Stammdaten!A382=\"\",\"\",Stammdaten!A382)","v":""},null,{"$f":"IF(Stammdaten!C382=\"\",\"\",Stammdaten!C382)","v":""},{"$f":"IF(Tageswerte!$R$4=1,Stammdaten!H382,Stammdaten!J382)","v":""},{"$f":"IF(Tageswerte!$R$4=1,Stammdaten!I382,Stammdaten!K382)","v":""}]
[{"$f":"IF(Stammdaten!A383=\"\",\"\",Stammdaten!A383)","v":""},null,{"$f":"IF(Stammdaten!C383=\"\",\"\",Stammdaten!C383)","v":""},{"$f":"IF(Tageswerte!$R$4=1,Stammdaten!H383,Stammdaten!J383)","v":""},{"$f":"IF(Tageswerte!$R$4=1,Stammdaten!I383,Stammdaten!K383)","v":""}]
[{"$f":"IF(Stammdaten!A384=\"\",\"\",Stammdaten!A384)","v":""},null,{"$f":"IF(Stammdaten!C384=\"\",\"\",Stammdaten!C384)","v":""},{"$f":"IF(Tageswerte!$R$4=1,Stammdaten!H384,Stammdaten!J384)","v":""},{"$f":"IF(Tageswerte!$R$4=1,Stammdaten!I384,Stammdaten!K384)","v":""}]
[{"$f":"IF(Stammdaten!A385=\"\",\"\",Stammdaten!A385)","v":""},null,{"$f":"IF(Stammdaten!C385=\"\",\"\",Stammdaten!C385)","v":""},{"$f":"IF(Tageswerte!$R$4=1,Stammdaten!H385,Stammdaten!J385)","v":""},{"$f":"IF(Tageswerte!$R$4=1,Stammdaten!I385,Stammdaten!K385)","v":""}]
[{"$f":"IF(Stammdaten!A386=\"\",\"\",Stammdaten!A386)","v":""},null,{"$f":"IF(Stammdaten!C386=\"\",\"\",Stammdaten!C386)","v":""},{"$f":"IF(Tageswerte!$R$4=1,Stammdaten!H386,Stammdaten!J386)","v":""},{"$f":"IF(Tageswerte!$R$4=1,Stammdaten!I386,Stammdaten!K386)","v":""}]
[{"$f":"IF(Stammdaten!A387=\"\",\"\",Stammdaten!A387)","v":""},null,{"$f":"IF(Stammdaten!C387=\"\",\"\",Stammdaten!C387)","v":""},{"$f":"IF(Tageswerte!$R$4=1,Stammdaten!H387,Stammdaten!J387)","v":""},{"$f":"IF(Tageswerte!$R$4=1,Stammdaten!I387,Stammdaten!K387)","v":""}]
[{"$f":"IF(Stammdaten!A388=\"\",\"\",Stammdaten!A388)","v":""},null,{"$f":"IF(Stammdaten!C388=\"\",\"\",Stammdaten!C388)","v":""},{"$f":"IF(Tageswerte!$R$4=1,Stammdaten!H388,Stammdaten!J388)","v":""},{"$f":"IF(Tageswerte!$R$4=1,Stammdaten!I388,Stammdaten!K388)","v":""}]
[{"$f":"IF(Stammdaten!A389=\"\",\"\",Stammdaten!A389)","v":""},null,{"$f":"IF(Stammdaten!C389=\"\",\"\",Stammdaten!C389)","v":""},{"$f":"IF(Tageswerte!$R$4=1,Stammdaten!H389,Stammdaten!J389)","v":""},{"$f":"IF(Tageswerte!$R$4=1,Stammdaten!I389,Stammdaten!K389)","v":""}]
[{"$f":"IF(Stammdaten!A390=\"\",\"\",Stammdaten!A390)","v":""},null,{"$f":"IF(Stammdaten!C390=\"\",\"\",Stammdaten!C390)","v":""},{"$f":"IF(Tageswerte!$R$4=1,Stammdaten!H390,Stammdaten!J390)","v":""},{"$f":"IF(Tageswerte!$R$4=1,Stammdaten!I390,Stammdaten!K390)","v":""}]
[{"$f":"IF(Stammdaten!A391=\"\",\"\",Stammdaten!A391)","v":""},null,{"$f":"IF(Stammdaten!C391=\"\",\"\",Stammdaten!C391)","v":""},{"$f":"IF(Tageswerte!$R$4=1,Stammdaten!H391,Stammdaten!J391)","v":""},{"$f":"IF(Tageswerte!$R$4=1,Stammdaten!I391,Stammdaten!K391)","v":""}]
[{"$f":"IF(Stammdaten!A392=\"\",\"\",Stammdaten!A392)","v":""},null,{"$f":"IF(Stammdaten!C392=\"\",\"\",Stammdaten!C392)","v":""},{"$f":"IF(Tageswerte!$R$4=1,Stammdaten!H392,Stammdaten!J392)","v":""},{"$f":"IF(Tageswerte!$R$4=1,Stammdaten!I392,Stammdaten!K392)","v":""}]
[{"$f":"IF(Stammdaten!A393=\"\",\"\",Stammdaten!A393)","v":""},null,{"$f":"IF(Stammdaten!C393=\"\",\"\",Stammdaten!C393)","v":""},{"$f":"IF(Tageswerte!$R$4=1,Stammdaten!H393,Stammdaten!J393)","v":""},{"$f":"IF(Tageswerte!$R$4=1,Stammdaten!I393,Stammdaten!K393)","v":""}]
[{"$f":"IF(Stammdaten!A394=\"\",\"\",Stammdaten!A394)","v":""},null,{"$f":"IF(Stammdaten!C394=\"\",\"\",Stammdaten!C394)","v":""},{"$f":"IF(Tageswerte!$R$4=1,Stammdaten!H394,Stammdaten!J394)","v":""},{"$f":"IF(Tageswerte!$R$4=1,Stammdaten!I394,Stammdaten!K394)","v":""}]
[{"$f":"IF(Stammdaten!A395=\"\",\"\",Stammdaten!A395)","v":""},null,{"$f":"IF(Stammdaten!C395=\"\",\"\",Stammdaten!C395)","v":""},{"$f":"IF(Tageswerte!$R$4=1,Stammdaten!H395,Stammdaten!J395)","v":""},{"$f":"IF(Tageswerte!$R$4=1,Stammdaten!I395,Stammdaten!K395)","v":""}]
[{"$f":"IF(Stammdaten!A396=\"\",\"\",Stammdaten!A396)","v":""},null,{"$f":"IF(Stammdaten!C396=\"\",\"\",Stammdaten!C396)","v":""},{"$f":"IF(Tageswerte!$R$4=1,Stammdaten!H396,Stammdaten!J396)","v":""},{"$f":"IF(Tageswerte!$R$4=1,Stammdaten!I396,Stammdaten!K396)","v":""}]
[{"$f":"IF(Stammdaten!A397=\"\",\"\",Stammdaten!A397)","v":""},null,{"$f":"IF(Stammdaten!C397=\"\",\"\",Stammdaten!C397)","v":""},{"$f":"IF(Tageswerte!$R$4=1,Stammdaten!H397,Stammdaten!J397)","v":""},{"$f":"IF(Tageswerte!$R$4=1,Stammdaten!I397,Stammdaten!K397)","v":""}]
[{"$f":"IF(Stammdaten!A398=\"\",\"\",Stammdaten!A398)","v":""},null,{"$f":"IF(Stammdaten!C398=\"\",\"\",Stammdaten!C398)","v":""},{"$f":"IF(Tageswerte!$R$4=1,Stammdaten!H398,Stammdaten!J398)","v":""},{"$f":"IF(Tageswerte!$R$4=1,Stammdaten!I398,Stammdaten!K398)","v":""}]
[{"$f":"IF(Stammdaten!A399=\"\",\"\",Stammdaten!A399)","v":""},null,{"$f":"IF(Stammdaten!C399=\"\",\"\",Stammdaten!C399)","v":""},{"$f":"IF(Tageswerte!$R$4=1,Stammdaten!H399,Stammdaten!J399)","v":""},{"$f":"IF(Tageswerte!$R$4=1,Stammdaten!I399,Stammdaten!K399)","v":""}]
[{"$f":"IF(Stammdaten!A400=\"\",\"\",Stammdaten!A400)","v":""},null,{"$f":"IF(Stammdaten!C400=\"\",\"\",Stammdaten!C400)","v":""},{"$f":"IF(Tageswerte!$R$4=1,Stammdaten!H400,Stammdaten!J400)","v":""},{"$f":"IF(Tageswerte!$R$4=1,Stammdaten!I400,Stammdaten!K400)","v":""}]
[{"$f":"IF(Stammdaten!A401=\"\",\"\",Stammdaten!A401)","v":""},null,{"$f":"IF(Stammdaten!C401=\"\",\"\",Stammdaten!C401)","v":""},{"$f":"IF(Tageswerte!$R$4=1,Stammdaten!H401,Stammdaten!J401)","v":""},{"$f":"IF(Tageswerte!$R$4=1,Stammdaten!I401,Stammdaten!K401)","v":""}]
[{"$f":"IF(Stammdaten!A402=\"\",\"\",Stammdaten!A402)","v":""},null,{"$f":"IF(Stammdaten!C402=\"\",\"\",Stammdaten!C402)","v":""},{"$f":"IF(Tageswerte!$R$4=1,Stammdaten!H402,Stammdaten!J402)","v":""},{"$f":"IF(Tageswerte!$R$4=1,Stammdaten!I402,Stammdaten!K402)","v":""}]
[{"$f":"IF(Stammdaten!A403=\"\",\"\",Stammdaten!A403)","v":""},null,{"$f":"IF(Stammdaten!C403=\"\",\"\",Stammdaten!C403)","v":""},{"$f":"IF(Tageswerte!$R$4=1,Stammdaten!H403,Stammdaten!J403)","v":""},{"$f":"IF(Tageswerte!$R$4=1,Stammdaten!I403,Stammdaten!K403)","v":""}]
[{"$f":"IF(Stammdaten!A404=\"\",\"\",Stammdaten!A404)","v":""},null,{"$f":"IF(Stammdaten!C404=\"\",\"\",Stammdaten!C404)","v":""},{"$f":"IF(Tageswerte!$R$4=1,Stammdaten!H404,Stammdaten!J404)","v":""},{"$f":"IF(Tageswerte!$R$4=1,Stammdaten!I404,Stammdaten!K404)","v":""}]
[{"$f":"IF(Stammdaten!A405=\"\",\"\",Stammdaten!A405)","v":""},null,{"$f":"IF(Stammdaten!C405=\"\",\"\",Stammdaten!C405)","v":""},{"$f":"IF(Tageswerte!$R$4=1,Stammdaten!H405,Stammdaten!J405)","v":""},{"$f":"IF(Tageswerte!$R$4=1,Stammdaten!I405,Stammdaten!K405)","v":""}]
[{"$f":"IF(Stammdaten!A406=\"\",\"\",Stammdaten!A406)","v":""},null,{"$f":"IF(Stammdaten!C406=\"\",\"\",Stammdaten!C406)","v":""},{"$f":"IF(Tageswerte!$R$4=1,Stammdaten!H406,Stammdaten!J406)","v":""},{"$f":"IF(Tageswerte!$R$4=1,Stammdaten!I406,Stammdaten!K406)","v":""}]
[{"$f":"IF(Stammdaten!A407=\"\",\"\",Stammdaten!A407)","v":""},null,{"$f":"IF(Stammdaten!C407=\"\",\"\",Stammdaten!C407)","v":""},{"$f":"IF(Tageswerte!$R$4=1,Stammdaten!H407,Stammdaten!J407)","v":""},{"$f":"IF(Tageswerte!$R$4=1,Stammdaten!I407,Stammdaten!K407)","v":""}]
[{"$f":"IF(Stammdaten!A408=\"\",\"\",Stammdaten!A408)","v":""},null,{"$f":"IF(Stammdaten!C408=\"\",\"\",Stammdaten!C408)","v":""},{"$f":"IF(Tageswerte!$R$4=1,Stammdaten!H408,Stammdaten!J408)","v":""},{"$f":"IF(Tageswerte!$R$4=1,Stammdaten!I408,Stammdaten!K408)","v":""}]
[{"$f":"IF(Stammdaten!A409=\"\",\"\",Stammdaten!A409)","v":""},null,{"$f":"IF(Stammdaten!C409=\"\",\"\",Stammdaten!C409)","v":""},{"$f":"IF(Tageswerte!$R$4=1,Stammdaten!H409,Stammdaten!J409)","v":""},{"$f":"IF(Tageswerte!$R$4=1,Stammdaten!I409,Stammdaten!K409)","v":""}]
[{"$f":"IF(Stammdaten!A410=\"\",\"\",Stammdaten!A410)","v":""},null,{"$f":"IF(Stammdaten!C410=\"\",\"\",Stammdaten!C410)","v":""},{"$f":"IF(Tageswerte!$R$4=1,Stammdaten!H410,Stammdaten!J410)","v":""},{"$f":"IF(Tageswerte!$R$4=1,Stammdaten!I410,Stammdaten!K410)","v":""}]
[{"$f":"IF(Stammdaten!A411=\"\",\"\",Stammdaten!A411)","v":""},null,{"$f":"IF(Stammdaten!C411=\"\",\"\",Stammdaten!C411)","v":""},{"$f":"IF(Tageswerte!$R$4=1,Stammdaten!H411,Stammdaten!J411)","v":""},{"$f":"IF(Tageswerte!$R$4=1,Stammdaten!I411,Stammdaten!K411)","v":""}]
[{"$f":"IF(Stammdaten!A412=\"\",\"\",Stammdaten!A412)","v":""},null,{"$f":"IF(Stammdaten!C412=\"\",\"\",Stammdaten!C412)","v":""},{"$f":"IF(Tageswerte!$R$4=1,Stammdaten!H412,Stammdaten!J412)","v":""},{"$f":"IF(Tageswerte!$R$4=1,Stammdaten!I412,Stammdaten!K412)","v":""}]
[{"$f":"IF(Stammdaten!A413=\"\",\"\",Stammdaten!A413)","v":""},null,{"$f":"IF(Stammdaten!C413=\"\",\"\",Stammdaten!C413)","v":""},{"$f":"IF(Tageswerte!$R$4=1,Stammdaten!H413,Stammdaten!J413)","v":""},{"$f":"IF(Tageswerte!$R$4=1,Stammdaten!I413,Stammdaten!K413)","v":""}]
[{"$f":"IF(Stammdaten!A414=\"\",\"\",Stammdaten!A414)","v":""},null,{"$f":"IF(Stammdaten!C414=\"\",\"\",Stammdaten!C414)","v":""},{"$f":"IF(Tageswerte!$R$4=1,Stammdaten!H414,Stammdaten!J414)","v":""},{"$f":"IF(Tageswerte!$R$4=1,Stammdaten!I414,Stammdaten!K414)","v":""}]
[{"$f":"IF(Stammdaten!A415=\"\",\"\",Stammdaten!A415)","v":""},null,{"$f":"IF(Stammdaten!C415=\"\",\"\",Stammdaten!C415)","v":""},{"$f":"IF(Tageswerte!$R$4=1,Stammdaten!H415,Stammdaten!J415)","v":""},{"$f":"IF(Tageswerte!$R$4=1,Stammdaten!I415,Stammdaten!K415)","v":""}]
[{"$f":"IF(Stammdaten!A416=\"\",\"\",Stammdaten!A416)","v":""},null,{"$f":"IF(Stammdaten!C416=\"\",\"\",Stammdaten!C416)","v":""},{"$f":"IF(Tageswerte!$R$4=1,Stammdaten!H416,Stammdaten!J416)","v":""},{"$f":"IF(Tageswerte!$R$4=1,Stammdaten!I416,Stammdaten!K416)","v":""}]
[{"$f":"IF(Stammdaten!A417=\"\",\"\",Stammdaten!A417)","v":""},null,{"$f":"IF(Stammdaten!C417=\"\",\"\",Stammdaten!C417)","v":""},{"$f":"IF(Tageswerte!$R$4=1,Stammdaten!H417,Stammdaten!J417)","v":""},{"$f":"IF(Tageswerte!$R$4=1,Stammdaten!I417,Stammdaten!K417)","v":""}]
[{"$f":"IF(Stammdaten!A418=\"\",\"\",Stammdaten!A418)","v":""},null,{"$f":"IF(Stammdaten!C418=\"\",\"\",Stammdaten!C418)","v":""},{"$f":"IF(Tageswerte!$R$4=1,Stammdaten!H418,Stammdaten!J418)","v":""},{"$f":"IF(Tageswerte!$R$4=1,Stammdaten!I418,Stammdaten!K418)","v":""}]
[{"$f":"IF(Stammdaten!A419=\"\",\"\",Stammdaten!A419)","v":""},null,{"$f":"IF(Stammdaten!C419=\"\",\"\",Stammdaten!C419)","v":""},{"$f":"IF(Tageswerte!$R$4=1,Stammdaten!H419,Stammdaten!J419)","v":""},{"$f":"IF(Tageswerte!$R$4=1,Stammdaten!I419,Stammdaten!K419)","v":""}]
[{"$f":"IF(Stammdaten!A420=\"\",\"\",Stammdaten!A420)","v":""},null,{"$f":"IF(Stammdaten!C420=\"\",\"\",Stammdaten!C420)","v":""},{"$f":"IF(Tageswerte!$R$4=1,Stammdaten!H420,Stammdaten!J420)","v":""},{"$f":"IF(Tageswerte!$R$4=1,Stammdaten!I420,Stammdaten!K420)","v":""}]
[{"$f":"IF(Stammdaten!A421=\"\",\"\",Stammdaten!A421)","v":""},null,{"$f":"IF(Stammdaten!C421=\"\",\"\",Stammdaten!C421)","v":""},{"$f":"IF(Tageswerte!$R$4=1,Stammdaten!H421,Stammdaten!J421)","v":""},{"$f":"IF(Tageswerte!$R$4=1,Stammdaten!I421,Stammdaten!K421)","v":""}]
[{"$f":"IF(Stammdaten!A422=\"\",\"\",Stammdaten!A422)","v":""},null,{"$f":"IF(Stammdaten!C422=\"\",\"\",Stammdaten!C422)","v":""},{"$f":"IF(Tageswerte!$R$4=1,Stammdaten!H422,Stammdaten!J422)","v":""},{"$f":"IF(Tageswerte!$R$4=1,Stammdaten!I422,Stammdaten!K422)","v":""}]
[{"$f":"IF(Stammdaten!A423=\"\",\"\",Stammdaten!A423)","v":""},null,{"$f":"IF(Stammdaten!C423=\"\",\"\",Stammdaten!C423)","v":""},{"$f":"IF(Tageswerte!$R$4=1,Stammdaten!H423,Stammdaten!J423)","v":""},{"$f":"IF(Tageswerte!$R$4=1,Stammdaten!I423,Stammdaten!K423)","v":""}]
[{"$f":"IF(Stammdaten!A424=\"\",\"\",Stammdaten!A424)","v":""},null,{"$f":"IF(Stammdaten!C424=\"\",\"\",Stammdaten!C424)","v":""},{"$f":"IF(Tageswerte!$R$4=1,Stammdaten!H424,Stammdaten!J424)","v":""},{"$f":"IF(Tageswerte!$R$4=1,Stammdaten!I424,Stammdaten!K424)","v":""}]
[{"$f":"IF(Stammdaten!A425=\"\",\"\",Stammdaten!A425)","v":""},null,{"$f":"IF(Stammdaten!C425=\"\",\"\",Stammdaten!C425)","v":""},{"$f":"IF(Tageswerte!$R$4=1,Stammdaten!H425,Stammdaten!J425)","v":""},{"$f":"IF(Tageswerte!$R$4=1,Stammdaten!I425,Stammdaten!K425)","v":""}]
[{"$f":"IF(Stammdaten!A426=\"\",\"\",Stammdaten!A426)","v":""},null,{"$f":"IF(Stammdaten!C426=\"\",\"\",Stammdaten!C426)","v":""},{"$f":"IF(Tageswerte!$R$4=1,Stammdaten!H426,Stammdaten!J426)","v":""},{"$f":"IF(Tageswerte!$R$4=1,Stammdaten!I426,Stammdaten!K426)","v":""}]
[{"$f":"IF(Stammdaten!A427=\"\",\"\",Stammdaten!A427)","v":""},null,{"$f":"IF(Stammdaten!C427=\"\",\"\",Stammdaten!C427)","v":""},{"$f":"IF(Tageswerte!$R$4=1,Stammdaten!H427,Stammdaten!J427)","v":""},{"$f":"IF(Tageswerte!$R$4=1,Stammdaten!I427,Stammdaten!K427)","v":""}]
[{"$f":"IF(Stammdaten!A428=\"\",\"\",Stammdaten!A428)","v":""},null,{"$f":"IF(Stammdaten!C428=\"\",\"\",Stammdaten!C428)","v":""},{"$f":"IF(Tageswerte!$R$4=1,Stammdaten!H428,Stammdaten!J428)","v":""},{"$f":"IF(Tageswerte!$R$4=1,Stammdaten!I428,Stammdaten!K428)","v":""}]
[{"$f":"IF(Stammdaten!A429=\"\",\"\",Stammdaten!A429)","v":""},null,{"$f":"IF(Stammdaten!C429=\"\",\"\",Stammdaten!C429)","v":""},{"$f":"IF(Tageswerte!$R$4=1,Stammdaten!H429,Stammdaten!J429)","v":""},{"$f":"IF(Tageswerte!$R$4=1,Stammdaten!I429,Stammdaten!K429)","v":""}]
[{"$f":"IF(Stammdaten!A430=\"\",\"\",Stammdaten!A430)","v":""},null,{"$f":"IF(Stammdaten!C430=\"\",\"\",Stammdaten!C430)","v":""},{"$f":"IF(Tageswerte!$R$4=1,Stammdaten!H430,Stammdaten!J430)","v":""},{"$f":"IF(Tageswerte!$R$4=1,Stammdaten!I430,Stammdaten!K430)","v":""}]
[{"$f":"IF(Stammdaten!A431=\"\",\"\",Stammdaten!A431)","v":""},null,{"$f":"IF(Stammdaten!C431=\"\",\"\",Stammdaten!C431)","v":""},{"$f":"IF(Tageswerte!$R$4=1,Stammdaten!H431,Stammdaten!J431)","v":""},{"$f":"IF(Tageswerte!$R$4=1,Stammdaten!I431,Stammdaten!K431)","v":""}]
[{"$f":"IF(Stammdaten!A432=\"\",\"\",Stammdaten!A432)","v":""},null,{"$f":"IF(Stammdaten!C432=\"\",\"\",Stammdaten!C432)","v":""},{"$f":"IF(Tageswerte!$R$4=1,Stammdaten!H432,Stammdaten!J432)","v":""},{"$f":"IF(Tageswerte!$R$4=1,Stammdaten!I432,Stammdaten!K432)","v":""}]
[{"$f":"IF(Stammdaten!A433=\"\",\"\",Stammdaten!A433)","v":""},null,{"$f":"IF(Stammdaten!C433=\"\",\"\",Stammdaten!C433)","v":""},{"$f":"IF(Tageswerte!$R$4=1,Stammdaten!H433,Stammdaten!J433)","v":""},{"$f":"IF(Tageswerte!$R$4=1,Stammdaten!I433,Stammdaten!K433)","v":""}]
[{"$f":"IF(Stammdaten!A434=\"\",\"\",Stammdaten!A434)","v":""},null,{"$f":"IF(Stammdaten!C434=\"\",\"\",Stammdaten!C434)","v":""},{"$f":"IF(Tageswerte!$R$4=1,Stammdaten!H434,Stammdaten!J434)","v":""},{"$f":"IF(Tageswerte!$R$4=1,Stammdaten!I434,Stammdaten!K434)","v":""}]
[{"$f":"IF(Stammdaten!A435=\"\",\"\",Stammdaten!A435)","v":""},null,{"$f":"IF(Stammdaten!C435=\"\",\"\",Stammdaten!C435)","v":""},{"$f":"IF(Tageswerte!$R$4=1,Stammdaten!H435,Stammdaten!J435)","v":""},{"$f":"IF(Tageswerte!$R$4=1,Stammdaten!I435,Stammdaten!K435)","v":""}]
[{"$f":"IF(Stammdaten!A436=\"\",\"\",Stammdaten!A436)","v":""},null,{"$f":"IF(Stammdaten!C436=\"\",\"\",Stammdaten!C436)","v":""},{"$f":"IF(Tageswerte!$R$4=1,Stammdaten!H436,Stammdaten!J436)","v":""},{"$f":"IF(Tageswerte!$R$4=1,Stammdaten!I436,Stammdaten!K436)","v":""}]
[{"$f":"IF(Stammdaten!A437=\"\",\"\",Stammdaten!A437)","v":""},null,{"$f":"IF(Stammdaten!C437=\"\",\"\",Stammdaten!C437)","v":""},{"$f":"IF(Tageswerte!$R$4=1,Stammdaten!H437,Stammdaten!J437)","v":""},{"$f":"IF(Tageswerte!$R$4=1,Stammdaten!I437,Stammdaten!K437)","v":""}]
[{"$f":"IF(Stammdaten!A438=\"\",\"\",Stammdaten!A438)","v":""},null,{"$f":"IF(Stammdaten!C438=\"\",\"\",Stammdaten!C438)","v":""},{"$f":"IF(Tageswerte!$R$4=1,Stammdaten!H438,Stammdaten!J438)","v":""},{"$f":"IF(Tageswerte!$R$4=1,Stammdaten!I438,Stammdaten!K438)","v":""}]
[{"$f":"IF(Stammdaten!A439=\"\",\"\",Stammdaten!A439)","v":""},null,{"$f":"IF(Stammdaten!C439=\"\",\"\",Stammdaten!C439)","v":""},{"$f":"IF(Tageswerte!$R$4=1,Stammdaten!H439,Stammdaten!J439)","v":""},{"$f":"IF(Tageswerte!$R$4=1,Stammdaten!I439,Stammdaten!K439)","v":""}]
[{"$f":"IF(Stammdaten!A440=\"\",\"\",Stammdaten!A440)","v":""},null,{"$f":"IF(Stammdaten!C440=\"\",\"\",Stammdaten!C440)","v":""},{"$f":"IF(Tageswerte!$R$4=1,Stammdaten!H440,Stammdaten!J440)","v":""},{"$f":"IF(Tageswerte!$R$4=1,Stammdaten!I440,Stammdaten!K440)","v":""}]
[{"$f":"IF(Stammdaten!A441=\"\",\"\",Stammdaten!A441)","v":""},null,{"$f":"IF(Stammdaten!C441=\"\",\"\",Stammdaten!C441)","v":""},{"$f":"IF(Tageswerte!$R$4=1,Stammdaten!H441,Stammdaten!J441)","v":""},{"$f":"IF(Tageswerte!$R$4=1,Stammdaten!I441,Stammdaten!K441)","v":""}]
[{"$f":"IF(Stammdaten!A442=\"\",\"\",Stammdaten!A442)","v":""},null,{"$f":"IF(Stammdaten!C442=\"\",\"\",Stammdaten!C442)","v":""},{"$f":"IF(Tageswerte!$R$4=1,Stammdaten!H442,Stammdaten!J442)","v":""},{"$f":"IF(Tageswerte!$R$4=1,Stammdaten!I442,Stammdaten!K442)","v":""}]
[{"$f":"IF(Stammdaten!A443=\"\",\"\",Stammdaten!A443)","v":""},null,{"$f":"IF(Stammdaten!C443=\"\",\"\",Stammdaten!C443)","v":""},{"$f":"IF(Tageswerte!$R$4=1,Stammdaten!H443,Stammdaten!J443)","v":""},{"$f":"IF(Tageswerte!$R$4=1,Stammdaten!I443,Stammdaten!K443)","v":""}]
[{"$f":"IF(Stammdaten!A444=\"\",\"\",Stammdaten!A444)","v":""},null,{"$f":"IF(Stammdaten!C444=\"\",\"\",Stammdaten!C444)","v":""},{"$f":"IF(Tageswerte!$R$4=1,Stammdaten!H444,Stammdaten!J444)","v":""},{"$f":"IF(Tageswerte!$R$4=1,Stammdaten!I444,Stammdaten!K444)","v":""}]
[{"$f":"IF(Stammdaten!A445=\"\",\"\",Stammdaten!A445)","v":""},null,{"$f":"IF(Stammdaten!C445=\"\",\"\",Stammdaten!C445)","v":""},{"$f":"IF(Tageswerte!$R$4=1,Stammdaten!H445,Stammdaten!J445)","v":""},{"$f":"IF(Tageswerte!$R$4=1,Stammdaten!I445,Stammdaten!K445)","v":""}]
[{"$f":"IF(Stammdaten!A446=\"\",\"\",Stammdaten!A446)","v":""},null,{"$f":"IF(Stammdaten!C446=\"\",\"\",Stammdaten!C446)","v":""},{"$f":"IF(Tageswerte!$R$4=1,Stammdaten!H446,Stammdaten!J446)","v":""},{"$f":"IF(Tageswerte!$R$4=1,Stammdaten!I446,Stammdaten!K446)","v":""}]
[{"$f":"IF(Stammdaten!A447=\"\",\"\",Stammdaten!A447)","v":""},null,{"$f":"IF(Stammdaten!C447=\"\",\"\",Stammdaten!C447)","v":""},{"$f":"IF(Tageswerte!$R$4=1,Stammdaten!H447,Stammdaten!J447)","v":""},{"$f":"IF(Tageswerte!$R$4=1,Stammdaten!I447,Stammdaten!K447)","v":""}]
[{"$f":"IF(Stammdaten!A448=\"\",\"\",Stammdaten!A448)","v":""},null,{"$f":"IF(Stammdaten!C448=\"\",\"\",Stammdaten!C448)","v":""},{"$f":"IF(Tageswerte!$R$4=1,Stammdaten!H448,Stammdaten!J448)","v":""},{"$f":"IF(Tageswerte!$R$4=1,Stammdaten!I448,Stammdaten!K448)","v":""}]
[{"$f":"IF(Stammdaten!A449=\"\",\"\",Stammdaten!A449)","v":""},null,{"$f":"IF(Stammdaten!C449=\"\",\"\",Stammdaten!C449)","v":""},{"$f":"IF(Tageswerte!$R$4=1,Stammdaten!H449,Stammdaten!J449)","v":""},{"$f":"IF(Tageswerte!$R$4=1,Stammdaten!I449,Stammdaten!K449)","v":""}]
[{"$f":"IF(Stammdaten!A450=\"\",\"\",Stammdaten!A450)","v":""},null,{"$f":"IF(Stammdaten!C450=\"\",\"\",Stammdaten!C450)","v":""},{"$f":"IF(Tageswerte!$R$4=1,Stammdaten!H450,Stammdaten!J450)","v":""},{"$f":"IF(Tageswerte!$R$4=1,Stammdaten!I450,Stammdaten!K450)","v":""}]
[{"$f":"IF(Stammdaten!A451=\"\",\"\",Stammdaten!A451)","v":""},null,{"$f":"IF(Stammdaten!C451=\"\",\"\",Stammdaten!C451)","v":""},{"$f":"IF(Tageswerte!$R$4=1,Stammdaten!H451,Stammdaten!J451)","v":""},{"$f":"IF(Tageswerte!$R$4=1,Stammdaten!I451,Stammdaten!K451)","v":""}]
[{"$f":"IF(Stammdaten!A452=\"\",\"\",Stammdaten!A452)","v":""},null,{"$f":"IF(Stammdaten!C452=\"\",\"\",Stammdaten!C452)","v":""},{"$f":"IF(Tageswerte!$R$4=1,Stammdaten!H452,Stammdaten!J452)","v":""},{"$f":"IF(Tageswerte!$R$4=1,Stammdaten!I452,Stammdaten!K452)","v":""}]
[{"$f":"IF(Stammdaten!A453=\"\",\"\",Stammdaten!A453)","v":""},null,{"$f":"IF(Stammdaten!C453=\"\",\"\",Stammdaten!C453)","v":""},{"$f":"IF(Tageswerte!$R$4=1,Stammdaten!H453,Stammdaten!J453)","v":""},{"$f":"IF(Tageswerte!$R$4=1,Stammdaten!I453,Stammdaten!K453)","v":""}]
[{"$f":"IF(Stammdaten!A454=\"\",\"\",Stammdaten!A454)","v":""},null,{"$f":"IF(Stammdaten!C454=\"\",\"\",Stammdaten!C454)","v":""},{"$f":"IF(Tageswerte!$R$4=1,Stammdaten!H454,Stammdaten!J454)","v":""},{"$f":"IF(Tageswerte!$R$4=1,Stammdaten!I454,Stammdaten!K454)","v":""}]
[{"$f":"IF(Stammdaten!A455=\"\",\"\",Stammdaten!A455)","v":""},null,{"$f":"IF(Stammdaten!C455=\"\",\"\",Stammdaten!C455)","v":""},{"$f":"IF(Tageswerte!$R$4=1,Stammdaten!H455,Stammdaten!J455)","v":""},{"$f":"IF(Tageswerte!$R$4=1,Stammdaten!I455,Stammdaten!K455)","v":""}]
[{"$f":"IF(Stammdaten!A456=\"\",\"\",Stammdaten!A456)","v":""},null,{"$f":"IF(Stammdaten!C456=\"\",\"\",Stammdaten!C456)","v":""},{"$f":"IF(Tageswerte!$R$4=1,Stammdaten!H456,Stammdaten!J456)","v":""},{"$f":"IF(Tageswerte!$R$4=1,Stammdaten!I456,Stammdaten!K456)","v":""}]
[{"$f":"IF(Stammdaten!A457=\"\",\"\",Stammdaten!A457)","v":""},null,{"$f":"IF(Stammdaten!C457=\"\",\"\",Stammdaten!C457)","v":""},{"$f":"IF(Tageswerte!$R$4=1,Stammdaten!H457,Stammdaten!J457)","v":""},{"$f":"IF(Tageswerte!$R$4=1,Stammdaten!I457,Stammdaten!K457)","v":""}]
[{"$f":"IF(Stammdaten!A458=\"\",\"\",Stammdaten!A458)","v":""},null,{"$f":"IF(Stammdaten!C458=\"\",\"\",Stammdaten!C458)","v":""},{"$f":"IF(Tageswerte!$R$4=1,Stammdaten!H458,Stammdaten!J458)","v":""},{"$f":"IF(Tageswerte!$R$4=1,Stammdaten!I458,Stammdaten!K458)","v":""}]
[{"$f":"IF(Stammdaten!A459=\"\",\"\",Stammdaten!A459)","v":""},null,{"$f":"IF(Stammdaten!C459=\"\",\"\",Stammdaten!C459)","v":""},{"$f":"IF(Tageswerte!$R$4=1,Stammdaten!H459,Stammdaten!J459)","v":""},{"$f":"IF(Tageswerte!$R$4=1,Stammdaten!I459,Stammdaten!K459)","v":""}]
[{"$f":"IF(Stammdaten!A460=\"\",\"\",Stammdaten!A460)","v":""},null,{"$f":"IF(Stammdaten!C460=\"\",\"\",Stammdaten!C460)","v":""},{"$f":"IF(Tageswerte!$R$4=1,Stammdaten!H460,Stammdaten!J460)","v":""},{"$f":"IF(Tageswerte!$R$4=1,Stammdaten!I460,Stammdaten!K460)","v":""}]
[{"$f":"IF(Stammdaten!A461=\"\",\"\",Stammdaten!A461)","v":""},null,{"$f":"IF(Stammdaten!C461=\"\",\"\",Stammdaten!C461)","v":""},{"$f":"IF(Tageswerte!$R$4=1,Stammdaten!H461,Stammdaten!J461)","v":""},{"$f":"IF(Tageswerte!$R$4=1,Stammdaten!I461,Stammdaten!K461)","v":""}]
[{"$f":"IF(Stammdaten!A462=\"\",\"\",Stammdaten!A462)","v":""},null,{"$f":"IF(Stammdaten!C462=\"\",\"\",Stammdaten!C462)","v":""},{"$f":"IF(Tageswerte!$R$4=1,Stammdaten!H462,Stammdaten!J462)","v":""},{"$f":"IF(Tageswerte!$R$4=1,Stammdaten!I462,Stammdaten!K462)","v":""}]
[{"$f":"IF(Stammdaten!A463=\"\",\"\",Stammdaten!A463)","v":""},null,{"$f":"IF(Stammdaten!C463=\"\",\"\",Stammdaten!C463)","v":""},{"$f":"IF(Tageswerte!$R$4=1,Stammdaten!H463,Stammdaten!J463)","v":""},{"$f":"IF(Tageswerte!$R$4=1,Stammdaten!I463,Stammdaten!K463)","v":""}]
[{"$f":"IF(Stammdaten!A464=\"\",\"\",Stammdaten!A464)","v":""},null,{"$f":"IF(Stammdaten!C464=\"\",\"\",Stammdaten!C464)","v":""},{"$f":"IF(Tageswerte!$R$4=1,Stammdaten!H464,Stammdaten!J464)","v":""},{"$f":"IF(Tageswerte!$R$4=1,Stammdaten!I464,Stammdaten!K464)","v":""}]
[{"$f":"IF(Stammdaten!A465=\"\",\"\",Stammdaten!A465)","v":""},null,{"$f":"IF(Stammdaten!C465=\"\",\"\",Stammdaten!C465)","v":""},{"$f":"IF(Tageswerte!$R$4=1,Stammdaten!H465,Stammdaten!J465)","v":""},{"$f":"IF(Tageswerte!$R$4=1,Stammdaten!I465,Stammdaten!K465)","v":""}]
[{"$f":"IF(Stammdaten!A466=\"\",\"\",Stammdaten!A466)","v":""},null,{"$f":"IF(Stammdaten!C466=\"\",\"\",Stammdaten!C466)","v":""},{"$f":"IF(Tageswerte!$R$4=1,Stammdaten!H466,Stammdaten!J466)","v":""},{"$f":"IF(Tageswerte!$R$4=1,Stammdaten!I466,Stammdaten!K466)","v":""}]
[{"$f":"IF(Stammdaten!A467=\"\",\"\",Stammdaten!A467)","v":""},null,{"$f":"IF(Stammdaten!C467=\"\",\"\",Stammdaten!C467)","v":""},{"$f":"IF(Tageswerte!$R$4=1,Stammdaten!H467,Stammdaten!J467)","v":""},{"$f":"IF(Tageswerte!$R$4=1,Stammdaten!I467,Stammdaten!K467)","v":""}]
[{"$f":"IF(Stammdaten!A468=\"\",\"\",Stammdaten!A468)","v":""},null,{"$f":"IF(Stammdaten!C468=\"\",\"\",Stammdaten!C468)","v":""},{"$f":"IF(Tageswerte!$R$4=1,Stammdaten!H468,Stammdaten!J468)","v":""},{"$f":"IF(Tageswerte!$R$4=1,Stammdaten!I468,Stammdaten!K468)","v":""}]
[{"$f":"IF(Stammdaten!A469=\"\",\"\",Stammdaten!A469)","v":""},null,{"$f":"IF(Stammdaten!C469=\"\",\"\",Stammdaten!C469)","v":""},{"$f":"IF(Tageswerte!$R$4=1,Stammdaten!H469,Stammdaten!J469)","v":""},{"$f":"IF(Tageswerte!$R$4=1,Stammdaten!I469,Stammdaten!K469)","v":""}]
[{"$f":"IF(Stammdaten!A470=\"\",\"\",Stammdaten!A470)","v":""},null,{"$f":"IF(Stammdaten!C470=\"\",\"\",Stammdaten!C470)","v":""},{"$f":"IF(Tageswerte!$R$4=1,Stammdaten!H470,Stammdaten!J470)","v":""},{"$f":"IF(Tageswerte!$R$4=1,Stammdaten!I470,Stammdaten!K470)","v":""}]
[{"$f":"IF(Stammdaten!A471=\"\",\"\",Stammdaten!A471)","v":""},null,{"$f":"IF(Stammdaten!C471=\"\",\"\",Stammdaten!C471)","v":""},{"$f":"IF(Tageswerte!$R$4=1,Stammdaten!H471,Stammdaten!J471)","v":""},{"$f":"IF(Tageswerte!$R$4=1,Stammdaten!I471,Stammdaten!K471)","v":""}]
[{"$f":"IF(Stammdaten!A472=\"\",\"\",Stammdaten!A472)","v":""},null,{"$f":"IF(Stammdaten!C472=\"\",\"\",Stammdaten!C472)","v":""},{"$f":"IF(Tageswerte!$R$4=1,Stammdaten!H472,Stammdaten!J472)","v":""},{"$f":"IF(Tageswerte!$R$4=1,Stammdaten!I472,Stammdaten!K472)","v":""}]
[{"$f":"IF(Stammdaten!A473=\"\",\"\",Stammdaten!A473)","v":""},null,{"$f":"IF(Stammdaten!C473=\"\",\"\",Stammdaten!C473)","v":""},{"$f":"IF(Tageswerte!$R$4=1,Stammdaten!H473,Stammdaten!J473)","v":""},{"$f":"IF(Tageswerte!$R$4=1,Stammdaten!I473,Stammdaten!K473)","v":""}]
[{"$f":"IF(Stammdaten!A474=\"\",\"\",Stammdaten!A474)","v":""},null,{"$f":"IF(Stammdaten!C474=\"\",\"\",Stammdaten!C474)","v":""},{"$f":"IF(Tageswerte!$R$4=1,Stammdaten!H474,Stammdaten!J474)","v":""},{"$f":"IF(Tageswerte!$R$4=1,Stammdaten!I474,Stammdaten!K474)","v":""}]
[{"$f":"IF(Stammdaten!A475=\"\",\"\",Stammdaten!A475)","v":""},null,{"$f":"IF(Stammdaten!C475=\"\",\"\",Stammdaten!C475)","v":""},{"$f":"IF(Tageswerte!$R$4=1,Stammdaten!H475,Stammdaten!J475)","v":""},{"$f":"IF(Tageswerte!$R$4=1,Stammdaten!I475,Stammdaten!K475)","v":""}]
[{"$f":"IF(Stammdaten!A476=\"\",\"\",Stammdaten!A476)","v":""},null,{"$f":"IF(Stammdaten!C476=\"\",\"\",Stammdaten!C476)","v":""},{"$f":"IF(Tageswerte!$R$4=1,Stammdaten!H476,Stammdaten!J476)","v":""},{"$f":"IF(Tageswerte!$R$4=1,Stammdaten!I476,Stammdaten!K476)","v":""}]
[{"$f":"IF(Stammdaten!A477=\"\",\"\",Stammdaten!A477)","v":""},null,{"$f":"IF(Stammdaten!C477=\"\",\"\",Stammdaten!C477)","v":""},{"$f":"IF(Tageswerte!$R$4=1,Stammdaten!H477,Stammdaten!J477)","v":""},{"$f":"IF(Tageswerte!$R$4=1,Stammdaten!I477,Stammdaten!K477)","v":""}]
[{"$f":"IF(Stammdaten!A478=\"\",\"\",Stammdaten!A478)","v":""},null,{"$f":"IF(Stammdaten!C478=\"\",\"\",Stammdaten!C478)","v":""},{"$f":"IF(Tageswerte!$R$4=1,Stammdaten!H478,Stammdaten!J478)","v":""},{"$f":"IF(Tageswerte!$R$4=1,Stammdaten!I478,Stammdaten!K478)","v":""}]
[{"$f":"IF(Stammdaten!A479=\"\",\"\",Stammdaten!A479)","v":""},null,{"$f":"IF(Stammdaten!C479=\"\",\"\",Stammdaten!C479)","v":""},{"$f":"IF(Tageswerte!$R$4=1,Stammdaten!H479,Stammdaten!J479)","v":""},{"$f":"IF(Tageswerte!$R$4=1,Stammdaten!I479,Stammdaten!K479)","v":""}]
[{"$f":"IF(Stammdaten!A480=\"\",\"\",Stammdaten!A480)","v":""},null,{"$f":"IF(Stammdaten!C480=\"\",\"\",Stammdaten!C480)","v":""},{"$f":"IF(Tageswerte!$R$4=1,Stammdaten!H480,Stammdaten!J480)","v":""},{"$f":"IF(Tageswerte!$R$4=1,Stammdaten!I480,Stammdaten!K480)","v":""}]
[{"$f":"IF(Stammdaten!A481=\"\",\"\",Stammdaten!A481)","v":""},null,{"$f":"IF(Stammdaten!C481=\"\",\"\",Stammdaten!C481)","v":""},{"$f":"IF(Tageswerte!$R$4=1,Stammdaten!H481,Stammdaten!J481)","v":""},{"$f":"IF(Tageswerte!$R$4=1,Stammdaten!I481,Stammdaten!K481)","v":""}]
[{"$f":"IF(Stammdaten!A482=\"\",\"\",Stammdaten!A482)","v":""},null,{"$f":"IF(Stammdaten!C482=\"\",\"\",Stammdaten!C482)","v":""},{"$f":"IF(Tageswerte!$R$4=1,Stammdaten!H482,Stammdaten!J482)","v":""},{"$f":"IF(Tageswerte!$R$4=1,Stammdaten!I482,Stammdaten!K482)","v":""}]
[{"$f":"IF(Stammdaten!A483=\"\",\"\",Stammdaten!A483)","v":""},null,{"$f":"IF(Stammdaten!C483=\"\",\"\",Stammdaten!C483)","v":""},{"$f":"IF(Tageswerte!$R$4=1,Stammdaten!H483,Stammdaten!J483)","v":""},{"$f":"IF(Tageswerte!$R$4=1,Stammdaten!I483,Stammdaten!K483)","v":""}]
[{"$f":"IF(Stammdaten!A484=\"\",\"\",Stammdaten!A484)","v":""},null,{"$f":"IF(Stammdaten!C484=\"\",\"\",Stammdaten!C484)","v":""},{"$f":"IF(Tageswerte!$R$4=1,Stammdaten!H484,Stammdaten!J484)","v":""},{"$f":"IF(Tageswerte!$R$4=1,Stammdaten!I484,Stammdaten!K484)","v":""}]
[{"$f":"IF(Stammdaten!A485=\"\",\"\",Stammdaten!A485)","v":""},null,{"$f":"IF(Stammdaten!C485=\"\",\"\",Stammdaten!C485)","v":""},{"$f":"IF(Tageswerte!$R$4=1,Stammdaten!H485,Stammdaten!J485)","v":""},{"$f":"IF(Tageswerte!$R$4=1,Stammdaten!I485,Stammdaten!K485)","v":""}]
[{"$f":"IF(Stammdaten!A486=\"\",\"\",Stammdaten!A486)","v":""},null,{"$f":"IF(Stammdaten!C486=\"\",\"\",Stammdaten!C486)","v":""},{"$f":"IF(Tageswerte!$R$4=1,Stammdaten!H486,Stammdaten!J486)","v":""},{"$f":"IF(Tageswerte!$R$4=1,Stammdaten!I486,Stammdaten!K486)","v":""}]
[{"$f":"IF(Stammdaten!A487=\"\",\"\",Stammdaten!A487)","v":""},null,{"$f":"IF(Stammdaten!C487=\"\",\"\",Stammdaten!C487)","v":""},{"$f":"IF(Tageswerte!$R$4=1,Stammdaten!H487,Stammdaten!J487)","v":""},{"$f":"IF(Tageswerte!$R$4=1,Stammdaten!I487,Stammdaten!K487)","v":""}]
[{"$f":"IF(Stammdaten!A488=\"\",\"\",Stammdaten!A488)","v":""},null,{"$f":"IF(Stammdaten!C488=\"\",\"\",Stammdaten!C488)","v":""},{"$f":"IF(Tageswerte!$R$4=1,Stammdaten!H488,Stammdaten!J488)","v":""},{"$f":"IF(Tageswerte!$R$4=1,Stammdaten!I488,Stammdaten!K488)","v":""}]
[{"$f":"IF(Stammdaten!A489=\"\",\"\",Stammdaten!A489)","v":""},null,{"$f":"IF(Stammdaten!C489=\"\",\"\",Stammdaten!C489)","v":""},{"$f":"IF(Tageswerte!$R$4=1,Stammdaten!H489,Stammdaten!J489)","v":""},{"$f":"IF(Tageswerte!$R$4=1,Stammdaten!I489,Stammdaten!K489)","v":""}]
[{"$f":"IF(Stammdaten!A490=\"\",\"\",Stammdaten!A490)","v":""},null,{"$f":"IF(Stammdaten!C490=\"\",\"\",Stammdaten!C490)","v":""},{"$f":"IF(Tageswerte!$R$4=1,Stammdaten!H490,Stammdaten!J490)","v":""},{"$f":"IF(Tageswerte!$R$4=1,Stammdaten!I490,Stammdaten!K490)","v":""}]
[{"$f":"IF(Stammdaten!A491=\"\",\"\",Stammdaten!A491)","v":""},null,{"$f":"IF(Stammdaten!C491=\"\",\"\",Stammdaten!C491)","v":""},{"$f":"IF(Tageswerte!$R$4=1,Stammdaten!H491,Stammdaten!J491)","v":""},{"$f":"IF(Tageswerte!$R$4=1,Stammdaten!I491,Stammdaten!K491)","v":""}]
[{"$f":"IF(Stammdaten!A492=\"\",\"\",Stammdaten!A492)","v":""},null,{"$f":"IF(Stammdaten!C492=\"\",\"\",Stammdaten!C492)","v":""},{"$f":"IF(Tageswerte!$R$4=1,Stammdaten!H492,Stammdaten!J492)","v":""},{"$f":"IF(Tageswerte!$R$4=1,Stammdaten!I492,Stammdaten!K492)","v":""}]
[{"$f":"IF(Stammdaten!A493=\"\",\"\",Stammdaten!A493)","v":""},null,{"$f":"IF(Stammdaten!C493=\"\",\"\",Stammdaten!C493)","v":""},{"$f":"IF(Tageswerte!$R$4=1,Stammdaten!H493,Stammdaten!J493)","v":""},{"$f":"IF(Tageswerte!$R$4=1,Stammdaten!I493,Stammdaten!K493)","v":""}]
[{"$f":"IF(Stammdaten!A494=\"\",\"\",Stammdaten!A494)","v":""},null,{"$f":"IF(Stammdaten!C494=\"\",\"\",Stammdaten!C494)","v":""},{"$f":"IF(Tageswerte!$R$4=1,Stammdaten!H494,Stammdaten!J494)","v":""},{"$f":"IF(Tageswerte!$R$4=1,Stammdaten!I494,Stammdaten!K494)","v":""}]
[{"$f":"IF(Stammdaten!A495=\"\",\"\",Stammdaten!A495)","v":""},null,{"$f":"IF(Stammdaten!C495=\"\",\"\",Stammdaten!C495)","v":""},{"$f":"IF(Tageswerte!$R$4=1,Stammdaten!H495,Stammdaten!J495)","v":""},{"$f":"IF(Tageswerte!$R$4=1,Stammdaten!I495,Stammdaten!K495)","v":""}]
[{"$f":"IF(Stammdaten!A496=\"\",\"\",Stammdaten!A496)","v":""},null,{"$f":"IF(Stammdaten!C496=\"\",\"\",Stammdaten!C496)","v":""},{"$f":"IF(Tageswerte!$R$4=1,Stammdaten!H496,Stammdaten!J496)","v":""},{"$f":"IF(Tageswerte!$R$4=1,Stammdaten!I496,Stammdaten!K496)","v":""}]
[{"$f":"IF(Stammdaten!A497=\"\",\"\",Stammdaten!A497)","v":""},null,{"$f":"IF(Stammdaten!C497=\"\",\"\",Stammdaten!C497)","v":""},{"$f":"IF(Tageswerte!$R$4=1,Stammdaten!H497,Stammdaten!J497)","v":""},{"$f":"IF(Tageswerte!$R$4=1,Stammdaten!I497,Stammdaten!K497)","v":""}]
[{"$f":"IF(Stammdaten!A498=\"\",\"\",Stammdaten!A498)","v":""},null,{"$f":"IF(Stammdaten!C498=\"\",\"\",Stammdaten!C498)","v":""},{"$f":"IF(Tageswerte!$R$4=1,Stammdaten!H498,Stammdaten!J498)","v":""},{"$f":"IF(Tageswerte!$R$4=1,Stammdaten!I498,Stammdaten!K498)","v":""}]
[{"$f":"IF(Stammdaten!A499=\"\",\"\",Stammdaten!A499)","v":""},null,{"$f":"IF(Stammdaten!C499=\"\",\"\",Stammdaten!C499)","v":""},{"$f":"IF(Tageswerte!$R$4=1,Stammdaten!H499,Stammdaten!J499)","v":""},{"$f":"IF(Tageswerte!$R$4=1,Stammdaten!I499,Stammdaten!K499)","v":""}]
[{"$f":"IF(Stammdaten!A500=\"\",\"\",Stammdaten!A500)","v":""},null,{"$f":"IF(Stammdaten!C500=\"\",\"\",Stammdaten!C500)","v":""},{"$f":"IF(Tageswerte!$R$4=1,Stammdaten!H500,Stammdaten!J500)","v":""},{"$f":"IF(Tageswerte!$R$4=1,Stammdaten!I500,Stammdaten!K500)","v":""}]
[{"$f":"IF(Stammdaten!A501=\"\",\"\",Stammdaten!A501)","v":""},null,{"$f":"IF(Stammdaten!C501=\"\",\"\",Stammdaten!C501)","v":""},{"$f":"IF(Tageswerte!$R$4=1,Stammdaten!H501,Stammdaten!J501)","v":""},{"$f":"IF(Tageswerte!$R$4=1,Stammdaten!I501,Stammdaten!K501)","v":""}]
[{"$f":"IF(Stammdaten!A502=\"\",\"\",Stammdaten!A502)","v":""},null,{"$f":"IF(Stammdaten!C502=\"\",\"\",Stammdaten!C502)","v":""},{"$f":"IF(Tageswerte!$R$4=1,Stammdaten!H502,Stammdaten!J502)","v":""},{"$f":"IF(Tageswerte!$R$4=1,Stammdaten!I502,Stammdaten!K502)","v":""}]
[{"$f":"IF(Stammdaten!A503=\"\",\"\",Stammdaten!A503)","v":""},null,{"$f":"IF(Stammdaten!C503=\"\",\"\",Stammdaten!C503)","v":""},{"$f":"IF(Tageswerte!$R$4=1,Stammdaten!H503,Stammdaten!J503)","v":""},{"$f":"IF(Tageswerte!$R$4=1,Stammdaten!I503,Stammdaten!K503)","v":""}]
[{"$f":"IF(Stammdaten!A504=\"\",\"\",Stammdaten!A504)","v":""},null,{"$f":"IF(Stammdaten!C504=\"\",\"\",Stammdaten!C504)","v":""},{"$f":"IF(Tageswerte!$R$4=1,Stammdaten!H504,Stammdaten!J504)","v":""},{"$f":"IF(Tageswerte!$R$4=1,Stammdaten!I504,Stammdaten!K504)","v":""}]
[{"$f":"IF(Stammdaten!A505=\"\",\"\",Stammdaten!A505)","v":""},null,{"$f":"IF(Stammdaten!C505=\"\",\"\",Stammdaten!C505)","v":""},{"$f":"IF(Tageswerte!$R$4=1,Stammdaten!H505,Stammdaten!J505)","v":""},{"$f":"IF(Tageswerte!$R$4=1,Stammdaten!I505,Stammdaten!K505)","v":""}]
[{"$f":"IF(Stammdaten!A506=\"\",\"\",Stammdaten!A506)","v":""},null,{"$f":"IF(Stammdaten!C506=\"\",\"\",Stammdaten!C506)","v":""},{"$f":"IF(Tageswerte!$R$4=1,Stammdaten!H506,Stammdaten!J506)","v":""},{"$f":"IF(Tageswerte!$R$4=1,Stammdaten!I506,Stammdaten!K506)","v":""}]
[{"$f":"IF(Stammdaten!A507=\"\",\"\",Stammdaten!A507)","v":""},null,{"$f":"IF(Stammdaten!C507=\"\",\"\",Stammdaten!C507)","v":""},{"$f":"IF(Tageswerte!$R$4=1,Stammdaten!H507,Stammdaten!J507)","v":""},{"$f":"IF(Tageswerte!$R$4=1,Stammdaten!I507,Stammdaten!K507)","v":""}]
[{"$f":"IF(Stammdaten!A508=\"\",\"\",Stammdaten!A508)","v":""},null,{"$f":"IF(Stammdaten!C508=\"\",\"\",Stammdaten!C508)","v":""},{"$f":"IF(Tageswerte!$R$4=1,Stammdaten!H508,Stammdaten!J508)","v":""},{"$f":"IF(Tageswerte!$R$4=1,Stammdaten!I508,Stammdaten!K508)","v":""}]
[{"$f":"IF(Stammdaten!A509=\"\",\"\",Stammdaten!A509)","v":""},null,{"$f":"IF(Stammdaten!C509=\"\",\"\",Stammdaten!C509)","v":""},{"$f":"IF(Tageswerte!$R$4=1,Stammdaten!H509,Stammdaten!J509)","v":""},{"$f":"IF(Tageswerte!$R$4=1,Stammdaten!I509,Stammdaten!K509)","v":""}]
[{"$f":"IF(Stammdaten!A510=\"\",\"\",Stammdaten!A510)","v":""},null,{"$f":"IF(Stammdaten!C510=\"\",\"\",Stammdaten!C510)","v":""},{"$f":"IF(Tageswerte!$R$4=1,Stammdaten!H510,Stammdaten!J510)","v":""},{"$f":"IF(Tageswerte!$R$4=1,Stammdaten!I510,Stammdaten!K510)","v":""}]
[{"$f":"IF(Stammdaten!A511=\"\",\"\",Stammdaten!A511)","v":""},null,{"$f":"IF(Stammdaten!C511=\"\",\"\",Stammdaten!C511)","v":""},{"$f":"IF(Tageswerte!$R$4=1,Stammdaten!H511,Stammdaten!J511)","v":""},{"$f":"IF(Tageswerte!$R$4=1,Stammdaten!I511,Stammdaten!K511)","v":""}]
[{"$f":"IF(Stammdaten!A512=\"\",\"\",Stammdaten!A512)","v":""},null,{"$f":"IF(Stammdaten!C512=\"\",\"\",Stammdaten!C512)","v":""},{"$f":"IF(Tageswerte!$R$4=1,Stammdaten!H512,Stammdaten!J512)","v":""},{"$f":"IF(Tageswerte!$R$4=1,Stammdaten!I512,Stammdaten!K512)","v":""}]
[{"$f":"IF(Stammdaten!A513=\"\",\"\",Stammdaten!A513)","v":""},null,{"$f":"IF(Stammdaten!C513=\"\",\"\",Stammdaten!C513)","v":""},{"$f":"IF(Tageswerte!$R$4=1,Stammdaten!H513,Stammdaten!J513)","v":""},{"$f":"IF(Tageswerte!$R$4=1,Stammdaten!I513,Stammdaten!K513)","v":""}]
[{"$f":"IF(Stammdaten!A514=\"\",\"\",Stammdaten!A514)","v":""},null,{"$f":"IF(Stammdaten!C514=\"\",\"\",Stammdaten!C514)","v":""},{"$f":"IF(Tageswerte!$R$4=1,Stammdaten!H514,Stammdaten!J514)","v":""},{"$f":"IF(Tageswerte!$R$4=1,Stammdaten!I514,Stammdaten!K514)","v":""}]
[{"$f":"IF(Stammdaten!A515=\"\",\"\",Stammdaten!A515)","v":""},null,{"$f":"IF(Stammdaten!C515=\"\",\"\",Stammdaten!C515)","v":""},{"$f":"IF(Tageswerte!$R$4=1,Stammdaten!H515,Stammdaten!J515)","v":""},{"$f":"IF(Tageswerte!$R$4=1,Stammdaten!I515,Stammdaten!K515)","v":""}]
[{"$f":"IF(Stammdaten!A516=\"\",\"\",Stammdaten!A516)","v":""},null,{"$f":"IF(Stammdaten!C516=\"\",\"\",Stammdaten!C516)","v":""},{"$f":"IF(Tageswerte!$R$4=1,Stammdaten!H516,Stammdaten!J516)","v":""},{"$f":"IF(Tageswerte!$R$4=1,Stammdaten!I516,Stammdaten!K516)","v":""}]
[{"$f":"IF(Stammdaten!A517=\"\",\"\",Stammdaten!A517)","v":""},null,{"$f":"IF(Stammdaten!C517=\"\",\"\",Stammdaten!C517)","v":""},{"$f":"IF(Tageswerte!$R$4=1,Stammdaten!H517,Stammdaten!J517)","v":""},{"$f":"IF(Tageswerte!$R$4=1,Stammdaten!I517,Stammdaten!K517)","v":""}]
[{"$f":"IF(Stammdaten!A518=\"\",\"\",Stammdaten!A518)","v":""},null,{"$f":"IF(Stammdaten!C518=\"\",\"\",Stammdaten!C518)","v":""},{"$f":"IF(Tageswerte!$R$4=1,Stammdaten!H518,Stammdaten!J518)","v":""},{"$f":"IF(Tageswerte!$R$4=1,Stammdaten!I518,Stammdaten!K518)","v":""}]
[{"$f":"IF(Stammdaten!A519=\"\",\"\",Stammdaten!A519)","v":""},null,{"$f":"IF(Stammdaten!C519=\"\",\"\",Stammdaten!C519)","v":""},{"$f":"IF(Tageswerte!$R$4=1,Stammdaten!H519,Stammdaten!J519)","v":""},{"$f":"IF(Tageswerte!$R$4=1,Stammdaten!I519,Stammdaten!K519)","v":""}]
[{"$f":"IF(Stammdaten!A520=\"\",\"\",Stammdaten!A520)","v":""},null,{"$f":"IF(Stammdaten!C520=\"\",\"\",Stammdaten!C520)","v":""},{"$f":"IF(Tageswerte!$R$4=1,Stammdaten!H520,Stammdaten!J520)","v":""},{"$f":"IF(Tageswerte!$R$4=1,Stammdaten!I520,Stammdaten!K520)","v":""}]
[{"$f":"IF(Stammdaten!A521=\"\",\"\",Stammdaten!A521)","v":""},null,{"$f":"IF(Stammdaten!C521=\"\",\"\",Stammdaten!C521)","v":""},{"$f":"IF(Tageswerte!$R$4=1,Stammdaten!H521,Stammdaten!J521)","v":""},{"$f":"IF(Tageswerte!$R$4=1,Stammdaten!I521,Stammdaten!K521)","v":""}]
[{"$f":"IF(Stammdaten!A522=\"\",\"\",Stammdaten!A522)","v":""},null,{"$f":"IF(Stammdaten!C522=\"\",\"\",Stammdaten!C522)","v":""},{"$f":"IF(Tageswerte!$R$4=1,Stammdaten!H522,Stammdaten!J522)","v":""},{"$f":"IF(Tageswerte!$R$4=1,Stammdaten!I522,Stammdaten!K522)","v":""}]
[{"$f":"IF(Stammdaten!A523=\"\",\"\",Stammdaten!A523)","v":""},null,{"$f":"IF(Stammdaten!C523=\"\",\"\",Stammdaten!C523)","v":""},{"$f":"IF(Tageswerte!$R$4=1,Stammdaten!H523,Stammdaten!J523)","v":""},{"$f":"IF(Tageswerte!$R$4=1,Stammdaten!I523,Stammdaten!K523)","v":""}]
[{"$f":"IF(Stammdaten!A524=\"\",\"\",Stammdaten!A524)","v":""},null,{"$f":"IF(Stammdaten!C524=\"\",\"\",Stammdaten!C524)","v":""},{"$f":"IF(Tageswerte!$R$4=1,Stammdaten!H524,Stammdaten!J524)","v":""},{"$f":"IF(Tageswerte!$R$4=1,Stammdaten!I524,Stammdaten!K524)","v":""}]
[{"$f":"IF(Stammdaten!A525=\"\",\"\",Stammdaten!A525)","v":""},null,{"$f":"IF(Stammdaten!C525=\"\",\"\",Stammdaten!C525)","v":""},{"$f":"IF(Tageswerte!$R$4=1,Stammdaten!H525,Stammdaten!J525)","v":""},{"$f":"IF(Tageswerte!$R$4=1,Stammdaten!I525,Stammdaten!K525)","v":""}]
[{"$f":"IF(Stammdaten!A526=\"\",\"\",Stammdaten!A526)","v":""},null,{"$f":"IF(Stammdaten!C526=\"\",\"\",Stammdaten!C526)","v":""},{"$f":"IF(Tageswerte!$R$4=1,Stammdaten!H526,Stammdaten!J526)","v":""},{"$f":"IF(Tageswerte!$R$4=1,Stammdaten!I526,Stammdaten!K526)","v":""}]
[{"$f":"IF(Stammdaten!A527=\"\",\"\",Stammdaten!A527)","v":""},null,{"$f":"IF(Stammdaten!C527=\"\",\"\",Stammdaten!C527)","v":""},{"$f":"IF(Tageswerte!$R$4=1,Stammdaten!H527,Stammdaten!J527)","v":""},{"$f":"IF(Tageswerte!$R$4=1,Stammdaten!I527,Stammdaten!K527)","v":""}]
[{"$f":"IF(Stammdaten!A528=\"\",\"\",Stammdaten!A528)","v":""},null,{"$f":"IF(Stammdaten!C528=\"\",\"\",Stammdaten!C528)","v":""},{"$f":"IF(Tageswerte!$R$4=1,Stammdaten!H528,Stammdaten!J528)","v":""},{"$f":"IF(Tageswerte!$R$4=1,Stammdaten!I528,Stammdaten!K528)","v":""}]
[{"$f":"IF(Stammdaten!A529=\"\",\"\",Stammdaten!A529)","v":""},null,{"$f":"IF(Stammdaten!C529=\"\",\"\",Stammdaten!C529)","v":""},{"$f":"IF(Tageswerte!$R$4=1,Stammdaten!H529,Stammdaten!J529)","v":""},{"$f":"IF(Tageswerte!$R$4=1,Stammdaten!I529,Stammdaten!K529)","v":""}]
[{"$f":"IF(Stammdaten!A530=\"\",\"\",Stammdaten!A530)","v":""},null,{"$f":"IF(Stammdaten!C530=\"\",\"\",Stammdaten!C530)","v":""},{"$f":"IF(Tageswerte!$R$4=1,Stammdaten!H530,Stammdaten!J530)","v":""},{"$f":"IF(Tageswerte!$R$4=1,Stammdaten!I530,Stammdaten!K530)","v":""}]
[{"$f":"IF(Stammdaten!A531=\"\",\"\",Stammdaten!A531)","v":""},null,{"$f":"IF(Stammdaten!C531=\"\",\"\",Stammdaten!C531)","v":""},{"$f":"IF(Tageswerte!$R$4=1,Stammdaten!H531,Stammdaten!J531)","v":""},{"$f":"IF(Tageswerte!$R$4=1,Stammdaten!I531,Stammdaten!K531)","v":""}]
[{"$f":"IF(Stammdaten!A532=\"\",\"\",Stammdaten!A532)","v":""},null,{"$f":"IF(Stammdaten!C532=\"\",\"\",Stammdaten!C532)","v":""},{"$f":"IF(Tageswerte!$R$4=1,Stammdaten!H532,Stammdaten!J532)","v":""},{"$f":"IF(Tageswerte!$R$4=1,Stammdaten!I532,Stammdaten!K532)","v":""}]
[{"$f":"IF(Stammdaten!A533=\"\",\"\",Stammdaten!A533)","v":""},null,{"$f":"IF(Stammdaten!C533=\"\",\"\",Stammdaten!C533)","v":""},{"$f":"IF(Tageswerte!$R$4=1,Stammdaten!H533,Stammdaten!J533)","v":""},{"$f":"IF(Tageswerte!$R$4=1,Stammdaten!I533,Stammdaten!K533)","v":""}]
[{"$f":"IF(Stammdaten!A534=\"\",\"\",Stammdaten!A534)","v":""},null,{"$f":"IF(Stammdaten!C534=\"\",\"\",Stammdaten!C534)","v":""},{"$f":"IF(Tageswerte!$R$4=1,Stammdaten!H534,Stammdaten!J534)","v":""},{"$f":"IF(Tageswerte!$R$4=1,Stammdaten!I534,Stammdaten!K534)","v":""}]
[{"$f":"IF(Stammdaten!A535=\"\",\"\",Stammdaten!A535)","v":""},null,{"$f":"IF(Stammdaten!C535=\"\",\"\",Stammdaten!C535)","v":""},{"$f":"IF(Tageswerte!$R$4=1,Stammdaten!H535,Stammdaten!J535)","v":""},{"$f":"IF(Tageswerte!$R$4=1,Stammdaten!I535,Stammdaten!K535)","v":""}]
[{"$f":"IF(Stammdaten!A536=\"\",\"\",Stammdaten!A536)","v":""},null,{"$f":"IF(Stammdaten!C536=\"\",\"\",Stammdaten!C536)","v":""},{"$f":"IF(Tageswerte!$R$4=1,Stammdaten!H536,Stammdaten!J536)","v":""},{"$f":"IF(Tageswerte!$R$4=1,Stammdaten!I536,Stammdaten!K536)","v":""}]
[{"$f":"IF(Stammdaten!A537=\"\",\"\",Stammdaten!A537)","v":""},null,{"$f":"IF(Stammdaten!C537=\"\",\"\",Stammdaten!C537)","v":""},{"$f":"IF(Tageswerte!$R$4=1,Stammdaten!H537,Stammdaten!J537)","v":""},{"$f":"IF(Tageswerte!$R$4=1,Stammdaten!I537,Stammdaten!K537)","v":""}]
[{"$f":"IF(Stammdaten!A538=\"\",\"\",Stammdaten!A538)","v":""},null,{"$f":"IF(Stammdaten!C538=\"\",\"\",Stammdaten!C538)","v":""},{"$f":"IF(Tageswerte!$R$4=1,Stammdaten!H538,Stammdaten!J538)","v":""},{"$f":"IF(Tageswerte!$R$4=1,Stammdaten!I538,Stammdaten!K538)","v":""}]
[{"$f":"IF(Stammdaten!A539=\"\",\"\",Stammdaten!A539)","v":""},null,{"$f":"IF(Stammdaten!C539=\"\",\"\",Stammdaten!C539)","v":""},{"$f":"IF(Tageswerte!$R$4=1,Stammdaten!H539,Stammdaten!J539)","v":""},{"$f":"IF(Tageswerte!$R$4=1,Stammdaten!I539,Stammdaten!K539)","v":""}]
[{"$f":"IF(Stammdaten!A540=\"\",\"\",Stammdaten!A540)","v":""},null,{"$f":"IF(Stammdaten!C540=\"\",\"\",Stammdaten!C540)","v":""},{"$f":"IF(Tageswerte!$R$4=1,Stammdaten!H540,Stammdaten!J540)","v":""},{"$f":"IF(Tageswerte!$R$4=1,Stammdaten!I540,Stammdaten!K540)","v":""}]
[{"$f":"IF(Stammdaten!A541=\"\",\"\",Stammdaten!A541)","v":""},null,{"$f":"IF(Stammdaten!C541=\"\",\"\",Stammdaten!C541)","v":""},{"$f":"IF(Tageswerte!$R$4=1,Stammdaten!H541,Stammdaten!J541)","v":""},{"$f":"IF(Tageswerte!$R$4=1,Stammdaten!I541,Stammdaten!K541)","v":""}]
[{"$f":"IF(Stammdaten!A542=\"\",\"\",Stammdaten!A542)","v":""},null,{"$f":"IF(Stammdaten!C542=\"\",\"\",Stammdaten!C542)","v":""},{"$f":"IF(Tageswerte!$R$4=1,Stammdaten!H542,Stammdaten!J542)","v":""},{"$f":"IF(Tageswerte!$R$4=1,Stammdaten!I542,Stammdaten!K542)","v":""}]
[{"$f":"IF(Stammdaten!A543=\"\",\"\",Stammdaten!A543)","v":""},null,{"$f":"IF(Stammdaten!C543=\"\",\"\",Stammdaten!C543)","v":""},{"$f":"IF(Tageswerte!$R$4=1,Stammdaten!H543,Stammdaten!J543)","v":""},{"$f":"IF(Tageswerte!$R$4=1,Stammdaten!I543,Stammdaten!K543)","v":""}]
[{"$f":"IF(Stammdaten!A544=\"\",\"\",Stammdaten!A544)","v":""},null,{"$f":"IF(Stammdaten!C544=\"\",\"\",Stammdaten!C544)","v":""},{"$f":"IF(Tageswerte!$R$4=1,Stammdaten!H544,Stammdaten!J544)","v":""},{"$f":"IF(Tageswerte!$R$4=1,Stammdaten!I544,Stammdaten!K544)","v":""}]
[{"$f":"IF(Stammdaten!A545=\"\",\"\",Stammdaten!A545)","v":""},null,{"$f":"IF(Stammdaten!C545=\"\",\"\",Stammdaten!C545)","v":""},{"$f":"IF(Tageswerte!$R$4=1,Stammdaten!H545,Stammdaten!J545)","v":""},{"$f":"IF(Tageswerte!$R$4=1,Stammdaten!I545,Stammdaten!K545)","v":""}]
[{"$f":"IF(Stammdaten!A546=\"\",\"\",Stammdaten!A546)","v":""},null,{"$f":"IF(Stammdaten!C546=\"\",\"\",Stammdaten!C546)","v":""},{"$f":"IF(Tageswerte!$R$4=1,Stammdaten!H546,Stammdaten!J546)","v":""},{"$f":"IF(Tageswerte!$R$4=1,Stammdaten!I546,Stammdaten!K546)","v":""}]
[{"$f":"IF(Stammdaten!A547=\"\",\"\",Stammdaten!A547)","v":""},null,{"$f":"IF(Stammdaten!C547=\"\",\"\",Stammdaten!C547)","v":""},{"$f":"IF(Tageswerte!$R$4=1,Stammdaten!H547,Stammdaten!J547)","v":""},{"$f":"IF(Tageswerte!$R$4=1,Stammdaten!I547,Stammdaten!K547)","v":""}]
[{"$f":"IF(Stammdaten!A548=\"\",\"\",Stammdaten!A548)","v":""},null,{"$f":"IF(Stammdaten!C548=\"\",\"\",Stammdaten!C548)","v":""},{"$f":"IF(Tageswerte!$R$4=1,Stammdaten!H548,Stammdaten!J548)","v":""},{"$f":"IF(Tageswerte!$R$4=1,Stammdaten!I548,Stammdaten!K548)","v":""}]
[{"$f":"IF(Stammdaten!A549=\"\",\"\",Stammdaten!A549)","v":""},null,{"$f":"IF(Stammdaten!C549=\"\",\"\",Stammdaten!C549)","v":""},{"$f":"IF(Tageswerte!$R$4=1,Stammdaten!H549,Stammdaten!J549)","v":""},{"$f":"IF(Tageswerte!$R$4=1,Stammdaten!I549,Stammdaten!K549)","v":""}]
[{"$f":"IF(Stammdaten!A550=\"\",\"\",Stammdaten!A550)","v":""},null,{"$f":"IF(Stammdaten!C550=\"\",\"\",Stammdaten!C550)","v":""},{"$f":"IF(Tageswerte!$R$4=1,Stammdaten!H550,Stammdaten!J550)","v":""},{"$f":"IF(Tageswerte!$R$4=1,Stammdaten!I550,Stammdaten!K550)","v":""}]
[{"$f":"IF(Stammdaten!A551=\"\",\"\",Stammdaten!A551)","v":""},null,{"$f":"IF(Stammdaten!C551=\"\",\"\",Stammdaten!C551)","v":""},{"$f":"IF(Tageswerte!$R$4=1,Stammdaten!H551,Stammdaten!J551)","v":""},{"$f":"IF(Tageswerte!$R$4=1,Stammdaten!I551,Stammdaten!K551)","v":""}]
[{"$f":"IF(Stammdaten!A552=\"\",\"\",Stammdaten!A552)","v":""},null,{"$f":"IF(Stammdaten!C552=\"\",\"\",Stammdaten!C552)","v":""},{"$f":"IF(Tageswerte!$R$4=1,Stammdaten!H552,Stammdaten!J552)","v":""},{"$f":"IF(Tageswerte!$R$4=1,Stammdaten!I552,Stammdaten!K552)","v":""}]
[{"$f":"IF(Stammdaten!A553=\"\",\"\",Stammdaten!A553)","v":""},null,{"$f":"IF(Stammdaten!C553=\"\",\"\",Stammdaten!C553)","v":""},{"$f":"IF(Tageswerte!$R$4=1,Stammdaten!H553,Stammdaten!J553)","v":""},{"$f":"IF(Tageswerte!$R$4=1,Stammdaten!I553,Stammdaten!K553)","v":""}]
[{"$f":"IF(Stammdaten!A554=\"\",\"\",Stammdaten!A554)","v":""},null,{"$f":"IF(Stammdaten!C554=\"\",\"\",Stammdaten!C554)","v":""},{"$f":"IF(Tageswerte!$R$4=1,Stammdaten!H554,Stammdaten!J554)","v":""},{"$f":"IF(Tageswerte!$R$4=1,Stammdaten!I554,Stammdaten!K554)","v":""}]
[{"$f":"IF(Stammdaten!A555=\"\",\"\",Stammdaten!A555)","v":""},null,{"$f":"IF(Stammdaten!C555=\"\",\"\",Stammdaten!C555)","v":""},{"$f":"IF(Tageswerte!$R$4=1,Stammdaten!H555,Stammdaten!J555)","v":""},{"$f":"IF(Tageswerte!$R$4=1,Stammdaten!I555,Stammdaten!K555)","v":""}]
[{"$f":"IF(Stammdaten!A556=\"\",\"\",Stammdaten!A556)","v":""},null,{"$f":"IF(Stammdaten!C556=\"\",\"\",Stammdaten!C556)","v":""},{"$f":"IF(Tageswerte!$R$4=1,Stammdaten!H556,Stammdaten!J556)","v":""},{"$f":"IF(Tageswerte!$R$4=1,Stammdaten!I556,Stammdaten!K556)","v":""}]
[{"$f":"IF(Stammdaten!A557=\"\",\"\",Stammdaten!A557)","v":""},null,{"$f":"IF(Stammdaten!C557=\"\",\"\",Stammdaten!C557)","v":""},{"$f":"IF(Tageswerte!$R$4=1,Stammdaten!H557,Stammdaten!J557)","v":""},{"$f":"IF(Tageswerte!$R$4=1,Stammdaten!I557,Stammdaten!K557)","v":""}]
[{"$f":"IF(Stammdaten!A558=\"\",\"\",Stammdaten!A558)","v":""},null,{"$f":"IF(Stammdaten!C558=\"\",\"\",Stammdaten!C558)","v":""},{"$f":"IF(Tageswerte!$R$4=1,Stammdaten!H558,Stammdaten!J558)","v":""},{"$f":"IF(Tageswerte!$R$4=1,Stammdaten!I558,Stammdaten!K558)","v":""}]
[{"$f":"IF(Stammdaten!A559=\"\",\"\",Stammdaten!A559)","v":""},null,{"$f":"IF(Stammdaten!C559=\"\",\"\",Stammdaten!C559)","v":""},{"$f":"IF(Tageswerte!$R$4=1,Stammdaten!H559,Stammdaten!J559)","v":""},{"$f":"IF(Tageswerte!$R$4=1,Stammdaten!I559,Stammdaten!K559)","v":""}]
[{"$f":"IF(Stammdaten!A560=\"\",\"\",Stammdaten!A560)","v":""},null,{"$f":"IF(Stammdaten!C560=\"\",\"\",Stammdaten!C560)","v":""},{"$f":"IF(Tageswerte!$R$4=1,Stammdaten!H560,Stammdaten!J560)","v":""},{"$f":"IF(Tageswerte!$R$4=1,Stammdaten!I560,Stammdaten!K560)","v":""}]
[{"$f":"IF(Stammdaten!A561=\"\",\"\",Stammdaten!A561)","v":""},null,{"$f":"IF(Stammdaten!C561=\"\",\"\",Stammdaten!C561)","v":""},{"$f":"IF(Tageswerte!$R$4=1,Stammdaten!H561,Stammdaten!J561)","v":""},{"$f":"IF(Tageswerte!$R$4=1,Stammdaten!I561,Stammdaten!K561)","v":""}]
[{"$f":"IF(Stammdaten!A562=\"\",\"\",Stammdaten!A562)","v":""},null,{"$f":"IF(Stammdaten!C562=\"\",\"\",Stammdaten!C562)","v":""},{"$f":"IF(Tageswerte!$R$4=1,Stammdaten!H562,Stammdaten!J562)","v":""},{"$f":"IF(Tageswerte!$R$4=1,Stammdaten!I562,Stammdaten!K562)","v":""}]
[{"$f":"IF(Stammdaten!A563=\"\",\"\",Stammdaten!A563)","v":""},null,{"$f":"IF(Stammdaten!C563=\"\",\"\",Stammdaten!C563)","v":""},{"$f":"IF(Tageswerte!$R$4=1,Stammdaten!H563,Stammdaten!J563)","v":""},{"$f":"IF(Tageswerte!$R$4=1,Stammdaten!I563,Stammdaten!K563)","v":""}]
[{"$f":"IF(Stammdaten!A564=\"\",\"\",Stammdaten!A564)","v":""},null,{"$f":"IF(Stammdaten!C564=\"\",\"\",Stammdaten!C564)","v":""},{"$f":"IF(Tageswerte!$R$4=1,Stammdaten!H564,Stammdaten!J564)","v":""},{"$f":"IF(Tageswerte!$R$4=1,Stammdaten!I564,Stammdaten!K564)","v":""}]
[{"$f":"IF(Stammdaten!A565=\"\",\"\",Stammdaten!A565)","v":""},null,{"$f":"IF(Stammdaten!C565=\"\",\"\",Stammdaten!C565)","v":""},{"$f":"IF(Tageswerte!$R$4=1,Stammdaten!H565,Stammdaten!J565)","v":""},{"$f":"IF(Tageswerte!$R$4=1,Stammdaten!I565,Stammdaten!K565)","v":""}]
[{"$f":"IF(Stammdaten!A566=\"\",\"\",Stammdaten!A566)","v":""},null,{"$f":"IF(Stammdaten!C566=\"\",\"\",Stammdaten!C566)","v":""},{"$f":"IF(Tageswerte!$R$4=1,Stammdaten!H566,Stammdaten!J566)","v":""},{"$f":"IF(Tageswerte!$R$4=1,Stammdaten!I566,Stammdaten!K566)","v":""}]
[{"$f":"IF(Stammdaten!A567=\"\",\"\",Stammdaten!A567)","v":""},null,{"$f":"IF(Stammdaten!C567=\"\",\"\",Stammdaten!C567)","v":""},{"$f":"IF(Tageswerte!$R$4=1,Stammdaten!H567,Stammdaten!J567)","v":""},{"$f":"IF(Tageswerte!$R$4=1,Stammdaten!I567,Stammdaten!K567)","v":""}]
[{"$f":"IF(Stammdaten!A568=\"\",\"\",Stammdaten!A568)","v":""},null,{"$f":"IF(Stammdaten!C568=\"\",\"\",Stammdaten!C568)","v":""},{"$f":"IF(Tageswerte!$R$4=1,Stammdaten!H568,Stammdaten!J568)","v":""},{"$f":"IF(Tageswerte!$R$4=1,Stammdaten!I568,Stammdaten!K568)","v":""}]
[{"$f":"IF(Stammdaten!A569=\"\",\"\",Stammdaten!A569)","v":""},null,{"$f":"IF(Stammdaten!C569=\"\",\"\",Stammdaten!C569)","v":""},{"$f":"IF(Tageswerte!$R$4=1,Stammdaten!H569,Stammdaten!J569)","v":""},{"$f":"IF(Tageswerte!$R$4=1,Stammdaten!I569,Stammdaten!K569)","v":""}]
[{"$f":"IF(Stammdaten!A570=\"\",\"\",Stammdaten!A570)","v":""},null,{"$f":"IF(Stammdaten!C570=\"\",\"\",Stammdaten!C570)","v":""},{"$f":"IF(Tageswerte!$R$4=1,Stammdaten!H570,Stammdaten!J570)","v":""},{"$f":"IF(Tageswerte!$R$4=1,Stammdaten!I570,Stammdaten!K570)","v":""}]
[{"$f":"IF(Stammdaten!A571=\"\",\"\",Stammdaten!A571)","v":""},null,{"$f":"IF(Stammdaten!C571=\"\",\"\",Stammdaten!C571)","v":""},{"$f":"IF(Tageswerte!$R$4=1,Stammdaten!H571,Stammdaten!J571)","v":""},{"$f":"IF(Tageswerte!$R$4=1,Stammdaten!I571,Stammdaten!K571)","v":""}]
[{"$f":"IF(Stammdaten!A572=\"\",\"\",Stammdaten!A572)","v":""},null,{"$f":"IF(Stammdaten!C572=\"\",\"\",Stammdaten!C572)","v":""},{"$f":"IF(Tageswerte!$R$4=1,Stammdaten!H572,Stammdaten!J572)","v":""},{"$f":"IF(Tageswerte!$R$4=1,Stammdaten!I572,Stammdaten!K572)","v":""}]
[{"$f":"IF(Stammdaten!A573=\"\",\"\",Stammdaten!A573)","v":""},null,{"$f":"IF(Stammdaten!C573=\"\",\"\",Stammdaten!C573)","v":""},{"$f":"IF(Tageswerte!$R$4=1,Stammdaten!H573,Stammdaten!J573)","v":""},{"$f":"IF(Tageswerte!$R$4=1,Stammdaten!I573,Stammdaten!K573)","v":""}]
[{"$f":"IF(Stammdaten!A574=\"\",\"\",Stammdaten!A574)","v":""},null,{"$f":"IF(Stammdaten!C574=\"\",\"\",Stammdaten!C574)","v":""},{"$f":"IF(Tageswerte!$R$4=1,Stammdaten!H574,Stammdaten!J574)","v":""},{"$f":"IF(Tageswerte!$R$4=1,Stammdaten!I574,Stammdaten!K574)","v":""}]
[{"$f":"IF(Stammdaten!A575=\"\",\"\",Stammdaten!A575)","v":""},null,{"$f":"IF(Stammdaten!C575=\"\",\"\",Stammdaten!C575)","v":""},{"$f":"IF(Tageswerte!$R$4=1,Stammdaten!H575,Stammdaten!J575)","v":""},{"$f":"IF(Tageswerte!$R$4=1,Stammdaten!I575,Stammdaten!K575)","v":""}]
[{"$f":"IF(Stammdaten!A576=\"\",\"\",Stammdaten!A576)","v":""},null,{"$f":"IF(Stammdaten!C576=\"\",\"\",Stammdaten!C576)","v":""},{"$f":"IF(Tageswerte!$R$4=1,Stammdaten!H576,Stammdaten!J576)","v":""},{"$f":"IF(Tageswerte!$R$4=1,Stammdaten!I576,Stammdaten!K576)","v":""}]
[{"$f":"IF(Stammdaten!A577=\"\",\"\",Stammdaten!A577)","v":""},null,{"$f":"IF(Stammdaten!C577=\"\",\"\",Stammdaten!C577)","v":""},{"$f":"IF(Tageswerte!$R$4=1,Stammdaten!H577,Stammdaten!J577)","v":""},{"$f":"IF(Tageswerte!$R$4=1,Stammdaten!I577,Stammdaten!K577)","v":""}]
[{"$f":"IF(Stammdaten!A578=\"\",\"\",Stammdaten!A578)","v":""},null,{"$f":"IF(Stammdaten!C578=\"\",\"\",Stammdaten!C578)","v":""},{"$f":"IF(Tageswerte!$R$4=1,Stammdaten!H578,Stammdaten!J578)","v":""},{"$f":"IF(Tageswerte!$R$4=1,Stammdaten!I578,Stammdaten!K578)","v":""}]
[{"$f":"IF(Stammdaten!A579=\"\",\"\",Stammdaten!A579)","v":""},null,{"$f":"IF(Stammdaten!C579=\"\",\"\",Stammdaten!C579)","v":""},{"$f":"IF(Tageswerte!$R$4=1,Stammdaten!H579,Stammdaten!J579)","v":""},{"$f":"IF(Tageswerte!$R$4=1,Stammdaten!I579,Stammdaten!K579)","v":""}]
[{"$f":"IF(Stammdaten!A580=\"\",\"\",Stammdaten!A580)","v":""},null,{"$f":"IF(Stammdaten!C580=\"\",\"\",Stammdaten!C580)","v":""},{"$f":"IF(Tageswerte!$R$4=1,Stammdaten!H580,Stammdaten!J580)","v":""},{"$f":"IF(Tageswerte!$R$4=1,Stammdaten!I580,Stammdaten!K580)","v":""}]
[{"$f":"IF(Stammdaten!A581=\"\",\"\",Stammdaten!A581)","v":""},null,{"$f":"IF(Stammdaten!C581=\"\",\"\",Stammdaten!C581)","v":""},{"$f":"IF(Tageswerte!$R$4=1,Stammdaten!H581,Stammdaten!J581)","v":""},{"$f":"IF(Tageswerte!$R$4=1,Stammdaten!I581,Stammdaten!K581)","v":""}]
[{"$f":"IF(Stammdaten!A582=\"\",\"\",Stammdaten!A582)","v":""},null,{"$f":"IF(Stammdaten!C582=\"\",\"\",Stammdaten!C582)","v":""},{"$f":"IF(Tageswerte!$R$4=1,Stammdaten!H582,Stammdaten!J582)","v":""},{"$f":"IF(Tageswerte!$R$4=1,Stammdaten!I582,Stammdaten!K582)","v":""}]
[{"$f":"IF(Stammdaten!A583=\"\",\"\",Stammdaten!A583)","v":""},null,{"$f":"IF(Stammdaten!C583=\"\",\"\",Stammdaten!C583)","v":""},{"$f":"IF(Tageswerte!$R$4=1,Stammdaten!H583,Stammdaten!J583)","v":""},{"$f":"IF(Tageswerte!$R$4=1,Stammdaten!I583,Stammdaten!K583)","v":""}]
[{"$f":"IF(Stammdaten!A584=\"\",\"\",Stammdaten!A584)","v":""},null,{"$f":"IF(Stammdaten!C584=\"\",\"\",Stammdaten!C584)","v":""},{"$f":"IF(Tageswerte!$R$4=1,Stammdaten!H584,Stammdaten!J584)","v":""},{"$f":"IF(Tageswerte!$R$4=1,Stammdaten!I584,Stammdaten!K584)","v":""}]
[{"$f":"IF(Stammdaten!A585=\"\",\"\",Stammdaten!A585)","v":""},null,{"$f":"IF(Stammdaten!C585=\"\",\"\",Stammdaten!C585)","v":""},{"$f":"IF(Tageswerte!$R$4=1,Stammdaten!H585,Stammdaten!J585)","v":""},{"$f":"IF(Tageswerte!$R$4=1,Stammdaten!I585,Stammdaten!K585)","v":""}]
[{"$f":"IF(Stammdaten!A586=\"\",\"\",Stammdaten!A586)","v":""},null,{"$f":"IF(Stammdaten!C586=\"\",\"\",Stammdaten!C586)","v":""},{"$f":"IF(Tageswerte!$R$4=1,Stammdaten!H586,Stammdaten!J586)","v":""},{"$f":"IF(Tageswerte!$R$4=1,Stammdaten!I586,Stammdaten!K586)","v":""}]
[{"$f":"IF(Stammdaten!A587=\"\",\"\",Stammdaten!A587)","v":""},null,{"$f":"IF(Stammdaten!C587=\"\",\"\",Stammdaten!C587)","v":""},{"$f":"IF(Tageswerte!$R$4=1,Stammdaten!H587,Stammdaten!J587)","v":""},{"$f":"IF(Tageswerte!$R$4=1,Stammdaten!I587,Stammdaten!K587)","v":""}]
[{"$f":"IF(Stammdaten!A588=\"\",\"\",Stammdaten!A588)","v":""},null,{"$f":"IF(Stammdaten!C588=\"\",\"\",Stammdaten!C588)","v":""},{"$f":"IF(Tageswerte!$R$4=1,Stammdaten!H588,Stammdaten!J588)","v":""},{"$f":"IF(Tageswerte!$R$4=1,Stammdaten!I588,Stammdaten!K588)","v":""}]
[{"$f":"IF(Stammdaten!A589=\"\",\"\",Stammdaten!A589)","v":""},null,{"$f":"IF(Stammdaten!C589=\"\",\"\",Stammdaten!C589)","v":""},{"$f":"IF(Tageswerte!$R$4=1,Stammdaten!H589,Stammdaten!J589)","v":""},{"$f":"IF(Tageswerte!$R$4=1,Stammdaten!I589,Stammdaten!K589)","v":""}]
[{"$f":"IF(Stammdaten!A590=\"\",\"\",Stammdaten!A590)","v":""},null,{"$f":"IF(Stammdaten!C590=\"\",\"\",Stammdaten!C590)","v":""},{"$f":"IF(Tageswerte!$R$4=1,Stammdaten!H590,Stammdaten!J590)","v":""},{"$f":"IF(Tageswerte!$R$4=1,Stammdaten!I590,Stammdaten!K590)","v":""}]
[{"$f":"IF(Stammdaten!A591=\"\",\"\",Stammdaten!A591)","v":""},null,{"$f":"IF(Stammdaten!C591=\"\",\"\",Stammdaten!C591)","v":""},{"$f":"IF(Tageswerte!$R$4=1,Stammdaten!H591,Stammdaten!J591)","v":""},{"$f":"IF(Tageswerte!$R$4=1,Stammdaten!I591,Stammdaten!K591)","v":""}]
[{"$f":"IF(Stammdaten!A592=\"\",\"\",Stammdaten!A592)","v":""},null,{"$f":"IF(Stammdaten!C592=\"\",\"\",Stammdaten!C592)","v":""},{"$f":"IF(Tageswerte!$R$4=1,Stammdaten!H592,Stammdaten!J592)","v":""},{"$f":"IF(Tageswerte!$R$4=1,Stammdaten!I592,Stammdaten!K592)","v":""}]
[{"$f":"IF(Stammdaten!A593=\"\",\"\",Stammdaten!A593)","v":""},null,{"$f":"IF(Stammdaten!C593=\"\",\"\",Stammdaten!C593)","v":""},{"$f":"IF(Tageswerte!$R$4=1,Stammdaten!H593,Stammdaten!J593)","v":""},{"$f":"IF(Tageswerte!$R$4=1,Stammdaten!I593,Stammdaten!K593)","v":""}]
[{"$f":"IF(Stammdaten!A594=\"\",\"\",Stammdaten!A594)","v":""},null,{"$f":"IF(Stammdaten!C594=\"\",\"\",Stammdaten!C594)","v":""},{"$f":"IF(Tageswerte!$R$4=1,Stammdaten!H594,Stammdaten!J594)","v":""},{"$f":"IF(Tageswerte!$R$4=1,Stammdaten!I594,Stammdaten!K594)","v":""}]
[{"$f":"IF(Stammdaten!A595=\"\",\"\",Stammdaten!A595)","v":""},null,{"$f":"IF(Stammdaten!C595=\"\",\"\",Stammdaten!C595)","v":""},{"$f":"IF(Tageswerte!$R$4=1,Stammdaten!H595,Stammdaten!J595)","v":""},{"$f":"IF(Tageswerte!$R$4=1,Stammdaten!I595,Stammdaten!K595)","v":""}]
[{"$f":"IF(Stammdaten!A596=\"\",\"\",Stammdaten!A596)","v":""},null,{"$f":"IF(Stammdaten!C596=\"\",\"\",Stammdaten!C596)","v":""},{"$f":"IF(Tageswerte!$R$4=1,Stammdaten!H596,Stammdaten!J596)","v":""},{"$f":"IF(Tageswerte!$R$4=1,Stammdaten!I596,Stammdaten!K596)","v":""}]
[{"$f":"IF(Stammdaten!A597=\"\",\"\",Stammdaten!A597)","v":""},null,{"$f":"IF(Stammdaten!C597=\"\",\"\",Stammdaten!C597)","v":""},{"$f":"IF(Tageswerte!$R$4=1,Stammdaten!H597,Stammdaten!J597)","v":""},{"$f":"IF(Tageswerte!$R$4=1,Stammdaten!I597,Stammdaten!K597)","v":""}]
[{"$f":"IF(Stammdaten!A598=\"\",\"\",Stammdaten!A598)","v":""},null,{"$f":"IF(Stammdaten!C598=\"\",\"\",Stammdaten!C598)","v":""},{"$f":"IF(Tageswerte!$R$4=1,Stammdaten!H598,Stammdaten!J598)","v":""},{"$f":"IF(Tageswerte!$R$4=1,Stammdaten!I598,Stammdaten!K598)","v":""}]
[{"$f":"IF(Stammdaten!A599=\"\",\"\",Stammdaten!A599)","v":""},null,{"$f":"IF(Stammdaten!C599=\"\",\"\",Stammdaten!C599)","v":""},{"$f":"IF(Tageswerte!$R$4=1,Stammdaten!H599,Stammdaten!J599)","v":""},{"$f":"IF(Tageswerte!$R$4=1,Stammdaten!I599,Stammdaten!K599)","v":""}]
[{"$f":"IF(Stammdaten!A600=\"\",\"\",Stammdaten!A600)","v":""},null,{"$f":"IF(Stammdaten!C600=\"\",\"\",Stammdaten!C600)","v":""},{"$f":"IF(Tageswerte!$R$4=1,Stammdaten!H600,Stammdaten!J600)","v":""},{"$f":"IF(Tageswerte!$R$4=1,Stammdaten!I600,Stammdaten!K600)","v":""}]
[{"$f":"IF(Stammdaten!A601=\"\",\"\",Stammdaten!A601)","v":""},null,{"$f":"IF(Stammdaten!C601=\"\",\"\",Stammdaten!C601)","v":""},{"$f":"IF(Tageswerte!$R$4=1,Stammdaten!H601,Stammdaten!J601)","v":""},{"$f":"IF(Tageswerte!$R$4=1,Stammdaten!I601,Stammdaten!K601)","v":""}]
[{"$f":"IF(Stammdaten!A602=\"\",\"\",Stammdaten!A602)","v":""},null,{"$f":"IF(Stammdaten!C602=\"\",\"\",Stammdaten!C602)","v":""},{"$f":"IF(Tageswerte!$R$4=1,Stammdaten!H602,Stammdaten!J602)","v":""},{"$f":"IF(Tageswerte!$R$4=1,Stammdaten!I602,Stammdaten!K602)","v":""}]
[{"$f":"IF(Stammdaten!A603=\"\",\"\",Stammdaten!A603)","v":""},null,{"$f":"IF(Stammdaten!C603=\"\",\"\",Stammdaten!C603)","v":""},{"$f":"IF(Tageswerte!$R$4=1,Stammdaten!H603,Stammdaten!J603)","v":""},{"$f":"IF(Tageswerte!$R$4=1,Stammdaten!I603,Stammdaten!K603)","v":""}]
[{"$f":"IF(Stammdaten!A604=\"\",\"\",Stammdaten!A604)","v":""},null,{"$f":"IF(Stammdaten!C604=\"\",\"\",Stammdaten!C604)","v":""},{"$f":"IF(Tageswerte!$R$4=1,Stammdaten!H604,Stammdaten!J604)","v":""},{"$f":"IF(Tageswerte!$R$4=1,Stammdaten!I604,Stammdaten!K604)","v":""}]
[{"$f":"IF(Stammdaten!A605=\"\",\"\",Stammdaten!A605)","v":""},null,{"$f":"IF(Stammdaten!C605=\"\",\"\",Stammdaten!C605)","v":""},{"$f":"IF(Tageswerte!$R$4=1,Stammdaten!H605,Stammdaten!J605)","v":""},{"$f":"IF(Tageswerte!$R$4=1,Stammdaten!I605,Stammdaten!K605)","v":""}]
[{"$f":"IF(Stammdaten!A606=\"\",\"\",Stammdaten!A606)","v":""},null,{"$f":"IF(Stammdaten!C606=\"\",\"\",Stammdaten!C606)","v":""},{"$f":"IF(Tageswerte!$R$4=1,Stammdaten!H606,Stammdaten!J606)","v":""},{"$f":"IF(Tageswerte!$R$4=1,Stammdaten!I606,Stammdaten!K606)","v":""}]
[{"$f":"IF(Stammdaten!A607=\"\",\"\",Stammdaten!A607)","v":""},null,{"$f":"IF(Stammdaten!C607=\"\",\"\",Stammdaten!C607)","v":""},{"$f":"IF(Tageswerte!$R$4=1,Stammdaten!H607,Stammdaten!J607)","v":""},{"$f":"IF(Tageswerte!$R$4=1,Stammdaten!I607,Stammdaten!K607)","v":""}]
[{"$f":"IF(Stammdaten!A608=\"\",\"\",Stammdaten!A608)","v":""},null,{"$f":"IF(Stammdaten!C608=\"\",\"\",Stammdaten!C608)","v":""},{"$f":"IF(Tageswerte!$R$4=1,Stammdaten!H608,Stammdaten!J608)","v":""},{"$f":"IF(Tageswerte!$R$4=1,Stammdaten!I608,Stammdaten!K608)","v":""}]
[{"$f":"IF(Stammdaten!A609=\"\",\"\",Stammdaten!A609)","v":""},null,{"$f":"IF(Stammdaten!C609=\"\",\"\",Stammdaten!C609)","v":""},{"$f":"IF(Tageswerte!$R$4=1,Stammdaten!H609,Stammdaten!J609)","v":""},{"$f":"IF(Tageswerte!$R$4=1,Stammdaten!I609,Stammdaten!K609)","v":""}]
[{"$f":"IF(Stammdaten!A610=\"\",\"\",Stammdaten!A610)","v":""},null,{"$f":"IF(Stammdaten!C610=\"\",\"\",Stammdaten!C610)","v":""},{"$f":"IF(Tageswerte!$R$4=1,Stammdaten!H610,Stammdaten!J610)","v":""},{"$f":"IF(Tageswerte!$R$4=1,Stammdaten!I610,Stammdaten!K610)","v":""}]
[{"$f":"IF(Stammdaten!A611=\"\",\"\",Stammdaten!A611)","v":""},null,{"$f":"IF(Stammdaten!C611=\"\",\"\",Stammdaten!C611)","v":""},{"$f":"IF(Tageswerte!$R$4=1,Stammdaten!H611,Stammdaten!J611)","v":""},{"$f":"IF(Tageswerte!$R$4=1,Stammdaten!I611,Stammdaten!K611)","v":""}]
[{"$f":"IF(Stammdaten!A612=\"\",\"\",Stammdaten!A612)","v":""},null,{"$f":"IF(Stammdaten!C612=\"\",\"\",Stammdaten!C612)","v":""},{"$f":"IF(Tageswerte!$R$4=1,Stammdaten!H612,Stammdaten!J612)","v":""},{"$f":"IF(Tageswerte!$R$4=1,Stammdaten!I612,Stammdaten!K612)","v":""}]
[{"$f":"IF(Stammdaten!A613=\"\",\"\",Stammdaten!A613)","v":""},null,{"$f":"IF(Stammdaten!C613=\"\",\"\",Stammdaten!C613)","v":""},{"$f":"IF(Tageswerte!$R$4=1,Stammdaten!H613,Stammdaten!J613)","v":""},{"$f":"IF(Tageswerte!$R$4=1,Stammdaten!I613,Stammdaten!K613)","v":""}]
[{"$f":"IF(Stammdaten!A614=\"\",\"\",Stammdaten!A614)","v":""},null,{"$f":"IF(Stammdaten!C614=\"\",\"\",Stammdaten!C614)","v":""},{"$f":"IF(Tageswerte!$R$4=1,Stammdaten!H614,Stammdaten!J614)","v":""},{"$f":"IF(Tageswerte!$R$4=1,Stammdaten!I614,Stammdaten!K614)","v":""}]
[{"$f":"IF(Stammdaten!A615=\"\",\"\",Stammdaten!A615)","v":""},null,{"$f":"IF(Stammdaten!C615=\"\",\"\",Stammdaten!C615)","v":""},{"$f":"IF(Tageswerte!$R$4=1,Stammdaten!H615,Stammdaten!J615)","v":""},{"$f":"IF(Tageswerte!$R$4=1,Stammdaten!I615,Stammdaten!K615)","v":""}]
[{"$f":"IF(Stammdaten!A616=\"\",\"\",Stammdaten!A616)","v":""},null,{"$f":"IF(Stammdaten!C616=\"\",\"\",Stammdaten!C616)","v":""},{"$f":"IF(Tageswerte!$R$4=1,Stammdaten!H616,Stammdaten!J616)","v":""},{"$f":"IF(Tageswerte!$R$4=1,Stammdaten!I616,Stammdaten!K616)","v":""}]
[{"$f":"IF(Stammdaten!A617=\"\",\"\",Stammdaten!A617)","v":""},null,{"$f":"IF(Stammdaten!C617=\"\",\"\",Stammdaten!C617)","v":""},{"$f":"IF(Tageswerte!$R$4=1,Stammdaten!H617,Stammdaten!J617)","v":""},{"$f":"IF(Tageswerte!$R$4=1,Stammdaten!I617,Stammdaten!K617)","v":""}]
[{"$f":"IF(Stammdaten!A618=\"\",\"\",Stammdaten!A618)","v":""},null,{"$f":"IF(Stammdaten!C618=\"\",\"\",Stammdaten!C618)","v":""},{"$f":"IF(Tageswerte!$R$4=1,Stammdaten!H618,Stammdaten!J618)","v":""},{"$f":"IF(Tageswerte!$R$4=1,Stammdaten!I618,Stammdaten!K618)","v":""}]
[{"$f":"IF(Stammdaten!A619=\"\",\"\",Stammdaten!A619)","v":""},null,{"$f":"IF(Stammdaten!C619=\"\",\"\",Stammdaten!C619)","v":""},{"$f":"IF(Tageswerte!$R$4=1,Stammdaten!H619,Stammdaten!J619)","v":""},{"$f":"IF(Tageswerte!$R$4=1,Stammdaten!I619,Stammdaten!K619)","v":""}]
[{"$f":"IF(Stammdaten!A620=\"\",\"\",Stammdaten!A620)","v":""},null,{"$f":"IF(Stammdaten!C620=\"\",\"\",Stammdaten!C620)","v":""},{"$f":"IF(Tageswerte!$R$4=1,Stammdaten!H620,Stammdaten!J620)","v":""},{"$f":"IF(Tageswerte!$R$4=1,Stammdaten!I620,Stammdaten!K620)","v":""}]
[{"$f":"IF(Stammdaten!A621=\"\",\"\",Stammdaten!A621)","v":""},null,{"$f":"IF(Stammdaten!C621=\"\",\"\",Stammdaten!C621)","v":""},{"$f":"IF(Tageswerte!$R$4=1,Stammdaten!H621,Stammdaten!J621)","v":""},{"$f":"IF(Tageswerte!$R$4=1,Stammdaten!I621,Stammdaten!K621)","v":""}]
[{"$f":"IF(Stammdaten!A622=\"\",\"\",Stammdaten!A622)","v":""},null,{"$f":"IF(Stammdaten!C622=\"\",\"\",Stammdaten!C622)","v":""},{"$f":"IF(Tageswerte!$R$4=1,Stammdaten!H622,Stammdaten!J622)","v":""},{"$f":"IF(Tageswerte!$R$4=1,Stammdaten!I622,Stammdaten!K622)","v":""}]
[{"$f":"IF(Stammdaten!A623=\"\",\"\",Stammdaten!A623)","v":""},null,{"$f":"IF(Stammdaten!C623=\"\",\"\",Stammdaten!C623)","v":""},{"$f":"IF(Tageswerte!$R$4=1,Stammdaten!H623,Stammdaten!J623)","v":""},{"$f":"IF(Tageswerte!$R$4=1,Stammdaten!I623,Stammdaten!K623)","v":""}]
[{"$f":"IF(Stammdaten!A624=\"\",\"\",Stammdaten!A624)","v":""},null,{"$f":"IF(Stammdaten!C624=\"\",\"\",Stammdaten!C624)","v":""},{"$f":"IF(Tageswerte!$R$4=1,Stammdaten!H624,Stammdaten!J624)","v":""},{"$f":"IF(Tageswerte!$R$4=1,Stammdaten!I624,Stammdaten!K624)","v":""}]
[{"$f":"IF(Stammdaten!A625=\"\",\"\",Stammdaten!A625)","v":""},null,{"$f":"IF(Stammdaten!C625=\"\",\"\",Stammdaten!C625)","v":""},{"$f":"IF(Tageswerte!$R$4=1,Stammdaten!H625,Stammdaten!J625)","v":""},{"$f":"IF(Tageswerte!$R$4=1,Stammdaten!I625,Stammdaten!K625)","v":""}]
[{"$f":"IF(Stammdaten!A626=\"\",\"\",Stammdaten!A626)","v":""},null,{"$f":"IF(Stammdaten!C626=\"\",\"\",Stammdaten!C626)","v":""},{"$f":"IF(Tageswerte!$R$4=1,Stammdaten!H626,Stammdaten!J626)","v":""},{"$f":"IF(Tageswerte!$R$4=1,Stammdaten!I626,Stammdaten!K626)","v":""}]
[{"$f":"IF(Stammdaten!A627=\"\",\"\",Stammdaten!A627)","v":""},null,{"$f":"IF(Stammdaten!C627=\"\",\"\",Stammdaten!C627)","v":""},{"$f":"IF(Tageswerte!$R$4=1,Stammdaten!H627,Stammdaten!J627)","v":""},{"$f":"IF(Tageswerte!$R$4=1,Stammdaten!I627,Stammdaten!K627)","v":""}]
[{"$f":"IF(Stammdaten!A628=\"\",\"\",Stammdaten!A628)","v":""},null,{"$f":"IF(Stammdaten!C628=\"\",\"\",Stammdaten!C628)","v":""},{"$f":"IF(Tageswerte!$R$4=1,Stammdaten!H628,Stammdaten!J628)","v":""},{"$f":"IF(Tageswerte!$R$4=1,Stammdaten!I628,Stammdaten!K628)","v":""}]
[{"$f":"IF(Stammdaten!A629=\"\",\"\",Stammdaten!A629)","v":""},null,{"$f":"IF(Stammdaten!C629=\"\",\"\",Stammdaten!C629)","v":""},{"$f":"IF(Tageswerte!$R$4=1,Stammdaten!H629,Stammdaten!J629)","v":""},{"$f":"IF(Tageswerte!$R$4=1,Stammdaten!I629,Stammdaten!K629)","v":""}]
[{"$f":"IF(Stammdaten!A630=\"\",\"\",Stammdaten!A630)","v":""},null,{"$f":"IF(Stammdaten!C630=\"\",\"\",Stammdaten!C630)","v":""},{"$f":"IF(Tageswerte!$R$4=1,Stammdaten!H630,Stammdaten!J630)","v":""},{"$f":"IF(Tageswerte!$R$4=1,Stammdaten!I630,Stammdaten!K630)","v":""}]
[{"$f":"IF(Stammdaten!A631=\"\",\"\",Stammdaten!A631)","v":""},null,{"$f":"IF(Stammdaten!C631=\"\",\"\",Stammdaten!C631)","v":""},{"$f":"IF(Tageswerte!$R$4=1,Stammdaten!H631,Stammdaten!J631)","v":""},{"$f":"IF(Tageswerte!$R$4=1,Stammdaten!I631,Stammdaten!K631)","v":""}]
[{"$f":"IF(Stammdaten!A632=\"\",\"\",Stammdaten!A632)","v":""},null,{"$f":"IF(Stammdaten!C632=\"\",\"\",Stammdaten!C632)","v":""},{"$f":"IF(Tageswerte!$R$4=1,Stammdaten!H632,Stammdaten!J632)","v":""},{"$f":"IF(Tageswerte!$R$4=1,Stammdaten!I632,Stammdaten!K632)","v":""}]
[{"$f":"IF(Stammdaten!A633=\"\",\"\",Stammdaten!A633)","v":""},null,{"$f":"IF(Stammdaten!C633=\"\",\"\",Stammdaten!C633)","v":""},{"$f":"IF(Tageswerte!$R$4=1,Stammdaten!H633,Stammdaten!J633)","v":""},{"$f":"IF(Tageswerte!$R$4=1,Stammdaten!I633,Stammdaten!K633)","v":""}]
[{"$f":"IF(Stammdaten!A634=\"\",\"\",Stammdaten!A634)","v":""},null,{"$f":"IF(Stammdaten!C634=\"\",\"\",Stammdaten!C634)","v":""},{"$f":"IF(Tageswerte!$R$4=1,Stammdaten!H634,Stammdaten!J634)","v":""},{"$f":"IF(Tageswerte!$R$4=1,Stammdaten!I634,Stammdaten!K634)","v":""}]
[{"$f":"IF(Stammdaten!A635=\"\",\"\",Stammdaten!A635)","v":""},null,{"$f":"IF(Stammdaten!C635=\"\",\"\",Stammdaten!C635)","v":""},{"$f":"IF(Tageswerte!$R$4=1,Stammdaten!H635,Stammdaten!J635)","v":""},{"$f":"IF(Tageswerte!$R$4=1,Stammdaten!I635,Stammdaten!K635)","v":""}]
[{"$f":"IF(Stammdaten!A636=\"\",\"\",Stammdaten!A636)","v":""},null,{"$f":"IF(Stammdaten!C636=\"\",\"\",Stammdaten!C636)","v":""},{"$f":"IF(Tageswerte!$R$4=1,Stammdaten!H636,Stammdaten!J636)","v":""},{"$f":"IF(Tageswerte!$R$4=1,Stammdaten!I636,Stammdaten!K636)","v":""}]
[{"$f":"IF(Stammdaten!A637=\"\",\"\",Stammdaten!A637)","v":""},null,{"$f":"IF(Stammdaten!C637=\"\",\"\",Stammdaten!C637)","v":""},{"$f":"IF(Tageswerte!$R$4=1,Stammdaten!H637,Stammdaten!J637)","v":""},{"$f":"IF(Tageswerte!$R$4=1,Stammdaten!I637,Stammdaten!K637)","v":""}]
[{"$f":"IF(Stammdaten!A638=\"\",\"\",Stammdaten!A638)","v":""},null,{"$f":"IF(Stammdaten!C638=\"\",\"\",Stammdaten!C638)","v":""},{"$f":"IF(Tageswerte!$R$4=1,Stammdaten!H638,Stammdaten!J638)","v":""},{"$f":"IF(Tageswerte!$R$4=1,Stammdaten!I638,Stammdaten!K638)","v":""}]
[{"$f":"IF(Stammdaten!A639=\"\",\"\",Stammdaten!A639)","v":""},null,{"$f":"IF(Stammdaten!C639=\"\",\"\",Stammdaten!C639)","v":""},{"$f":"IF(Tageswerte!$R$4=1,Stammdaten!H639,Stammdaten!J639)","v":""},{"$f":"IF(Tageswerte!$R$4=1,Stammdaten!I639,Stammdaten!K639)","v":""}]
[{"$f":"IF(Stammdaten!A640=\"\",\"\",Stammdaten!A640)","v":""},null,{"$f":"IF(Stammdaten!C640=\"\",\"\",Stammdaten!C640)","v":""},{"$f":"IF(Tageswerte!$R$4=1,Stammdaten!H640,Stammdaten!J640)","v":""},{"$f":"IF(Tageswerte!$R$4=1,Stammdaten!I640,Stammdaten!K640)","v":""}]
[{"$f":"IF(Stammdaten!A641=\"\",\"\",Stammdaten!A641)","v":""},null,{"$f":"IF(Stammdaten!C641=\"\",\"\",Stammdaten!C641)","v":""},{"$f":"IF(Tageswerte!$R$4=1,Stammdaten!H641,Stammdaten!J641)","v":""},{"$f":"IF(Tageswerte!$R$4=1,Stammdaten!I641,Stammdaten!K641)","v":""}]
[{"$f":"IF(Stammdaten!A642=\"\",\"\",Stammdaten!A642)","v":""},null,{"$f":"IF(Stammdaten!C642=\"\",\"\",Stammdaten!C642)","v":""},{"$f":"IF(Tageswerte!$R$4=1,Stammdaten!H642,Stammdaten!J642)","v":""},{"$f":"IF(Tageswerte!$R$4=1,Stammdaten!I642,Stammdaten!K642)","v":""}]
[{"$f":"IF(Stammdaten!A643=\"\",\"\",Stammdaten!A643)","v":""},null,{"$f":"IF(Stammdaten!C643=\"\",\"\",Stammdaten!C643)","v":""},{"$f":"IF(Tageswerte!$R$4=1,Stammdaten!H643,Stammdaten!J643)","v":""},{"$f":"IF(Tageswerte!$R$4=1,Stammdaten!I643,Stammdaten!K643)","v":""}]
[{"$f":"IF(Stammdaten!A644=\"\",\"\",Stammdaten!A644)","v":""},null,{"$f":"IF(Stammdaten!C644=\"\",\"\",Stammdaten!C644)","v":""},{"$f":"IF(Tageswerte!$R$4=1,Stammdaten!H644,Stammdaten!J644)","v":""},{"$f":"IF(Tageswerte!$R$4=1,Stammdaten!I644,Stammdaten!K644)","v":""}]
[{"$f":"IF(Stammdaten!A645=\"\",\"\",Stammdaten!A645)","v":""},null,{"$f":"IF(Stammdaten!C645=\"\",\"\",Stammdaten!C645)","v":""},{"$f":"IF(Tageswerte!$R$4=1,Stammdaten!H645,Stammdaten!J645)","v":""},{"$f":"IF(Tageswerte!$R$4=1,Stammdaten!I645,Stammdaten!K645)","v":""}]
[{"$f":"IF(Stammdaten!A646=\"\",\"\",Stammdaten!A646)","v":""},null,{"$f":"IF(Stammdaten!C646=\"\",\"\",Stammdaten!C646)","v":""},{"$f":"IF(Tageswerte!$R$4=1,Stammdaten!H646,Stammdaten!J646)","v":""},{"$f":"IF(Tageswerte!$R$4=1,Stammdaten!I646,Stammdaten!K646)","v":""}]
[{"$f":"IF(Stammdaten!A647=\"\",\"\",Stammdaten!A647)","v":""},null,{"$f":"IF(Stammdaten!C647=\"\",\"\",Stammdaten!C647)","v":""},{"$f":"IF(Tageswerte!$R$4=1,Stammdaten!H647,Stammdaten!J647)","v":""},{"$f":"IF(Tageswerte!$R$4=1,Stammdaten!I647,Stammdaten!K647)","v":""}]
[{"$f":"IF(Stammdaten!A648=\"\",\"\",Stammdaten!A648)","v":""},null,{"$f":"IF(Stammdaten!C648=\"\",\"\",Stammdaten!C648)","v":""},{"$f":"IF(Tageswerte!$R$4=1,Stammdaten!H648,Stammdaten!J648)","v":""},{"$f":"IF(Tageswerte!$R$4=1,Stammdaten!I648,Stammdaten!K648)","v":""}]
[{"$f":"IF(Stammdaten!A649=\"\",\"\",Stammdaten!A649)","v":""},null,{"$f":"IF(Stammdaten!C649=\"\",\"\",Stammdaten!C649)","v":""},{"$f":"IF(Tageswerte!$R$4=1,Stammdaten!H649,Stammdaten!J649)","v":""},{"$f":"IF(Tageswerte!$R$4=1,Stammdaten!I649,Stammdaten!K649)","v":""}]
[{"$f":"IF(Stammdaten!A650=\"\",\"\",Stammdaten!A650)","v":""},null,{"$f":"IF(Stammdaten!C650=\"\",\"\",Stammdaten!C650)","v":""},{"$f":"IF(Tageswerte!$R$4=1,Stammdaten!H650,Stammdaten!J650)","v":""},{"$f":"IF(Tageswerte!$R$4=1,Stammdaten!I650,Stammdaten!K650)","v":""}]
[{"$f":"IF(Stammdaten!A651=\"\",\"\",Stammdaten!A651)","v":""},null,{"$f":"IF(Stammdaten!C651=\"\",\"\",Stammdaten!C651)","v":""},{"$f":"IF(Tageswerte!$R$4=1,Stammdaten!H651,Stammdaten!J651)","v":""},{"$f":"IF(Tageswerte!$R$4=1,Stammdaten!I651,Stammdaten!K651)","v":""}]
[{"$f":"IF(Stammdaten!A652=\"\",\"\",Stammdaten!A652)","v":""},null,{"$f":"IF(Stammdaten!C652=\"\",\"\",Stammdaten!C652)","v":""},{"$f":"IF(Tageswerte!$R$4=1,Stammdaten!H652,Stammdaten!J652)","v":""},{"$f":"IF(Tageswerte!$R$4=1,Stammdaten!I652,Stammdaten!K652)","v":""}]
[{"$f":"IF(Stammdaten!A653=\"\",\"\",Stammdaten!A653)","v":""},null,{"$f":"IF(Stammdaten!C653=\"\",\"\",Stammdaten!C653)","v":""},{"$f":"IF(Tageswerte!$R$4=1,Stammdaten!H653,Stammdaten!J653)","v":""},{"$f":"IF(Tageswerte!$R$4=1,Stammdaten!I653,Stammdaten!K653)","v":""}]
[{"$f":"IF(Stammdaten!A654=\"\",\"\",Stammdaten!A654)","v":""},null,{"$f":"IF(Stammdaten!C654=\"\",\"\",Stammdaten!C654)","v":""},{"$f":"IF(Tageswerte!$R$4=1,Stammdaten!H654,Stammdaten!J654)","v":""},{"$f":"IF(Tageswerte!$R$4=1,Stammdaten!I654,Stammdaten!K654)","v":""}]
[{"$f":"IF(Stammdaten!A655=\"\",\"\",Stammdaten!A655)","v":""},null,{"$f":"IF(Stammdaten!C655=\"\",\"\",Stammdaten!C655)","v":""},{"$f":"IF(Tageswerte!$R$4=1,Stammdaten!H655,Stammdaten!J655)","v":""},{"$f":"IF(Tageswerte!$R$4=1,Stammdaten!I655,Stammdaten!K655)","v":""}]
[{"$f":"IF(Stammdaten!A656=\"\",\"\",Stammdaten!A656)","v":""},null,{"$f":"IF(Stammdaten!C656=\"\",\"\",Stammdaten!C656)","v":""},{"$f":"IF(Tageswerte!$R$4=1,Stammdaten!H656,Stammdaten!J656)","v":""},{"$f":"IF(Tageswerte!$R$4=1,Stammdaten!I656,Stammdaten!K656)","v":""}]
[{"$f":"IF(Stammdaten!A657=\"\",\"\",Stammdaten!A657)","v":""},null,{"$f":"IF(Stammdaten!C657=\"\",\"\",Stammdaten!C657)","v":""},{"$f":"IF(Tageswerte!$R$4=1,Stammdaten!H657,Stammdaten!J657)","v":""},{"$f":"IF(Tageswerte!$R$4=1,Stammdaten!I657,Stammdaten!K657)","v":""}]
[{"$f":"IF(Stammdaten!A658=\"\",\"\",Stammdaten!A658)","v":""},null,{"$f":"IF(Stammdaten!C658=\"\",\"\",Stammdaten!C658)","v":""},{"$f":"IF(Tageswerte!$R$4=1,Stammdaten!H658,Stammdaten!J658)","v":""},{"$f":"IF(Tageswerte!$R$4=1,Stammdaten!I658,Stammdaten!K658)","v":""}]
[{"$f":"IF(Stammdaten!A659=\"\",\"\",Stammdaten!A659)","v":""},null,{"$f":"IF(Stammdaten!C659=\"\",\"\",Stammdaten!C659)","v":""},{"$f":"IF(Tageswerte!$R$4=1,Stammdaten!H659,Stammdaten!J659)","v":""},{"$f":"IF(Tageswerte!$R$4=1,Stammdaten!I659,Stammdaten!K659)","v":""}]
[{"$f":"IF(Stammdaten!A660=\"\",\"\",Stammdaten!A660)","v":""},null,{"$f":"IF(Stammdaten!C660=\"\",\"\",Stammdaten!C660)","v":""},{"$f":"IF(Tageswerte!$R$4=1,Stammdaten!H660,Stammdaten!J660)","v":""},{"$f":"IF(Tageswerte!$R$4=1,Stammdaten!I660,Stammdaten!K660)","v":""}]
[{"$f":"IF(Stammdaten!A661=\"\",\"\",Stammdaten!A661)","v":""},null,{"$f":"IF(Stammdaten!C661=\"\",\"\",Stammdaten!C661)","v":""},{"$f":"IF(Tageswerte!$R$4=1,Stammdaten!H661,Stammdaten!J661)","v":""},{"$f":"IF(Tageswerte!$R$4=1,Stammdaten!I661,Stammdaten!K661)","v":""}]
[{"$f":"IF(Stammdaten!A662=\"\",\"\",Stammdaten!A662)","v":""},null,{"$f":"IF(Stammdaten!C662=\"\",\"\",Stammdaten!C662)","v":""},{"$f":"IF(Tageswerte!$R$4=1,Stammdaten!H662,Stammdaten!J662)","v":""},{"$f":"IF(Tageswerte!$R$4=1,Stammdaten!I662,Stammdaten!K662)","v":""}]
[{"$f":"IF(Stammdaten!A663=\"\",\"\",Stammdaten!A663)","v":""},null,{"$f":"IF(Stammdaten!C663=\"\",\"\",Stammdaten!C663)","v":""},{"$f":"IF(Tageswerte!$R$4=1,Stammdaten!H663,Stammdaten!J663)","v":""},{"$f":"IF(Tageswerte!$R$4=1,Stammdaten!I663,Stammdaten!K663)","v":""}]
[{"$f":"IF(Stammdaten!A664=\"\",\"\",Stammdaten!A664)","v":""},null,{"$f":"IF(Stammdaten!C664=\"\",\"\",Stammdaten!C664)","v":""},{"$f":"IF(Tageswerte!$R$4=1,Stammdaten!H664,Stammdaten!J664)","v":""},{"$f":"IF(Tageswerte!$R$4=1,Stammdaten!I664,Stammdaten!K664)","v":""}]
[{"$f":"IF(Stammdaten!A665=\"\",\"\",Stammdaten!A665)","v":""},null,{"$f":"IF(Stammdaten!C665=\"\",\"\",Stammdaten!C665)","v":""},{"$f":"IF(Tageswerte!$R$4=1,Stammdaten!H665,Stammdaten!J665)","v":""},{"$f":"IF(Tageswerte!$R$4=1,Stammdaten!I665,Stammdaten!K665)","v":""}]
[{"$f":"IF(Stammdaten!A666=\"\",\"\",Stammdaten!A666)","v":""},null,{"$f":"IF(Stammdaten!C666=\"\",\"\",Stammdaten!C666)","v":""},{"$f":"IF(Tageswerte!$R$4=1,Stammdaten!H666,Stammdaten!J666)","v":""},{"$f":"IF(Tageswerte!$R$4=1,Stammdaten!I666,Stammdaten!K666)","v":""}]
[{"$f":"IF(Stammdaten!A667=\"\",\"\",Stammdaten!A667)","v":""},null,{"$f":"IF(Stammdaten!C667=\"\",\"\",Stammdaten!C667)","v":""},{"$f":"IF(Tageswerte!$R$4=1,Stammdaten!H667,Stammdaten!J667)","v":""},{"$f":"IF(Tageswerte!$R$4=1,Stammdaten!I667,Stammdaten!K667)","v":""}]
[{"$f":"IF(Stammdaten!A668=\"\",\"\",Stammdaten!A668)","v":""},null,{"$f":"IF(Stammdaten!C668=\"\",\"\",Stammdaten!C668)","v":""},{"$f":"IF(Tageswerte!$R$4=1,Stammdaten!H668,Stammdaten!J668)","v":""},{"$f":"IF(Tageswerte!$R$4=1,Stammdaten!I668,Stammdaten!K668)","v":""}]
[{"$f":"IF(Stammdaten!A669=\"\",\"\",Stammdaten!A669)","v":""},null,{"$f":"IF(Stammdaten!C669=\"\",\"\",Stammdaten!C669)","v":""},{"$f":"IF(Tageswerte!$R$4=1,Stammdaten!H669,Stammdaten!J669)","v":""},{"$f":"IF(Tageswerte!$R$4=1,Stammdaten!I669,Stammdaten!K669)","v":""}]
[{"$f":"IF(Stammdaten!A670=\"\",\"\",Stammdaten!A670)","v":""},null,{"$f":"IF(Stammdaten!C670=\"\",\"\",Stammdaten!C670)","v":""},{"$f":"IF(Tageswerte!$R$4=1,Stammdaten!H670,Stammdaten!J670)","v":""},{"$f":"IF(Tageswerte!$R$4=1,Stammdaten!I670,Stammdaten!K670)","v":""}]
[{"$f":"IF(Stammdaten!A671=\"\",\"\",Stammdaten!A671)","v":""},null,{"$f":"IF(Stammdaten!C671=\"\",\"\",Stammdaten!C671)","v":""},{"$f":"IF(Tageswerte!$R$4=1,Stammdaten!H671,Stammdaten!J671)","v":""},{"$f":"IF(Tageswerte!$R$4=1,Stammdaten!I671,Stammdaten!K671)","v":""}]
[{"$f":"IF(Stammdaten!A672=\"\",\"\",Stammdaten!A672)","v":""},null,{"$f":"IF(Stammdaten!C672=\"\",\"\",Stammdaten!C672)","v":""},{"$f":"IF(Tageswerte!$R$4=1,Stammdaten!H672,Stammdaten!J672)","v":""},{"$f":"IF(Tageswerte!$R$4=1,Stammdaten!I672,Stammdaten!K672)","v":""}]
[{"$f":"IF(Stammdaten!A673=\"\",\"\",Stammdaten!A673)","v":""},null,{"$f":"IF(Stammdaten!C673=\"\",\"\",Stammdaten!C673)","v":""},{"$f":"IF(Tageswerte!$R$4=1,Stammdaten!H673,Stammdaten!J673)","v":""},{"$f":"IF(Tageswerte!$R$4=1,Stammdaten!I673,Stammdaten!K673)","v":""}]
[{"$f":"IF(Stammdaten!A674=\"\",\"\",Stammdaten!A674)","v":""},null,{"$f":"IF(Stammdaten!C674=\"\",\"\",Stammdaten!C674)","v":""},{"$f":"IF(Tageswerte!$R$4=1,Stammdaten!H674,Stammdaten!J674)","v":""},{"$f":"IF(Tageswerte!$R$4=1,Stammdaten!I674,Stammdaten!K674)","v":""}]
[{"$f":"IF(Stammdaten!A675=\"\",\"\",Stammdaten!A675)","v":""},null,{"$f":"IF(Stammdaten!C675=\"\",\"\",Stammdaten!C675)","v":""},{"$f":"IF(Tageswerte!$R$4=1,Stammdaten!H675,Stammdaten!J675)","v":""},{"$f":"IF(Tageswerte!$R$4=1,Stammdaten!I675,Stammdaten!K675)","v":""}]
[{"$f":"IF(Stammdaten!A676=\"\",\"\",Stammdaten!A676)","v":""},null,{"$f":"IF(Stammdaten!C676=\"\",\"\",Stammdaten!C676)","v":""},{"$f":"IF(Tageswerte!$R$4=1,Stammdaten!H676,Stammdaten!J676)","v":""},{"$f":"IF(Tageswerte!$R$4=1,Stammdaten!I676,Stammdaten!K676)","v":""}]
[{"$f":"IF(Stammdaten!A677=\"\",\"\",Stammdaten!A677)","v":""},null,{"$f":"IF(Stammdaten!C677=\"\",\"\",Stammdaten!C677)","v":""},{"$f":"IF(Tageswerte!$R$4=1,Stammdaten!H677,Stammdaten!J677)","v":""},{"$f":"IF(Tageswerte!$R$4=1,Stammdaten!I677,Stammdaten!K677)","v":""}]
[{"$f":"IF(Stammdaten!A678=\"\",\"\",Stammdaten!A678)","v":""},null,{"$f":"IF(Stammdaten!C678=\"\",\"\",Stammdaten!C678)","v":""},{"$f":"IF(Tageswerte!$R$4=1,Stammdaten!H678,Stammdaten!J678)","v":""},{"$f":"IF(Tageswerte!$R$4=1,Stammdaten!I678,Stammdaten!K678)","v":""}]
[{"$f":"IF(Stammdaten!A679=\"\",\"\",Stammdaten!A679)","v":""},null,{"$f":"IF(Stammdaten!C679=\"\",\"\",Stammdaten!C679)","v":""},{"$f":"IF(Tageswerte!$R$4=1,Stammdaten!H679,Stammdaten!J679)","v":""},{"$f":"IF(Tageswerte!$R$4=1,Stammdaten!I679,Stammdaten!K679)","v":""}]
[{"$f":"IF(Stammdaten!A680=\"\",\"\",Stammdaten!A680)","v":""},null,{"$f":"IF(Stammdaten!C680=\"\",\"\",Stammdaten!C680)","v":""},{"$f":"IF(Tageswerte!$R$4=1,Stammdaten!H680,Stammdaten!J680)","v":""},{"$f":"IF(Tageswerte!$R$4=1,Stammdaten!I680,Stammdaten!K680)","v":""}]
[{"$f":"IF(Stammdaten!A681=\"\",\"\",Stammdaten!A681)","v":""},null,{"$f":"IF(Stammdaten!C681=\"\",\"\",Stammdaten!C681)","v":""},{"$f":"IF(Tageswerte!$R$4=1,Stammdaten!H681,Stammdaten!J681)","v":""},{"$f":"IF(Tageswerte!$R$4=1,Stammdaten!I681,Stammdaten!K681)","v":""}]
[{"$f":"IF(Stammdaten!A682=\"\",\"\",Stammdaten!A682)","v":""},null,{"$f":"IF(Stammdaten!C682=\"\",\"\",Stammdaten!C682)","v":""},{"$f":"IF(Tageswerte!$R$4=1,Stammdaten!H682,Stammdaten!J682)","v":""},{"$f":"IF(Tageswerte!$R$4=1,Stammdaten!I682,Stammdaten!K682)","v":""}]
[{"$f":"IF(Stammdaten!A683=\"\",\"\",Stammdaten!A683)","v":""},null,{"$f":"IF(Stammdaten!C683=\"\",\"\",Stammdaten!C683)","v":""},{"$f":"IF(Tageswerte!$R$4=1,Stammdaten!H683,Stammdaten!J683)","v":""},{"$f":"IF(Tageswerte!$R$4=1,Stammdaten!I683,Stammdaten!K683)","v":""}]
[{"$f":"IF(Stammdaten!A684=\"\",\"\",Stammdaten!A684)","v":""},null,{"$f":"IF(Stammdaten!C684=\"\",\"\",Stammdaten!C684)","v":""},{"$f":"IF(Tageswerte!$R$4=1,Stammdaten!H684,Stammdaten!J684)","v":""},{"$f":"IF(Tageswerte!$R$4=1,Stammdaten!I684,Stammdaten!K684)","v":""}]
[{"$f":"IF(Stammdaten!A685=\"\",\"\",Stammdaten!A685)","v":""},null,{"$f":"IF(Stammdaten!C685=\"\",\"\",Stammdaten!C685)","v":""},{"$f":"IF(Tageswerte!$R$4=1,Stammdaten!H685,Stammdaten!J685)","v":""},{"$f":"IF(Tageswerte!$R$4=1,Stammdaten!I685,Stammdaten!K685)","v":""}]
[{"$f":"IF(Stammdaten!A686=\"\",\"\",Stammdaten!A686)","v":""},null,{"$f":"IF(Stammdaten!C686=\"\",\"\",Stammdaten!C686)","v":""},{"$f":"IF(Tageswerte!$R$4=1,Stammdaten!H686,Stammdaten!J686)","v":""},{"$f":"IF(Tageswerte!$R$4=1,Stammdaten!I686,Stammdaten!K686)","v":""}]
[{"$f":"IF(Stammdaten!A687=\"\",\"\",Stammdaten!A687)","v":""},null,{"$f":"IF(Stammdaten!C687=\"\",\"\",Stammdaten!C687)","v":""},{"$f":"IF(Tageswerte!$R$4=1,Stammdaten!H687,Stammdaten!J687)","v":""},{"$f":"IF(Tageswerte!$R$4=1,Stammdaten!I687,Stammdaten!K687)","v":""}]
[{"$f":"IF(Stammdaten!A688=\"\",\"\",Stammdaten!A688)","v":""},null,{"$f":"IF(Stammdaten!C688=\"\",\"\",Stammdaten!C688)","v":""},{"$f":"IF(Tageswerte!$R$4=1,Stammdaten!H688,Stammdaten!J688)","v":""},{"$f":"IF(Tageswerte!$R$4=1,Stammdaten!I688,Stammdaten!K688)","v":""}]
[{"$f":"IF(Stammdaten!A689=\"\",\"\",Stammdaten!A689)","v":""},null,{"$f":"IF(Stammdaten!C689=\"\",\"\",Stammdaten!C689)","v":""},{"$f":"IF(Tageswerte!$R$4=1,Stammdaten!H689,Stammdaten!J689)","v":""},{"$f":"IF(Tageswerte!$R$4=1,Stammdaten!I689,Stammdaten!K689)","v":""}]
[{"$f":"IF(Stammdaten!A690=\"\",\"\",Stammdaten!A690)","v":""},null,{"$f":"IF(Stammdaten!C690=\"\",\"\",Stammdaten!C690)","v":""},{"$f":"IF(Tageswerte!$R$4=1,Stammdaten!H690,Stammdaten!J690)","v":""},{"$f":"IF(Tageswerte!$R$4=1,Stammdaten!I690,Stammdaten!K690)","v":""}]
[{"$f":"IF(Stammdaten!A691=\"\",\"\",Stammdaten!A691)","v":""},null,{"$f":"IF(Stammdaten!C691=\"\",\"\",Stammdaten!C691)","v":""},{"$f":"IF(Tageswerte!$R$4=1,Stammdaten!H691,Stammdaten!J691)","v":""},{"$f":"IF(Tageswerte!$R$4=1,Stammdaten!I691,Stammdaten!K691)","v":""}]
[{"$f":"IF(Stammdaten!A692=\"\",\"\",Stammdaten!A692)","v":""},null,{"$f":"IF(Stammdaten!C692=\"\",\"\",Stammdaten!C692)","v":""},{"$f":"IF(Tageswerte!$R$4=1,Stammdaten!H692,Stammdaten!J692)","v":""},{"$f":"IF(Tageswerte!$R$4=1,Stammdaten!I692,Stammdaten!K692)","v":""}]
[{"$f":"IF(Stammdaten!A693=\"\",\"\",Stammdaten!A693)","v":""},null,{"$f":"IF(Stammdaten!C693=\"\",\"\",Stammdaten!C693)","v":""},{"$f":"IF(Tageswerte!$R$4=1,Stammdaten!H693,Stammdaten!J693)","v":""},{"$f":"IF(Tageswerte!$R$4=1,Stammdaten!I693,Stammdaten!K693)","v":""}]
[{"$f":"IF(Stammdaten!A694=\"\",\"\",Stammdaten!A694)","v":""},null,{"$f":"IF(Stammdaten!C694=\"\",\"\",Stammdaten!C694)","v":""},{"$f":"IF(Tageswerte!$R$4=1,Stammdaten!H694,Stammdaten!J694)","v":""},{"$f":"IF(Tageswerte!$R$4=1,Stammdaten!I694,Stammdaten!K694)","v":""}]
[{"$f":"IF(Stammdaten!A695=\"\",\"\",Stammdaten!A695)","v":""},null,{"$f":"IF(Stammdaten!C695=\"\",\"\",Stammdaten!C695)","v":""},{"$f":"IF(Tageswerte!$R$4=1,Stammdaten!H695,Stammdaten!J695)","v":""},{"$f":"IF(Tageswerte!$R$4=1,Stammdaten!I695,Stammdaten!K695)","v":""}]
[{"$f":"IF(Stammdaten!A696=\"\",\"\",Stammdaten!A696)","v":""},null,{"$f":"IF(Stammdaten!C696=\"\",\"\",Stammdaten!C696)","v":""},{"$f":"IF(Tageswerte!$R$4=1,Stammdaten!H696,Stammdaten!J696)","v":""},{"$f":"IF(Tageswerte!$R$4=1,Stammdaten!I696,Stammdaten!K696)","v":""}]
[{"$f":"IF(Stammdaten!A697=\"\",\"\",Stammdaten!A697)","v":""},null,{"$f":"IF(Stammdaten!C697=\"\",\"\",Stammdaten!C697)","v":""},{"$f":"IF(Tageswerte!$R$4=1,Stammdaten!H697,Stammdaten!J697)","v":""},{"$f":"IF(Tageswerte!$R$4=1,Stammdaten!I697,Stammdaten!K697)","v":""}]
[{"$f":"IF(Stammdaten!A698=\"\",\"\",Stammdaten!A698)","v":""},null,{"$f":"IF(Stammdaten!C698=\"\",\"\",Stammdaten!C698)","v":""},{"$f":"IF(Tageswerte!$R$4=1,Stammdaten!H698,Stammdaten!J698)","v":""},{"$f":"IF(Tageswerte!$R$4=1,Stammdaten!I698,Stammdaten!K698)","v":""}]
[{"$f":"IF(Stammdaten!A699=\"\",\"\",Stammdaten!A699)","v":""},null,{"$f":"IF(Stammdaten!C699=\"\",\"\",Stammdaten!C699)","v":""},{"$f":"IF(Tageswerte!$R$4=1,Stammdaten!H699,Stammdaten!J699)","v":""},{"$f":"IF(Tageswerte!$R$4=1,Stammdaten!I699,Stammdaten!K699)","v":""}]
[{"$f":"IF(Stammdaten!A700=\"\",\"\",Stammdaten!A700)","v":""},null,{"$f":"IF(Stammdaten!C700=\"\",\"\",Stammdaten!C700)","v":""},{"$f":"IF(Tageswerte!$R$4=1,Stammdaten!H700,Stammdaten!J700)","v":""},{"$f":"IF(Tageswerte!$R$4=1,Stammdaten!I700,Stammdaten!K700)","v":""}]
[{"$f":"IF(Stammdaten!A701=\"\",\"\",Stammdaten!A701)","v":""},null,{"$f":"IF(Stammdaten!C701=\"\",\"\",Stammdaten!C701)","v":""},{"$f":"IF(Tageswerte!$R$4=1,Stammdaten!H701,Stammdaten!J701)","v":""},{"$f":"IF(Tageswerte!$R$4=1,Stammdaten!I701,Stammdaten!K701)","v":""}]
[{"$f":"IF(Stammdaten!A702=\"\",\"\",Stammdaten!A702)","v":""},null,{"$f":"IF(Stammdaten!C702=\"\",\"\",Stammdaten!C702)","v":""},{"$f":"IF(Tageswerte!$R$4=1,Stammdaten!H702,Stammdaten!J702)","v":""},{"$f":"IF(Tageswerte!$R$4=1,Stammdaten!I702,Stammdaten!K702)","v":""}]
[{"$f":"IF(Stammdaten!A703=\"\",\"\",Stammdaten!A703)","v":""},null,{"$f":"IF(Stammdaten!C703=\"\",\"\",Stammdaten!C703)","v":""},{"$f":"IF(Tageswerte!$R$4=1,Stammdaten!H703,Stammdaten!J703)","v":""},{"$f":"IF(Tageswerte!$R$4=1,Stammdaten!I703,Stammdaten!K703)","v":""}]
[{"$f":"IF(Stammdaten!A704=\"\",\"\",Stammdaten!A704)","v":""},null,{"$f":"IF(Stammdaten!C704=\"\",\"\",Stammdaten!C704)","v":""},{"$f":"IF(Tageswerte!$R$4=1,Stammdaten!H704,Stammdaten!J704)","v":""},{"$f":"IF(Tageswerte!$R$4=1,Stammdaten!I704,Stammdaten!K704)","v":""}]
[{"$f":"IF(Stammdaten!A705=\"\",\"\",Stammdaten!A705)","v":""},null,{"$f":"IF(Stammdaten!C705=\"\",\"\",Stammdaten!C705)","v":""},{"$f":"IF(Tageswerte!$R$4=1,Stammdaten!H705,Stammdaten!J705)","v":""},{"$f":"IF(Tageswerte!$R$4=1,Stammdaten!I705,Stammdaten!K705)","v":""}]
[{"$f":"IF(Stammdaten!A706=\"\",\"\",Stammdaten!A706)","v":""},null,{"$f":"IF(Stammdaten!C706=\"\",\"\",Stammdaten!C706)","v":""},{"$f":"IF(Tageswerte!$R$4=1,Stammdaten!H706,Stammdaten!J706)","v":""},{"$f":"IF(Tageswerte!$R$4=1,Stammdaten!I706,Stammdaten!K706)","v":""}]
[{"$f":"IF(Stammdaten!A707=\"\",\"\",Stammdaten!A707)","v":""},null,{"$f":"IF(Stammdaten!C707=\"\",\"\",Stammdaten!C707)","v":""},{"$f":"IF(Tageswerte!$R$4=1,Stammdaten!H707,Stammdaten!J707)","v":""},{"$f":"IF(Tageswerte!$R$4=1,Stammdaten!I707,Stammdaten!K707)","v":""}]
[{"$f":"IF(Stammdaten!A708=\"\",\"\",Stammdaten!A708)","v":""},null,{"$f":"IF(Stammdaten!C708=\"\",\"\",Stammdaten!C708)","v":""},{"$f":"IF(Tageswerte!$R$4=1,Stammdaten!H708,Stammdaten!J708)","v":""},{"$f":"IF(Tageswerte!$R$4=1,Stammdaten!I708,Stammdaten!K708)","v":""}]
[{"$f":"IF(Stammdaten!A709=\"\",\"\",Stammdaten!A709)","v":""},null,{"$f":"IF(Stammdaten!C709=\"\",\"\",Stammdaten!C709)","v":""},{"$f":"IF(Tageswerte!$R$4=1,Stammdaten!H709,Stammdaten!J709)","v":""},{"$f":"IF(Tageswerte!$R$4=1,Stammdaten!I709,Stammdaten!K709)","v":""}]
[{"$f":"IF(Stammdaten!A710=\"\",\"\",Stammdaten!A710)","v":""},null,{"$f":"IF(Stammdaten!C710=\"\",\"\",Stammdaten!C710)","v":""},{"$f":"IF(Tageswerte!$R$4=1,Stammdaten!H710,Stammdaten!J710)","v":""},{"$f":"IF(Tageswerte!$R$4=1,Stammdaten!I710,Stammdaten!K710)","v":""}]
[{"$f":"IF(Stammdaten!A711=\"\",\"\",Stammdaten!A711)","v":""},null,{"$f":"IF(Stammdaten!C711=\"\",\"\",Stammdaten!C711)","v":""},{"$f":"IF(Tageswerte!$R$4=1,Stammdaten!H711,Stammdaten!J711)","v":""},{"$f":"IF(Tageswerte!$R$4=1,Stammdaten!I711,Stammdaten!K711)","v":""}]
[{"$f":"IF(Stammdaten!A712=\"\",\"\",Stammdaten!A712)","v":""},null,{"$f":"IF(Stammdaten!C712=\"\",\"\",Stammdaten!C712)","v":""},{"$f":"IF(Tageswerte!$R$4=1,Stammdaten!H712,Stammdaten!J712)","v":""},{"$f":"IF(Tageswerte!$R$4=1,Stammdaten!I712,Stammdaten!K712)","v":""}]
[{"$f":"IF(Stammdaten!A713=\"\",\"\",Stammdaten!A713)","v":""},null,{"$f":"IF(Stammdaten!C713=\"\",\"\",Stammdaten!C713)","v":""},{"$f":"IF(Tageswerte!$R$4=1,Stammdaten!H713,Stammdaten!J713)","v":""},{"$f":"IF(Tageswerte!$R$4=1,Stammdaten!I713,Stammdaten!K713)","v":""}]
[{"$f":"IF(Stammdaten!A714=\"\",\"\",Stammdaten!A714)","v":""},null,{"$f":"IF(Stammdaten!C714=\"\",\"\",Stammdaten!C714)","v":""},{"$f":"IF(Tageswerte!$R$4=1,Stammdaten!H714,Stammdaten!J714)","v":""},{"$f":"IF(Tageswerte!$R$4=1,Stammdaten!I714,Stammdaten!K714)","v":""}]
[{"$f":"IF(Stammdaten!A715=\"\",\"\",Stammdaten!A715)","v":""},null,{"$f":"IF(Stammdaten!C715=\"\",\"\",Stammdaten!C715)","v":""},{"$f":"IF(Tageswerte!$R$4=1,Stammdaten!H715,Stammdaten!J715)","v":""},{"$f":"IF(Tageswerte!$R$4=1,Stammdaten!I715,Stammdaten!K715)","v":""}]
[{"$f":"IF(Stammdaten!A716=\"\",\"\",Stammdaten!A716)","v":""},null,{"$f":"IF(Stammdaten!C716=\"\",\"\",Stammdaten!C716)","v":""},{"$f":"IF(Tageswerte!$R$4=1,Stammdaten!H716,Stammdaten!J716)","v":""},{"$f":"IF(Tageswerte!$R$4=1,Stammdaten!I716,Stammdaten!K716)","v":""}]
[{"$f":"IF(Stammdaten!A717=\"\",\"\",Stammdaten!A717)","v":""},null,{"$f":"IF(Stammdaten!C717=\"\",\"\",Stammdaten!C717)","v":""},{"$f":"IF(Tageswerte!$R$4=1,Stammdaten!H717,Stammdaten!J717)","v":""},{"$f":"IF(Tageswerte!$R$4=1,Stammdaten!I717,Stammdaten!K717)","v":""}]
[{"$f":"IF(Stammdaten!A718=\"\",\"\",Stammdaten!A718)","v":""},null,{"$f":"IF(Stammdaten!C718=\"\",\"\",Stammdaten!C718)","v":""},{"$f":"IF(Tageswerte!$R$4=1,Stammdaten!H718,Stammdaten!J718)","v":""},{"$f":"IF(Tageswerte!$R$4=1,Stammdaten!I718,Stammdaten!K718)","v":""}]
[{"$f":"IF(Stammdaten!A719=\"\",\"\",Stammdaten!A719)","v":""},null,{"$f":"IF(Stammdaten!C719=\"\",\"\",Stammdaten!C719)","v":""},{"$f":"IF(Tageswerte!$R$4=1,Stammdaten!H719,Stammdaten!J719)","v":""},{"$f":"IF(Tageswerte!$R$4=1,Stammdaten!I719,Stammdaten!K719)","v":""}]
[{"$f":"IF(Stammdaten!A720=\"\",\"\",Stammdaten!A720)","v":""},null,{"$f":"IF(Stammdaten!C720=\"\",\"\",Stammdaten!C720)","v":""},{"$f":"IF(Tageswerte!$R$4=1,Stammdaten!H720,Stammdaten!J720)","v":""},{"$f":"IF(Tageswerte!$R$4=1,Stammdaten!I720,Stammdaten!K720)","v":""}]
[{"$f":"IF(Stammdaten!A721=\"\",\"\",Stammdaten!A721)","v":""},null,{"$f":"IF(Stammdaten!C721=\"\",\"\",Stammdaten!C721)","v":""},{"$f":"IF(Tageswerte!$R$4=1,Stammdaten!H721,Stammdaten!J721)","v":""},{"$f":"IF(Tageswerte!$R$4=1,Stammdaten!I721,Stammdaten!K721)","v":""}]
[{"$f":"IF(Stammdaten!A722=\"\",\"\",Stammdaten!A722)","v":""},null,{"$f":"IF(Stammdaten!C722=\"\",\"\",Stammdaten!C722)","v":""},{"$f":"IF(Tageswerte!$R$4=1,Stammdaten!H722,Stammdaten!J722)","v":""},{"$f":"IF(Tageswerte!$R$4=1,Stammdaten!I722,Stammdaten!K722)","v":""}]
[{"$f":"IF(Stammdaten!A723=\"\",\"\",Stammdaten!A723)","v":""},null,{"$f":"IF(Stammdaten!C723=\"\",\"\",Stammdaten!C723)","v":""},{"$f":"IF(Tageswerte!$R$4=1,Stammdaten!H723,Stammdaten!J723)","v":""},{"$f":"IF(Tageswerte!$R$4=1,Stammdaten!I723,Stammdaten!K723)","v":""}]
[{"$f":"IF(Stammdaten!A724=\"\",\"\",Stammdaten!A724)","v":""},null,{"$f":"IF(Stammdaten!C724=\"\",\"\",Stammdaten!C724)","v":""},{"$f":"IF(Tageswerte!$R$4=1,Stammdaten!H724,Stammdaten!J724)","v":""},{"$f":"IF(Tageswerte!$R$4=1,Stammdaten!I724,Stammdaten!K724)","v":""}]
[{"$f":"IF(Stammdaten!A725=\"\",\"\",Stammdaten!A725)","v":""},null,{"$f":"IF(Stammdaten!C725=\"\",\"\",Stammdaten!C725)","v":""},{"$f":"IF(Tageswerte!$R$4=1,Stammdaten!H725,Stammdaten!J725)","v":""},{"$f":"IF(Tageswerte!$R$4=1,Stammdaten!I725,Stammdaten!K725)","v":""}]
[{"$f":"IF(Stammdaten!A726=\"\",\"\",Stammdaten!A726)","v":""},null,{"$f":"IF(Stammdaten!C726=\"\",\"\",Stammdaten!C726)","v":""},{"$f":"IF(Tageswerte!$R$4=1,Stammdaten!H726,Stammdaten!J726)","v":""},{"$f":"IF(Tageswerte!$R$4=1,Stammdaten!I726,Stammdaten!K726)","v":""}]
[{"$f":"IF(Stammdaten!A727=\"\",\"\",Stammdaten!A727)","v":""},null,{"$f":"IF(Stammdaten!C727=\"\",\"\",Stammdaten!C727)","v":""},{"$f":"IF(Tageswerte!$R$4=1,Stammdaten!H727,Stammdaten!J727)","v":""},{"$f":"IF(Tageswerte!$R$4=1,Stammdaten!I727,Stammdaten!K727)","v":""}]
[{"$f":"IF(Stammdaten!A728=\"\",\"\",Stammdaten!A728)","v":""},null,{"$f":"IF(Stammdaten!C728=\"\",\"\",Stammdaten!C728)","v":""},{"$f":"IF(Tageswerte!$R$4=1,Stammdaten!H728,Stammdaten!J728)","v":""},{"$f":"IF(Tageswerte!$R$4=1,Stammdaten!I728,Stammdaten!K728)","v":""}]
[{"$f":"IF(Stammdaten!A729=\"\",\"\",Stammdaten!A729)","v":""},null,{"$f":"IF(Stammdaten!C729=\"\",\"\",Stammdaten!C729)","v":""},{"$f":"IF(Tageswerte!$R$4=1,Stammdaten!H729,Stammdaten!J729)","v":""},{"$f":"IF(Tageswerte!$R$4=1,Stammdaten!I729,Stammdaten!K729)","v":""}]
[{"$f":"IF(Stammdaten!A730=\"\",\"\",Stammdaten!A730)","v":""},null,{"$f":"IF(Stammdaten!C730=\"\",\"\",Stammdaten!C730)","v":""},{"$f":"IF(Tageswerte!$R$4=1,Stammdaten!H730,Stammdaten!J730)","v":""},{"$f":"IF(Tageswerte!$R$4=1,Stammdaten!I730,Stammdaten!K730)","v":""}]
[{"$f":"IF(Stammdaten!A731=\"\",\"\",Stammdaten!A731)","v":""},null,{"$f":"IF(Stammdaten!C731=\"\",\"\",Stammdaten!C731)","v":""},{"$f":"IF(Tageswerte!$R$4=1,Stammdaten!H731,Stammdaten!J731)","v":""},{"$f":"IF(Tageswerte!$R$4=1,Stammdaten!I731,Stammdaten!K731)","v":""}]
[{"$f":"IF(Stammdaten!A732=\"\",\"\",Stammdaten!A732)","v":""},null,{"$f":"IF(Stammdaten!C732=\"\",\"\",Stammdaten!C732)","v":""},{"$f":"IF(Tageswerte!$R$4=1,Stammdaten!H732,Stammdaten!J732)","v":""},{"$f":"IF(Tageswerte!$R$4=1,Stammdaten!I732,Stammdaten!K732)","v":""}]
[{"$f":"IF(Stammdaten!A733=\"\",\"\",Stammdaten!A733)","v":""},null,{"$f":"IF(Stammdaten!C733=\"\",\"\",Stammdaten!C733)","v":""},{"$f":"IF(Tageswerte!$R$4=1,Stammdaten!H733,Stammdaten!J733)","v":""},{"$f":"IF(Tageswerte!$R$4=1,Stammdaten!I733,Stammdaten!K733)","v":""}]
[{"$f":"IF(Stammdaten!A734=\"\",\"\",Stammdaten!A734)","v":""},null,{"$f":"IF(Stammdaten!C734=\"\",\"\",Stammdaten!C734)","v":""},{"$f":"IF(Tageswerte!$R$4=1,Stammdaten!H734,Stammdaten!J734)","v":""},{"$f":"IF(Tageswerte!$R$4=1,Stammdaten!I734,Stammdaten!K734)","v":""}]
[{"$f":"IF(Stammdaten!A735=\"\",\"\",Stammdaten!A735)","v":""},null,{"$f":"IF(Stammdaten!C735=\"\",\"\",Stammdaten!C735)","v":""},{"$f":"IF(Tageswerte!$R$4=1,Stammdaten!H735,Stammdaten!J735)","v":""},{"$f":"IF(Tageswerte!$R$4=1,Stammdaten!I735,Stammdaten!K735)","v":""}]
[{"$f":"IF(Stammdaten!A736=\"\",\"\",Stammdaten!A736)","v":""},null,{"$f":"IF(Stammdaten!C736=\"\",\"\",Stammdaten!C736)","v":""},{"$f":"IF(Tageswerte!$R$4=1,Stammdaten!H736,Stammdaten!J736)","v":""},{"$f":"IF(Tageswerte!$R$4=1,Stammdaten!I736,Stammdaten!K736)","v":""}]
[{"$f":"IF(Stammdaten!A737=\"\",\"\",Stammdaten!A737)","v":""},null,{"$f":"IF(Stammdaten!C737=\"\",\"\",Stammdaten!C737)","v":""},{"$f":"IF(Tageswerte!$R$4=1,Stammdaten!H737,Stammdaten!J737)","v":""},{"$f":"IF(Tageswerte!$R$4=1,Stammdaten!I737,Stammdaten!K737)","v":""}]

{"sheet":"Überprüfungsergebnisse","index":2,"n_rows":27,"n_cols":6,"rows_kept":27,"cut":false,"hidden":false,"merged":[[24,2,24,3],[25,2,25,3],[7,1,7,5],[22,1,22,5],[26,2,26,3],[24,4,24,5],[25,4,25,5],[26,4,26,5],[15,4,16,5],[17,1,17,5],[21,1,21,4],[23,2,23,5],[1,1,1,5],[2,1,2,5],[14,4,14,5],[8,1,10,5],[5,3,6,3],[3,4,3,5],[4,4,6,5],[3,1,3,3],[13,1,13,5]]}
[]
[null,"Ergebnisse der Prüfroutine zur Anwendung von Lastprofilen zur "]
[null,"Bilanzierung Gas im analytischen Lastprofilverfahren nach § 50 Ziff. 11 KoV"]
[null,null,null,null,"Ergebnis der Prüfroutine:"]
[null,"Jahr","Veränderung der kumulierte absolute Netzkontoabweichung","Mittelwert",{"$f":"IF(D6=\"\",\"\",IF(Grenzwerte!B4=2,\"Optimierungsfaktorverfahren ist gemäß den Kriterien des LF BKM im Abschnitt 11.7 anzuwenden!\",\"Keine Optimierungsmöglichkeit durch einen Optimierungsfaktor!\"))","v":""}]
[null,{"$f":"B16","v":""},{"$f":"IF(Stammdaten!A5=\"\",\"\",(C26-E26)/C26)","v":""},{"$f":"IF(Stammdaten!A5=\"\",\"\",AVERAGE(C6:C7))","v":""}]
[null,{"$f":"B17","v":""},{"$f":"IF(Stammdaten!A6=\"\",\"\",(C27-E27)/C27)","v":""}]
[]
[null,"Bemerkungen:"]
[]
[]
[]
[]
[null,"Darstellung der Berechnungsergebnisse"]
[null,"Jahr","Anzahl Tage mit <= 95% Restlast (an D-1 von D-2 für D) vs. Restlast (an M+2M-10WT von D-2 für D)","Anzahl Tage mit > 105% Restlast (an D-1 von D-2 für D) vs. Restlast (an M+2M-10WT von D-2 für D)","Ergebnis der Prüfroutine:"]
[null,{"$f":"IF(Stammdaten!A5=\"\",\"\",YEAR(Stammdaten!A5))","v":""},{"$f":"SUM(Stammdaten!E5:E369)","v":0},{"$f":"SUM(Stammdaten!F5:F369)","v":0},{"$f":"IF(Stammdaten!A5=\"\",\"\",IF(C16=\"\",\"\",IF(SUM(C16:D17)>40,\"Überprüfung der Restlastberechnung und Ersatzwertbildung notwendig!\",\"Restlastberechnung und Ersatzwertbildung sind in Ordnung!\")))","v":""}]
[null,{"$f":"IF(Stammdaten!A5=\"\",\"\",YEAR(Stammdaten!A370))","v":""},{"$f":"SUM(Stammdaten!E370:E833)","v":0},{"$f":"SUM(Stammdaten!F370:F833)","v":0}]
[]
[null,"Jahr",{"$f":"Stammdaten!B1","v":"Restlast (an D-1 von D-2 für D)"},{"$f":"Stammdaten!C1","v":"Restlast (an M+2 M+ 10 WT von D-2 für D)"},"Differenz [kWh]","Differenz [%]"]
[null,{"$f":"B16","v":""},{"$f":"SUM(Stammdaten!B2:B369)","v":0},{"$f":"SUM(Stammdaten!C2:C369)","v":0},{"$f":"D20-C20","v":0},{"$f":"IF(Stammdaten!A5=\"\",\"\",E20/D20)","v":""}]
[null,{"$f":"B17","v":""},{"$f":"SUM(Stammdaten!B370:B734)","v":0},{"$f":"SUM(Stammdaten!C370:C734)","v":0},{"$f":"D21-C21","v":0},{"$f":"IF(Stammdaten!A5=\"\",\"\",E21/D21)","v":""}]
[null,null,null,null,null,{"$f":"IF(Stammdaten!A5=\"\",\"\",IF(F20>1%,\"Werte überprüfen\",IF(F20<-1%,\"Werte überprüfen\",IF(F21>1%,\"Werte überprüfen\",IF(F21<-1%,\"Werte überprüfen\",\"Werte plausibel\")))))","v":""}]
[]
[null,null,"Kumulierte absolute Netzkontoabweichung"]
[null,"Jahr","SLP-Allokation \n(an D-1 von D-2 für D)",null,"Allokation mit Optimierungsfaktor"]
[null,{"$f":"B16","v":""},{"$f":"IF(Stammdaten!A5=\"\",\"\",'Monatliche Auswertung'!J18)","v":""},null,{"$f":"IF(Stammdaten!A5=\"\",\"\",'Monatliche Auswertung'!K18)","v":""}]
[null,{"$f":"B17","v":""},{"$f":"IF(Stammdaten!A6=\"\",\"\",'Monatliche Auswertung'!J36)","v":""},null,{"$f":"IF(Stammdaten!A5=\"\",\"\",'Monatliche Auswertung'!K36)","v":""}]

{"sheet":"Berechnungsblatt","index":3,"n_rows":1465,"n_cols":24,"rows_kept":1465,"cut":false,"hidden":false,"merged":[]}
["Datum","Wochentag",{"$f":"Stammdaten!B1","v":"Restlast (an D-1 von D-2 für D)"},{"$f":"Analysedaten!D1","v":"Ist- Temperatur (D) geometrische Reihe analog Leitfaden mit Ist- Temperaturen [°C]"},{"$f":"Analysedaten!E1","v":"Vorhersagetemperatur (D) geometrische Reihe analog Leitfaden mit Ist und Prognosetemperaturen [°C]"},"Samstag auf Montag","Samstag auf Montag","Sonntag auf Dienstag","Sonntag auf Dienstag","Montag auf Mittwoch","Montag auf Mittwoch","Dienstag auf Donnerstag","Dienstag auf Donnerstag","Mittwoch auf Freitag","Mittwoch auf Freitag","Donnerstag auf Samstag","Donnerstag auf Samstag","Freitag auf Sonntag","Freitag auf Sonntag",null,"Steigung","y- Achsenabschnitt","Anpassungsmenge","Optimierte Allokationsmenge (D)"]
[{"$f":"IF(Stammdaten!A2=\"\",\"\",Stammdaten!A2)","v":""},{"$f":"IF(Stammdaten!A2=\"\",\"\",WEEKDAY(A2,2))","v":""},{"$f":"Stammdaten!B2","v":"Vorvorvortageswert des Vorjahres eintragen"},{"$f":"Stammdaten!H2","v":"dito."},{"$f":"Stammdaten!I2","v":"dito."},null,null,null,null,null,null,null,null,null,null,null,null,null,null,null,{"$f":"IF(Stammdaten!A5=\"\",\"\",IF(D2<=15,VLOOKUP(B2,'Werte =<15°C'!$Q$2:$S$8,2,FALSE),VLOOKUP(B2,'Werte >15°C'!$Q$2:$S$8,2,FALSE)))","v":""},{"$f":"IF(Stammdaten!A5=\"\",\"\",IF(D2<=15,VLOOKUP(B2,'Werte =<15°C'!$Q$2:$S$8,3,FALSE),VLOOKUP(B2,'Werte >15°C'!$Q$2:$S$8,3,FALSE)))","v":""},{"$f":"IF(Stammdaten!A5=\"\",\"\",U2*(E4-D2)+V2)","v":""},{"$f":"IF(Stammdaten!A5=\"\",\"\",C2+W2)","v":""}]
[{"$f":"IF(Stammdaten!A3=\"\",\"\",Stammdaten!A3)","v":""},{"$f":"IF(Stammdaten!A3=\"\",\"\",WEEKDAY(A3,2))","v":""},{"$f":"Stammdaten!B3","v":"Vorvortageswert des Vorjahres eintragen"},{"$f":"Stammdaten!H3","v":"dito."},{"$f":"Stammdaten!I3","v":"dito."},null,null,null,null,null,null,null,null,null,null,null,null,null,null,null,{"$f":"IF(Stammdaten!A6=\"\",\"\",IF(D3<=15,VLOOKUP(B3,'Werte =<15°C'!$Q$2:$S$8,2,FALSE),VLOOKUP(B3,'Werte >15°C'!$Q$2:$S$8,2,FALSE)))","v":""},{"$f":"IF(Stammdaten!A6=\"\",\"\",IF(D3<=15,VLOOKUP(B3,'Werte =<15°C'!$Q$2:$S$8,3,FALSE),VLOOKUP(B3,'Werte >15°C'!$Q$2:$S$8,3,FALSE)))","v":""},{"$f":"IF(Stammdaten!A6=\"\",\"\",U3*(E5-D3)+V3)","v":""},{"$f":"IF(Stammdaten!A6=\"\",\"\",C3+W3)","v":""}]
[{"$f":"IF(Stammdaten!A4=\"\",\"\",Stammdaten!A4)","v":""},{"$f":"IF(Stammdaten!A4=\"\",\"\",WEEKDAY(A4,2))","v":""},{"$f":"Stammdaten!B4","v":"Vortageswert des Vorjahres eintragen"},{"$f":"Stammdaten!H4","v":"dito."},{"$f":"Stammdaten!I4","v":"dito."},null,null,null,null,null,null,null,null,null,null,null,null,null,null,null,{"$f":"IF(Stammdaten!A7=\"\",\"\",IF(D4<=15,VLOOKUP(B4,'Werte =<15°C'!$Q$2:$S$8,2,FALSE),VLOOKUP(B4,'Werte >15°C'!$Q$2:$S$8,2,FALSE)))","v":""},{"$f":"IF(Stammdaten!A7=\"\",\"\",IF(D4<=15,VLOOKUP(B4,'Werte =<15°C'!$Q$2:$S$8,3,FALSE),VLOOKUP(B4,'Werte >15°C'!$Q$2:$S$8,3,FALSE)))","v":""},{"$f":"IF(Stammdaten!A7=\"\",\"\",U4*(E6-D4)+V4)","v":""},{"$f":"IF(Stammdaten!A7=\"\",\"\",C4+W4)","v":""}]
[{"$f":"Analysedaten!A2","v":""},{"$f":"IF(Stammdaten!A5=\"\",\"\",WEEKDAY(A5,2))","v":""},{"$f":"IF(Stammdaten!A5=\"\",\"\",Analysedaten!C2)","v":""},{"$f":"Analysedaten!D2","v":""},{"$f":"Analysedaten!E2","v":""},{"$f":"IF(B7=1,(E7-D5),\"\")","v":""},{"$f":"IF(B7=1,(C7-C5),\"\")","v":""},{"$f":"IF(B7=2,(E7-D5),\"\")","v":""},{"$f":"IF(B7=2,(C7-C5),\"\")","v":""},{"$f":"IF(B7=3,(E7-D5),\"\")","v":""},{"$f":"IF(B7=3,(C7-C5),\"\")","v":""},{"$f":"IF(B7=4,(E7-D5),\"\")","v":""},{"$f":"IF(B7=4,(C7-C5),\"\")","v":""},{"$f":"IF(B7=5,(E7-D5),\"\")","v":""},{"$f":"IF(B7=5,(C7-C5),\"\")","v":""},{"$f":"IF(B7=6,(E7-D5),\"\")","v":""},{"$f":"IF(B7=6,(C7-C5),\"\")","v":""},{"$f":"IF(B7=7,(E7-D5),\"\")","v":""},{"$f":"IF(B7=7,(C7-C5),\"\")","v":""},null,{"$f":"IF(Stammdaten!A8=\"\",\"\",IF(D5<=15,VLOOKUP(B5,'Werte =<15°C'!$Q$2:$S$8,2,FALSE),VLOOKUP(B5,'Werte >15°C'!$Q$2:$S$8,2,FALSE)))","v":""},{"$f":"IF(Stammdaten!A8=\"\",\"\",IF(D5<=15,VLOOKUP(B5,'Werte =<15°C'!$Q$2:$S$8,3,FALSE),VLOOKUP(B5,'Werte >15°C'!$Q$2:$S$8,3,FALSE)))","v":""},{"$f":"IF(Stammdaten!A8=\"\",\"\",U5*(E7-D5)+V5)","v":""},{"$f":"IF(Stammdaten!A8=\"\",\"\",C5+W5)","v":""}]
[{"$f":"Analysedaten!A3","v":""},{"$f":"IF(Stammdaten!A6=\"\",\"\",WEEKDAY(A6,2))","v":""},{"$f":"IF(Stammdaten!A6=\"\",\"\",Analysedaten!C3)","v":""},{"$f":"Analysedaten!D3","v":""},{"$f":"Analysedaten!E3","v":""},"","","","","","","","","","","","","","",null,{"$f":"IF(Stammdaten!A9=\"\",\"\",IF(D6<=15,VLOOKUP(B6,'Werte =<15°C'!$Q$2:$S$8,2,FALSE),VLOOKUP(B6,'Werte >15°C'!$Q$2:$S$8,2,FALSE)))","v":""},{"$f":"IF(Stammdaten!A9=\"\",\"\",IF(D6<=15,VLOOKUP(B6,'Werte =<15°C'!$Q$2:$S$8,3,FALSE),VLOOKUP(B6,'Werte >15°C'!$Q$2:$S$8,3,FALSE)))","v":""},{"$f":"IF(Stammdaten!A9=\"\",\"\",U6*(E8-D6)+V6)","v":""},{"$f":"IF(Stammdaten!A9=\"\",\"\",C6+W6)","v":""}]
[{"$f":"Analysedaten!A4","v":""},{"$f":"IF(Stammdaten!A7=\"\",\"\",WEEKDAY(A7,2))","v":""},{"$f":"IF(Stammdaten!A7=\"\",\"\",Analysedaten!C4)","v":""},{"$f":"Analysedaten!D4","v":""},{"$f":"Analysedaten!E4","v":""},"","","","","","","","","","","","","","",null,{"$f":"IF(Stammdaten!A10=\"\",\"\",IF(D7<=15,VLOOKUP(B7,'Werte =<15°C'!$Q$2:$S$8,2,FALSE),VLOOKUP(B7,'Werte >15°C'!$Q$2:$S$8,2,FALSE)))","v":""},{"$f":"IF(Stammdaten!A10=\"\",\"\",IF(D7<=15,VLOOKUP(B7,'Werte =<15°C'!$Q$2:$S$8,3,FALSE),VLOOKUP(B7,'Werte >15°C'!$Q$2:$S$8,3,FALSE)))","v":""},{"$f":"IF(Stammdaten!A10=\"\",\"\",U7*(E9-D7)+V7)","v":""},{"$f":"IF(Stammdaten!A10=\"\",\"\",C7+W7)","v":""}]
[{"$f":"Analysedaten!A5","v":""},{"$f":"IF(Stammdaten!A8=\"\",\"\",WEEKDAY(A8,2))","v":""},{"$f":"IF(Stammdaten!A8=\"\",\"\",Analysedaten!C5)","v":""},{"$f":"Analysedaten!D5","v":""},{"$f":"Analysedaten!E5","v":""},"","","","","","","","","","","","","","",null,{"$f":"IF(Stammdaten!A11=\"\",\"\",IF(D8<=15,VLOOKUP(B8,'Werte =<15°C'!$Q$2:$S$8,2,FALSE),VLOOKUP(B8,'Werte >15°C'!$Q$2:$S$8,2,FALSE)))","v":""},{"$f":"IF(Stammdaten!A11=\"\",\"\",IF(D8<=15,VLOOKUP(B8,'Werte =<15°C'!$Q$2:$S$8,3,FALSE),VLOOKUP(B8,'Werte >15°C'!$Q$2:$S$8,3,FALSE)))","v":""},{"$f":"IF(Stammdaten!A11=\"\",\"\",U8*(E10-D8)+V8)","v":""},{"$f":"IF(Stammdaten!A11=\"\",\"\",C8+W8)","v":""}]
[{"$f":"Analysedaten!A6","v":""},{"$f":"IF(Stammdaten!A9=\"\",\"\",WEEKDAY(A9,2))","v":""},{"$f":"IF(Stammdaten!A9=\"\",\"\",Analysedaten!C6)","v":""},{"$f":"Analysedaten!D6","v":""},{"$f":"Analysedaten!E6","v":""},"","","","","","","","","","","","","","",null,{"$f":"IF(Stammdaten!A12=\"\",\"\",IF(D9<=15,VLOOKUP(B9,'Werte =<15°C'!$Q$2:$S$8,2,FALSE),VLOOKUP(B9,'Werte >15°C'!$Q$2:$S$8,2,FALSE)))","v":""},{"$f":"IF(Stammdaten!A12=\"\",\"\",IF(D9<=15,VLOOKUP(B9,'Werte =<15°C'!$Q$2:$S$8,3,FALSE),VLOOKUP(B9,'Werte >15°C'!$Q$2:$S$8,3,FALSE)))","v":""},{"$f":"IF(Stammdaten!A12=\"\",\"\",U9*(E11-D9)+V9)","v":""},{"$f":"IF(Stammdaten!A12=\"\",\"\",C9+W9)","v":""}]
[{"$f":"Analysedaten!A7","v":""},{"$f":"IF(Stammdaten!A10=\"\",\"\",WEEKDAY(A10,2))","v":""},{"$f":"IF(Stammdaten!A10=\"\",\"\",Analysedaten!C7)","v":""},{"$f":"Analysedaten!D7","v":""},{"$f":"Analysedaten!E7","v":""},"","","","","","","","","","","","","","",null,{"$f":"IF(Stammdaten!A13=\"\",\"\",IF(D10<=15,VLOOKUP(B10,'Werte =<15°C'!$Q$2:$S$8,2,FALSE),VLOOKUP(B10,'Werte >15°C'!$Q$2:$S$8,2,FALSE)))","v":""},{"$f":"IF(Stammdaten!A13=\"\",\"\",IF(D10<=15,VLOOKUP(B10,'Werte =<15°C'!$Q$2:$S$8,3,FALSE),VLOOKUP(B10,'Werte >15°C'!$Q$2:$S$8,3,FALSE)))","v":""},{"$f":"IF(Stammdaten!A13=\"\",\"\",U10*(E12-D10)+V10)","v":""},{"$f":"IF(Stammdaten!A13=\"\",\"\",C10+W10)","v":""}]
[{"$f":"Analysedaten!A8","v":""},{"$f":"IF(Stammdaten!A11=\"\",\"\",WEEKDAY(A11,2))","v":""},{"$f":"IF(Stammdaten!A11=\"\",\"\",Analysedaten!C8)","v":""},{"$f":"Analysedaten!D8","v":""},{"$f":"Analysedaten!E8","v":""},"","","","","","","","","","","","","","",null,{"$f":"IF(Stammdaten!A14=\"\",\"\",IF(D11<=15,VLOOKUP(B11,'Werte =<15°C'!$Q$2:$S$8,2,FALSE),VLOOKUP(B11,'Werte >15°C'!$Q$2:$S$8,2,FALSE)))","v":""},{"$f":"IF(Stammdaten!A14=\"\",\"\",IF(D11<=15,VLOOKUP(B11,'Werte =<15°C'!$Q$2:$S$8,3,FALSE),VLOOKUP(B11,'Werte >15°C'!$Q$2:$S$8,3,FALSE)))","v":""},{"$f":"IF(Stammdaten!A14=\"\",\"\",U11*(E13-D11)+V11)","v":""},{"$f":"IF(Stammdaten!A14=\"\",\"\",C11+W11)","v":""}]
[{"$f":"Analysedaten!A9","v":""},{"$f":"IF(Stammdaten!A12=\"\",\"\",WEEKDAY(A12,2))","v":""},{"$f":"IF(Stammdaten!A12=\"\",\"\",Analysedaten!C9)","v":""},{"$f":"Analysedaten!D9","v":""},{"$f":"Analysedaten!E9","v":""},"","","","","","","","","","","","","","",null,{"$f":"IF(Stammdaten!A15=\"\",\"\",IF(D12<=15,VLOOKUP(B12,'Werte =<15°C'!$Q$2:$S$8,2,FALSE),VLOOKUP(B12,'Werte >15°C'!$Q$2:$S$8,2,FALSE)))","v":""},{"$f":"IF(Stammdaten!A15=\"\",\"\",IF(D12<=15,VLOOKUP(B12,'Werte =<15°C'!$Q$2:$S$8,3,FALSE),VLOOKUP(B12,'Werte >15°C'!$Q$2:$S$8,3,FALSE)))","v":""},{"$f":"IF(Stammdaten!A15=\"\",\"\",U12*(E14-D12)+V12)","v":""},{"$f":"IF(Stammdaten!A15=\"\",\"\",C12+W12)","v":""}]
[{"$f":"Analysedaten!A10","v":""},{"$f":"IF(Stammdaten!A13=\"\",\"\",WEEKDAY(A13,2))","v":""},{"$f":"IF(Stammdaten!A13=\"\",\"\",Analysedaten!C10)","v":""},{"$f":"Analysedaten!D10","v":""},{"$f":"Analysedaten!E10","v":""},"","","","","","","","","","","","","","",null,{"$f":"IF(Stammdaten!A16=\"\",\"\",IF(D13<=15,VLOOKUP(B13,'Werte =<15°C'!$Q$2:$S$8,2,FALSE),VLOOKUP(B13,'Werte >15°C'!$Q$2:$S$8,2,FALSE)))","v":""},{"$f":"IF(Stammdaten!A16=\"\",\"\",IF(D13<=15,VLOOKUP(B13,'Werte =<15°C'!$Q$2:$S$8,3,FALSE),VLOOKUP(B13,'Werte >15°C'!$Q$2:$S$8,3,FALSE)))","v":""},{"$f":"IF(Stammdaten!A16=\"\",\"\",U13*(E15-D13)+V13)","v":""},{"$f":"IF(Stammdaten!A16=\"\",\"\",C13+W13)","v":""}]
[{"$f":"Analysedaten!A11","v":""},{"$f":"IF(Stammdaten!A14=\"\",\"\",WEEKDAY(A14,2))","v":""},{"$f":"IF(Stammdaten!A14=\"\",\"\",Analysedaten!C11)","v":""},{"$f":"Analysedaten!D11","v":""},{"$f":"Analysedaten!E11","v":""},"","","","","","","","","","","","","","",null,{"$f":"IF(Stammdaten!A17=\"\",\"\",IF(D14<=15,VLOOKUP(B14,'Werte =<15°C'!$Q$2:$S$8,2,FALSE),VLOOKUP(B14,'Werte >15°C'!$Q$2:$S$8,2,FALSE)))","v":""},{"$f":"IF(Stammdaten!A17=\"\",\"\",IF(D14<=15,VLOOKUP(B14,'Werte =<15°C'!$Q$2:$S$8,3,FALSE),VLOOKUP(B14,'Werte >15°C'!$Q$2:$S$8,3,FALSE)))","v":""},{"$f":"IF(Stammdaten!A17=\"\",\"\",U14*(E16-D14)+V14)","v":""},{"$f":"IF(Stammdaten!A17=\"\",\"\",C14+W14)","v":""}]
[{"$f":"Analysedaten!A12","v":""},{"$f":"IF(Stammdaten!A15=\"\",\"\",WEEKDAY(A15,2))","v":""},{"$f":"IF(Stammdaten!A15=\"\",\"\",Analysedaten!C12)","v":""},{"$f":"Analysedaten!D12","v":""},{"$f":"Analysedaten!E12","v":""},"","","","","","","","","","","","","","",null,{"$f":"IF(Stammdaten!A18=\"\",\"\",IF(D15<=15,VLOOKUP(B15,'Werte =<15°C'!$Q$2:$S$8,2,FALSE),VLOOKUP(B15,'Werte >15°C'!$Q$2:$S$8,2,FALSE)))","v":""},{"$f":"IF(Stammdaten!A18=\"\",\"\",IF(D15<=15,VLOOKUP(B15,'Werte =<15°C'!$Q$2:$S$8,3,FALSE),VLOOKUP(B15,'Werte >15°C'!$Q$2:$S$8,3,FALSE)))","v":""},{"$f":"IF(Stammdaten!A18=\"\",\"\",U15*(E17-D15)+V15)","v":""},{"$f":"IF(Stammdaten!A18=\"\",\"\",C15+W15)","v":""}]
[{"$f":"Analysedaten!A13","v":""},{"$f":"IF(Stammdaten!A16=\"\",\"\",WEEKDAY(A16,2))","v":""},{"$f":"IF(Stammdaten!A16=\"\",\"\",Analysedaten!C13)","v":""},{"$f":"Analysedaten!D13","v":""},{"$f":"Analysedaten!E13","v":""},"","","","","","","","","","","","","","",null,{"$f":"IF(Stammdaten!A19=\"\",\"\",IF(D16<=15,VLOOKUP(B16,'Werte =<15°C'!$Q$2:$S$8,2,FALSE),VLOOKUP(B16,'Werte >15°C'!$Q$2:$S$8,2,FALSE)))","v":""},{"$f":"IF(Stammdaten!A19=\"\",\"\",IF(D16<=15,VLOOKUP(B16,'Werte =<15°C'!$Q$2:$S$8,3,FALSE),VLOOKUP(B16,'Werte >15°C'!$Q$2:$S$8,3,FALSE)))","v":""},{"$f":"IF(Stammdaten!A19=\"\",\"\",U16*(E18-D16)+V16)","v":""},{"$f":"IF(Stammdaten!A19=\"\",\"\",C16+W16)","v":""}]
[{"$f":"Analysedaten!A14","v":""},{"$f":"IF(Stammdaten!A17=\"\",\"\",WEEKDAY(A17,2))","v":""},{"$f":"IF(Stammdaten!A17=\"\",\"\",Analysedaten!C14)","v":""},{"$f":"Analysedaten!D14","v":""},{"$f":"Analysedaten!E14","v":""},"","","","","","","","","","","","","","",null,{"$f":"IF(Stammdaten!A20=\"\",\"\",IF(D17<=15,VLOOKUP(B17,'Werte =<15°C'!$Q$2:$S$8,2,FALSE),VLOOKUP(B17,'Werte >15°C'!$Q$2:$S$8,2,FALSE)))","v":""},{"$f":"IF(Stammdaten!A20=\"\",\"\",IF(D17<=15,VLOOKUP(B17,'Werte =<15°C'!$Q$2:$S$8,3,FALSE),VLOOKUP(B17,'Werte >15°C'!$Q$2:$S$8,3,FALSE)))","v":""},{"$f":"IF(Stammdaten!A20=\"\",\"\",U17*(E19-D17)+V17)","v":""},{"$f":"IF(Stammdaten!A20=\"\",\"\",C17+W17)","v":""}]
[{"$f":"Analysedaten!A15","v":""},{"$f":"IF(Stammdaten!A18=\"\",\"\",WEEKDAY(A18,2))","v":""},{"$f":"IF(Stammdaten!A18=\"\",\"\",Analysedaten!C15)","v":""},{"$f":"Analysedaten!D15","v":""},{"$f":"Analysedaten!E15","v":""},"","","","","","","","","","","","","","",null,{"$f":"IF(Stammdaten!A21=\"\",\"\",IF(D18<=15,VLOOKUP(B18,'Werte =<15°C'!$Q$2:$S$8,2,FALSE),VLOOKUP(B18,'Werte >15°C'!$Q$2:$S$8,2,FALSE)))","v":""},{"$f":"IF(Stammdaten!A21=\"\",\"\",IF(D18<=15,VLOOKUP(B18,'Werte =<15°C'!$Q$2:$S$8,3,FALSE),VLOOKUP(B18,'Werte >15°C'!$Q$2:$S$8,3,FALSE)))","v":""},{"$f":"IF(Stammdaten!A21=\"\",\"\",U18*(E20-D18)+V18)","v":""},{"$f":"IF(Stammdaten!A21=\"\",\"\",C18+W18)","v":""}]
[{"$f":"Analysedaten!A16","v":""},{"$f":"IF(Stammdaten!A19=\"\",\"\",WEEKDAY(A19,2))","v":""},{"$f":"IF(Stammdaten!A19=\"\",\"\",Analysedaten!C16)","v":""},{"$f":"Analysedaten!D16","v":""},{"$f":"Analysedaten!E16","v":""},"","","","","","","","","","","","","","",null,{"$f":"IF(Stammdaten!A22=\"\",\"\",IF(D19<=15,VLOOKUP(B19,'Werte =<15°C'!$Q$2:$S$8,2,FALSE),VLOOKUP(B19,'Werte >15°C'!$Q$2:$S$8,2,FALSE)))","v":""},{"$f":"IF(Stammdaten!A22=\"\",\"\",IF(D19<=15,VLOOKUP(B19,'Werte =<15°C'!$Q$2:$S$8,3,FALSE),VLOOKUP(B19,'Werte >15°C'!$Q$2:$S$8,3,FALSE)))","v":""},{"$f":"IF(Stammdaten!A22=\"\",\"\",U19*(E21-D19)+V19)","v":""},{"$f":"IF(Stammdaten!A22=\"\",\"\",C19+W19)","v":""}]
[{"$f":"Analysedaten!A17","v":""},{"$f":"IF(Stammdaten!A20=\"\",\"\",WEEKDAY(A20,2))","v":""},{"$f":"IF(Stammdaten!A20=\"\",\"\",Analysedaten!C17)","v":""},{"$f":"Analysedaten!D17","v":""},{"$f":"Analysedaten!E17","v":""},"","","","","","","","","","","","","","",null,{"$f":"IF(Stammdaten!A23=\"\",\"\",IF(D20<=15,VLOOKUP(B20,'Werte =<15°C'!$Q$2:$S$8,2,FALSE),VLOOKUP(B20,'Werte >15°C'!$Q$2:$S$8,2,FALSE)))","v":""},{"$f":"IF(Stammdaten!A23=\"\",\"\",IF(D20<=15,VLOOKUP(B20,'Werte =<15°C'!$Q$2:$S$8,3,FALSE),VLOOKUP(B20,'Werte >15°C'!$Q$2:$S$8,3,FALSE)))","v":""},{"$f":"IF(Stammdaten!A23=\"\",\"\",U20*(E22-D20)+V20)","v":""},{"$f":"IF(Stammdaten!A23=\"\",\"\",C20+W20)","v":""}]
[{"$f":"Analysedaten!A18","v":""},{"$f":"IF(Stammdaten!A21=\"\",\"\",WEEKDAY(A21,2))","v":""},{"$f":"IF(Stammdaten!A21=\"\",\"\",Analysedaten!C18)","v":""},{"$f":"Analysedaten!D18","v":""},{"$f":"Analysedaten!E18","v":""},"","","","","","","","","","","","","","",null,{"$f":"IF(Stammdaten!A24=\"\",\"\",IF(D21<=15,VLOOKUP(B21,'Werte =<15°C'!$Q$2:$S$8,2,FALSE),VLOOKUP(B21,'Werte >15°C'!$Q$2:$S$8,2,FALSE)))","v":""},{"$f":"IF(Stammdaten!A24=\"\",\"\",IF(D21<=15,VLOOKUP(B21,'Werte =<15°C'!$Q$2:$S$8,3,FALSE),VLOOKUP(B21,'Werte >15°C'!$Q$2:$S$8,3,FALSE)))","v":""},{"$f":"IF(Stammdaten!A24=\"\",\"\",U21*(E23-D21)+V21)","v":""},{"$f":"IF(Stammdaten!A24=\"\",\"\",C21+W21)","v":""}]
[{"$f":"Analysedaten!A19","v":""},{"$f":"IF(Stammdaten!A22=\"\",\"\",WEEKDAY(A22,2))","v":""},{"$f":"IF(Stammdaten!A22=\"\",\"\",Analysedaten!C19)","v":""},{"$f":"Analysedaten!D19","v":""},{"$f":"Analysedaten!E19","v":""},"","","","","","","","","","","","","","",null,{"$f":"IF(Stammdaten!A25=\"\",\"\",IF(D22<=15,VLOOKUP(B22,'Werte =<15°C'!$Q$2:$S$8,2,FALSE),VLOOKUP(B22,'Werte >15°C'!$Q$2:$S$8,2,FALSE)))","v":""},{"$f":"IF(Stammdaten!A25=\"\",\"\",IF(D22<=15,VLOOKUP(B22,'Werte =<15°C'!$Q$2:$S$8,3,FALSE),VLOOKUP(B22,'Werte >15°C'!$Q$2:$S$8,3,FALSE)))","v":""},{"$f":"IF(Stammdaten!A25=\"\",\"\",U22*(E24-D22)+V22)","v":""},{"$f":"IF(Stammdaten!A25=\"\",\"\",C22+W22)","v":""}]
[{"$f":"Analysedaten!A20","v":""},{"$f":"IF(Stammdaten!A23=\"\",\"\",WEEKDAY(A23,2))","v":""},{"$f":"IF(Stammdaten!A23=\"\",\"\",Analysedaten!C20)","v":""},{"$f":"Analysedaten!D20","v":""},{"$f":"Analysedaten!E20","v":""},"","","","","","","","","","","","","","",null,{"$f":"IF(Stammdaten!A26=\"\",\"\",IF(D23<=15,VLOOKUP(B23,'Werte =<15°C'!$Q$2:$S$8,2,FALSE),VLOOKUP(B23,'Werte >15°C'!$Q$2:$S$8,2,FALSE)))","v":""},{"$f":"IF(Stammdaten!A26=\"\",\"\",IF(D23<=15,VLOOKUP(B23,'Werte =<15°C'!$Q$2:$S$8,3,FALSE),VLOOKUP(B23,'Werte >15°C'!$Q$2:$S$8,3,FALSE)))","v":""},{"$f":"IF(Stammdaten!A26=\"\",\"\",U23*(E25-D23)+V23)","v":""},{"$f":"IF(Stammdaten!A26=\"\",\"\",C23+W23)","v":""}]
[{"$f":"Analysedaten!A21","v":""},{"$f":"IF(Stammdaten!A24=\"\",\"\",WEEKDAY(A24,2))","v":""},{"$f":"IF(Stammdaten!A24=\"\",\"\",Analysedaten!C21)","v":""},{"$f":"Analysedaten!D21","v":""},{"$f":"Analysedaten!E21","v":""},"","","","","","","","","","","","","","",null,{"$f":"IF(Stammdaten!A27=\"\",\"\",IF(D24<=15,VLOOKUP(B24,'Werte =<15°C'!$Q$2:$S$8,2,FALSE),VLOOKUP(B24,'Werte >15°C'!$Q$2:$S$8,2,FALSE)))","v":""},{"$f":"IF(Stammdaten!A27=\"\",\"\",IF(D24<=15,VLOOKUP(B24,'Werte =<15°C'!$Q$2:$S$8,3,FALSE),VLOOKUP(B24,'Werte >15°C'!$Q$2:$S$8,3,FALSE)))","v":""},{"$f":"IF(Stammdaten!A27=\"\",\"\",U24*(E26-D24)+V24)","v":""},{"$f":"IF(Stammdaten!A27=\"\",\"\",C24+W24)","v":""}]
[{"$f":"Analysedaten!A22","v":""},{"$f":"IF(Stammdaten!A25=\"\",\"\",WEEKDAY(A25,2))","v":""},{"$f":"IF(Stammdaten!A25=\"\",\"\",Analysedaten!C22)","v":""},{"$f":"Analysedaten!D22","v":""},{"$f":"Analysedaten!E22","v":""},"","","","","","","","","","","","","","",null,{"$f":"IF(Stammdaten!A28=\"\",\"\",IF(D25<=15,VLOOKUP(B25,'Werte =<15°C'!$Q$2:$S$8,2,FALSE),VLOOKUP(B25,'Werte >15°C'!$Q$2:$S$8,2,FALSE)))","v":""},{"$f":"IF(Stammdaten!A28=\"\",\"\",IF(D25<=15,VLOOKUP(B25,'Werte =<15°C'!$Q$2:$S$8,3,FALSE),VLOOKUP(B25,'Werte >15°C'!$Q$2:$S$8,3,FALSE)))","v":""},{"$f":"IF(Stammdaten!A28=\"\",\"\",U25*(E27-D25)+V25)","v":""},{"$f":"IF(Stammdaten!A28=\"\",\"\",C25+W25)","v":""}]
[{"$f":"Analysedaten!A23","v":""},{"$f":"IF(Stammdaten!A26=\"\",\"\",WEEKDAY(A26,2))","v":""},{"$f":"IF(Stammdaten!A26=\"\",\"\",Analysedaten!C23)","v":""},{"$f":"Analysedaten!D23","v":""},{"$f":"Analysedaten!E23","v":""},"","","","","","","","","","","","","","",null,{"$f":"IF(Stammdaten!A29=\"\",\"\",IF(D26<=15,VLOOKUP(B26,'Werte =<15°C'!$Q$2:$S$8,2,FALSE),VLOOKUP(B26,'Werte >15°C'!$Q$2:$S$8,2,FALSE)))","v":""},{"$f":"IF(Stammdaten!A29=\"\",\"\",IF(D26<=15,VLOOKUP(B26,'Werte =<15°C'!$Q$2:$S$8,3,FALSE),VLOOKUP(B26,'Werte >15°C'!$Q$2:$S$8,3,FALSE)))","v":""},{"$f":"IF(Stammdaten!A29=\"\",\"\",U26*(E28-D26)+V26)","v":""},{"$f":"IF(Stammdaten!A29=\"\",\"\",C26+W26)","v":""}]
[{"$f":"Analysedaten!A24","v":""},{"$f":"IF(Stammdaten!A27=\"\",\"\",WEEKDAY(A27,2))","v":""},{"$f":"IF(Stammdaten!A27=\"\",\"\",Analysedaten!C24)","v":""},{"$f":"Analysedaten!D24","v":""},{"$f":"Analysedaten!E24","v":""},"","","","","","","","","","","","","","",null,{"$f":"IF(Stammdaten!A30=\"\",\"\",IF(D27<=15,VLOOKUP(B27,'Werte =<15°C'!$Q$2:$S$8,2,FALSE),VLOOKUP(B27,'Werte >15°C'!$Q$2:$S$8,2,FALSE)))","v":""},{"$f":"IF(Stammdaten!A30=\"\",\"\",IF(D27<=15,VLOOKUP(B27,'Werte =<15°C'!$Q$2:$S$8,3,FALSE),VLOOKUP(B27,'Werte >15°C'!$Q$2:$S$8,3,FALSE)))","v":""},{"$f":"IF(Stammdaten!A30=\"\",\"\",U27*(E29-D27)+V27)","v":""},{"$f":"IF(Stammdaten!A30=\"\",\"\",C27+W27)","v":""}]
[{"$f":"Analysedaten!A25","v":""},{"$f":"IF(Stammdaten!A28=\"\",\"\",WEEKDAY(A28,2))","v":""},{"$f":"IF(Stammdaten!A28=\"\",\"\",Analysedaten!C25)","v":""},{"$f":"Analysedaten!D25","v":""},{"$f":"Analysedaten!E25","v":""},"","","","","","","","","","","","","","",null,{"$f":"IF(Stammdaten!A31=\"\",\"\",IF(D28<=15,VLOOKUP(B28,'Werte =<15°C'!$Q$2:$S$8,2,FALSE),VLOOKUP(B28,'Werte >15°C'!$Q$2:$S$8,2,FALSE)))","v":""},{"$f":"IF(Stammdaten!A31=\"\",\"\",IF(D28<=15,VLOOKUP(B28,'Werte =<15°C'!$Q$2:$S$8,3,FALSE),VLOOKUP(B28,'Werte >15°C'!$Q$2:$S$8,3,FALSE)))","v":""},{"$f":"IF(Stammdaten!A31=\"\",\"\",U28*(E30-D28)+V28)","v":""},{"$f":"IF(Stammdaten!A31=\"\",\"\",C28+W28)","v":""}]
[{"$f":"Analysedaten!A26","v":""},{"$f":"IF(Stammdaten!A29=\"\",\"\",WEEKDAY(A29,2))","v":""},{"$f":"IF(Stammdaten!A29=\"\",\"\",Analysedaten!C26)","v":""},{"$f":"Analysedaten!D26","v":""},{"$f":"Analysedaten!E26","v":""},"","","","","","","","","","","","","","",null,{"$f":"IF(Stammdaten!A32=\"\",\"\",IF(D29<=15,VLOOKUP(B29,'Werte =<15°C'!$Q$2:$S$8,2,FALSE),VLOOKUP(B29,'Werte >15°C'!$Q$2:$S$8,2,FALSE)))","v":""},{"$f":"IF(Stammdaten!A32=\"\",\"\",IF(D29<=15,VLOOKUP(B29,'Werte =<15°C'!$Q$2:$S$8,3,FALSE),VLOOKUP(B29,'Werte >15°C'!$Q$2:$S$8,3,FALSE)))","v":""},{"$f":"IF(Stammdaten!A32=\"\",\"\",U29*(E31-D29)+V29)","v":""},{"$f":"IF(Stammdaten!A32=\"\",\"\",C29+W29)","v":""}]
[{"$f":"Analysedaten!A27","v":""},{"$f":"IF(Stammdaten!A30=\"\",\"\",WEEKDAY(A30,2))","v":""},{"$f":"IF(Stammdaten!A30=\"\",\"\",Analysedaten!C27)","v":""},{"$f":"Analysedaten!D27","v":""},{"$f":"Analysedaten!E27","v":""},"","","","","","","","","","","","","","",null,{"$f":"IF(Stammdaten!A33=\"\",\"\",IF(D30<=15,VLOOKUP(B30,'Werte =<15°C'!$Q$2:$S$8,2,FALSE),VLOOKUP(B30,'Werte >15°C'!$Q$2:$S$8,2,FALSE)))","v":""},{"$f":"IF(Stammdaten!A33=\"\",\"\",IF(D30<=15,VLOOKUP(B30,'Werte =<15°C'!$Q$2:$S$8,3,FALSE),VLOOKUP(B30,'Werte >15°C'!$Q$2:$S$8,3,FALSE)))","v":""},{"$f":"IF(Stammdaten!A33=\"\",\"\",U30*(E32-D30)+V30)","v":""},{"$f":"IF(Stammdaten!A33=\"\",\"\",C30+W30)","v":""}]
[{"$f":"Analysedaten!A28","v":""},{"$f":"IF(Stammdaten!A31=\"\",\"\",WEEKDAY(A31,2))","v":""},{"$f":"IF(Stammdaten!A31=\"\",\"\",Analysedaten!C28)","v":""},{"$f":"Analysedaten!D28","v":""},{"$f":"Analysedaten!E28","v":""},"","","","","","","","","","","","","","",null,{"$f":"IF(Stammdaten!A34=\"\",\"\",IF(D31<=15,VLOOKUP(B31,'Werte =<15°C'!$Q$2:$S$8,2,FALSE),VLOOKUP(B31,'Werte >15°C'!$Q$2:$S$8,2,FALSE)))","v":""},{"$f":"IF(Stammdaten!A34=\"\",\"\",IF(D31<=15,VLOOKUP(B31,'Werte =<15°C'!$Q$2:$S$8,3,FALSE),VLOOKUP(B31,'Werte >15°C'!$Q$2:$S$8,3,FALSE)))","v":""},{"$f":"IF(Stammdaten!A34=\"\",\"\",U31*(E33-D31)+V31)","v":""},{"$f":"IF(Stammdaten!A34=\"\",\"\",C31+W31)","v":""}]
[{"$f":"Analysedaten!A29","v":""},{"$f":"IF(Stammdaten!A32=\"\",\"\",WEEKDAY(A32,2))","v":""},{"$f":"IF(Stammdaten!A32=\"\",\"\",Analysedaten!C29)","v":""},{"$f":"Analysedaten!D29","v":""},{"$f":"Analysedaten!E29","v":""},"","","","","","","","","","","","","","",null,{"$f":"IF(Stammdaten!A35=\"\",\"\",IF(D32<=15,VLOOKUP(B32,'Werte =<15°C'!$Q$2:$S$8,2,FALSE),VLOOKUP(B32,'Werte >15°C'!$Q$2:$S$8,2,FALSE)))","v":""},{"$f":"IF(Stammdaten!A35=\"\",\"\",IF(D32<=15,VLOOKUP(B32,'Werte =<15°C'!$Q$2:$S$8,3,FALSE),VLOOKUP(B32,'Werte >15°C'!$Q$2:$S$8,3,FALSE)))","v":""},{"$f":"IF(Stammdaten!A35=\"\",\"\",U32*(E34-D32)+V32)","v":""},{"$f":"IF(Stammdaten!A35=\"\",\"\",C32+W32)","v":""}]
[{"$f":"Analysedaten!A30","v":""},{"$f":"IF(Stammdaten!A33=\"\",\"\",WEEKDAY(A33,2))","v":""},{"$f":"IF(Stammdaten!A33=\"\",\"\",Analysedaten!C30)","v":""},{"$f":"Analysedaten!D30","v":""},{"$f":"Analysedaten!E30","v":""},"","","","","","","","","","","","","","",null,{"$f":"IF(Stammdaten!A36=\"\",\"\",IF(D33<=15,VLOOKUP(B33,'Werte =<15°C'!$Q$2:$S$8,2,FALSE),VLOOKUP(B33,'Werte >15°C'!$Q$2:$S$8,2,FALSE)))","v":""},{"$f":"IF(Stammdaten!A36=\"\",\"\",IF(D33<=15,VLOOKUP(B33,'Werte =<15°C'!$Q$2:$S$8,3,FALSE),VLOOKUP(B33,'Werte >15°C'!$Q$2:$S$8,3,FALSE)))","v":""},{"$f":"IF(Stammdaten!A36=\"\",\"\",U33*(E35-D33)+V33)","v":""},{"$f":"IF(Stammdaten!A36=\"\",\"\",C33+W33)","v":""}]
[{"$f":"Analysedaten!A31","v":""},{"$f":"IF(Stammdaten!A34=\"\",\"\",WEEKDAY(A34,2))","v":""},{"$f":"IF(Stammdaten!A34=\"\",\"\",Analysedaten!C31)","v":""},{"$f":"Analysedaten!D31","v":""},{"$f":"Analysedaten!E31","v":""},"","","","","","","","","","","","","","",null,{"$f":"IF(Stammdaten!A37=\"\",\"\",IF(D34<=15,VLOOKUP(B34,'Werte =<15°C'!$Q$2:$S$8,2,FALSE),VLOOKUP(B34,'Werte >15°C'!$Q$2:$S$8,2,FALSE)))","v":""},{"$f":"IF(Stammdaten!A37=\"\",\"\",IF(D34<=15,VLOOKUP(B34,'Werte =<15°C'!$Q$2:$S$8,3,FALSE),VLOOKUP(B34,'Werte >15°C'!$Q$2:$S$8,3,FALSE)))","v":""},{"$f":"IF(Stammdaten!A37=\"\",\"\",U34*(E36-D34)+V34)","v":""},{"$f":"IF(Stammdaten!A37=\"\",\"\",C34+W34)","v":""}]
[{"$f":"Analysedaten!A32","v":""},{"$f":"IF(Stammdaten!A35=\"\",\"\",WEEKDAY(A35,2))","v":""},{"$f":"IF(Stammdaten!A35=\"\",\"\",Analysedaten!C32)","v":""},{"$f":"Analysedaten!D32","v":""},{"$f":"Analysedaten!E32","v":""},"","","","","","","","","","","","","","",null,{"$f":"IF(Stammdaten!A38=\"\",\"\",IF(D35<=15,VLOOKUP(B35,'Werte =<15°C'!$Q$2:$S$8,2,FALSE),VLOOKUP(B35,'Werte >15°C'!$Q$2:$S$8,2,FALSE)))","v":""},{"$f":"IF(Stammdaten!A38=\"\",\"\",IF(D35<=15,VLOOKUP(B35,'Werte =<15°C'!$Q$2:$S$8,3,FALSE),VLOOKUP(B35,'Werte >15°C'!$Q$2:$S$8,3,FALSE)))","v":""},{"$f":"IF(Stammdaten!A38=\"\",\"\",U35*(E37-D35)+V35)","v":""},{"$f":"IF(Stammdaten!A38=\"\",\"\",C35+W35)","v":""}]
[{"$f":"Analysedaten!A33","v":""},{"$f":"IF(Stammdaten!A36=\"\",\"\",WEEKDAY(A36,2))","v":""},{"$f":"IF(Stammdaten!A36=\"\",\"\",Analysedaten!C33)","v":""},{"$f":"Analysedaten!D33","v":""},{"$f":"Analysedaten!E33","v":""},"","","","","","","","","","","","","","",null,{"$f":"IF(Stammdaten!A39=\"\",\"\",IF(D36<=15,VLOOKUP(B36,'Werte =<15°C'!$Q$2:$S$8,2,FALSE),VLOOKUP(B36,'Werte >15°C'!$Q$2:$S$8,2,FALSE)))","v":""},{"$f":"IF(Stammdaten!A39=\"\",\"\",IF(D36<=15,VLOOKUP(B36,'Werte =<15°C'!$Q$2:$S$8,3,FALSE),VLOOKUP(B36,'Werte >15°C'!$Q$2:$S$8,3,FALSE)))","v":""},{"$f":"IF(Stammdaten!A39=\"\",\"\",U36*(E38-D36)+V36)","v":""},{"$f":"IF(Stammdaten!A39=\"\",\"\",C36+W36)","v":""}]
[{"$f":"Analysedaten!A34","v":""},{"$f":"IF(Stammdaten!A37=\"\",\"\",WEEKDAY(A37,2))","v":""},{"$f":"IF(Stammdaten!A37=\"\",\"\",Analysedaten!C34)","v":""},{"$f":"Analysedaten!D34","v":""},{"$f":"Analysedaten!E34","v":""},"","","","","","","","","","","","","","",null,{"$f":"IF(Stammdaten!A40=\"\",\"\",IF(D37<=15,VLOOKUP(B37,'Werte =<15°C'!$Q$2:$S$8,2,FALSE),VLOOKUP(B37,'Werte >15°C'!$Q$2:$S$8,2,FALSE)))","v":""},{"$f":"IF(Stammdaten!A40=\"\",\"\",IF(D37<=15,VLOOKUP(B37,'Werte =<15°C'!$Q$2:$S$8,3,FALSE),VLOOKUP(B37,'Werte >15°C'!$Q$2:$S$8,3,FALSE)))","v":""},{"$f":"IF(Stammdaten!A40=\"\",\"\",U37*(E39-D37)+V37)","v":""},{"$f":"IF(Stammdaten!A40=\"\",\"\",C37+W37)","v":""}]
[{"$f":"Analysedaten!A35","v":""},{"$f":"IF(Stammdaten!A38=\"\",\"\",WEEKDAY(A38,2))","v":""},{"$f":"IF(Stammdaten!A38=\"\",\"\",Analysedaten!C35)","v":""},{"$f":"Analysedaten!D35","v":""},{"$f":"Analysedaten!E35","v":""},"","","","","","","","","","","","","","",null,{"$f":"IF(Stammdaten!A41=\"\",\"\",IF(D38<=15,VLOOKUP(B38,'Werte =<15°C'!$Q$2:$S$8,2,FALSE),VLOOKUP(B38,'Werte >15°C'!$Q$2:$S$8,2,FALSE)))","v":""},{"$f":"IF(Stammdaten!A41=\"\",\"\",IF(D38<=15,VLOOKUP(B38,'Werte =<15°C'!$Q$2:$S$8,3,FALSE),VLOOKUP(B38,'Werte >15°C'!$Q$2:$S$8,3,FALSE)))","v":""},{"$f":"IF(Stammdaten!A41=\"\",\"\",U38*(E40-D38)+V38)","v":""},{"$f":"IF(Stammdaten!A41=\"\",\"\",C38+W38)","v":""}]
[{"$f":"Analysedaten!A36","v":""},{"$f":"IF(Stammdaten!A39=\"\",\"\",WEEKDAY(A39,2))","v":""},{"$f":"IF(Stammdaten!A39=\"\",\"\",Analysedaten!C36)","v":""},{"$f":"Analysedaten!D36","v":""},{"$f":"Analysedaten!E36","v":""},"","","","","","","","","","","","","","",null,{"$f":"IF(Stammdaten!A42=\"\",\"\",IF(D39<=15,VLOOKUP(B39,'Werte =<15°C'!$Q$2:$S$8,2,FALSE),VLOOKUP(B39,'Werte >15°C'!$Q$2:$S$8,2,FALSE)))","v":""},{"$f":"IF(Stammdaten!A42=\"\",\"\",IF(D39<=15,VLOOKUP(B39,'Werte =<15°C'!$Q$2:$S$8,3,FALSE),VLOOKUP(B39,'Werte >15°C'!$Q$2:$S$8,3,FALSE)))","v":""},{"$f":"IF(Stammdaten!A42=\"\",\"\",U39*(E41-D39)+V39)","v":""},{"$f":"IF(Stammdaten!A42=\"\",\"\",C39+W39)","v":""}]
[{"$f":"Analysedaten!A37","v":""},{"$f":"IF(Stammdaten!A40=\"\",\"\",WEEKDAY(A40,2))","v":""},{"$f":"IF(Stammdaten!A40=\"\",\"\",Analysedaten!C37)","v":""},{"$f":"Analysedaten!D37","v":""},{"$f":"Analysedaten!E37","v":""},"","","","","","","","","","","","","","",null,{"$f":"IF(Stammdaten!A43=\"\",\"\",IF(D40<=15,VLOOKUP(B40,'Werte =<15°C'!$Q$2:$S$8,2,FALSE),VLOOKUP(B40,'Werte >15°C'!$Q$2:$S$8,2,FALSE)))","v":""},{"$f":"IF(Stammdaten!A43=\"\",\"\",IF(D40<=15,VLOOKUP(B40,'Werte =<15°C'!$Q$2:$S$8,3,FALSE),VLOOKUP(B40,'Werte >15°C'!$Q$2:$S$8,3,FALSE)))","v":""},{"$f":"IF(Stammdaten!A43=\"\",\"\",U40*(E42-D40)+V40)","v":""},{"$f":"IF(Stammdaten!A43=\"\",\"\",C40+W40)","v":""}]
[{"$f":"Analysedaten!A38","v":""},{"$f":"IF(Stammdaten!A41=\"\",\"\",WEEKDAY(A41,2))","v":""},{"$f":"IF(Stammdaten!A41=\"\",\"\",Analysedaten!C38)","v":""},{"$f":"Analysedaten!D38","v":""},{"$f":"Analysedaten!E38","v":""},"","","","","","","","","","","","","","",null,{"$f":"IF(Stammdaten!A44=\"\",\"\",IF(D41<=15,VLOOKUP(B41,'Werte =<15°C'!$Q$2:$S$8,2,FALSE),VLOOKUP(B41,'Werte >15°C'!$Q$2:$S$8,2,FALSE)))","v":""},{"$f":"IF(Stammdaten!A44=\"\",\"\",IF(D41<=15,VLOOKUP(B41,'Werte =<15°C'!$Q$2:$S$8,3,FALSE),VLOOKUP(B41,'Werte >15°C'!$Q$2:$S$8,3,FALSE)))","v":""},{"$f":"IF(Stammdaten!A44=\"\",\"\",U41*(E43-D41)+V41)","v":""},{"$f":"IF(Stammdaten!A44=\"\",\"\",C41+W41)","v":""}]
[{"$f":"Analysedaten!A39","v":""},{"$f":"IF(Stammdaten!A42=\"\",\"\",WEEKDAY(A42,2))","v":""},{"$f":"IF(Stammdaten!A42=\"\",\"\",Analysedaten!C39)","v":""},{"$f":"Analysedaten!D39","v":""},{"$f":"Analysedaten!E39","v":""},"","","","","","","","","","","","","","",null,{"$f":"IF(Stammdaten!A45=\"\",\"\",IF(D42<=15,VLOOKUP(B42,'Werte =<15°C'!$Q$2:$S$8,2,FALSE),VLOOKUP(B42,'Werte >15°C'!$Q$2:$S$8,2,FALSE)))","v":""},{"$f":"IF(Stammdaten!A45=\"\",\"\",IF(D42<=15,VLOOKUP(B42,'Werte =<15°C'!$Q$2:$S$8,3,FALSE),VLOOKUP(B42,'Werte >15°C'!$Q$2:$S$8,3,FALSE)))","v":""},{"$f":"IF(Stammdaten!A45=\"\",\"\",U42*(E44-D42)+V42)","v":""},{"$f":"IF(Stammdaten!A45=\"\",\"\",C42+W42)","v":""}]
[{"$f":"Analysedaten!A40","v":""},{"$f":"IF(Stammdaten!A43=\"\",\"\",WEEKDAY(A43,2))","v":""},{"$f":"IF(Stammdaten!A43=\"\",\"\",Analysedaten!C40)","v":""},{"$f":"Analysedaten!D40","v":""},{"$f":"Analysedaten!E40","v":""},"","","","","","","","","","","","","","",null,{"$f":"IF(Stammdaten!A46=\"\",\"\",IF(D43<=15,VLOOKUP(B43,'Werte =<15°C'!$Q$2:$S$8,2,FALSE),VLOOKUP(B43,'Werte >15°C'!$Q$2:$S$8,2,FALSE)))","v":""},{"$f":"IF(Stammdaten!A46=\"\",\"\",IF(D43<=15,VLOOKUP(B43,'Werte =<15°C'!$Q$2:$S$8,3,FALSE),VLOOKUP(B43,'Werte >15°C'!$Q$2:$S$8,3,FALSE)))","v":""},{"$f":"IF(Stammdaten!A46=\"\",\"\",U43*(E45-D43)+V43)","v":""},{"$f":"IF(Stammdaten!A46=\"\",\"\",C43+W43)","v":""}]
[{"$f":"Analysedaten!A41","v":""},{"$f":"IF(Stammdaten!A44=\"\",\"\",WEEKDAY(A44,2))","v":""},{"$f":"IF(Stammdaten!A44=\"\",\"\",Analysedaten!C41)","v":""},{"$f":"Analysedaten!D41","v":""},{"$f":"Analysedaten!E41","v":""},"","","","","","","","","","","","","","",null,{"$f":"IF(Stammdaten!A47=\"\",\"\",IF(D44<=15,VLOOKUP(B44,'Werte =<15°C'!$Q$2:$S$8,2,FALSE),VLOOKUP(B44,'Werte >15°C'!$Q$2:$S$8,2,FALSE)))","v":""},{"$f":"IF(Stammdaten!A47=\"\",\"\",IF(D44<=15,VLOOKUP(B44,'Werte =<15°C'!$Q$2:$S$8,3,FALSE),VLOOKUP(B44,'Werte >15°C'!$Q$2:$S$8,3,FALSE)))","v":""},{"$f":"IF(Stammdaten!A47=\"\",\"\",U44*(E46-D44)+V44)","v":""},{"$f":"IF(Stammdaten!A47=\"\",\"\",C44+W44)","v":""}]
[{"$f":"Analysedaten!A42","v":""},{"$f":"IF(Stammdaten!A45=\"\",\"\",WEEKDAY(A45,2))","v":""},{"$f":"IF(Stammdaten!A45=\"\",\"\",Analysedaten!C42)","v":""},{"$f":"Analysedaten!D42","v":""},{"$f":"Analysedaten!E42","v":""},"","","","","","","","","","","","","","",null,{"$f":"IF(Stammdaten!A48=\"\",\"\",IF(D45<=15,VLOOKUP(B45,'Werte =<15°C'!$Q$2:$S$8,2,FALSE),VLOOKUP(B45,'Werte >15°C'!$Q$2:$S$8,2,FALSE)))","v":""},{"$f":"IF(Stammdaten!A48=\"\",\"\",IF(D45<=15,VLOOKUP(B45,'Werte =<15°C'!$Q$2:$S$8,3,FALSE),VLOOKUP(B45,'Werte >15°C'!$Q$2:$S$8,3,FALSE)))","v":""},{"$f":"IF(Stammdaten!A48=\"\",\"\",U45*(E47-D45)+V45)","v":""},{"$f":"IF(Stammdaten!A48=\"\",\"\",C45+W45)","v":""}]
[{"$f":"Analysedaten!A43","v":""},{"$f":"IF(Stammdaten!A46=\"\",\"\",WEEKDAY(A46,2))","v":""},{"$f":"IF(Stammdaten!A46=\"\",\"\",Analysedaten!C43)","v":""},{"$f":"Analysedaten!D43","v":""},{"$f":"Analysedaten!E43","v":""},"","","","","","","","","","","","","","",null,{"$f":"IF(Stammdaten!A49=\"\",\"\",IF(D46<=15,VLOOKUP(B46,'Werte =<15°C'!$Q$2:$S$8,2,FALSE),VLOOKUP(B46,'Werte >15°C'!$Q$2:$S$8,2,FALSE)))","v":""},{"$f":"IF(Stammdaten!A49=\"\",\"\",IF(D46<=15,VLOOKUP(B46,'Werte =<15°C'!$Q$2:$S$8,3,FALSE),VLOOKUP(B46,'Werte >15°C'!$Q$2:$S$8,3,FALSE)))","v":""},{"$f":"IF(Stammdaten!A49=\"\",\"\",U46*(E48-D46)+V46)","v":""},{"$f":"IF(Stammdaten!A49=\"\",\"\",C46+W46)","v":""}]
[{"$f":"Analysedaten!A44","v":""},{"$f":"IF(Stammdaten!A47=\"\",\"\",WEEKDAY(A47,2))","v":""},{"$f":"IF(Stammdaten!A47=\"\",\"\",Analysedaten!C44)","v":""},{"$f":"Analysedaten!D44","v":""},{"$f":"Analysedaten!E44","v":""},"","","","","","","","","","","","","","",null,{"$f":"IF(Stammdaten!A50=\"\",\"\",IF(D47<=15,VLOOKUP(B47,'Werte =<15°C'!$Q$2:$S$8,2,FALSE),VLOOKUP(B47,'Werte >15°C'!$Q$2:$S$8,2,FALSE)))","v":""},{"$f":"IF(Stammdaten!A50=\"\",\"\",IF(D47<=15,VLOOKUP(B47,'Werte =<15°C'!$Q$2:$S$8,3,FALSE),VLOOKUP(B47,'Werte >15°C'!$Q$2:$S$8,3,FALSE)))","v":""},{"$f":"IF(Stammdaten!A50=\"\",\"\",U47*(E49-D47)+V47)","v":""},{"$f":"IF(Stammdaten!A50=\"\",\"\",C47+W47)","v":""}]
[{"$f":"Analysedaten!A45","v":""},{"$f":"IF(Stammdaten!A48=\"\",\"\",WEEKDAY(A48,2))","v":""},{"$f":"IF(Stammdaten!A48=\"\",\"\",Analysedaten!C45)","v":""},{"$f":"Analysedaten!D45","v":""},{"$f":"Analysedaten!E45","v":""},"","","","","","","","","","","","","","",null,{"$f":"IF(Stammdaten!A51=\"\",\"\",IF(D48<=15,VLOOKUP(B48,'Werte =<15°C'!$Q$2:$S$8,2,FALSE),VLOOKUP(B48,'Werte >15°C'!$Q$2:$S$8,2,FALSE)))","v":""},{"$f":"IF(Stammdaten!A51=\"\",\"\",IF(D48<=15,VLOOKUP(B48,'Werte =<15°C'!$Q$2:$S$8,3,FALSE),VLOOKUP(B48,'Werte >15°C'!$Q$2:$S$8,3,FALSE)))","v":""},{"$f":"IF(Stammdaten!A51=\"\",\"\",U48*(E50-D48)+V48)","v":""},{"$f":"IF(Stammdaten!A51=\"\",\"\",C48+W48)","v":""}]
[{"$f":"Analysedaten!A46","v":""},{"$f":"IF(Stammdaten!A49=\"\",\"\",WEEKDAY(A49,2))","v":""},{"$f":"IF(Stammdaten!A49=\"\",\"\",Analysedaten!C46)","v":""},{"$f":"Analysedaten!D46","v":""},{"$f":"Analysedaten!E46","v":""},"","","","","","","","","","","","","","",null,{"$f":"IF(Stammdaten!A52=\"\",\"\",IF(D49<=15,VLOOKUP(B49,'Werte =<15°C'!$Q$2:$S$8,2,FALSE),VLOOKUP(B49,'Werte >15°C'!$Q$2:$S$8,2,FALSE)))","v":""},{"$f":"IF(Stammdaten!A52=\"\",\"\",IF(D49<=15,VLOOKUP(B49,'Werte =<15°C'!$Q$2:$S$8,3,FALSE),VLOOKUP(B49,'Werte >15°C'!$Q$2:$S$8,3,FALSE)))","v":""},{"$f":"IF(Stammdaten!A52=\"\",\"\",U49*(E51-D49)+V49)","v":""},{"$f":"IF(Stammdaten!A52=\"\",\"\",C49+W49)","v":""}]
[{"$f":"Analysedaten!A47","v":""},{"$f":"IF(Stammdaten!A50=\"\",\"\",WEEKDAY(A50,2))","v":""},{"$f":"IF(Stammdaten!A50=\"\",\"\",Analysedaten!C47)","v":""},{"$f":"Analysedaten!D47","v":""},{"$f":"Analysedaten!E47","v":""},"","","","","","","","","","","","","","",null,{"$f":"IF(Stammdaten!A53=\"\",\"\",IF(D50<=15,VLOOKUP(B50,'Werte =<15°C'!$Q$2:$S$8,2,FALSE),VLOOKUP(B50,'Werte >15°C'!$Q$2:$S$8,2,FALSE)))","v":""},{"$f":"IF(Stammdaten!A53=\"\",\"\",IF(D50<=15,VLOOKUP(B50,'Werte =<15°C'!$Q$2:$S$8,3,FALSE),VLOOKUP(B50,'Werte >15°C'!$Q$2:$S$8,3,FALSE)))","v":""},{"$f":"IF(Stammdaten!A53=\"\",\"\",U50*(E52-D50)+V50)","v":""},{"$f":"IF(Stammdaten!A53=\"\",\"\",C50+W50)","v":""}]
[{"$f":"Analysedaten!A48","v":""},{"$f":"IF(Stammdaten!A51=\"\",\"\",WEEKDAY(A51,2))","v":""},{"$f":"IF(Stammdaten!A51=\"\",\"\",Analysedaten!C48)","v":""},{"$f":"Analysedaten!D48","v":""},{"$f":"Analysedaten!E48","v":""},"","","","","","","","","","","","","","",null,{"$f":"IF(Stammdaten!A54=\"\",\"\",IF(D51<=15,VLOOKUP(B51,'Werte =<15°C'!$Q$2:$S$8,2,FALSE),VLOOKUP(B51,'Werte >15°C'!$Q$2:$S$8,2,FALSE)))","v":""},{"$f":"IF(Stammdaten!A54=\"\",\"\",IF(D51<=15,VLOOKUP(B51,'Werte =<15°C'!$Q$2:$S$8,3,FALSE),VLOOKUP(B51,'Werte >15°C'!$Q$2:$S$8,3,FALSE)))","v":""},{"$f":"IF(Stammdaten!A54=\"\",\"\",U51*(E53-D51)+V51)","v":""},{"$f":"IF(Stammdaten!A54=\"\",\"\",C51+W51)","v":""}]
[{"$f":"Analysedaten!A49","v":""},{"$f":"IF(Stammdaten!A52=\"\",\"\",WEEKDAY(A52,2))","v":""},{"$f":"IF(Stammdaten!A52=\"\",\"\",Analysedaten!C49)","v":""},{"$f":"Analysedaten!D49","v":""},{"$f":"Analysedaten!E49","v":""},"","","","","","","","","","","","","","",null,{"$f":"IF(Stammdaten!A55=\"\",\"\",IF(D52<=15,VLOOKUP(B52,'Werte =<15°C'!$Q$2:$S$8,2,FALSE),VLOOKUP(B52,'Werte >15°C'!$Q$2:$S$8,2,FALSE)))","v":""},{"$f":"IF(Stammdaten!A55=\"\",\"\",IF(D52<=15,VLOOKUP(B52,'Werte =<15°C'!$Q$2:$S$8,3,FALSE),VLOOKUP(B52,'Werte >15°C'!$Q$2:$S$8,3,FALSE)))","v":""},{"$f":"IF(Stammdaten!A55=\"\",\"\",U52*(E54-D52)+V52)","v":""},{"$f":"IF(Stammdaten!A55=\"\",\"\",C52+W52)","v":""}]
[{"$f":"Analysedaten!A50","v":""},{"$f":"IF(Stammdaten!A53=\"\",\"\",WEEKDAY(A53,2))","v":""},{"$f":"IF(Stammdaten!A53=\"\",\"\",Analysedaten!C50)","v":""},{"$f":"Analysedaten!D50","v":""},{"$f":"Analysedaten!E50","v":""},"","","","","","","","","","","","","","",null,{"$f":"IF(Stammdaten!A56=\"\",\"\",IF(D53<=15,VLOOKUP(B53,'Werte =<15°C'!$Q$2:$S$8,2,FALSE),VLOOKUP(B53,'Werte >15°C'!$Q$2:$S$8,2,FALSE)))","v":""},{"$f":"IF(Stammdaten!A56=\"\",\"\",IF(D53<=15,VLOOKUP(B53,'Werte =<15°C'!$Q$2:$S$8,3,FALSE),VLOOKUP(B53,'Werte >15°C'!$Q$2:$S$8,3,FALSE)))","v":""},{"$f":"IF(Stammdaten!A56=\"\",\"\",U53*(E55-D53)+V53)","v":""},{"$f":"IF(Stammdaten!A56=\"\",\"\",C53+W53)","v":""}]
[{"$f":"Analysedaten!A51","v":""},{"$f":"IF(Stammdaten!A54=\"\",\"\",WEEKDAY(A54,2))","v":""},{"$f":"IF(Stammdaten!A54=\"\",\"\",Analysedaten!C51)","v":""},{"$f":"Analysedaten!D51","v":""},{"$f":"Analysedaten!E51","v":""},"","","","","","","","","","","","","","",null,{"$f":"IF(Stammdaten!A57=\"\",\"\",IF(D54<=15,VLOOKUP(B54,'Werte =<15°C'!$Q$2:$S$8,2,FALSE),VLOOKUP(B54,'Werte >15°C'!$Q$2:$S$8,2,FALSE)))","v":""},{"$f":"IF(Stammdaten!A57=\"\",\"\",IF(D54<=15,VLOOKUP(B54,'Werte =<15°C'!$Q$2:$S$8,3,FALSE),VLOOKUP(B54,'Werte >15°C'!$Q$2:$S$8,3,FALSE)))","v":""},{"$f":"IF(Stammdaten!A57=\"\",\"\",U54*(E56-D54)+V54)","v":""},{"$f":"IF(Stammdaten!A57=\"\",\"\",C54+W54)","v":""}]
[{"$f":"Analysedaten!A52","v":""},{"$f":"IF(Stammdaten!A55=\"\",\"\",WEEKDAY(A55,2))","v":""},{"$f":"IF(Stammdaten!A55=\"\",\"\",Analysedaten!C52)","v":""},{"$f":"Analysedaten!D52","v":""},{"$f":"Analysedaten!E52","v":""},"","","","","","","","","","","","","","",null,{"$f":"IF(Stammdaten!A58=\"\",\"\",IF(D55<=15,VLOOKUP(B55,'Werte =<15°C'!$Q$2:$S$8,2,FALSE),VLOOKUP(B55,'Werte >15°C'!$Q$2:$S$8,2,FALSE)))","v":""},{"$f":"IF(Stammdaten!A58=\"\",\"\",IF(D55<=15,VLOOKUP(B55,'Werte =<15°C'!$Q$2:$S$8,3,FALSE),VLOOKUP(B55,'Werte >15°C'!$Q$2:$S$8,3,FALSE)))","v":""},{"$f":"IF(Stammdaten!A58=\"\",\"\",U55*(E57-D55)+V55)","v":""},{"$f":"IF(Stammdaten!A58=\"\",\"\",C55+W55)","v":""}]
[{"$f":"Analysedaten!A53","v":""},{"$f":"IF(Stammdaten!A56=\"\",\"\",WEEKDAY(A56,2))","v":""},{"$f":"IF(Stammdaten!A56=\"\",\"\",Analysedaten!C53)","v":""},{"$f":"Analysedaten!D53","v":""},{"$f":"Analysedaten!E53","v":""},"","","","","","","","","","","","","","",null,{"$f":"IF(Stammdaten!A59=\"\",\"\",IF(D56<=15,VLOOKUP(B56,'Werte =<15°C'!$Q$2:$S$8,2,FALSE),VLOOKUP(B56,'Werte >15°C'!$Q$2:$S$8,2,FALSE)))","v":""},{"$f":"IF(Stammdaten!A59=\"\",\"\",IF(D56<=15,VLOOKUP(B56,'Werte =<15°C'!$Q$2:$S$8,3,FALSE),VLOOKUP(B56,'Werte >15°C'!$Q$2:$S$8,3,FALSE)))","v":""},{"$f":"IF(Stammdaten!A59=\"\",\"\",U56*(E58-D56)+V56)","v":""},{"$f":"IF(Stammdaten!A59=\"\",\"\",C56+W56)","v":""}]
[{"$f":"Analysedaten!A54","v":""},{"$f":"IF(Stammdaten!A57=\"\",\"\",WEEKDAY(A57,2))","v":""},{"$f":"IF(Stammdaten!A57=\"\",\"\",Analysedaten!C54)","v":""},{"$f":"Analysedaten!D54","v":""},{"$f":"Analysedaten!E54","v":""},"","","","","","","","","","","","","","",null,{"$f":"IF(Stammdaten!A60=\"\",\"\",IF(D57<=15,VLOOKUP(B57,'Werte =<15°C'!$Q$2:$S$8,2,FALSE),VLOOKUP(B57,'Werte >15°C'!$Q$2:$S$8,2,FALSE)))","v":""},{"$f":"IF(Stammdaten!A60=\"\",\"\",IF(D57<=15,VLOOKUP(B57,'Werte =<15°C'!$Q$2:$S$8,3,FALSE),VLOOKUP(B57,'Werte >15°C'!$Q$2:$S$8,3,FALSE)))","v":""},{"$f":"IF(Stammdaten!A60=\"\",\"\",U57*(E59-D57)+V57)","v":""},{"$f":"IF(Stammdaten!A60=\"\",\"\",C57+W57)","v":""}]
[{"$f":"Analysedaten!A55","v":""},{"$f":"IF(Stammdaten!A58=\"\",\"\",WEEKDAY(A58,2))","v":""},{"$f":"IF(Stammdaten!A58=\"\",\"\",Analysedaten!C55)","v":""},{"$f":"Analysedaten!D55","v":""},{"$f":"Analysedaten!E55","v":""},"","","","","","","","","","","","","","",null,{"$f":"IF(Stammdaten!A61=\"\",\"\",IF(D58<=15,VLOOKUP(B58,'Werte =<15°C'!$Q$2:$S$8,2,FALSE),VLOOKUP(B58,'Werte >15°C'!$Q$2:$S$8,2,FALSE)))","v":""},{"$f":"IF(Stammdaten!A61=\"\",\"\",IF(D58<=15,VLOOKUP(B58,'Werte =<15°C'!$Q$2:$S$8,3,FALSE),VLOOKUP(B58,'Werte >15°C'!$Q$2:$S$8,3,FALSE)))","v":""},{"$f":"IF(Stammdaten!A61=\"\",\"\",U58*(E60-D58)+V58)","v":""},{"$f":"IF(Stammdaten!A61=\"\",\"\",C58+W58)","v":""}]
[{"$f":"Analysedaten!A56","v":""},{"$f":"IF(Stammdaten!A59=\"\",\"\",WEEKDAY(A59,2))","v":""},{"$f":"IF(Stammdaten!A59=\"\",\"\",Analysedaten!C56)","v":""},{"$f":"Analysedaten!D56","v":""},{"$f":"Analysedaten!E56","v":""},"","","","","","","","","","","","","","",null,{"$f":"IF(Stammdaten!A62=\"\",\"\",IF(D59<=15,VLOOKUP(B59,'Werte =<15°C'!$Q$2:$S$8,2,FALSE),VLOOKUP(B59,'Werte >15°C'!$Q$2:$S$8,2,FALSE)))","v":""},{"$f":"IF(Stammdaten!A62=\"\",\"\",IF(D59<=15,VLOOKUP(B59,'Werte =<15°C'!$Q$2:$S$8,3,FALSE),VLOOKUP(B59,'Werte >15°C'!$Q$2:$S$8,3,FALSE)))","v":""},{"$f":"IF(Stammdaten!A62=\"\",\"\",U59*(E61-D59)+V59)","v":""},{"$f":"IF(Stammdaten!A62=\"\",\"\",C59+W59)","v":""}]
[{"$f":"Analysedaten!A57","v":""},{"$f":"IF(Stammdaten!A60=\"\",\"\",WEEKDAY(A60,2))","v":""},{"$f":"IF(Stammdaten!A60=\"\",\"\",Analysedaten!C57)","v":""},{"$f":"Analysedaten!D57","v":""},{"$f":"Analysedaten!E57","v":""},"","","","","","","","","","","","","","",null,{"$f":"IF(Stammdaten!A63=\"\",\"\",IF(D60<=15,VLOOKUP(B60,'Werte =<15°C'!$Q$2:$S$8,2,FALSE),VLOOKUP(B60,'Werte >15°C'!$Q$2:$S$8,2,FALSE)))","v":""},{"$f":"IF(Stammdaten!A63=\"\",\"\",IF(D60<=15,VLOOKUP(B60,'Werte =<15°C'!$Q$2:$S$8,3,FALSE),VLOOKUP(B60,'Werte >15°C'!$Q$2:$S$8,3,FALSE)))","v":""},{"$f":"IF(Stammdaten!A63=\"\",\"\",U60*(E62-D60)+V60)","v":""},{"$f":"IF(Stammdaten!A63=\"\",\"\",C60+W60)","v":""}]
[{"$f":"Analysedaten!A58","v":""},{"$f":"IF(Stammdaten!A61=\"\",\"\",WEEKDAY(A61,2))","v":""},{"$f":"IF(Stammdaten!A61=\"\",\"\",Analysedaten!C58)","v":""},{"$f":"Analysedaten!D58","v":""},{"$f":"Analysedaten!E58","v":""},"","","","","","","","","","","","","","",null,{"$f":"IF(Stammdaten!A64=\"\",\"\",IF(D61<=15,VLOOKUP(B61,'Werte =<15°C'!$Q$2:$S$8,2,FALSE),VLOOKUP(B61,'Werte >15°C'!$Q$2:$S$8,2,FALSE)))","v":""},{"$f":"IF(Stammdaten!A64=\"\",\"\",IF(D61<=15,VLOOKUP(B61,'Werte =<15°C'!$Q$2:$S$8,3,FALSE),VLOOKUP(B61,'Werte >15°C'!$Q$2:$S$8,3,FALSE)))","v":""},{"$f":"IF(Stammdaten!A64=\"\",\"\",U61*(E63-D61)+V61)","v":""},{"$f":"IF(Stammdaten!A64=\"\",\"\",C61+W61)","v":""}]
[{"$f":"Analysedaten!A59","v":""},{"$f":"IF(Stammdaten!A62=\"\",\"\",WEEKDAY(A62,2))","v":""},{"$f":"IF(Stammdaten!A62=\"\",\"\",Analysedaten!C59)","v":""},{"$f":"Analysedaten!D59","v":""},{"$f":"Analysedaten!E59","v":""},"","","","","","","","","","","","","","",null,{"$f":"IF(Stammdaten!A65=\"\",\"\",IF(D62<=15,VLOOKUP(B62,'Werte =<15°C'!$Q$2:$S$8,2,FALSE),VLOOKUP(B62,'Werte >15°C'!$Q$2:$S$8,2,FALSE)))","v":""},{"$f":"IF(Stammdaten!A65=\"\",\"\",IF(D62<=15,VLOOKUP(B62,'Werte =<15°C'!$Q$2:$S$8,3,FALSE),VLOOKUP(B62,'Werte >15°C'!$Q$2:$S$8,3,FALSE)))","v":""},{"$f":"IF(Stammdaten!A65=\"\",\"\",U62*(E64-D62)+V62)","v":""},{"$f":"IF(Stammdaten!A65=\"\",\"\",C62+W62)","v":""}]
[{"$f":"Analysedaten!A60","v":""},{"$f":"IF(Stammdaten!A63=\"\",\"\",WEEKDAY(A63,2))","v":""},{"$f":"IF(Stammdaten!A63=\"\",\"\",Analysedaten!C60)","v":""},{"$f":"Analysedaten!D60","v":""},{"$f":"Analysedaten!E60","v":""},"","","","","","","","","","","","","","",null,{"$f":"IF(Stammdaten!A66=\"\",\"\",IF(D63<=15,VLOOKUP(B63,'Werte =<15°C'!$Q$2:$S$8,2,FALSE),VLOOKUP(B63,'Werte >15°C'!$Q$2:$S$8,2,FALSE)))","v":""},{"$f":"IF(Stammdaten!A66=\"\",\"\",IF(D63<=15,VLOOKUP(B63,'Werte =<15°C'!$Q$2:$S$8,3,FALSE),VLOOKUP(B63,'Werte >15°C'!$Q$2:$S$8,3,FALSE)))","v":""},{"$f":"IF(Stammdaten!A66=\"\",\"\",U63*(E65-D63)+V63)","v":""},{"$f":"IF(Stammdaten!A66=\"\",\"\",C63+W63)","v":""}]
[{"$f":"Analysedaten!A61","v":""},{"$f":"IF(Stammdaten!A64=\"\",\"\",WEEKDAY(A64,2))","v":""},{"$f":"IF(Stammdaten!A64=\"\",\"\",Analysedaten!C61)","v":""},{"$f":"Analysedaten!D61","v":""},{"$f":"Analysedaten!E61","v":""},"","","","","","","","","","","","","","",null,{"$f":"IF(Stammdaten!A67=\"\",\"\",IF(D64<=15,VLOOKUP(B64,'Werte =<15°C'!$Q$2:$S$8,2,FALSE),VLOOKUP(B64,'Werte >15°C'!$Q$2:$S$8,2,FALSE)))","v":""},{"$f":"IF(Stammdaten!A67=\"\",\"\",IF(D64<=15,VLOOKUP(B64,'Werte =<15°C'!$Q$2:$S$8,3,FALSE),VLOOKUP(B64,'Werte >15°C'!$Q$2:$S$8,3,FALSE)))","v":""},{"$f":"IF(Stammdaten!A67=\"\",\"\",U64*(E66-D64)+V64)","v":""},{"$f":"IF(Stammdaten!A67=\"\",\"\",C64+W64)","v":""}]
[{"$f":"Analysedaten!A62","v":""},{"$f":"IF(Stammdaten!A65=\"\",\"\",WEEKDAY(A65,2))","v":""},{"$f":"IF(Stammdaten!A65=\"\",\"\",Analysedaten!C62)","v":""},{"$f":"Analysedaten!D62","v":""},{"$f":"Analysedaten!E62","v":""},"","","","","","","","","","","","","","",null,{"$f":"IF(Stammdaten!A68=\"\",\"\",IF(D65<=15,VLOOKUP(B65,'Werte =<15°C'!$Q$2:$S$8,2,FALSE),VLOOKUP(B65,'Werte >15°C'!$Q$2:$S$8,2,FALSE)))","v":""},{"$f":"IF(Stammdaten!A68=\"\",\"\",IF(D65<=15,VLOOKUP(B65,'Werte =<15°C'!$Q$2:$S$8,3,FALSE),VLOOKUP(B65,'Werte >15°C'!$Q$2:$S$8,3,FALSE)))","v":""},{"$f":"IF(Stammdaten!A68=\"\",\"\",U65*(E67-D65)+V65)","v":""},{"$f":"IF(Stammdaten!A68=\"\",\"\",C65+W65)","v":""}]
[{"$f":"Analysedaten!A63","v":""},{"$f":"IF(Stammdaten!A66=\"\",\"\",WEEKDAY(A66,2))","v":""},{"$f":"IF(Stammdaten!A66=\"\",\"\",Analysedaten!C63)","v":""},{"$f":"Analysedaten!D63","v":""},{"$f":"Analysedaten!E63","v":""},"","","","","","","","","","","","","","",null,{"$f":"IF(Stammdaten!A69=\"\",\"\",IF(D66<=15,VLOOKUP(B66,'Werte =<15°C'!$Q$2:$S$8,2,FALSE),VLOOKUP(B66,'Werte >15°C'!$Q$2:$S$8,2,FALSE)))","v":""},{"$f":"IF(Stammdaten!A69=\"\",\"\",IF(D66<=15,VLOOKUP(B66,'Werte =<15°C'!$Q$2:$S$8,3,FALSE),VLOOKUP(B66,'Werte >15°C'!$Q$2:$S$8,3,FALSE)))","v":""},{"$f":"IF(Stammdaten!A69=\"\",\"\",U66*(E68-D66)+V66)","v":""},{"$f":"IF(Stammdaten!A69=\"\",\"\",C66+W66)","v":""}]
[{"$f":"Analysedaten!A64","v":""},{"$f":"IF(Stammdaten!A67=\"\",\"\",WEEKDAY(A67,2))","v":""},{"$f":"IF(Stammdaten!A67=\"\",\"\",Analysedaten!C64)","v":""},{"$f":"Analysedaten!D64","v":""},{"$f":"Analysedaten!E64","v":""},"","","","","","","","","","","","","","",null,{"$f":"IF(Stammdaten!A70=\"\",\"\",IF(D67<=15,VLOOKUP(B67,'Werte =<15°C'!$Q$2:$S$8,2,FALSE),VLOOKUP(B67,'Werte >15°C'!$Q$2:$S$8,2,FALSE)))","v":""},{"$f":"IF(Stammdaten!A70=\"\",\"\",IF(D67<=15,VLOOKUP(B67,'Werte =<15°C'!$Q$2:$S$8,3,FALSE),VLOOKUP(B67,'Werte >15°C'!$Q$2:$S$8,3,FALSE)))","v":""},{"$f":"IF(Stammdaten!A70=\"\",\"\",U67*(E69-D67)+V67)","v":""},{"$f":"IF(Stammdaten!A70=\"\",\"\",C67+W67)","v":""}]
[{"$f":"Analysedaten!A65","v":""},{"$f":"IF(Stammdaten!A68=\"\",\"\",WEEKDAY(A68,2))","v":""},{"$f":"IF(Stammdaten!A68=\"\",\"\",Analysedaten!C65)","v":""},{"$f":"Analysedaten!D65","v":""},{"$f":"Analysedaten!E65","v":""},"","","","","","","","","","","","","","",null,{"$f":"IF(Stammdaten!A71=\"\",\"\",IF(D68<=15,VLOOKUP(B68,'Werte =<15°C'!$Q$2:$S$8,2,FALSE),VLOOKUP(B68,'Werte >15°C'!$Q$2:$S$8,2,FALSE)))","v":""},{"$f":"IF(Stammdaten!A71=\"\",\"\",IF(D68<=15,VLOOKUP(B68,'Werte =<15°C'!$Q$2:$S$8,3,FALSE),VLOOKUP(B68,'Werte >15°C'!$Q$2:$S$8,3,FALSE)))","v":""},{"$f":"IF(Stammdaten!A71=\"\",\"\",U68*(E70-D68)+V68)","v":""},{"$f":"IF(Stammdaten!A71=\"\",\"\",C68+W68)","v":""}]
[{"$f":"Analysedaten!A66","v":""},{"$f":"IF(Stammdaten!A69=\"\",\"\",WEEKDAY(A69,2))","v":""},{"$f":"IF(Stammdaten!A69=\"\",\"\",Analysedaten!C66)","v":""},{"$f":"Analysedaten!D66","v":""},{"$f":"Analysedaten!E66","v":""},{"$f":"IF(B71=1,(E71-D69),\"\")","v":""},{"$f":"IF(B71=1,(C71-C69),\"\")","v":""},{"$f":"IF(B71=2,(E71-D69),\"\")","v":""},{"$f":"IF(B71=2,(C71-C69),\"\")","v":""},{"$f":"IF(B71=3,(E71-D69),\"\")","v":""},{"$f":"IF(B71=3,(C71-C69),\"\")","v":""},{"$f":"IF(B71=4,(E71-D69),\"\")","v":""},{"$f":"IF(B71=4,(C71-C69),\"\")","v":""},{"$f":"IF(B71=5,(E71-D69),\"\")","v":""},{"$f":"IF(B71=5,(C71-C69),\"\")","v":""},{"$f":"IF(B71=6,(E71-D69),\"\")","v":""},{"$f":"IF(B71=6,(C71-C69),\"\")","v":""},{"$f":"IF(B71=7,(E71-D69),\"\")","v":""},{"$f":"IF(B71=7,(C71-C69),\"\")","v":""},null,{"$f":"IF(Stammdaten!A72=\"\",\"\",IF(D69<=15,VLOOKUP(B69,'Werte =<15°C'!$Q$2:$S$8,2,FALSE),VLOOKUP(B69,'Werte >15°C'!$Q$2:$S$8,2,FALSE)))","v":""},{"$f":"IF(Stammdaten!A72=\"\",\"\",IF(D69<=15,VLOOKUP(B69,'Werte =<15°C'!$Q$2:$S$8,3,FALSE),VLOOKUP(B69,'Werte >15°C'!$Q$2:$S$8,3,FALSE)))","v":""},{"$f":"IF(Stammdaten!A72=\"\",\"\",U69*(E71-D69)+V69)","v":""},{"$f":"IF(Stammdaten!A72=\"\",\"\",C69+W69)","v":""}]
[{"$f":"Analysedaten!A67","v":""},{"$f":"IF(Stammdaten!A70=\"\",\"\",WEEKDAY(A70,2))","v":""},{"$f":"IF(Stammdaten!A70=\"\",\"\",Analysedaten!C67)","v":""},{"$f":"Analysedaten!D67","v":""},{"$f":"Analysedaten!E67","v":""},"","","","","","","","","","","","","","",null,{"$f":"IF(Stammdaten!A73=\"\",\"\",IF(D70<=15,VLOOKUP(B70,'Werte =<15°C'!$Q$2:$S$8,2,FALSE),VLOOKUP(B70,'Werte >15°C'!$Q$2:$S$8,2,FALSE)))","v":""},{"$f":"IF(Stammdaten!A73=\"\",\"\",IF(D70<=15,VLOOKUP(B70,'Werte =<15°C'!$Q$2:$S$8,3,FALSE),VLOOKUP(B70,'Werte >15°C'!$Q$2:$S$8,3,FALSE)))","v":""},{"$f":"IF(Stammdaten!A73=\"\",\"\",U70*(E72-D70)+V70)","v":""},{"$f":"IF(Stammdaten!A73=\"\",\"\",C70+W70)","v":""}]
[{"$f":"Analysedaten!A68","v":""},{"$f":"IF(Stammdaten!A71=\"\",\"\",WEEKDAY(A71,2))","v":""},{"$f":"IF(Stammdaten!A71=\"\",\"\",Analysedaten!C68)","v":""},{"$f":"Analysedaten!D68","v":""},{"$f":"Analysedaten!E68","v":""},"","","","","","","","","","","","","","",null,{"$f":"IF(Stammdaten!A74=\"\",\"\",IF(D71<=15,VLOOKUP(B71,'Werte =<15°C'!$Q$2:$S$8,2,FALSE),VLOOKUP(B71,'Werte >15°C'!$Q$2:$S$8,2,FALSE)))","v":""},{"$f":"IF(Stammdaten!A74=\"\",\"\",IF(D71<=15,VLOOKUP(B71,'Werte =<15°C'!$Q$2:$S$8,3,FALSE),VLOOKUP(B71,'Werte >15°C'!$Q$2:$S$8,3,FALSE)))","v":""},{"$f":"IF(Stammdaten!A74=\"\",\"\",U71*(E73-D71)+V71)","v":""},{"$f":"IF(Stammdaten!A74=\"\",\"\",C71+W71)","v":""}]
[{"$f":"Analysedaten!A69","v":""},{"$f":"IF(Stammdaten!A72=\"\",\"\",WEEKDAY(A72,2))","v":""},{"$f":"IF(Stammdaten!A72=\"\",\"\",Analysedaten!C69)","v":""},{"$f":"Analysedaten!D69","v":""},{"$f":"Analysedaten!E69","v":""},"","","","","","","","","","","","","","",null,{"$f":"IF(Stammdaten!A75=\"\",\"\",IF(D72<=15,VLOOKUP(B72,'Werte =<15°C'!$Q$2:$S$8,2,FALSE),VLOOKUP(B72,'Werte >15°C'!$Q$2:$S$8,2,FALSE)))","v":""},{"$f":"IF(Stammdaten!A75=\"\",\"\",IF(D72<=15,VLOOKUP(B72,'Werte =<15°C'!$Q$2:$S$8,3,FALSE),VLOOKUP(B72,'Werte >15°C'!$Q$2:$S$8,3,FALSE)))","v":""},{"$f":"IF(Stammdaten!A75=\"\",\"\",U72*(E74-D72)+V72)","v":""},{"$f":"IF(Stammdaten!A75=\"\",\"\",C72+W72)","v":""}]
[{"$f":"Analysedaten!A70","v":""},{"$f":"IF(Stammdaten!A73=\"\",\"\",WEEKDAY(A73,2))","v":""},{"$f":"IF(Stammdaten!A73=\"\",\"\",Analysedaten!C70)","v":""},{"$f":"Analysedaten!D70","v":""},{"$f":"Analysedaten!E70","v":""},"","","","","","","","","","","","","","",null,{"$f":"IF(Stammdaten!A76=\"\",\"\",IF(D73<=15,VLOOKUP(B73,'Werte =<15°C'!$Q$2:$S$8,2,FALSE),VLOOKUP(B73,'Werte >15°C'!$Q$2:$S$8,2,FALSE)))","v":""},{"$f":"IF(Stammdaten!A76=\"\",\"\",IF(D73<=15,VLOOKUP(B73,'Werte =<15°C'!$Q$2:$S$8,3,FALSE),VLOOKUP(B73,'Werte >15°C'!$Q$2:$S$8,3,FALSE)))","v":""},{"$f":"IF(Stammdaten!A76=\"\",\"\",U73*(E75-D73)+V73)","v":""},{"$f":"IF(Stammdaten!A76=\"\",\"\",C73+W73)","v":""}]
[{"$f":"Analysedaten!A71","v":""},{"$f":"IF(Stammdaten!A74=\"\",\"\",WEEKDAY(A74,2))","v":""},{"$f":"IF(Stammdaten!A74=\"\",\"\",Analysedaten!C71)","v":""},{"$f":"Analysedaten!D71","v":""},{"$f":"Analysedaten!E71","v":""},"","","","","","","","","","","","","","",null,{"$f":"IF(Stammdaten!A77=\"\",\"\",IF(D74<=15,VLOOKUP(B74,'Werte =<15°C'!$Q$2:$S$8,2,FALSE),VLOOKUP(B74,'Werte >15°C'!$Q$2:$S$8,2,FALSE)))","v":""},{"$f":"IF(Stammdaten!A77=\"\",\"\",IF(D74<=15,VLOOKUP(B74,'Werte =<15°C'!$Q$2:$S$8,3,FALSE),VLOOKUP(B74,'Werte >15°C'!$Q$2:$S$8,3,FALSE)))","v":""},{"$f":"IF(Stammdaten!A77=\"\",\"\",U74*(E76-D74)+V74)","v":""},{"$f":"IF(Stammdaten!A77=\"\",\"\",C74+W74)","v":""}]
[{"$f":"Analysedaten!A72","v":""},{"$f":"IF(Stammdaten!A75=\"\",\"\",WEEKDAY(A75,2))","v":""},{"$f":"IF(Stammdaten!A75=\"\",\"\",Analysedaten!C72)","v":""},{"$f":"Analysedaten!D72","v":""},{"$f":"Analysedaten!E72","v":""},"","","","","","","","","","","","","","",null,{"$f":"IF(Stammdaten!A78=\"\",\"\",IF(D75<=15,VLOOKUP(B75,'Werte =<15°C'!$Q$2:$S$8,2,FALSE),VLOOKUP(B75,'Werte >15°C'!$Q$2:$S$8,2,FALSE)))","v":""},{"$f":"IF(Stammdaten!A78=\"\",\"\",IF(D75<=15,VLOOKUP(B75,'Werte =<15°C'!$Q$2:$S$8,3,FALSE),VLOOKUP(B75,'Werte >15°C'!$Q$2:$S$8,3,FALSE)))","v":""},{"$f":"IF(Stammdaten!A78=\"\",\"\",U75*(E77-D75)+V75)","v":""},{"$f":"IF(Stammdaten!A78=\"\",\"\",C75+W75)","v":""}]
[{"$f":"Analysedaten!A73","v":""},{"$f":"IF(Stammdaten!A76=\"\",\"\",WEEKDAY(A76,2))","v":""},{"$f":"IF(Stammdaten!A76=\"\",\"\",Analysedaten!C73)","v":""},{"$f":"Analysedaten!D73","v":""},{"$f":"Analysedaten!E73","v":""},"","","","","","","","","","","","","","",null,{"$f":"IF(Stammdaten!A79=\"\",\"\",IF(D76<=15,VLOOKUP(B76,'Werte =<15°C'!$Q$2:$S$8,2,FALSE),VLOOKUP(B76,'Werte >15°C'!$Q$2:$S$8,2,FALSE)))","v":""},{"$f":"IF(Stammdaten!A79=\"\",\"\",IF(D76<=15,VLOOKUP(B76,'Werte =<15°C'!$Q$2:$S$8,3,FALSE),VLOOKUP(B76,'Werte >15°C'!$Q$2:$S$8,3,FALSE)))","v":""},{"$f":"IF(Stammdaten!A79=\"\",\"\",U76*(E78-D76)+V76)","v":""},{"$f":"IF(Stammdaten!A79=\"\",\"\",C76+W76)","v":""}]
[{"$f":"Analysedaten!A74","v":""},{"$f":"IF(Stammdaten!A77=\"\",\"\",WEEKDAY(A77,2))","v":""},{"$f":"IF(Stammdaten!A77=\"\",\"\",Analysedaten!C74)","v":""},{"$f":"Analysedaten!D74","v":""},{"$f":"Analysedaten!E74","v":""},"","","","","","","","","","","","","","",null,{"$f":"IF(Stammdaten!A80=\"\",\"\",IF(D77<=15,VLOOKUP(B77,'Werte =<15°C'!$Q$2:$S$8,2,FALSE),VLOOKUP(B77,'Werte >15°C'!$Q$2:$S$8,2,FALSE)))","v":""},{"$f":"IF(Stammdaten!A80=\"\",\"\",IF(D77<=15,VLOOKUP(B77,'Werte =<15°C'!$Q$2:$S$8,3,FALSE),VLOOKUP(B77,'Werte >15°C'!$Q$2:$S$8,3,FALSE)))","v":""},{"$f":"IF(Stammdaten!A80=\"\",\"\",U77*(E79-D77)+V77)","v":""},{"$f":"IF(Stammdaten!A80=\"\",\"\",C77+W77)","v":""}]
[{"$f":"Analysedaten!A75","v":""},{"$f":"IF(Stammdaten!A78=\"\",\"\",WEEKDAY(A78,2))","v":""},{"$f":"IF(Stammdaten!A78=\"\",\"\",Analysedaten!C75)","v":""},{"$f":"Analysedaten!D75","v":""},{"$f":"Analysedaten!E75","v":""},"","","","","","","","","","","","","","",null,{"$f":"IF(Stammdaten!A81=\"\",\"\",IF(D78<=15,VLOOKUP(B78,'Werte =<15°C'!$Q$2:$S$8,2,FALSE),VLOOKUP(B78,'Werte >15°C'!$Q$2:$S$8,2,FALSE)))","v":""},{"$f":"IF(Stammdaten!A81=\"\",\"\",IF(D78<=15,VLOOKUP(B78,'Werte =<15°C'!$Q$2:$S$8,3,FALSE),VLOOKUP(B78,'Werte >15°C'!$Q$2:$S$8,3,FALSE)))","v":""},{"$f":"IF(Stammdaten!A81=\"\",\"\",U78*(E80-D78)+V78)","v":""},{"$f":"IF(Stammdaten!A81=\"\",\"\",C78+W78)","v":""}]
[{"$f":"Analysedaten!A76","v":""},{"$f":"IF(Stammdaten!A79=\"\",\"\",WEEKDAY(A79,2))","v":""},{"$f":"IF(Stammdaten!A79=\"\",\"\",Analysedaten!C76)","v":""},{"$f":"Analysedaten!D76","v":""},{"$f":"Analysedaten!E76","v":""},"","","","","","","","","","","","","","",null,{"$f":"IF(Stammdaten!A82=\"\",\"\",IF(D79<=15,VLOOKUP(B79,'Werte =<15°C'!$Q$2:$S$8,2,FALSE),VLOOKUP(B79,'Werte >15°C'!$Q$2:$S$8,2,FALSE)))","v":""},{"$f":"IF(Stammdaten!A82=\"\",\"\",IF(D79<=15,VLOOKUP(B79,'Werte =<15°C'!$Q$2:$S$8,3,FALSE),VLOOKUP(B79,'Werte >15°C'!$Q$2:$S$8,3,FALSE)))","v":""},{"$f":"IF(Stammdaten!A82=\"\",\"\",U79*(E81-D79)+V79)","v":""},{"$f":"IF(Stammdaten!A82=\"\",\"\",C79+W79)","v":""}]
[{"$f":"Analysedaten!A77","v":""},{"$f":"IF(Stammdaten!A80=\"\",\"\",WEEKDAY(A80,2))","v":""},{"$f":"IF(Stammdaten!A80=\"\",\"\",Analysedaten!C77)","v":""},{"$f":"Analysedaten!D77","v":""},{"$f":"Analysedaten!E77","v":""},"","","","","","","","","","","","","","",null,{"$f":"IF(Stammdaten!A83=\"\",\"\",IF(D80<=15,VLOOKUP(B80,'Werte =<15°C'!$Q$2:$S$8,2,FALSE),VLOOKUP(B80,'Werte >15°C'!$Q$2:$S$8,2,FALSE)))","v":""},{"$f":"IF(Stammdaten!A83=\"\",\"\",IF(D80<=15,VLOOKUP(B80,'Werte =<15°C'!$Q$2:$S$8,3,FALSE),VLOOKUP(B80,'Werte >15°C'!$Q$2:$S$8,3,FALSE)))","v":""},{"$f":"IF(Stammdaten!A83=\"\",\"\",U80*(E82-D80)+V80)","v":""},{"$f":"IF(Stammdaten!A83=\"\",\"\",C80+W80)","v":""}]
[{"$f":"Analysedaten!A78","v":""},{"$f":"IF(Stammdaten!A81=\"\",\"\",WEEKDAY(A81,2))","v":""},{"$f":"IF(Stammdaten!A81=\"\",\"\",Analysedaten!C78)","v":""},{"$f":"Analysedaten!D78","v":""},{"$f":"Analysedaten!E78","v":""},"","","","","","","","","","","","","","",null,{"$f":"IF(Stammdaten!A84=\"\",\"\",IF(D81<=15,VLOOKUP(B81,'Werte =<15°C'!$Q$2:$S$8,2,FALSE),VLOOKUP(B81,'Werte >15°C'!$Q$2:$S$8,2,FALSE)))","v":""},{"$f":"IF(Stammdaten!A84=\"\",\"\",IF(D81<=15,VLOOKUP(B81,'Werte =<15°C'!$Q$2:$S$8,3,FALSE),VLOOKUP(B81,'Werte >15°C'!$Q$2:$S$8,3,FALSE)))","v":""},{"$f":"IF(Stammdaten!A84=\"\",\"\",U81*(E83-D81)+V81)","v":""},{"$f":"IF(Stammdaten!A84=\"\",\"\",C81+W81)","v":""}]
[{"$f":"Analysedaten!A79","v":""},{"$f":"IF(Stammdaten!A82=\"\",\"\",WEEKDAY(A82,2))","v":""},{"$f":"IF(Stammdaten!A82=\"\",\"\",Analysedaten!C79)","v":""},{"$f":"Analysedaten!D79","v":""},{"$f":"Analysedaten!E79","v":""},"","","","","","","","","","","","","","",null,{"$f":"IF(Stammdaten!A85=\"\",\"\",IF(D82<=15,VLOOKUP(B82,'Werte =<15°C'!$Q$2:$S$8,2,FALSE),VLOOKUP(B82,'Werte >15°C'!$Q$2:$S$8,2,FALSE)))","v":""},{"$f":"IF(Stammdaten!A85=\"\",\"\",IF(D82<=15,VLOOKUP(B82,'Werte =<15°C'!$Q$2:$S$8,3,FALSE),VLOOKUP(B82,'Werte >15°C'!$Q$2:$S$8,3,FALSE)))","v":""},{"$f":"IF(Stammdaten!A85=\"\",\"\",U82*(E84-D82)+V82)","v":""},{"$f":"IF(Stammdaten!A85=\"\",\"\",C82+W82)","v":""}]
[{"$f":"Analysedaten!A80","v":""},{"$f":"IF(Stammdaten!A83=\"\",\"\",WEEKDAY(A83,2))","v":""},{"$f":"IF(Stammdaten!A83=\"\",\"\",Analysedaten!C80)","v":""},{"$f":"Analysedaten!D80","v":""},{"$f":"Analysedaten!E80","v":""},"","","","","","","","","","","","","","",null,{"$f":"IF(Stammdaten!A86=\"\",\"\",IF(D83<=15,VLOOKUP(B83,'Werte =<15°C'!$Q$2:$S$8,2,FALSE),VLOOKUP(B83,'Werte >15°C'!$Q$2:$S$8,2,FALSE)))","v":""},{"$f":"IF(Stammdaten!A86=\"\",\"\",IF(D83<=15,VLOOKUP(B83,'Werte =<15°C'!$Q$2:$S$8,3,FALSE),VLOOKUP(B83,'Werte >15°C'!$Q$2:$S$8,3,FALSE)))","v":""},{"$f":"IF(Stammdaten!A86=\"\",\"\",U83*(E85-D83)+V83)","v":""},{"$f":"IF(Stammdaten!A86=\"\",\"\",C83+W83)","v":""}]
[{"$f":"Analysedaten!A81","v":""},{"$f":"IF(Stammdaten!A84=\"\",\"\",WEEKDAY(A84,2))","v":""},{"$f":"IF(Stammdaten!A84=\"\",\"\",Analysedaten!C81)","v":""},{"$f":"Analysedaten!D81","v":""},{"$f":"Analysedaten!E81","v":""},"","","","","","","","","","","","","","",null,{"$f":"IF(Stammdaten!A87=\"\",\"\",IF(D84<=15,VLOOKUP(B84,'Werte =<15°C'!$Q$2:$S$8,2,FALSE),VLOOKUP(B84,'Werte >15°C'!$Q$2:$S$8,2,FALSE)))","v":""},{"$f":"IF(Stammdaten!A87=\"\",\"\",IF(D84<=15,VLOOKUP(B84,'Werte =<15°C'!$Q$2:$S$8,3,FALSE),VLOOKUP(B84,'Werte >15°C'!$Q$2:$S$8,3,FALSE)))","v":""},{"$f":"IF(Stammdaten!A87=\"\",\"\",U84*(E86-D84)+V84)","v":""},{"$f":"IF(Stammdaten!A87=\"\",\"\",C84+W84)","v":""}]
[{"$f":"Analysedaten!A82","v":""},{"$f":"IF(Stammdaten!A85=\"\",\"\",WEEKDAY(A85,2))","v":""},{"$f":"IF(Stammdaten!A85=\"\",\"\",Analysedaten!C82)","v":""},{"$f":"Analysedaten!D82","v":""},{"$f":"Analysedaten!E82","v":""},"","","","","","","","","","","","","","",null,{"$f":"IF(Stammdaten!A88=\"\",\"\",IF(D85<=15,VLOOKUP(B85,'Werte =<15°C'!$Q$2:$S$8,2,FALSE),VLOOKUP(B85,'Werte >15°C'!$Q$2:$S$8,2,FALSE)))","v":""},{"$f":"IF(Stammdaten!A88=\"\",\"\",IF(D85<=15,VLOOKUP(B85,'Werte =<15°C'!$Q$2:$S$8,3,FALSE),VLOOKUP(B85,'Werte >15°C'!$Q$2:$S$8,3,FALSE)))","v":""},{"$f":"IF(Stammdaten!A88=\"\",\"\",U85*(E87-D85)+V85)","v":""},{"$f":"IF(Stammdaten!A88=\"\",\"\",C85+W85)","v":""}]
[{"$f":"Analysedaten!A83","v":""},{"$f":"IF(Stammdaten!A86=\"\",\"\",WEEKDAY(A86,2))","v":""},{"$f":"IF(Stammdaten!A86=\"\",\"\",Analysedaten!C83)","v":""},{"$f":"Analysedaten!D83","v":""},{"$f":"Analysedaten!E83","v":""},"","","","","","","","","","","","","","",null,{"$f":"IF(Stammdaten!A89=\"\",\"\",IF(D86<=15,VLOOKUP(B86,'Werte =<15°C'!$Q$2:$S$8,2,FALSE),VLOOKUP(B86,'Werte >15°C'!$Q$2:$S$8,2,FALSE)))","v":""},{"$f":"IF(Stammdaten!A89=\"\",\"\",IF(D86<=15,VLOOKUP(B86,'Werte =<15°C'!$Q$2:$S$8,3,FALSE),VLOOKUP(B86,'Werte >15°C'!$Q$2:$S$8,3,FALSE)))","v":""},{"$f":"IF(Stammdaten!A89=\"\",\"\",U86*(E88-D86)+V86)","v":""},{"$f":"IF(Stammdaten!A89=\"\",\"\",C86+W86)","v":""}]
[{"$f":"Analysedaten!A84","v":""},{"$f":"IF(Stammdaten!A87=\"\",\"\",WEEKDAY(A87,2))","v":""},{"$f":"IF(Stammdaten!A87=\"\",\"\",Analysedaten!C84)","v":""},{"$f":"Analysedaten!D84","v":""},{"$f":"Analysedaten!E84","v":""},"","","","","","","","","","","","","","",null,{"$f":"IF(Stammdaten!A90=\"\",\"\",IF(D87<=15,VLOOKUP(B87,'Werte =<15°C'!$Q$2:$S$8,2,FALSE),VLOOKUP(B87,'Werte >15°C'!$Q$2:$S$8,2,FALSE)))","v":""},{"$f":"IF(Stammdaten!A90=\"\",\"\",IF(D87<=15,VLOOKUP(B87,'Werte =<15°C'!$Q$2:$S$8,3,FALSE),VLOOKUP(B87,'Werte >15°C'!$Q$2:$S$8,3,FALSE)))","v":""},{"$f":"IF(Stammdaten!A90=\"\",\"\",U87*(E89-D87)+V87)","v":""},{"$f":"IF(Stammdaten!A90=\"\",\"\",C87+W87)","v":""}]
[{"$f":"Analysedaten!A85","v":""},{"$f":"IF(Stammdaten!A88=\"\",\"\",WEEKDAY(A88,2))","v":""},{"$f":"IF(Stammdaten!A88=\"\",\"\",Analysedaten!C85)","v":""},{"$f":"Analysedaten!D85","v":""},{"$f":"Analysedaten!E85","v":""},"","","","","","","","","","","","","","",null,{"$f":"IF(Stammdaten!A91=\"\",\"\",IF(D88<=15,VLOOKUP(B88,'Werte =<15°C'!$Q$2:$S$8,2,FALSE),VLOOKUP(B88,'Werte >15°C'!$Q$2:$S$8,2,FALSE)))","v":""},{"$f":"IF(Stammdaten!A91=\"\",\"\",IF(D88<=15,VLOOKUP(B88,'Werte =<15°C'!$Q$2:$S$8,3,FALSE),VLOOKUP(B88,'Werte >15°C'!$Q$2:$S$8,3,FALSE)))","v":""},{"$f":"IF(Stammdaten!A91=\"\",\"\",U88*(E90-D88)+V88)","v":""},{"$f":"IF(Stammdaten!A91=\"\",\"\",C88+W88)","v":""}]
[{"$f":"Analysedaten!A86","v":""},{"$f":"IF(Stammdaten!A89=\"\",\"\",WEEKDAY(A89,2))","v":""},{"$f":"IF(Stammdaten!A89=\"\",\"\",Analysedaten!C86)","v":""},{"$f":"Analysedaten!D86","v":""},{"$f":"Analysedaten!E86","v":""},"","","","","","","","","","","","","","",null,{"$f":"IF(Stammdaten!A92=\"\",\"\",IF(D89<=15,VLOOKUP(B89,'Werte =<15°C'!$Q$2:$S$8,2,FALSE),VLOOKUP(B89,'Werte >15°C'!$Q$2:$S$8,2,FALSE)))","v":""},{"$f":"IF(Stammdaten!A92=\"\",\"\",IF(D89<=15,VLOOKUP(B89,'Werte =<15°C'!$Q$2:$S$8,3,FALSE),VLOOKUP(B89,'Werte >15°C'!$Q$2:$S$8,3,FALSE)))","v":""},{"$f":"IF(Stammdaten!A92=\"\",\"\",U89*(E91-D89)+V89)","v":""},{"$f":"IF(Stammdaten!A92=\"\",\"\",C89+W89)","v":""}]
[{"$f":"Analysedaten!A87","v":""},{"$f":"IF(Stammdaten!A90=\"\",\"\",WEEKDAY(A90,2))","v":""},{"$f":"IF(Stammdaten!A90=\"\",\"\",Analysedaten!C87)","v":""},{"$f":"Analysedaten!D87","v":""},{"$f":"Analysedaten!E87","v":""},"","","","","","","","","","","","","","",null,{"$f":"IF(Stammdaten!A93=\"\",\"\",IF(D90<=15,VLOOKUP(B90,'Werte =<15°C'!$Q$2:$S$8,2,FALSE),VLOOKUP(B90,'Werte >15°C'!$Q$2:$S$8,2,FALSE)))","v":""},{"$f":"IF(Stammdaten!A93=\"\",\"\",IF(D90<=15,VLOOKUP(B90,'Werte =<15°C'!$Q$2:$S$8,3,FALSE),VLOOKUP(B90,'Werte >15°C'!$Q$2:$S$8,3,FALSE)))","v":""},{"$f":"IF(Stammdaten!A93=\"\",\"\",U90*(E92-D90)+V90)","v":""},{"$f":"IF(Stammdaten!A93=\"\",\"\",C90+W90)","v":""}]
[{"$f":"Analysedaten!A88","v":""},{"$f":"IF(Stammdaten!A91=\"\",\"\",WEEKDAY(A91,2))","v":""},{"$f":"IF(Stammdaten!A91=\"\",\"\",Analysedaten!C88)","v":""},{"$f":"Analysedaten!D88","v":""},{"$f":"Analysedaten!E88","v":""},"","","","","","","","","","","","","","",null,{"$f":"IF(Stammdaten!A94=\"\",\"\",IF(D91<=15,VLOOKUP(B91,'Werte =<15°C'!$Q$2:$S$8,2,FALSE),VLOOKUP(B91,'Werte >15°C'!$Q$2:$S$8,2,FALSE)))","v":""},{"$f":"IF(Stammdaten!A94=\"\",\"\",IF(D91<=15,VLOOKUP(B91,'Werte =<15°C'!$Q$2:$S$8,3,FALSE),VLOOKUP(B91,'Werte >15°C'!$Q$2:$S$8,3,FALSE)))","v":""},{"$f":"IF(Stammdaten!A94=\"\",\"\",U91*(E93-D91)+V91)","v":""},{"$f":"IF(Stammdaten!A94=\"\",\"\",C91+W91)","v":""}]
[{"$f":"Analysedaten!A89","v":""},{"$f":"IF(Stammdaten!A92=\"\",\"\",WEEKDAY(A92,2))","v":""},{"$f":"IF(Stammdaten!A92=\"\",\"\",Analysedaten!C89)","v":""},{"$f":"Analysedaten!D89","v":""},{"$f":"Analysedaten!E89","v":""},"","","","","","","","","","","","","","",null,{"$f":"IF(Stammdaten!A95=\"\",\"\",IF(D92<=15,VLOOKUP(B92,'Werte =<15°C'!$Q$2:$S$8,2,FALSE),VLOOKUP(B92,'Werte >15°C'!$Q$2:$S$8,2,FALSE)))","v":""},{"$f":"IF(Stammdaten!A95=\"\",\"\",IF(D92<=15,VLOOKUP(B92,'Werte =<15°C'!$Q$2:$S$8,3,FALSE),VLOOKUP(B92,'Werte >15°C'!$Q$2:$S$8,3,FALSE)))","v":""},{"$f":"IF(Stammdaten!A95=\"\",\"\",U92*(E94-D92)+V92)","v":""},{"$f":"IF(Stammdaten!A95=\"\",\"\",C92+W92)","v":""}]
[{"$f":"Analysedaten!A90","v":""},{"$f":"IF(Stammdaten!A93=\"\",\"\",WEEKDAY(A93,2))","v":""},{"$f":"IF(Stammdaten!A93=\"\",\"\",Analysedaten!C90)","v":""},{"$f":"Analysedaten!D90","v":""},{"$f":"Analysedaten!E90","v":""},"","","","","","","","","","","","","","",null,{"$f":"IF(Stammdaten!A96=\"\",\"\",IF(D93<=15,VLOOKUP(B93,'Werte =<15°C'!$Q$2:$S$8,2,FALSE),VLOOKUP(B93,'Werte >15°C'!$Q$2:$S$8,2,FALSE)))","v":""},{"$f":"IF(Stammdaten!A96=\"\",\"\",IF(D93<=15,VLOOKUP(B93,'Werte =<15°C'!$Q$2:$S$8,3,FALSE),VLOOKUP(B93,'Werte >15°C'!$Q$2:$S$8,3,FALSE)))","v":""},{"$f":"IF(Stammdaten!A96=\"\",\"\",U93*(E95-D93)+V93)","v":""},{"$f":"IF(Stammdaten!A96=\"\",\"\",C93+W93)","v":""}]
[{"$f":"Analysedaten!A91","v":""},{"$f":"IF(Stammdaten!A94=\"\",\"\",WEEKDAY(A94,2))","v":""},{"$f":"IF(Stammdaten!A94=\"\",\"\",Analysedaten!C91)","v":""},{"$f":"Analysedaten!D91","v":""},{"$f":"Analysedaten!E91","v":""},"","","","","","","","","","","","","","",null,{"$f":"IF(Stammdaten!A97=\"\",\"\",IF(D94<=15,VLOOKUP(B94,'Werte =<15°C'!$Q$2:$S$8,2,FALSE),VLOOKUP(B94,'Werte >15°C'!$Q$2:$S$8,2,FALSE)))","v":""},{"$f":"IF(Stammdaten!A97=\"\",\"\",IF(D94<=15,VLOOKUP(B94,'Werte =<15°C'!$Q$2:$S$8,3,FALSE),VLOOKUP(B94,'Werte >15°C'!$Q$2:$S$8,3,FALSE)))","v":""},{"$f":"IF(Stammdaten!A97=\"\",\"\",U94*(E96-D94)+V94)","v":""},{"$f":"IF(Stammdaten!A97=\"\",\"\",C94+W94)","v":""}]
[{"$f":"Analysedaten!A92","v":""},{"$f":"IF(Stammdaten!A95=\"\",\"\",WEEKDAY(A95,2))","v":""},{"$f":"IF(Stammdaten!A95=\"\",\"\",Analysedaten!C92)","v":""},{"$f":"Analysedaten!D92","v":""},{"$f":"Analysedaten!E92","v":""},"","","","","","","","","","","","","","",null,{"$f":"IF(Stammdaten!A98=\"\",\"\",IF(D95<=15,VLOOKUP(B95,'Werte =<15°C'!$Q$2:$S$8,2,FALSE),VLOOKUP(B95,'Werte >15°C'!$Q$2:$S$8,2,FALSE)))","v":""},{"$f":"IF(Stammdaten!A98=\"\",\"\",IF(D95<=15,VLOOKUP(B95,'Werte =<15°C'!$Q$2:$S$8,3,FALSE),VLOOKUP(B95,'Werte >15°C'!$Q$2:$S$8,3,FALSE)))","v":""},{"$f":"IF(Stammdaten!A98=\"\",\"\",U95*(E97-D95)+V95)","v":""},{"$f":"IF(Stammdaten!A98=\"\",\"\",C95+W95)","v":""}]
[{"$f":"Analysedaten!A93","v":""},{"$f":"IF(Stammdaten!A96=\"\",\"\",WEEKDAY(A96,2))","v":""},{"$f":"IF(Stammdaten!A96=\"\",\"\",Analysedaten!C93)","v":""},{"$f":"Analysedaten!D93","v":""},{"$f":"Analysedaten!E93","v":""},"","","","","","","","","","","","","","",null,{"$f":"IF(Stammdaten!A99=\"\",\"\",IF(D96<=15,VLOOKUP(B96,'Werte =<15°C'!$Q$2:$S$8,2,FALSE),VLOOKUP(B96,'Werte >15°C'!$Q$2:$S$8,2,FALSE)))","v":""},{"$f":"IF(Stammdaten!A99=\"\",\"\",IF(D96<=15,VLOOKUP(B96,'Werte =<15°C'!$Q$2:$S$8,3,FALSE),VLOOKUP(B96,'Werte >15°C'!$Q$2:$S$8,3,FALSE)))","v":""},{"$f":"IF(Stammdaten!A99=\"\",\"\",U96*(E98-D96)+V96)","v":""},{"$f":"IF(Stammdaten!A99=\"\",\"\",C96+W96)","v":""}]
[{"$f":"Analysedaten!A94","v":""},{"$f":"IF(Stammdaten!A97=\"\",\"\",WEEKDAY(A97,2))","v":""},{"$f":"IF(Stammdaten!A97=\"\",\"\",Analysedaten!C94)","v":""},{"$f":"Analysedaten!D94","v":""},{"$f":"Analysedaten!E94","v":""},"","","","","","","","","","","","","","",null,{"$f":"IF(Stammdaten!A100=\"\",\"\",IF(D97<=15,VLOOKUP(B97,'Werte =<15°C'!$Q$2:$S$8,2,FALSE),VLOOKUP(B97,'Werte >15°C'!$Q$2:$S$8,2,FALSE)))","v":""},{"$f":"IF(Stammdaten!A100=\"\",\"\",IF(D97<=15,VLOOKUP(B97,'Werte =<15°C'!$Q$2:$S$8,3,FALSE),VLOOKUP(B97,'Werte >15°C'!$Q$2:$S$8,3,FALSE)))","v":""},{"$f":"IF(Stammdaten!A100=\"\",\"\",U97*(E99-D97)+V97)","v":""},{"$f":"IF(Stammdaten!A100=\"\",\"\",C97+W97)","v":""}]
[{"$f":"Analysedaten!A95","v":""},{"$f":"IF(Stammdaten!A98=\"\",\"\",WEEKDAY(A98,2))","v":""},{"$f":"IF(Stammdaten!A98=\"\",\"\",Analysedaten!C95)","v":""},{"$f":"Analysedaten!D95","v":""},{"$f":"Analysedaten!E95","v":""},"","","","","","","","","","","","","","",null,{"$f":"IF(Stammdaten!A101=\"\",\"\",IF(D98<=15,VLOOKUP(B98,'Werte =<15°C'!$Q$2:$S$8,2,FALSE),VLOOKUP(B98,'Werte >15°C'!$Q$2:$S$8,2,FALSE)))","v":""},{"$f":"IF(Stammdaten!A101=\"\",\"\",IF(D98<=15,VLOOKUP(B98,'Werte =<15°C'!$Q$2:$S$8,3,FALSE),VLOOKUP(B98,'Werte >15°C'!$Q$2:$S$8,3,FALSE)))","v":""},{"$f":"IF(Stammdaten!A101=\"\",\"\",U98*(E100-D98)+V98)","v":""},{"$f":"IF(Stammdaten!A101=\"\",\"\",C98+W98)","v":""}]
[{"$f":"Analysedaten!A96","v":""},{"$f":"IF(Stammdaten!A99=\"\",\"\",WEEKDAY(A99,2))","v":""},{"$f":"IF(Stammdaten!A99=\"\",\"\",Analysedaten!C96)","v":""},{"$f":"Analysedaten!D96","v":""},{"$f":"Analysedaten!E96","v":""},"","","","","","","","","","","","","","",null,{"$f":"IF(Stammdaten!A102=\"\",\"\",IF(D99<=15,VLOOKUP(B99,'Werte =<15°C'!$Q$2:$S$8,2,FALSE),VLOOKUP(B99,'Werte >15°C'!$Q$2:$S$8,2,FALSE)))","v":""},{"$f":"IF(Stammdaten!A102=\"\",\"\",IF(D99<=15,VLOOKUP(B99,'Werte =<15°C'!$Q$2:$S$8,3,FALSE),VLOOKUP(B99,'Werte >15°C'!$Q$2:$S$8,3,FALSE)))","v":""},{"$f":"IF(Stammdaten!A102=\"\",\"\",U99*(E101-D99)+V99)","v":""},{"$f":"IF(Stammdaten!A102=\"\",\"\",C99+W99)","v":""}]
[{"$f":"Analysedaten!A97","v":""},{"$f":"IF(Stammdaten!A100=\"\",\"\",WEEKDAY(A100,2))","v":""},{"$f":"IF(Stammdaten!A100=\"\",\"\",Analysedaten!C97)","v":""},{"$f":"Analysedaten!D97","v":""},{"$f":"Analysedaten!E97","v":""},"","","","","","","","","","","","","","",null,{"$f":"IF(Stammdaten!A103=\"\",\"\",IF(D100<=15,VLOOKUP(B100,'Werte =<15°C'!$Q$2:$S$8,2,FALSE),VLOOKUP(B100,'Werte >15°C'!$Q$2:$S$8,2,FALSE)))","v":""},{"$f":"IF(Stammdaten!A103=\"\",\"\",IF(D100<=15,VLOOKUP(B100,'Werte =<15°C'!$Q$2:$S$8,3,FALSE),VLOOKUP(B100,'Werte >15°C'!$Q$2:$S$8,3,FALSE)))","v":""},{"$f":"IF(Stammdaten!A103=\"\",\"\",U100*(E102-D100)+V100)","v":""},{"$f":"IF(Stammdaten!A103=\"\",\"\",C100+W100)","v":""}]
[{"$f":"Analysedaten!A98","v":""},{"$f":"IF(Stammdaten!A101=\"\",\"\",WEEKDAY(A101,2))","v":""},{"$f":"IF(Stammdaten!A101=\"\",\"\",Analysedaten!C98)","v":""},{"$f":"Analysedaten!D98","v":""},{"$f":"Analysedaten!E98","v":""},"","","","","","","","","","","","","","",null,{"$f":"IF(Stammdaten!A104=\"\",\"\",IF(D101<=15,VLOOKUP(B101,'Werte =<15°C'!$Q$2:$S$8,2,FALSE),VLOOKUP(B101,'Werte >15°C'!$Q$2:$S$8,2,FALSE)))","v":""},{"$f":"IF(Stammdaten!A104=\"\",\"\",IF(D101<=15,VLOOKUP(B101,'Werte =<15°C'!$Q$2:$S$8,3,FALSE),VLOOKUP(B101,'Werte >15°C'!$Q$2:$S$8,3,FALSE)))","v":""},{"$f":"IF(Stammdaten!A104=\"\",\"\",U101*(E103-D101)+V101)","v":""},{"$f":"IF(Stammdaten!A104=\"\",\"\",C101+W101)","v":""}]
[{"$f":"Analysedaten!A99","v":""},{"$f":"IF(Stammdaten!A102=\"\",\"\",WEEKDAY(A102,2))","v":""},{"$f":"IF(Stammdaten!A102=\"\",\"\",Analysedaten!C99)","v":""},{"$f":"Analysedaten!D99","v":""},{"$f":"Analysedaten!E99","v":""},"","","","","","","","","","","","","","",null,{"$f":"IF(Stammdaten!A105=\"\",\"\",IF(D102<=15,VLOOKUP(B102,'Werte =<15°C'!$Q$2:$S$8,2,FALSE),VLOOKUP(B102,'Werte >15°C'!$Q$2:$S$8,2,FALSE)))","v":""},{"$f":"IF(Stammdaten!A105=\"\",\"\",IF(D102<=15,VLOOKUP(B102,'Werte =<15°C'!$Q$2:$S$8,3,FALSE),VLOOKUP(B102,'Werte >15°C'!$Q$2:$S$8,3,FALSE)))","v":""},{"$f":"IF(Stammdaten!A105=\"\",\"\",U102*(E104-D102)+V102)","v":""},{"$f":"IF(Stammdaten!A105=\"\",\"\",C102+W102)","v":""}]
[{"$f":"Analysedaten!A100","v":""},{"$f":"IF(Stammdaten!A103=\"\",\"\",WEEKDAY(A103,2))","v":""},{"$f":"IF(Stammdaten!A103=\"\",\"\",Analysedaten!C100)","v":""},{"$f":"Analysedaten!D100","v":""},{"$f":"Analysedaten!E100","v":""},"","","","","","","","","","","","","","",null,{"$f":"IF(Stammdaten!A106=\"\",\"\",IF(D103<=15,VLOOKUP(B103,'Werte =<15°C'!$Q$2:$S$8,2,FALSE),VLOOKUP(B103,'Werte >15°C'!$Q$2:$S$8,2,FALSE)))","v":""},{"$f":"IF(Stammdaten!A106=\"\",\"\",IF(D103<=15,VLOOKUP(B103,'Werte =<15°C'!$Q$2:$S$8,3,FALSE),VLOOKUP(B103,'Werte >15°C'!$Q$2:$S$8,3,FALSE)))","v":""},{"$f":"IF(Stammdaten!A106=\"\",\"\",U103*(E105-D103)+V103)","v":""},{"$f":"IF(Stammdaten!A106=\"\",\"\",C103+W103)","v":""}]
[{"$f":"Analysedaten!A101","v":""},{"$f":"IF(Stammdaten!A104=\"\",\"\",WEEKDAY(A104,2))","v":""},{"$f":"IF(Stammdaten!A104=\"\",\"\",Analysedaten!C101)","v":""},{"$f":"Analysedaten!D101","v":""},{"$f":"Analysedaten!E101","v":""},"","","","","","","","","","","","","","",null,{"$f":"IF(Stammdaten!A107=\"\",\"\",IF(D104<=15,VLOOKUP(B104,'Werte =<15°C'!$Q$2:$S$8,2,FALSE),VLOOKUP(B104,'Werte >15°C'!$Q$2:$S$8,2,FALSE)))","v":""},{"$f":"IF(Stammdaten!A107=\"\",\"\",IF(D104<=15,VLOOKUP(B104,'Werte =<15°C'!$Q$2:$S$8,3,FALSE),VLOOKUP(B104,'Werte >15°C'!$Q$2:$S$8,3,FALSE)))","v":""},{"$f":"IF(Stammdaten!A107=\"\",\"\",U104*(E106-D104)+V104)","v":""},{"$f":"IF(Stammdaten!A107=\"\",\"\",C104+W104)","v":""}]
[{"$f":"Analysedaten!A102","v":""},{"$f":"IF(Stammdaten!A105=\"\",\"\",WEEKDAY(A105,2))","v":""},{"$f":"IF(Stammdaten!A105=\"\",\"\",Analysedaten!C102)","v":""},{"$f":"Analysedaten!D102","v":""},{"$f":"Analysedaten!E102","v":""},"","","","","","","","","","","","","","",null,{"$f":"IF(Stammdaten!A108=\"\",\"\",IF(D105<=15,VLOOKUP(B105,'Werte =<15°C'!$Q$2:$S$8,2,FALSE),VLOOKUP(B105,'Werte >15°C'!$Q$2:$S$8,2,FALSE)))","v":""},{"$f":"IF(Stammdaten!A108=\"\",\"\",IF(D105<=15,VLOOKUP(B105,'Werte =<15°C'!$Q$2:$S$8,3,FALSE),VLOOKUP(B105,'Werte >15°C'!$Q$2:$S$8,3,FALSE)))","v":""},{"$f":"IF(Stammdaten!A108=\"\",\"\",U105*(E107-D105)+V105)","v":""},{"$f":"IF(Stammdaten!A108=\"\",\"\",C105+W105)","v":""}]
[{"$f":"Analysedaten!A103","v":""},{"$f":"IF(Stammdaten!A106=\"\",\"\",WEEKDAY(A106,2))","v":""},{"$f":"IF(Stammdaten!A106=\"\",\"\",Analysedaten!C103)","v":""},{"$f":"Analysedaten!D103","v":""},{"$f":"Analysedaten!E103","v":""},"","","","","","","","","","","","","","",null,{"$f":"IF(Stammdaten!A109=\"\",\"\",IF(D106<=15,VLOOKUP(B106,'Werte =<15°C'!$Q$2:$S$8,2,FALSE),VLOOKUP(B106,'Werte >15°C'!$Q$2:$S$8,2,FALSE)))","v":""},{"$f":"IF(Stammdaten!A109=\"\",\"\",IF(D106<=15,VLOOKUP(B106,'Werte =<15°C'!$Q$2:$S$8,3,FALSE),VLOOKUP(B106,'Werte >15°C'!$Q$2:$S$8,3,FALSE)))","v":""},{"$f":"IF(Stammdaten!A109=\"\",\"\",U106*(E108-D106)+V106)","v":""},{"$f":"IF(Stammdaten!A109=\"\",\"\",C106+W106)","v":""}]
[{"$f":"Analysedaten!A104","v":""},{"$f":"IF(Stammdaten!A107=\"\",\"\",WEEKDAY(A107,2))","v":""},{"$f":"IF(Stammdaten!A107=\"\",\"\",Analysedaten!C104)","v":""},{"$f":"Analysedaten!D104","v":""},{"$f":"Analysedaten!E104","v":""},"","","","","","","","","","","","","","",null,{"$f":"IF(Stammdaten!A110=\"\",\"\",IF(D107<=15,VLOOKUP(B107,'Werte =<15°C'!$Q$2:$S$8,2,FALSE),VLOOKUP(B107,'Werte >15°C'!$Q$2:$S$8,2,FALSE)))","v":""},{"$f":"IF(Stammdaten!A110=\"\",\"\",IF(D107<=15,VLOOKUP(B107,'Werte =<15°C'!$Q$2:$S$8,3,FALSE),VLOOKUP(B107,'Werte >15°C'!$Q$2:$S$8,3,FALSE)))","v":""},{"$f":"IF(Stammdaten!A110=\"\",\"\",U107*(E109-D107)+V107)","v":""},{"$f":"IF(Stammdaten!A110=\"\",\"\",C107+W107)","v":""}]
[{"$f":"Analysedaten!A105","v":""},{"$f":"IF(Stammdaten!A108=\"\",\"\",WEEKDAY(A108,2))","v":""},{"$f":"IF(Stammdaten!A108=\"\",\"\",Analysedaten!C105)","v":""},{"$f":"Analysedaten!D105","v":""},{"$f":"Analysedaten!E105","v":""},"","","","","","","","","","","","","","",null,{"$f":"IF(Stammdaten!A111=\"\",\"\",IF(D108<=15,VLOOKUP(B108,'Werte =<15°C'!$Q$2:$S$8,2,FALSE),VLOOKUP(B108,'Werte >15°C'!$Q$2:$S$8,2,FALSE)))","v":""},{"$f":"IF(Stammdaten!A111=\"\",\"\",IF(D108<=15,VLOOKUP(B108,'Werte =<15°C'!$Q$2:$S$8,3,FALSE),VLOOKUP(B108,'Werte >15°C'!$Q$2:$S$8,3,FALSE)))","v":""},{"$f":"IF(Stammdaten!A111=\"\",\"\",U108*(E110-D108)+V108)","v":""},{"$f":"IF(Stammdaten!A111=\"\",\"\",C108+W108)","v":""}]
[{"$f":"Analysedaten!A106","v":""},{"$f":"IF(Stammdaten!A109=\"\",\"\",WEEKDAY(A109,2))","v":""},{"$f":"IF(Stammdaten!A109=\"\",\"\",Analysedaten!C106)","v":""},{"$f":"Analysedaten!D106","v":""},{"$f":"Analysedaten!E106","v":""},"","","","","","","","","","","","","","",null,{"$f":"IF(Stammdaten!A112=\"\",\"\",IF(D109<=15,VLOOKUP(B109,'Werte =<15°C'!$Q$2:$S$8,2,FALSE),VLOOKUP(B109,'Werte >15°C'!$Q$2:$S$8,2,FALSE)))","v":""},{"$f":"IF(Stammdaten!A112=\"\",\"\",IF(D109<=15,VLOOKUP(B109,'Werte =<15°C'!$Q$2:$S$8,3,FALSE),VLOOKUP(B109,'Werte >15°C'!$Q$2:$S$8,3,FALSE)))","v":""},{"$f":"IF(Stammdaten!A112=\"\",\"\",U109*(E111-D109)+V109)","v":""},{"$f":"IF(Stammdaten!A112=\"\",\"\",C109+W109)","v":""}]
[{"$f":"Analysedaten!A107","v":""},{"$f":"IF(Stammdaten!A110=\"\",\"\",WEEKDAY(A110,2))","v":""},{"$f":"IF(Stammdaten!A110=\"\",\"\",Analysedaten!C107)","v":""},{"$f":"Analysedaten!D107","v":""},{"$f":"Analysedaten!E107","v":""},"","","","","","","","","","","","","","",null,{"$f":"IF(Stammdaten!A113=\"\",\"\",IF(D110<=15,VLOOKUP(B110,'Werte =<15°C'!$Q$2:$S$8,2,FALSE),VLOOKUP(B110,'Werte >15°C'!$Q$2:$S$8,2,FALSE)))","v":""},{"$f":"IF(Stammdaten!A113=\"\",\"\",IF(D110<=15,VLOOKUP(B110,'Werte =<15°C'!$Q$2:$S$8,3,FALSE),VLOOKUP(B110,'Werte >15°C'!$Q$2:$S$8,3,FALSE)))","v":""},{"$f":"IF(Stammdaten!A113=\"\",\"\",U110*(E112-D110)+V110)","v":""},{"$f":"IF(Stammdaten!A113=\"\",\"\",C110+W110)","v":""}]
[{"$f":"Analysedaten!A108","v":""},{"$f":"IF(Stammdaten!A111=\"\",\"\",WEEKDAY(A111,2))","v":""},{"$f":"IF(Stammdaten!A111=\"\",\"\",Analysedaten!C108)","v":""},{"$f":"Analysedaten!D108","v":""},{"$f":"Analysedaten!E108","v":""},"","","","","","","","","","","","","","",null,{"$f":"IF(Stammdaten!A114=\"\",\"\",IF(D111<=15,VLOOKUP(B111,'Werte =<15°C'!$Q$2:$S$8,2,FALSE),VLOOKUP(B111,'Werte >15°C'!$Q$2:$S$8,2,FALSE)))","v":""},{"$f":"IF(Stammdaten!A114=\"\",\"\",IF(D111<=15,VLOOKUP(B111,'Werte =<15°C'!$Q$2:$S$8,3,FALSE),VLOOKUP(B111,'Werte >15°C'!$Q$2:$S$8,3,FALSE)))","v":""},{"$f":"IF(Stammdaten!A114=\"\",\"\",U111*(E113-D111)+V111)","v":""},{"$f":"IF(Stammdaten!A114=\"\",\"\",C111+W111)","v":""}]
[{"$f":"Analysedaten!A109","v":""},{"$f":"IF(Stammdaten!A112=\"\",\"\",WEEKDAY(A112,2))","v":""},{"$f":"IF(Stammdaten!A112=\"\",\"\",Analysedaten!C109)","v":""},{"$f":"Analysedaten!D109","v":""},{"$f":"Analysedaten!E109","v":""},"","","","","","","","","","","","","","",null,{"$f":"IF(Stammdaten!A115=\"\",\"\",IF(D112<=15,VLOOKUP(B112,'Werte =<15°C'!$Q$2:$S$8,2,FALSE),VLOOKUP(B112,'Werte >15°C'!$Q$2:$S$8,2,FALSE)))","v":""},{"$f":"IF(Stammdaten!A115=\"\",\"\",IF(D112<=15,VLOOKUP(B112,'Werte =<15°C'!$Q$2:$S$8,3,FALSE),VLOOKUP(B112,'Werte >15°C'!$Q$2:$S$8,3,FALSE)))","v":""},{"$f":"IF(Stammdaten!A115=\"\",\"\",U112*(E114-D112)+V112)","v":""},{"$f":"IF(Stammdaten!A115=\"\",\"\",C112+W112)","v":""}]
[{"$f":"Analysedaten!A110","v":""},{"$f":"IF(Stammdaten!A113=\"\",\"\",WEEKDAY(A113,2))","v":""},{"$f":"IF(Stammdaten!A113=\"\",\"\",Analysedaten!C110)","v":""},{"$f":"Analysedaten!D110","v":""},{"$f":"Analysedaten!E110","v":""},"","","","","","","","","","","","","","",null,{"$f":"IF(Stammdaten!A116=\"\",\"\",IF(D113<=15,VLOOKUP(B113,'Werte =<15°C'!$Q$2:$S$8,2,FALSE),VLOOKUP(B113,'Werte >15°C'!$Q$2:$S$8,2,FALSE)))","v":""},{"$f":"IF(Stammdaten!A116=\"\",\"\",IF(D113<=15,VLOOKUP(B113,'Werte =<15°C'!$Q$2:$S$8,3,FALSE),VLOOKUP(B113,'Werte >15°C'!$Q$2:$S$8,3,FALSE)))","v":""},{"$f":"IF(Stammdaten!A116=\"\",\"\",U113*(E115-D113)+V113)","v":""},{"$f":"IF(Stammdaten!A116=\"\",\"\",C113+W113)","v":""}]
[{"$f":"Analysedaten!A111","v":""},{"$f":"IF(Stammdaten!A114=\"\",\"\",WEEKDAY(A114,2))","v":""},{"$f":"IF(Stammdaten!A114=\"\",\"\",Analysedaten!C111)","v":""},{"$f":"Analysedaten!D111","v":""},{"$f":"Analysedaten!E111","v":""},"","","","","","","","","","","","","","",null,{"$f":"IF(Stammdaten!A117=\"\",\"\",IF(D114<=15,VLOOKUP(B114,'Werte =<15°C'!$Q$2:$S$8,2,FALSE),VLOOKUP(B114,'Werte >15°C'!$Q$2:$S$8,2,FALSE)))","v":""},{"$f":"IF(Stammdaten!A117=\"\",\"\",IF(D114<=15,VLOOKUP(B114,'Werte =<15°C'!$Q$2:$S$8,3,FALSE),VLOOKUP(B114,'Werte >15°C'!$Q$2:$S$8,3,FALSE)))","v":""},{"$f":"IF(Stammdaten!A117=\"\",\"\",U114*(E116-D114)+V114)","v":""},{"$f":"IF(Stammdaten!A117=\"\",\"\",C114+W114)","v":""}]
[{"$f":"Analysedaten!A112","v":""},{"$f":"IF(Stammdaten!A115=\"\",\"\",WEEKDAY(A115,2))","v":""},{"$f":"IF(Stammdaten!A115=\"\",\"\",Analysedaten!C112)","v":""},{"$f":"Analysedaten!D112","v":""},{"$f":"Analysedaten!E112","v":""},"","","","","","","","","","","","","","",null,{"$f":"IF(Stammdaten!A118=\"\",\"\",IF(D115<=15,VLOOKUP(B115,'Werte =<15°C'!$Q$2:$S$8,2,FALSE),VLOOKUP(B115,'Werte >15°C'!$Q$2:$S$8,2,FALSE)))","v":""},{"$f":"IF(Stammdaten!A118=\"\",\"\",IF(D115<=15,VLOOKUP(B115,'Werte =<15°C'!$Q$2:$S$8,3,FALSE),VLOOKUP(B115,'Werte >15°C'!$Q$2:$S$8,3,FALSE)))","v":""},{"$f":"IF(Stammdaten!A118=\"\",\"\",U115*(E117-D115)+V115)","v":""},{"$f":"IF(Stammdaten!A118=\"\",\"\",C115+W115)","v":""}]
[{"$f":"Analysedaten!A113","v":""},{"$f":"IF(Stammdaten!A116=\"\",\"\",WEEKDAY(A116,2))","v":""},{"$f":"IF(Stammdaten!A116=\"\",\"\",Analysedaten!C113)","v":""},{"$f":"Analysedaten!D113","v":""},{"$f":"Analysedaten!E113","v":""},"","","","","","","","","","","","","","",null,{"$f":"IF(Stammdaten!A119=\"\",\"\",IF(D116<=15,VLOOKUP(B116,'Werte =<15°C'!$Q$2:$S$8,2,FALSE),VLOOKUP(B116,'Werte >15°C'!$Q$2:$S$8,2,FALSE)))","v":""},{"$f":"IF(Stammdaten!A119=\"\",\"\",IF(D116<=15,VLOOKUP(B116,'Werte =<15°C'!$Q$2:$S$8,3,FALSE),VLOOKUP(B116,'Werte >15°C'!$Q$2:$S$8,3,FALSE)))","v":""},{"$f":"IF(Stammdaten!A119=\"\",\"\",U116*(E118-D116)+V116)","v":""},{"$f":"IF(Stammdaten!A119=\"\",\"\",C116+W116)","v":""}]
[{"$f":"Analysedaten!A114","v":""},{"$f":"IF(Stammdaten!A117=\"\",\"\",WEEKDAY(A117,2))","v":""},{"$f":"IF(Stammdaten!A117=\"\",\"\",Analysedaten!C114)","v":""},{"$f":"Analysedaten!D114","v":""},{"$f":"Analysedaten!E114","v":""},"","","","","","","","","","","","","","",null,{"$f":"IF(Stammdaten!A120=\"\",\"\",IF(D117<=15,VLOOKUP(B117,'Werte =<15°C'!$Q$2:$S$8,2,FALSE),VLOOKUP(B117,'Werte >15°C'!$Q$2:$S$8,2,FALSE)))","v":""},{"$f":"IF(Stammdaten!A120=\"\",\"\",IF(D117<=15,VLOOKUP(B117,'Werte =<15°C'!$Q$2:$S$8,3,FALSE),VLOOKUP(B117,'Werte >15°C'!$Q$2:$S$8,3,FALSE)))","v":""},{"$f":"IF(Stammdaten!A120=\"\",\"\",U117*(E119-D117)+V117)","v":""},{"$f":"IF(Stammdaten!A120=\"\",\"\",C117+W117)","v":""}]
[{"$f":"Analysedaten!A115","v":""},{"$f":"IF(Stammdaten!A118=\"\",\"\",WEEKDAY(A118,2))","v":""},{"$f":"IF(Stammdaten!A118=\"\",\"\",Analysedaten!C115)","v":""},{"$f":"Analysedaten!D115","v":""},{"$f":"Analysedaten!E115","v":""},"","","","","","","","","","","","","","",null,{"$f":"IF(Stammdaten!A121=\"\",\"\",IF(D118<=15,VLOOKUP(B118,'Werte =<15°C'!$Q$2:$S$8,2,FALSE),VLOOKUP(B118,'Werte >15°C'!$Q$2:$S$8,2,FALSE)))","v":""},{"$f":"IF(Stammdaten!A121=\"\",\"\",IF(D118<=15,VLOOKUP(B118,'Werte =<15°C'!$Q$2:$S$8,3,FALSE),VLOOKUP(B118,'Werte >15°C'!$Q$2:$S$8,3,FALSE)))","v":""},{"$f":"IF(Stammdaten!A121=\"\",\"\",U118*(E120-D118)+V118)","v":""},{"$f":"IF(Stammdaten!A121=\"\",\"\",C118+W118)","v":""}]
[{"$f":"Analysedaten!A116","v":""},{"$f":"IF(Stammdaten!A119=\"\",\"\",WEEKDAY(A119,2))","v":""},{"$f":"IF(Stammdaten!A119=\"\",\"\",Analysedaten!C116)","v":""},{"$f":"Analysedaten!D116","v":""},{"$f":"Analysedaten!E116","v":""},"","","","","","","","","","","","","","",null,{"$f":"IF(Stammdaten!A122=\"\",\"\",IF(D119<=15,VLOOKUP(B119,'Werte =<15°C'!$Q$2:$S$8,2,FALSE),VLOOKUP(B119,'Werte >15°C'!$Q$2:$S$8,2,FALSE)))","v":""},{"$f":"IF(Stammdaten!A122=\"\",\"\",IF(D119<=15,VLOOKUP(B119,'Werte =<15°C'!$Q$2:$S$8,3,FALSE),VLOOKUP(B119,'Werte >15°C'!$Q$2:$S$8,3,FALSE)))","v":""},{"$f":"IF(Stammdaten!A122=\"\",\"\",U119*(E121-D119)+V119)","v":""},{"$f":"IF(Stammdaten!A122=\"\",\"\",C119+W119)","v":""}]
[{"$f":"Analysedaten!A117","v":""},{"$f":"IF(Stammdaten!A120=\"\",\"\",WEEKDAY(A120,2))","v":""},{"$f":"IF(Stammdaten!A120=\"\",\"\",Analysedaten!C117)","v":""},{"$f":"Analysedaten!D117","v":""},{"$f":"Analysedaten!E117","v":""},"","","","","","","","","","","","","","",null,{"$f":"IF(Stammdaten!A123=\"\",\"\",IF(D120<=15,VLOOKUP(B120,'Werte =<15°C'!$Q$2:$S$8,2,FALSE),VLOOKUP(B120,'Werte >15°C'!$Q$2:$S$8,2,FALSE)))","v":""},{"$f":"IF(Stammdaten!A123=\"\",\"\",IF(D120<=15,VLOOKUP(B120,'Werte =<15°C'!$Q$2:$S$8,3,FALSE),VLOOKUP(B120,'Werte >15°C'!$Q$2:$S$8,3,FALSE)))","v":""},{"$f":"IF(Stammdaten!A123=\"\",\"\",U120*(E122-D120)+V120)","v":""},{"$f":"IF(Stammdaten!A123=\"\",\"\",C120+W120)","v":""}]
[{"$f":"Analysedaten!A118","v":""},{"$f":"IF(Stammdaten!A121=\"\",\"\",WEEKDAY(A121,2))","v":""},{"$f":"IF(Stammdaten!A121=\"\",\"\",Analysedaten!C118)","v":""},{"$f":"Analysedaten!D118","v":""},{"$f":"Analysedaten!E118","v":""},"","","","","","","","","","","","","","",null,{"$f":"IF(Stammdaten!A124=\"\",\"\",IF(D121<=15,VLOOKUP(B121,'Werte =<15°C'!$Q$2:$S$8,2,FALSE),VLOOKUP(B121,'Werte >15°C'!$Q$2:$S$8,2,FALSE)))","v":""},{"$f":"IF(Stammdaten!A124=\"\",\"\",IF(D121<=15,VLOOKUP(B121,'Werte =<15°C'!$Q$2:$S$8,3,FALSE),VLOOKUP(B121,'Werte >15°C'!$Q$2:$S$8,3,FALSE)))","v":""},{"$f":"IF(Stammdaten!A124=\"\",\"\",U121*(E123-D121)+V121)","v":""},{"$f":"IF(Stammdaten!A124=\"\",\"\",C121+W121)","v":""}]
[{"$f":"Analysedaten!A119","v":""},{"$f":"IF(Stammdaten!A122=\"\",\"\",WEEKDAY(A122,2))","v":""},{"$f":"IF(Stammdaten!A122=\"\",\"\",Analysedaten!C119)","v":""},{"$f":"Analysedaten!D119","v":""},{"$f":"Analysedaten!E119","v":""},"","","","","","","","","","","","","","",null,{"$f":"IF(Stammdaten!A125=\"\",\"\",IF(D122<=15,VLOOKUP(B122,'Werte =<15°C'!$Q$2:$S$8,2,FALSE),VLOOKUP(B122,'Werte >15°C'!$Q$2:$S$8,2,FALSE)))","v":""},{"$f":"IF(Stammdaten!A125=\"\",\"\",IF(D122<=15,VLOOKUP(B122,'Werte =<15°C'!$Q$2:$S$8,3,FALSE),VLOOKUP(B122,'Werte >15°C'!$Q$2:$S$8,3,FALSE)))","v":""},{"$f":"IF(Stammdaten!A125=\"\",\"\",U122*(E124-D122)+V122)","v":""},{"$f":"IF(Stammdaten!A125=\"\",\"\",C122+W122)","v":""}]
[{"$f":"Analysedaten!A120","v":""},{"$f":"IF(Stammdaten!A123=\"\",\"\",WEEKDAY(A123,2))","v":""},{"$f":"IF(Stammdaten!A123=\"\",\"\",Analysedaten!C120)","v":""},{"$f":"Analysedaten!D120","v":""},{"$f":"Analysedaten!E120","v":""},"","","","","","","","","","","","","","",null,{"$f":"IF(Stammdaten!A126=\"\",\"\",IF(D123<=15,VLOOKUP(B123,'Werte =<15°C'!$Q$2:$S$8,2,FALSE),VLOOKUP(B123,'Werte >15°C'!$Q$2:$S$8,2,FALSE)))","v":""},{"$f":"IF(Stammdaten!A126=\"\",\"\",IF(D123<=15,VLOOKUP(B123,'Werte =<15°C'!$Q$2:$S$8,3,FALSE),VLOOKUP(B123,'Werte >15°C'!$Q$2:$S$8,3,FALSE)))","v":""},{"$f":"IF(Stammdaten!A126=\"\",\"\",U123*(E125-D123)+V123)","v":""},{"$f":"IF(Stammdaten!A126=\"\",\"\",C123+W123)","v":""}]
[{"$f":"Analysedaten!A121","v":""},{"$f":"IF(Stammdaten!A124=\"\",\"\",WEEKDAY(A124,2))","v":""},{"$f":"IF(Stammdaten!A124=\"\",\"\",Analysedaten!C121)","v":""},{"$f":"Analysedaten!D121","v":""},{"$f":"Analysedaten!E121","v":""},"","","","","","","","","","","","","","",null,{"$f":"IF(Stammdaten!A127=\"\",\"\",IF(D124<=15,VLOOKUP(B124,'Werte =<15°C'!$Q$2:$S$8,2,FALSE),VLOOKUP(B124,'Werte >15°C'!$Q$2:$S$8,2,FALSE)))","v":""},{"$f":"IF(Stammdaten!A127=\"\",\"\",IF(D124<=15,VLOOKUP(B124,'Werte =<15°C'!$Q$2:$S$8,3,FALSE),VLOOKUP(B124,'Werte >15°C'!$Q$2:$S$8,3,FALSE)))","v":""},{"$f":"IF(Stammdaten!A127=\"\",\"\",U124*(E126-D124)+V124)","v":""},{"$f":"IF(Stammdaten!A127=\"\",\"\",C124+W124)","v":""}]
[{"$f":"Analysedaten!A122","v":""},{"$f":"IF(Stammdaten!A125=\"\",\"\",WEEKDAY(A125,2))","v":""},{"$f":"IF(Stammdaten!A125=\"\",\"\",Analysedaten!C122)","v":""},{"$f":"Analysedaten!D122","v":""},{"$f":"Analysedaten!E122","v":""},"","","","","","","","","","","","","","",null,{"$f":"IF(Stammdaten!A128=\"\",\"\",IF(D125<=15,VLOOKUP(B125,'Werte =<15°C'!$Q$2:$S$8,2,FALSE),VLOOKUP(B125,'Werte >15°C'!$Q$2:$S$8,2,FALSE)))","v":""},{"$f":"IF(Stammdaten!A128=\"\",\"\",IF(D125<=15,VLOOKUP(B125,'Werte =<15°C'!$Q$2:$S$8,3,FALSE),VLOOKUP(B125,'Werte >15°C'!$Q$2:$S$8,3,FALSE)))","v":""},{"$f":"IF(Stammdaten!A128=\"\",\"\",U125*(E127-D125)+V125)","v":""},{"$f":"IF(Stammdaten!A128=\"\",\"\",C125+W125)","v":""}]
[{"$f":"Analysedaten!A123","v":""},{"$f":"IF(Stammdaten!A126=\"\",\"\",WEEKDAY(A126,2))","v":""},{"$f":"IF(Stammdaten!A126=\"\",\"\",Analysedaten!C123)","v":""},{"$f":"Analysedaten!D123","v":""},{"$f":"Analysedaten!E123","v":""},"","","","","","","","","","","","","","",null,{"$f":"IF(Stammdaten!A129=\"\",\"\",IF(D126<=15,VLOOKUP(B126,'Werte =<15°C'!$Q$2:$S$8,2,FALSE),VLOOKUP(B126,'Werte >15°C'!$Q$2:$S$8,2,FALSE)))","v":""},{"$f":"IF(Stammdaten!A129=\"\",\"\",IF(D126<=15,VLOOKUP(B126,'Werte =<15°C'!$Q$2:$S$8,3,FALSE),VLOOKUP(B126,'Werte >15°C'!$Q$2:$S$8,3,FALSE)))","v":""},{"$f":"IF(Stammdaten!A129=\"\",\"\",U126*(E128-D126)+V126)","v":""},{"$f":"IF(Stammdaten!A129=\"\",\"\",C126+W126)","v":""}]
[{"$f":"Analysedaten!A124","v":""},{"$f":"IF(Stammdaten!A127=\"\",\"\",WEEKDAY(A127,2))","v":""},{"$f":"IF(Stammdaten!A127=\"\",\"\",Analysedaten!C124)","v":""},{"$f":"Analysedaten!D124","v":""},{"$f":"Analysedaten!E124","v":""},"","","","","","","","","","","","","","",null,{"$f":"IF(Stammdaten!A130=\"\",\"\",IF(D127<=15,VLOOKUP(B127,'Werte =<15°C'!$Q$2:$S$8,2,FALSE),VLOOKUP(B127,'Werte >15°C'!$Q$2:$S$8,2,FALSE)))","v":""},{"$f":"IF(Stammdaten!A130=\"\",\"\",IF(D127<=15,VLOOKUP(B127,'Werte =<15°C'!$Q$2:$S$8,3,FALSE),VLOOKUP(B127,'Werte >15°C'!$Q$2:$S$8,3,FALSE)))","v":""},{"$f":"IF(Stammdaten!A130=\"\",\"\",U127*(E129-D127)+V127)","v":""},{"$f":"IF(Stammdaten!A130=\"\",\"\",C127+W127)","v":""}]
[{"$f":"Analysedaten!A125","v":""},{"$f":"IF(Stammdaten!A128=\"\",\"\",WEEKDAY(A128,2))","v":""},{"$f":"IF(Stammdaten!A128=\"\",\"\",Analysedaten!C125)","v":""},{"$f":"Analysedaten!D125","v":""},{"$f":"Analysedaten!E125","v":""},"","","","","","","","","","","","","","",null,{"$f":"IF(Stammdaten!A131=\"\",\"\",IF(D128<=15,VLOOKUP(B128,'Werte =<15°C'!$Q$2:$S$8,2,FALSE),VLOOKUP(B128,'Werte >15°C'!$Q$2:$S$8,2,FALSE)))","v":""},{"$f":"IF(Stammdaten!A131=\"\",\"\",IF(D128<=15,VLOOKUP(B128,'Werte =<15°C'!$Q$2:$S$8,3,FALSE),VLOOKUP(B128,'Werte >15°C'!$Q$2:$S$8,3,FALSE)))","v":""},{"$f":"IF(Stammdaten!A131=\"\",\"\",U128*(E130-D128)+V128)","v":""},{"$f":"IF(Stammdaten!A131=\"\",\"\",C128+W128)","v":""}]
[{"$f":"Analysedaten!A126","v":""},{"$f":"IF(Stammdaten!A129=\"\",\"\",WEEKDAY(A129,2))","v":""},{"$f":"IF(Stammdaten!A129=\"\",\"\",Analysedaten!C126)","v":""},{"$f":"Analysedaten!D126","v":""},{"$f":"Analysedaten!E126","v":""},"","","","","","","","","","","","","","",null,{"$f":"IF(Stammdaten!A132=\"\",\"\",IF(D129<=15,VLOOKUP(B129,'Werte =<15°C'!$Q$2:$S$8,2,FALSE),VLOOKUP(B129,'Werte >15°C'!$Q$2:$S$8,2,FALSE)))","v":""},{"$f":"IF(Stammdaten!A132=\"\",\"\",IF(D129<=15,VLOOKUP(B129,'Werte =<15°C'!$Q$2:$S$8,3,FALSE),VLOOKUP(B129,'Werte >15°C'!$Q$2:$S$8,3,FALSE)))","v":""},{"$f":"IF(Stammdaten!A132=\"\",\"\",U129*(E131-D129)+V129)","v":""},{"$f":"IF(Stammdaten!A132=\"\",\"\",C129+W129)","v":""}]
[{"$f":"Analysedaten!A127","v":""},{"$f":"IF(Stammdaten!A130=\"\",\"\",WEEKDAY(A130,2))","v":""},{"$f":"IF(Stammdaten!A130=\"\",\"\",Analysedaten!C127)","v":""},{"$f":"Analysedaten!D127","v":""},{"$f":"Analysedaten!E127","v":""},"","","","","","","","","","","","","","",null,{"$f":"IF(Stammdaten!A133=\"\",\"\",IF(D130<=15,VLOOKUP(B130,'Werte =<15°C'!$Q$2:$S$8,2,FALSE),VLOOKUP(B130,'Werte >15°C'!$Q$2:$S$8,2,FALSE)))","v":""},{"$f":"IF(Stammdaten!A133=\"\",\"\",IF(D130<=15,VLOOKUP(B130,'Werte =<15°C'!$Q$2:$S$8,3,FALSE),VLOOKUP(B130,'Werte >15°C'!$Q$2:$S$8,3,FALSE)))","v":""},{"$f":"IF(Stammdaten!A133=\"\",\"\",U130*(E132-D130)+V130)","v":""},{"$f":"IF(Stammdaten!A133=\"\",\"\",C130+W130)","v":""}]
[{"$f":"Analysedaten!A128","v":""},{"$f":"IF(Stammdaten!A131=\"\",\"\",WEEKDAY(A131,2))","v":""},{"$f":"IF(Stammdaten!A131=\"\",\"\",Analysedaten!C128)","v":""},{"$f":"Analysedaten!D128","v":""},{"$f":"Analysedaten!E128","v":""},"","","","","","","","","","","","","","",null,{"$f":"IF(Stammdaten!A134=\"\",\"\",IF(D131<=15,VLOOKUP(B131,'Werte =<15°C'!$Q$2:$S$8,2,FALSE),VLOOKUP(B131,'Werte >15°C'!$Q$2:$S$8,2,FALSE)))","v":""},{"$f":"IF(Stammdaten!A134=\"\",\"\",IF(D131<=15,VLOOKUP(B131,'Werte =<15°C'!$Q$2:$S$8,3,FALSE),VLOOKUP(B131,'Werte >15°C'!$Q$2:$S$8,3,FALSE)))","v":""},{"$f":"IF(Stammdaten!A134=\"\",\"\",U131*(E133-D131)+V131)","v":""},{"$f":"IF(Stammdaten!A134=\"\",\"\",C131+W131)","v":""}]
[{"$f":"Analysedaten!A129","v":""},{"$f":"IF(Stammdaten!A132=\"\",\"\",WEEKDAY(A132,2))","v":""},{"$f":"IF(Stammdaten!A132=\"\",\"\",Analysedaten!C129)","v":""},{"$f":"Analysedaten!D129","v":""},{"$f":"Analysedaten!E129","v":""},"","","","","","","","","","","","","","",null,{"$f":"IF(Stammdaten!A135=\"\",\"\",IF(D132<=15,VLOOKUP(B132,'Werte =<15°C'!$Q$2:$S$8,2,FALSE),VLOOKUP(B132,'Werte >15°C'!$Q$2:$S$8,2,FALSE)))","v":""},{"$f":"IF(Stammdaten!A135=\"\",\"\",IF(D132<=15,VLOOKUP(B132,'Werte =<15°C'!$Q$2:$S$8,3,FALSE),VLOOKUP(B132,'Werte >15°C'!$Q$2:$S$8,3,FALSE)))","v":""},{"$f":"IF(Stammdaten!A135=\"\",\"\",U132*(E134-D132)+V132)","v":""},{"$f":"IF(Stammdaten!A135=\"\",\"\",C132+W132)","v":""}]
[{"$f":"Analysedaten!A130","v":""},{"$f":"IF(Stammdaten!A133=\"\",\"\",WEEKDAY(A133,2))","v":""},{"$f":"IF(Stammdaten!A133=\"\",\"\",Analysedaten!C130)","v":""},{"$f":"Analysedaten!D130","v":""},{"$f":"Analysedaten!E130","v":""},{"$f":"IF(B135=1,(E135-D133),\"\")","v":""},{"$f":"IF(B135=1,(C135-C133),\"\")","v":""},{"$f":"IF(B135=2,(E135-D133),\"\")","v":""},{"$f":"IF(B135=2,(C135-C133),\"\")","v":""},{"$f":"IF(B135=3,(E135-D133),\"\")","v":""},{"$f":"IF(B135=3,(C135-C133),\"\")","v":""},{"$f":"IF(B135=4,(E135-D133),\"\")","v":""},{"$f":"IF(B135=4,(C135-C133),\"\")","v":""},{"$f":"IF(B135=5,(E135-D133),\"\")","v":""},{"$f":"IF(B135=5,(C135-C133),\"\")","v":""},{"$f":"IF(B135=6,(E135-D133),\"\")","v":""},{"$f":"IF(B135=6,(C135-C133),\"\")","v":""},{"$f":"IF(B135=7,(E135-D133),\"\")","v":""},{"$f":"IF(B135=7,(C135-C133),\"\")","v":""},null,{"$f":"IF(Stammdaten!A136=\"\",\"\",IF(D133<=15,VLOOKUP(B133,'Werte =<15°C'!$Q$2:$S$8,2,FALSE),VLOOKUP(B133,'Werte >15°C'!$Q$2:$S$8,2,FALSE)))","v":""},{"$f":"IF(Stammdaten!A136=\"\",\"\",IF(D133<=15,VLOOKUP(B133,'Werte =<15°C'!$Q$2:$S$8,3,FALSE),VLOOKUP(B133,'Werte >15°C'!$Q$2:$S$8,3,FALSE)))","v":""},{"$f":"IF(Stammdaten!A136=\"\",\"\",U133*(E135-D133)+V133)","v":""},{"$f":"IF(Stammdaten!A136=\"\",\"\",C133+W133)","v":""}]
[{"$f":"Analysedaten!A131","v":""},{"$f":"IF(Stammdaten!A134=\"\",\"\",WEEKDAY(A134,2))","v":""},{"$f":"IF(Stammdaten!A134=\"\",\"\",Analysedaten!C131)","v":""},{"$f":"Analysedaten!D131","v":""},{"$f":"Analysedaten!E131","v":""},"","","","","","","","","","","","","","",null,{"$f":"IF(Stammdaten!A137=\"\",\"\",IF(D134<=15,VLOOKUP(B134,'Werte =<15°C'!$Q$2:$S$8,2,FALSE),VLOOKUP(B134,'Werte >15°C'!$Q$2:$S$8,2,FALSE)))","v":""},{"$f":"IF(Stammdaten!A137=\"\",\"\",IF(D134<=15,VLOOKUP(B134,'Werte =<15°C'!$Q$2:$S$8,3,FALSE),VLOOKUP(B134,'Werte >15°C'!$Q$2:$S$8,3,FALSE)))","v":""},{"$f":"IF(Stammdaten!A137=\"\",\"\",U134*(E136-D134)+V134)","v":""},{"$f":"IF(Stammdaten!A137=\"\",\"\",C134+W134)","v":""}]
[{"$f":"Analysedaten!A132","v":""},{"$f":"IF(Stammdaten!A135=\"\",\"\",WEEKDAY(A135,2))","v":""},{"$f":"IF(Stammdaten!A135=\"\",\"\",Analysedaten!C132)","v":""},{"$f":"Analysedaten!D132","v":""},{"$f":"Analysedaten!E132","v":""},"","","","","","","","","","","","","","",null,{"$f":"IF(Stammdaten!A138=\"\",\"\",IF(D135<=15,VLOOKUP(B135,'Werte =<15°C'!$Q$2:$S$8,2,FALSE),VLOOKUP(B135,'Werte >15°C'!$Q$2:$S$8,2,FALSE)))","v":""},{"$f":"IF(Stammdaten!A138=\"\",\"\",IF(D135<=15,VLOOKUP(B135,'Werte =<15°C'!$Q$2:$S$8,3,FALSE),VLOOKUP(B135,'Werte >15°C'!$Q$2:$S$8,3,FALSE)))","v":""},{"$f":"IF(Stammdaten!A138=\"\",\"\",U135*(E137-D135)+V135)","v":""},{"$f":"IF(Stammdaten!A138=\"\",\"\",C135+W135)","v":""}]
[{"$f":"Analysedaten!A133","v":""},{"$f":"IF(Stammdaten!A136=\"\",\"\",WEEKDAY(A136,2))","v":""},{"$f":"IF(Stammdaten!A136=\"\",\"\",Analysedaten!C133)","v":""},{"$f":"Analysedaten!D133","v":""},{"$f":"Analysedaten!E133","v":""},"","","","","","","","","","","","","","",null,{"$f":"IF(Stammdaten!A139=\"\",\"\",IF(D136<=15,VLOOKUP(B136,'Werte =<15°C'!$Q$2:$S$8,2,FALSE),VLOOKUP(B136,'Werte >15°C'!$Q$2:$S$8,2,FALSE)))","v":""},{"$f":"IF(Stammdaten!A139=\"\",\"\",IF(D136<=15,VLOOKUP(B136,'Werte =<15°C'!$Q$2:$S$8,3,FALSE),VLOOKUP(B136,'Werte >15°C'!$Q$2:$S$8,3,FALSE)))","v":""},{"$f":"IF(Stammdaten!A139=\"\",\"\",U136*(E138-D136)+V136)","v":""},{"$f":"IF(Stammdaten!A139=\"\",\"\",C136+W136)","v":""}]
[{"$f":"Analysedaten!A134","v":""},{"$f":"IF(Stammdaten!A137=\"\",\"\",WEEKDAY(A137,2))","v":""},{"$f":"IF(Stammdaten!A137=\"\",\"\",Analysedaten!C134)","v":""},{"$f":"Analysedaten!D134","v":""},{"$f":"Analysedaten!E134","v":""},"","","","","","","","","","","","","","",null,{"$f":"IF(Stammdaten!A140=\"\",\"\",IF(D137<=15,VLOOKUP(B137,'Werte =<15°C'!$Q$2:$S$8,2,FALSE),VLOOKUP(B137,'Werte >15°C'!$Q$2:$S$8,2,FALSE)))","v":""},{"$f":"IF(Stammdaten!A140=\"\",\"\",IF(D137<=15,VLOOKUP(B137,'Werte =<15°C'!$Q$2:$S$8,3,FALSE),VLOOKUP(B137,'Werte >15°C'!$Q$2:$S$8,3,FALSE)))","v":""},{"$f":"IF(Stammdaten!A140=\"\",\"\",U137*(E139-D137)+V137)","v":""},{"$f":"IF(Stammdaten!A140=\"\",\"\",C137+W137)","v":""}]
[{"$f":"Analysedaten!A135","v":""},{"$f":"IF(Stammdaten!A138=\"\",\"\",WEEKDAY(A138,2))","v":""},{"$f":"IF(Stammdaten!A138=\"\",\"\",Analysedaten!C135)","v":""},{"$f":"Analysedaten!D135","v":""},{"$f":"Analysedaten!E135","v":""},"","","","","","","","","","","","","","",null,{"$f":"IF(Stammdaten!A141=\"\",\"\",IF(D138<=15,VLOOKUP(B138,'Werte =<15°C'!$Q$2:$S$8,2,FALSE),VLOOKUP(B138,'Werte >15°C'!$Q$2:$S$8,2,FALSE)))","v":""},{"$f":"IF(Stammdaten!A141=\"\",\"\",IF(D138<=15,VLOOKUP(B138,'Werte =<15°C'!$Q$2:$S$8,3,FALSE),VLOOKUP(B138,'Werte >15°C'!$Q$2:$S$8,3,FALSE)))","v":""},{"$f":"IF(Stammdaten!A141=\"\",\"\",U138*(E140-D138)+V138)","v":""},{"$f":"IF(Stammdaten!A141=\"\",\"\",C138+W138)","v":""}]
[{"$f":"Analysedaten!A136","v":""},{"$f":"IF(Stammdaten!A139=\"\",\"\",WEEKDAY(A139,2))","v":""},{"$f":"IF(Stammdaten!A139=\"\",\"\",Analysedaten!C136)","v":""},{"$f":"Analysedaten!D136","v":""},{"$f":"Analysedaten!E136","v":""},"","","","","","","","","","","","","","",null,{"$f":"IF(Stammdaten!A142=\"\",\"\",IF(D139<=15,VLOOKUP(B139,'Werte =<15°C'!$Q$2:$S$8,2,FALSE),VLOOKUP(B139,'Werte >15°C'!$Q$2:$S$8,2,FALSE)))","v":""},{"$f":"IF(Stammdaten!A142=\"\",\"\",IF(D139<=15,VLOOKUP(B139,'Werte =<15°C'!$Q$2:$S$8,3,FALSE),VLOOKUP(B139,'Werte >15°C'!$Q$2:$S$8,3,FALSE)))","v":""},{"$f":"IF(Stammdaten!A142=\"\",\"\",U139*(E141-D139)+V139)","v":""},{"$f":"IF(Stammdaten!A142=\"\",\"\",C139+W139)","v":""}]
[{"$f":"Analysedaten!A137","v":""},{"$f":"IF(Stammdaten!A140=\"\",\"\",WEEKDAY(A140,2))","v":""},{"$f":"IF(Stammdaten!A140=\"\",\"\",Analysedaten!C137)","v":""},{"$f":"Analysedaten!D137","v":""},{"$f":"Analysedaten!E137","v":""},"","","","","","","","","","","","","","",null,{"$f":"IF(Stammdaten!A143=\"\",\"\",IF(D140<=15,VLOOKUP(B140,'Werte =<15°C'!$Q$2:$S$8,2,FALSE),VLOOKUP(B140,'Werte >15°C'!$Q$2:$S$8,2,FALSE)))","v":""},{"$f":"IF(Stammdaten!A143=\"\",\"\",IF(D140<=15,VLOOKUP(B140,'Werte =<15°C'!$Q$2:$S$8,3,FALSE),VLOOKUP(B140,'Werte >15°C'!$Q$2:$S$8,3,FALSE)))","v":""},{"$f":"IF(Stammdaten!A143=\"\",\"\",U140*(E142-D140)+V140)","v":""},{"$f":"IF(Stammdaten!A143=\"\",\"\",C140+W140)","v":""}]
[{"$f":"Analysedaten!A138","v":""},{"$f":"IF(Stammdaten!A141=\"\",\"\",WEEKDAY(A141,2))","v":""},{"$f":"IF(Stammdaten!A141=\"\",\"\",Analysedaten!C138)","v":""},{"$f":"Analysedaten!D138","v":""},{"$f":"Analysedaten!E138","v":""},"","","","","","","","","","","","","","",null,{"$f":"IF(Stammdaten!A144=\"\",\"\",IF(D141<=15,VLOOKUP(B141,'Werte =<15°C'!$Q$2:$S$8,2,FALSE),VLOOKUP(B141,'Werte >15°C'!$Q$2:$S$8,2,FALSE)))","v":""},{"$f":"IF(Stammdaten!A144=\"\",\"\",IF(D141<=15,VLOOKUP(B141,'Werte =<15°C'!$Q$2:$S$8,3,FALSE),VLOOKUP(B141,'Werte >15°C'!$Q$2:$S$8,3,FALSE)))","v":""},{"$f":"IF(Stammdaten!A144=\"\",\"\",U141*(E143-D141)+V141)","v":""},{"$f":"IF(Stammdaten!A144=\"\",\"\",C141+W141)","v":""}]
[{"$f":"Analysedaten!A139","v":""},{"$f":"IF(Stammdaten!A142=\"\",\"\",WEEKDAY(A142,2))","v":""},{"$f":"IF(Stammdaten!A142=\"\",\"\",Analysedaten!C139)","v":""},{"$f":"Analysedaten!D139","v":""},{"$f":"Analysedaten!E139","v":""},"","","","","","","","","","","","","","",null,{"$f":"IF(Stammdaten!A145=\"\",\"\",IF(D142<=15,VLOOKUP(B142,'Werte =<15°C'!$Q$2:$S$8,2,FALSE),VLOOKUP(B142,'Werte >15°C'!$Q$2:$S$8,2,FALSE)))","v":""},{"$f":"IF(Stammdaten!A145=\"\",\"\",IF(D142<=15,VLOOKUP(B142,'Werte =<15°C'!$Q$2:$S$8,3,FALSE),VLOOKUP(B142,'Werte >15°C'!$Q$2:$S$8,3,FALSE)))","v":""},{"$f":"IF(Stammdaten!A145=\"\",\"\",U142*(E144-D142)+V142)","v":""},{"$f":"IF(Stammdaten!A145=\"\",\"\",C142+W142)","v":""}]
[{"$f":"Analysedaten!A140","v":""},{"$f":"IF(Stammdaten!A143=\"\",\"\",WEEKDAY(A143,2))","v":""},{"$f":"IF(Stammdaten!A143=\"\",\"\",Analysedaten!C140)","v":""},{"$f":"Analysedaten!D140","v":""},{"$f":"Analysedaten!E140","v":""},"","","","","","","","","","","","","","",null,{"$f":"IF(Stammdaten!A146=\"\",\"\",IF(D143<=15,VLOOKUP(B143,'Werte =<15°C'!$Q$2:$S$8,2,FALSE),VLOOKUP(B143,'Werte >15°C'!$Q$2:$S$8,2,FALSE)))","v":""},{"$f":"IF(Stammdaten!A146=\"\",\"\",IF(D143<=15,VLOOKUP(B143,'Werte =<15°C'!$Q$2:$S$8,3,FALSE),VLOOKUP(B143,'Werte >15°C'!$Q$2:$S$8,3,FALSE)))","v":""},{"$f":"IF(Stammdaten!A146=\"\",\"\",U143*(E145-D143)+V143)","v":""},{"$f":"IF(Stammdaten!A146=\"\",\"\",C143+W143)","v":""}]
[{"$f":"Analysedaten!A141","v":""},{"$f":"IF(Stammdaten!A144=\"\",\"\",WEEKDAY(A144,2))","v":""},{"$f":"IF(Stammdaten!A144=\"\",\"\",Analysedaten!C141)","v":""},{"$f":"Analysedaten!D141","v":""},{"$f":"Analysedaten!E141","v":""},"","","","","","","","","","","","","","",null,{"$f":"IF(Stammdaten!A147=\"\",\"\",IF(D144<=15,VLOOKUP(B144,'Werte =<15°C'!$Q$2:$S$8,2,FALSE),VLOOKUP(B144,'Werte >15°C'!$Q$2:$S$8,2,FALSE)))","v":""},{"$f":"IF(Stammdaten!A147=\"\",\"\",IF(D144<=15,VLOOKUP(B144,'Werte =<15°C'!$Q$2:$S$8,3,FALSE),VLOOKUP(B144,'Werte >15°C'!$Q$2:$S$8,3,FALSE)))","v":""},{"$f":"IF(Stammdaten!A147=\"\",\"\",U144*(E146-D144)+V144)","v":""},{"$f":"IF(Stammdaten!A147=\"\",\"\",C144+W144)","v":""}]
[{"$f":"Analysedaten!A142","v":""},{"$f":"IF(Stammdaten!A145=\"\",\"\",WEEKDAY(A145,2))","v":""},{"$f":"IF(Stammdaten!A145=\"\",\"\",Analysedaten!C142)","v":""},{"$f":"Analysedaten!D142","v":""},{"$f":"Analysedaten!E142","v":""},"","","","","","","","","","","","","","",null,{"$f":"IF(Stammdaten!A148=\"\",\"\",IF(D145<=15,VLOOKUP(B145,'Werte =<15°C'!$Q$2:$S$8,2,FALSE),VLOOKUP(B145,'Werte >15°C'!$Q$2:$S$8,2,FALSE)))","v":""},{"$f":"IF(Stammdaten!A148=\"\",\"\",IF(D145<=15,VLOOKUP(B145,'Werte =<15°C'!$Q$2:$S$8,3,FALSE),VLOOKUP(B145,'Werte >15°C'!$Q$2:$S$8,3,FALSE)))","v":""},{"$f":"IF(Stammdaten!A148=\"\",\"\",U145*(E147-D145)+V145)","v":""},{"$f":"IF(Stammdaten!A148=\"\",\"\",C145+W145)","v":""}]
[{"$f":"Analysedaten!A143","v":""},{"$f":"IF(Stammdaten!A146=\"\",\"\",WEEKDAY(A146,2))","v":""},{"$f":"IF(Stammdaten!A146=\"\",\"\",Analysedaten!C143)","v":""},{"$f":"Analysedaten!D143","v":""},{"$f":"Analysedaten!E143","v":""},"","","","","","","","","","","","","","",null,{"$f":"IF(Stammdaten!A149=\"\",\"\",IF(D146<=15,VLOOKUP(B146,'Werte =<15°C'!$Q$2:$S$8,2,FALSE),VLOOKUP(B146,'Werte >15°C'!$Q$2:$S$8,2,FALSE)))","v":""},{"$f":"IF(Stammdaten!A149=\"\",\"\",IF(D146<=15,VLOOKUP(B146,'Werte =<15°C'!$Q$2:$S$8,3,FALSE),VLOOKUP(B146,'Werte >15°C'!$Q$2:$S$8,3,FALSE)))","v":""},{"$f":"IF(Stammdaten!A149=\"\",\"\",U146*(E148-D146)+V146)","v":""},{"$f":"IF(Stammdaten!A149=\"\",\"\",C146+W146)","v":""}]
[{"$f":"Analysedaten!A144","v":""},{"$f":"IF(Stammdaten!A147=\"\",\"\",WEEKDAY(A147,2))","v":""},{"$f":"IF(Stammdaten!A147=\"\",\"\",Analysedaten!C144)","v":""},{"$f":"Analysedaten!D144","v":""},{"$f":"Analysedaten!E144","v":""},"","","","","","","","","","","","","","",null,{"$f":"IF(Stammdaten!A150=\"\",\"\",IF(D147<=15,VLOOKUP(B147,'Werte =<15°C'!$Q$2:$S$8,2,FALSE),VLOOKUP(B147,'Werte >15°C'!$Q$2:$S$8,2,FALSE)))","v":""},{"$f":"IF(Stammdaten!A150=\"\",\"\",IF(D147<=15,VLOOKUP(B147,'Werte =<15°C'!$Q$2:$S$8,3,FALSE),VLOOKUP(B147,'Werte >15°C'!$Q$2:$S$8,3,FALSE)))","v":""},{"$f":"IF(Stammdaten!A150=\"\",\"\",U147*(E149-D147)+V147)","v":""},{"$f":"IF(Stammdaten!A150=\"\",\"\",C147+W147)","v":""}]
[{"$f":"Analysedaten!A145","v":""},{"$f":"IF(Stammdaten!A148=\"\",\"\",WEEKDAY(A148,2))","v":""},{"$f":"IF(Stammdaten!A148=\"\",\"\",Analysedaten!C145)","v":""},{"$f":"Analysedaten!D145","v":""},{"$f":"Analysedaten!E145","v":""},"","","","","","","","","","","","","","",null,{"$f":"IF(Stammdaten!A151=\"\",\"\",IF(D148<=15,VLOOKUP(B148,'Werte =<15°C'!$Q$2:$S$8,2,FALSE),VLOOKUP(B148,'Werte >15°C'!$Q$2:$S$8,2,FALSE)))","v":""},{"$f":"IF(Stammdaten!A151=\"\",\"\",IF(D148<=15,VLOOKUP(B148,'Werte =<15°C'!$Q$2:$S$8,3,FALSE),VLOOKUP(B148,'Werte >15°C'!$Q$2:$S$8,3,FALSE)))","v":""},{"$f":"IF(Stammdaten!A151=\"\",\"\",U148*(E150-D148)+V148)","v":""},{"$f":"IF(Stammdaten!A151=\"\",\"\",C148+W148)","v":""}]
[{"$f":"Analysedaten!A146","v":""},{"$f":"IF(Stammdaten!A149=\"\",\"\",WEEKDAY(A149,2))","v":""},{"$f":"IF(Stammdaten!A149=\"\",\"\",Analysedaten!C146)","v":""},{"$f":"Analysedaten!D146","v":""},{"$f":"Analysedaten!E146","v":""},"","","","","","","","","","","","","","",null,{"$f":"IF(Stammdaten!A152=\"\",\"\",IF(D149<=15,VLOOKUP(B149,'Werte =<15°C'!$Q$2:$S$8,2,FALSE),VLOOKUP(B149,'Werte >15°C'!$Q$2:$S$8,2,FALSE)))","v":""},{"$f":"IF(Stammdaten!A152=\"\",\"\",IF(D149<=15,VLOOKUP(B149,'Werte =<15°C'!$Q$2:$S$8,3,FALSE),VLOOKUP(B149,'Werte >15°C'!$Q$2:$S$8,3,FALSE)))","v":""},{"$f":"IF(Stammdaten!A152=\"\",\"\",U149*(E151-D149)+V149)","v":""},{"$f":"IF(Stammdaten!A152=\"\",\"\",C149+W149)","v":""}]
[{"$f":"Analysedaten!A147","v":""},{"$f":"IF(Stammdaten!A150=\"\",\"\",WEEKDAY(A150,2))","v":""},{"$f":"IF(Stammdaten!A150=\"\",\"\",Analysedaten!C147)","v":""},{"$f":"Analysedaten!D147","v":""},{"$f":"Analysedaten!E147","v":""},"","","","","","","","","","","","","","",null,{"$f":"IF(Stammdaten!A153=\"\",\"\",IF(D150<=15,VLOOKUP(B150,'Werte =<15°C'!$Q$2:$S$8,2,FALSE),VLOOKUP(B150,'Werte >15°C'!$Q$2:$S$8,2,FALSE)))","v":""},{"$f":"IF(Stammdaten!A153=\"\",\"\",IF(D150<=15,VLOOKUP(B150,'Werte =<15°C'!$Q$2:$S$8,3,FALSE),VLOOKUP(B150,'Werte >15°C'!$Q$2:$S$8,3,FALSE)))","v":""},{"$f":"IF(Stammdaten!A153=\"\",\"\",U150*(E152-D150)+V150)","v":""},{"$f":"IF(Stammdaten!A153=\"\",\"\",C150+W150)","v":""}]
[{"$f":"Analysedaten!A148","v":""},{"$f":"IF(Stammdaten!A151=\"\",\"\",WEEKDAY(A151,2))","v":""},{"$f":"IF(Stammdaten!A151=\"\",\"\",Analysedaten!C148)","v":""},{"$f":"Analysedaten!D148","v":""},{"$f":"Analysedaten!E148","v":""},"","","","","","","","","","","","","","",null,{"$f":"IF(Stammdaten!A154=\"\",\"\",IF(D151<=15,VLOOKUP(B151,'Werte =<15°C'!$Q$2:$S$8,2,FALSE),VLOOKUP(B151,'Werte >15°C'!$Q$2:$S$8,2,FALSE)))","v":""},{"$f":"IF(Stammdaten!A154=\"\",\"\",IF(D151<=15,VLOOKUP(B151,'Werte =<15°C'!$Q$2:$S$8,3,FALSE),VLOOKUP(B151,'Werte >15°C'!$Q$2:$S$8,3,FALSE)))","v":""},{"$f":"IF(Stammdaten!A154=\"\",\"\",U151*(E153-D151)+V151)","v":""},{"$f":"IF(Stammdaten!A154=\"\",\"\",C151+W151)","v":""}]
[{"$f":"Analysedaten!A149","v":""},{"$f":"IF(Stammdaten!A152=\"\",\"\",WEEKDAY(A152,2))","v":""},{"$f":"IF(Stammdaten!A152=\"\",\"\",Analysedaten!C149)","v":""},{"$f":"Analysedaten!D149","v":""},{"$f":"Analysedaten!E149","v":""},"","","","","","","","","","","","","","",null,{"$f":"IF(Stammdaten!A155=\"\",\"\",IF(D152<=15,VLOOKUP(B152,'Werte =<15°C'!$Q$2:$S$8,2,FALSE),VLOOKUP(B152,'Werte >15°C'!$Q$2:$S$8,2,FALSE)))","v":""},{"$f":"IF(Stammdaten!A155=\"\",\"\",IF(D152<=15,VLOOKUP(B152,'Werte =<15°C'!$Q$2:$S$8,3,FALSE),VLOOKUP(B152,'Werte >15°C'!$Q$2:$S$8,3,FALSE)))","v":""},{"$f":"IF(Stammdaten!A155=\"\",\"\",U152*(E154-D152)+V152)","v":""},{"$f":"IF(Stammdaten!A155=\"\",\"\",C152+W152)","v":""}]
[{"$f":"Analysedaten!A150","v":""},{"$f":"IF(Stammdaten!A153=\"\",\"\",WEEKDAY(A153,2))","v":""},{"$f":"IF(Stammdaten!A153=\"\",\"\",Analysedaten!C150)","v":""},{"$f":"Analysedaten!D150","v":""},{"$f":"Analysedaten!E150","v":""},"","","","","","","","","","","","","","",null,{"$f":"IF(Stammdaten!A156=\"\",\"\",IF(D153<=15,VLOOKUP(B153,'Werte =<15°C'!$Q$2:$S$8,2,FALSE),VLOOKUP(B153,'Werte >15°C'!$Q$2:$S$8,2,FALSE)))","v":""},{"$f":"IF(Stammdaten!A156=\"\",\"\",IF(D153<=15,VLOOKUP(B153,'Werte =<15°C'!$Q$2:$S$8,3,FALSE),VLOOKUP(B153,'Werte >15°C'!$Q$2:$S$8,3,FALSE)))","v":""},{"$f":"IF(Stammdaten!A156=\"\",\"\",U153*(E155-D153)+V153)","v":""},{"$f":"IF(Stammdaten!A156=\"\",\"\",C153+W153)","v":""}]
[{"$f":"Analysedaten!A151","v":""},{"$f":"IF(Stammdaten!A154=\"\",\"\",WEEKDAY(A154,2))","v":""},{"$f":"IF(Stammdaten!A154=\"\",\"\",Analysedaten!C151)","v":""},{"$f":"Analysedaten!D151","v":""},{"$f":"Analysedaten!E151","v":""},"","","","","","","","","","","","","","",null,{"$f":"IF(Stammdaten!A157=\"\",\"\",IF(D154<=15,VLOOKUP(B154,'Werte =<15°C'!$Q$2:$S$8,2,FALSE),VLOOKUP(B154,'Werte >15°C'!$Q$2:$S$8,2,FALSE)))","v":""},{"$f":"IF(Stammdaten!A157=\"\",\"\",IF(D154<=15,VLOOKUP(B154,'Werte =<15°C'!$Q$2:$S$8,3,FALSE),VLOOKUP(B154,'Werte >15°C'!$Q$2:$S$8,3,FALSE)))","v":""},{"$f":"IF(Stammdaten!A157=\"\",\"\",U154*(E156-D154)+V154)","v":""},{"$f":"IF(Stammdaten!A157=\"\",\"\",C154+W154)","v":""}]
[{"$f":"Analysedaten!A152","v":""},{"$f":"IF(Stammdaten!A155=\"\",\"\",WEEKDAY(A155,2))","v":""},{"$f":"IF(Stammdaten!A155=\"\",\"\",Analysedaten!C152)","v":""},{"$f":"Analysedaten!D152","v":""},{"$f":"Analysedaten!E152","v":""},"","","","","","","","","","","","","","",null,{"$f":"IF(Stammdaten!A158=\"\",\"\",IF(D155<=15,VLOOKUP(B155,'Werte =<15°C'!$Q$2:$S$8,2,FALSE),VLOOKUP(B155,'Werte >15°C'!$Q$2:$S$8,2,FALSE)))","v":""},{"$f":"IF(Stammdaten!A158=\"\",\"\",IF(D155<=15,VLOOKUP(B155,'Werte =<15°C'!$Q$2:$S$8,3,FALSE),VLOOKUP(B155,'Werte >15°C'!$Q$2:$S$8,3,FALSE)))","v":""},{"$f":"IF(Stammdaten!A158=\"\",\"\",U155*(E157-D155)+V155)","v":""},{"$f":"IF(Stammdaten!A158=\"\",\"\",C155+W155)","v":""}]
[{"$f":"Analysedaten!A153","v":""},{"$f":"IF(Stammdaten!A156=\"\",\"\",WEEKDAY(A156,2))","v":""},{"$f":"IF(Stammdaten!A156=\"\",\"\",Analysedaten!C153)","v":""},{"$f":"Analysedaten!D153","v":""},{"$f":"Analysedaten!E153","v":""},"","","","","","","","","","","","","","",null,{"$f":"IF(Stammdaten!A159=\"\",\"\",IF(D156<=15,VLOOKUP(B156,'Werte =<15°C'!$Q$2:$S$8,2,FALSE),VLOOKUP(B156,'Werte >15°C'!$Q$2:$S$8,2,FALSE)))","v":""},{"$f":"IF(Stammdaten!A159=\"\",\"\",IF(D156<=15,VLOOKUP(B156,'Werte =<15°C'!$Q$2:$S$8,3,FALSE),VLOOKUP(B156,'Werte >15°C'!$Q$2:$S$8,3,FALSE)))","v":""},{"$f":"IF(Stammdaten!A159=\"\",\"\",U156*(E158-D156)+V156)","v":""},{"$f":"IF(Stammdaten!A159=\"\",\"\",C156+W156)","v":""}]
[{"$f":"Analysedaten!A154","v":""},{"$f":"IF(Stammdaten!A157=\"\",\"\",WEEKDAY(A157,2))","v":""},{"$f":"IF(Stammdaten!A157=\"\",\"\",Analysedaten!C154)","v":""},{"$f":"Analysedaten!D154","v":""},{"$f":"Analysedaten!E154","v":""},"","","","","","","","","","","","","","",null,{"$f":"IF(Stammdaten!A160=\"\",\"\",IF(D157<=15,VLOOKUP(B157,'Werte =<15°C'!$Q$2:$S$8,2,FALSE),VLOOKUP(B157,'Werte >15°C'!$Q$2:$S$8,2,FALSE)))","v":""},{"$f":"IF(Stammdaten!A160=\"\",\"\",IF(D157<=15,VLOOKUP(B157,'Werte =<15°C'!$Q$2:$S$8,3,FALSE),VLOOKUP(B157,'Werte >15°C'!$Q$2:$S$8,3,FALSE)))","v":""},{"$f":"IF(Stammdaten!A160=\"\",\"\",U157*(E159-D157)+V157)","v":""},{"$f":"IF(Stammdaten!A160=\"\",\"\",C157+W157)","v":""}]
[{"$f":"Analysedaten!A155","v":""},{"$f":"IF(Stammdaten!A158=\"\",\"\",WEEKDAY(A158,2))","v":""},{"$f":"IF(Stammdaten!A158=\"\",\"\",Analysedaten!C155)","v":""},{"$f":"Analysedaten!D155","v":""},{"$f":"Analysedaten!E155","v":""},"","","","","","","","","","","","","","",null,{"$f":"IF(Stammdaten!A161=\"\",\"\",IF(D158<=15,VLOOKUP(B158,'Werte =<15°C'!$Q$2:$S$8,2,FALSE),VLOOKUP(B158,'Werte >15°C'!$Q$2:$S$8,2,FALSE)))","v":""},{"$f":"IF(Stammdaten!A161=\"\",\"\",IF(D158<=15,VLOOKUP(B158,'Werte =<15°C'!$Q$2:$S$8,3,FALSE),VLOOKUP(B158,'Werte >15°C'!$Q$2:$S$8,3,FALSE)))","v":""},{"$f":"IF(Stammdaten!A161=\"\",\"\",U158*(E160-D158)+V158)","v":""},{"$f":"IF(Stammdaten!A161=\"\",\"\",C158+W158)","v":""}]
[{"$f":"Analysedaten!A156","v":""},{"$f":"IF(Stammdaten!A159=\"\",\"\",WEEKDAY(A159,2))","v":""},{"$f":"IF(Stammdaten!A159=\"\",\"\",Analysedaten!C156)","v":""},{"$f":"Analysedaten!D156","v":""},{"$f":"Analysedaten!E156","v":""},"","","","","","","","","","","","","","",null,{"$f":"IF(Stammdaten!A162=\"\",\"\",IF(D159<=15,VLOOKUP(B159,'Werte =<15°C'!$Q$2:$S$8,2,FALSE),VLOOKUP(B159,'Werte >15°C'!$Q$2:$S$8,2,FALSE)))","v":""},{"$f":"IF(Stammdaten!A162=\"\",\"\",IF(D159<=15,VLOOKUP(B159,'Werte =<15°C'!$Q$2:$S$8,3,FALSE),VLOOKUP(B159,'Werte >15°C'!$Q$2:$S$8,3,FALSE)))","v":""},{"$f":"IF(Stammdaten!A162=\"\",\"\",U159*(E161-D159)+V159)","v":""},{"$f":"IF(Stammdaten!A162=\"\",\"\",C159+W159)","v":""}]
[{"$f":"Analysedaten!A157","v":""},{"$f":"IF(Stammdaten!A160=\"\",\"\",WEEKDAY(A160,2))","v":""},{"$f":"IF(Stammdaten!A160=\"\",\"\",Analysedaten!C157)","v":""},{"$f":"Analysedaten!D157","v":""},{"$f":"Analysedaten!E157","v":""},"","","","","","","","","","","","","","",null,{"$f":"IF(Stammdaten!A163=\"\",\"\",IF(D160<=15,VLOOKUP(B160,'Werte =<15°C'!$Q$2:$S$8,2,FALSE),VLOOKUP(B160,'Werte >15°C'!$Q$2:$S$8,2,FALSE)))","v":""},{"$f":"IF(Stammdaten!A163=\"\",\"\",IF(D160<=15,VLOOKUP(B160,'Werte =<15°C'!$Q$2:$S$8,3,FALSE),VLOOKUP(B160,'Werte >15°C'!$Q$2:$S$8,3,FALSE)))","v":""},{"$f":"IF(Stammdaten!A163=\"\",\"\",U160*(E162-D160)+V160)","v":""},{"$f":"IF(Stammdaten!A163=\"\",\"\",C160+W160)","v":""}]
[{"$f":"Analysedaten!A158","v":""},{"$f":"IF(Stammdaten!A161=\"\",\"\",WEEKDAY(A161,2))","v":""},{"$f":"IF(Stammdaten!A161=\"\",\"\",Analysedaten!C158)","v":""},{"$f":"Analysedaten!D158","v":""},{"$f":"Analysedaten!E158","v":""},"","","","","","","","","","","","","","",null,{"$f":"IF(Stammdaten!A164=\"\",\"\",IF(D161<=15,VLOOKUP(B161,'Werte =<15°C'!$Q$2:$S$8,2,FALSE),VLOOKUP(B161,'Werte >15°C'!$Q$2:$S$8,2,FALSE)))","v":""},{"$f":"IF(Stammdaten!A164=\"\",\"\",IF(D161<=15,VLOOKUP(B161,'Werte =<15°C'!$Q$2:$S$8,3,FALSE),VLOOKUP(B161,'Werte >15°C'!$Q$2:$S$8,3,FALSE)))","v":""},{"$f":"IF(Stammdaten!A164=\"\",\"\",U161*(E163-D161)+V161)","v":""},{"$f":"IF(Stammdaten!A164=\"\",\"\",C161+W161)","v":""}]
[{"$f":"Analysedaten!A159","v":""},{"$f":"IF(Stammdaten!A162=\"\",\"\",WEEKDAY(A162,2))","v":""},{"$f":"IF(Stammdaten!A162=\"\",\"\",Analysedaten!C159)","v":""},{"$f":"Analysedaten!D159","v":""},{"$f":"Analysedaten!E159","v":""},"","","","","","","","","","","","","","",null,{"$f":"IF(Stammdaten!A165=\"\",\"\",IF(D162<=15,VLOOKUP(B162,'Werte =<15°C'!$Q$2:$S$8,2,FALSE),VLOOKUP(B162,'Werte >15°C'!$Q$2:$S$8,2,FALSE)))","v":""},{"$f":"IF(Stammdaten!A165=\"\",\"\",IF(D162<=15,VLOOKUP(B162,'Werte =<15°C'!$Q$2:$S$8,3,FALSE),VLOOKUP(B162,'Werte >15°C'!$Q$2:$S$8,3,FALSE)))","v":""},{"$f":"IF(Stammdaten!A165=\"\",\"\",U162*(E164-D162)+V162)","v":""},{"$f":"IF(Stammdaten!A165=\"\",\"\",C162+W162)","v":""}]
[{"$f":"Analysedaten!A160","v":""},{"$f":"IF(Stammdaten!A163=\"\",\"\",WEEKDAY(A163,2))","v":""},{"$f":"IF(Stammdaten!A163=\"\",\"\",Analysedaten!C160)","v":""},{"$f":"Analysedaten!D160","v":""},{"$f":"Analysedaten!E160","v":""},"","","","","","","","","","","","","","",null,{"$f":"IF(Stammdaten!A166=\"\",\"\",IF(D163<=15,VLOOKUP(B163,'Werte =<15°C'!$Q$2:$S$8,2,FALSE),VLOOKUP(B163,'Werte >15°C'!$Q$2:$S$8,2,FALSE)))","v":""},{"$f":"IF(Stammdaten!A166=\"\",\"\",IF(D163<=15,VLOOKUP(B163,'Werte =<15°C'!$Q$2:$S$8,3,FALSE),VLOOKUP(B163,'Werte >15°C'!$Q$2:$S$8,3,FALSE)))","v":""},{"$f":"IF(Stammdaten!A166=\"\",\"\",U163*(E165-D163)+V163)","v":""},{"$f":"IF(Stammdaten!A166=\"\",\"\",C163+W163)","v":""}]
[{"$f":"Analysedaten!A161","v":""},{"$f":"IF(Stammdaten!A164=\"\",\"\",WEEKDAY(A164,2))","v":""},{"$f":"IF(Stammdaten!A164=\"\",\"\",Analysedaten!C161)","v":""},{"$f":"Analysedaten!D161","v":""},{"$f":"Analysedaten!E161","v":""},"","","","","","","","","","","","","","",null,{"$f":"IF(Stammdaten!A167=\"\",\"\",IF(D164<=15,VLOOKUP(B164,'Werte =<15°C'!$Q$2:$S$8,2,FALSE),VLOOKUP(B164,'Werte >15°C'!$Q$2:$S$8,2,FALSE)))","v":""},{"$f":"IF(Stammdaten!A167=\"\",\"\",IF(D164<=15,VLOOKUP(B164,'Werte =<15°C'!$Q$2:$S$8,3,FALSE),VLOOKUP(B164,'Werte >15°C'!$Q$2:$S$8,3,FALSE)))","v":""},{"$f":"IF(Stammdaten!A167=\"\",\"\",U164*(E166-D164)+V164)","v":""},{"$f":"IF(Stammdaten!A167=\"\",\"\",C164+W164)","v":""}]
[{"$f":"Analysedaten!A162","v":""},{"$f":"IF(Stammdaten!A165=\"\",\"\",WEEKDAY(A165,2))","v":""},{"$f":"IF(Stammdaten!A165=\"\",\"\",Analysedaten!C162)","v":""},{"$f":"Analysedaten!D162","v":""},{"$f":"Analysedaten!E162","v":""},"","","","","","","","","","","","","","",null,{"$f":"IF(Stammdaten!A168=\"\",\"\",IF(D165<=15,VLOOKUP(B165,'Werte =<15°C'!$Q$2:$S$8,2,FALSE),VLOOKUP(B165,'Werte >15°C'!$Q$2:$S$8,2,FALSE)))","v":""},{"$f":"IF(Stammdaten!A168=\"\",\"\",IF(D165<=15,VLOOKUP(B165,'Werte =<15°C'!$Q$2:$S$8,3,FALSE),VLOOKUP(B165,'Werte >15°C'!$Q$2:$S$8,3,FALSE)))","v":""},{"$f":"IF(Stammdaten!A168=\"\",\"\",U165*(E167-D165)+V165)","v":""},{"$f":"IF(Stammdaten!A168=\"\",\"\",C165+W165)","v":""}]
[{"$f":"Analysedaten!A163","v":""},{"$f":"IF(Stammdaten!A166=\"\",\"\",WEEKDAY(A166,2))","v":""},{"$f":"IF(Stammdaten!A166=\"\",\"\",Analysedaten!C163)","v":""},{"$f":"Analysedaten!D163","v":""},{"$f":"Analysedaten!E163","v":""},"","","","","","","","","","","","","","",null,{"$f":"IF(Stammdaten!A169=\"\",\"\",IF(D166<=15,VLOOKUP(B166,'Werte =<15°C'!$Q$2:$S$8,2,FALSE),VLOOKUP(B166,'Werte >15°C'!$Q$2:$S$8,2,FALSE)))","v":""},{"$f":"IF(Stammdaten!A169=\"\",\"\",IF(D166<=15,VLOOKUP(B166,'Werte =<15°C'!$Q$2:$S$8,3,FALSE),VLOOKUP(B166,'Werte >15°C'!$Q$2:$S$8,3,FALSE)))","v":""},{"$f":"IF(Stammdaten!A169=\"\",\"\",U166*(E168-D166)+V166)","v":""},{"$f":"IF(Stammdaten!A169=\"\",\"\",C166+W166)","v":""}]
[{"$f":"Analysedaten!A164","v":""},{"$f":"IF(Stammdaten!A167=\"\",\"\",WEEKDAY(A167,2))","v":""},{"$f":"IF(Stammdaten!A167=\"\",\"\",Analysedaten!C164)","v":""},{"$f":"Analysedaten!D164","v":""},{"$f":"Analysedaten!E164","v":""},"","","","","","","","","","","","","","",null,{"$f":"IF(Stammdaten!A170=\"\",\"\",IF(D167<=15,VLOOKUP(B167,'Werte =<15°C'!$Q$2:$S$8,2,FALSE),VLOOKUP(B167,'Werte >15°C'!$Q$2:$S$8,2,FALSE)))","v":""},{"$f":"IF(Stammdaten!A170=\"\",\"\",IF(D167<=15,VLOOKUP(B167,'Werte =<15°C'!$Q$2:$S$8,3,FALSE),VLOOKUP(B167,'Werte >15°C'!$Q$2:$S$8,3,FALSE)))","v":""},{"$f":"IF(Stammdaten!A170=\"\",\"\",U167*(E169-D167)+V167)","v":""},{"$f":"IF(Stammdaten!A170=\"\",\"\",C167+W167)","v":""}]
[{"$f":"Analysedaten!A165","v":""},{"$f":"IF(Stammdaten!A168=\"\",\"\",WEEKDAY(A168,2))","v":""},{"$f":"IF(Stammdaten!A168=\"\",\"\",Analysedaten!C165)","v":""},{"$f":"Analysedaten!D165","v":""},{"$f":"Analysedaten!E165","v":""},"","","","","","","","","","","","","","",null,{"$f":"IF(Stammdaten!A171=\"\",\"\",IF(D168<=15,VLOOKUP(B168,'Werte =<15°C'!$Q$2:$S$8,2,FALSE),VLOOKUP(B168,'Werte >15°C'!$Q$2:$S$8,2,FALSE)))","v":""},{"$f":"IF(Stammdaten!A171=\"\",\"\",IF(D168<=15,VLOOKUP(B168,'Werte =<15°C'!$Q$2:$S$8,3,FALSE),VLOOKUP(B168,'Werte >15°C'!$Q$2:$S$8,3,FALSE)))","v":""},{"$f":"IF(Stammdaten!A171=\"\",\"\",U168*(E170-D168)+V168)","v":""},{"$f":"IF(Stammdaten!A171=\"\",\"\",C168+W168)","v":""}]
[{"$f":"Analysedaten!A166","v":""},{"$f":"IF(Stammdaten!A169=\"\",\"\",WEEKDAY(A169,2))","v":""},{"$f":"IF(Stammdaten!A169=\"\",\"\",Analysedaten!C166)","v":""},{"$f":"Analysedaten!D166","v":""},{"$f":"Analysedaten!E166","v":""},"","","","","","","","","","","","","","",null,{"$f":"IF(Stammdaten!A172=\"\",\"\",IF(D169<=15,VLOOKUP(B169,'Werte =<15°C'!$Q$2:$S$8,2,FALSE),VLOOKUP(B169,'Werte >15°C'!$Q$2:$S$8,2,FALSE)))","v":""},{"$f":"IF(Stammdaten!A172=\"\",\"\",IF(D169<=15,VLOOKUP(B169,'Werte =<15°C'!$Q$2:$S$8,3,FALSE),VLOOKUP(B169,'Werte >15°C'!$Q$2:$S$8,3,FALSE)))","v":""},{"$f":"IF(Stammdaten!A172=\"\",\"\",U169*(E171-D169)+V169)","v":""},{"$f":"IF(Stammdaten!A172=\"\",\"\",C169+W169)","v":""}]
[{"$f":"Analysedaten!A167","v":""},{"$f":"IF(Stammdaten!A170=\"\",\"\",WEEKDAY(A170,2))","v":""},{"$f":"IF(Stammdaten!A170=\"\",\"\",Analysedaten!C167)","v":""},{"$f":"Analysedaten!D167","v":""},{"$f":"Analysedaten!E167","v":""},"","","","","","","","","","","","","","",null,{"$f":"IF(Stammdaten!A173=\"\",\"\",IF(D170<=15,VLOOKUP(B170,'Werte =<15°C'!$Q$2:$S$8,2,FALSE),VLOOKUP(B170,'Werte >15°C'!$Q$2:$S$8,2,FALSE)))","v":""},{"$f":"IF(Stammdaten!A173=\"\",\"\",IF(D170<=15,VLOOKUP(B170,'Werte =<15°C'!$Q$2:$S$8,3,FALSE),VLOOKUP(B170,'Werte >15°C'!$Q$2:$S$8,3,FALSE)))","v":""},{"$f":"IF(Stammdaten!A173=\"\",\"\",U170*(E172-D170)+V170)","v":""},{"$f":"IF(Stammdaten!A173=\"\",\"\",C170+W170)","v":""}]
[{"$f":"Analysedaten!A168","v":""},{"$f":"IF(Stammdaten!A171=\"\",\"\",WEEKDAY(A171,2))","v":""},{"$f":"IF(Stammdaten!A171=\"\",\"\",Analysedaten!C168)","v":""},{"$f":"Analysedaten!D168","v":""},{"$f":"Analysedaten!E168","v":""},"","","","","","","","","","","","","","",null,{"$f":"IF(Stammdaten!A174=\"\",\"\",IF(D171<=15,VLOOKUP(B171,'Werte =<15°C'!$Q$2:$S$8,2,FALSE),VLOOKUP(B171,'Werte >15°C'!$Q$2:$S$8,2,FALSE)))","v":""},{"$f":"IF(Stammdaten!A174=\"\",\"\",IF(D171<=15,VLOOKUP(B171,'Werte =<15°C'!$Q$2:$S$8,3,FALSE),VLOOKUP(B171,'Werte >15°C'!$Q$2:$S$8,3,FALSE)))","v":""},{"$f":"IF(Stammdaten!A174=\"\",\"\",U171*(E173-D171)+V171)","v":""},{"$f":"IF(Stammdaten!A174=\"\",\"\",C171+W171)","v":""}]
[{"$f":"Analysedaten!A169","v":""},{"$f":"IF(Stammdaten!A172=\"\",\"\",WEEKDAY(A172,2))","v":""},{"$f":"IF(Stammdaten!A172=\"\",\"\",Analysedaten!C169)","v":""},{"$f":"Analysedaten!D169","v":""},{"$f":"Analysedaten!E169","v":""},"","","","","","","","","","","","","","",null,{"$f":"IF(Stammdaten!A175=\"\",\"\",IF(D172<=15,VLOOKUP(B172,'Werte =<15°C'!$Q$2:$S$8,2,FALSE),VLOOKUP(B172,'Werte >15°C'!$Q$2:$S$8,2,FALSE)))","v":""},{"$f":"IF(Stammdaten!A175=\"\",\"\",IF(D172<=15,VLOOKUP(B172,'Werte =<15°C'!$Q$2:$S$8,3,FALSE),VLOOKUP(B172,'Werte >15°C'!$Q$2:$S$8,3,FALSE)))","v":""},{"$f":"IF(Stammdaten!A175=\"\",\"\",U172*(E174-D172)+V172)","v":""},{"$f":"IF(Stammdaten!A175=\"\",\"\",C172+W172)","v":""}]
[{"$f":"Analysedaten!A170","v":""},{"$f":"IF(Stammdaten!A173=\"\",\"\",WEEKDAY(A173,2))","v":""},{"$f":"IF(Stammdaten!A173=\"\",\"\",Analysedaten!C170)","v":""},{"$f":"Analysedaten!D170","v":""},{"$f":"Analysedaten!E170","v":""},"","","","","","","","","","","","","","",null,{"$f":"IF(Stammdaten!A176=\"\",\"\",IF(D173<=15,VLOOKUP(B173,'Werte =<15°C'!$Q$2:$S$8,2,FALSE),VLOOKUP(B173,'Werte >15°C'!$Q$2:$S$8,2,FALSE)))","v":""},{"$f":"IF(Stammdaten!A176=\"\",\"\",IF(D173<=15,VLOOKUP(B173,'Werte =<15°C'!$Q$2:$S$8,3,FALSE),VLOOKUP(B173,'Werte >15°C'!$Q$2:$S$8,3,FALSE)))","v":""},{"$f":"IF(Stammdaten!A176=\"\",\"\",U173*(E175-D173)+V173)","v":""},{"$f":"IF(Stammdaten!A176=\"\",\"\",C173+W173)","v":""}]
[{"$f":"Analysedaten!A171","v":""},{"$f":"IF(Stammdaten!A174=\"\",\"\",WEEKDAY(A174,2))","v":""},{"$f":"IF(Stammdaten!A174=\"\",\"\",Analysedaten!C171)","v":""},{"$f":"Analysedaten!D171","v":""},{"$f":"Analysedaten!E171","v":""},"","","","","","","","","","","","","","",null,{"$f":"IF(Stammdaten!A177=\"\",\"\",IF(D174<=15,VLOOKUP(B174,'Werte =<15°C'!$Q$2:$S$8,2,FALSE),VLOOKUP(B174,'Werte >15°C'!$Q$2:$S$8,2,FALSE)))","v":""},{"$f":"IF(Stammdaten!A177=\"\",\"\",IF(D174<=15,VLOOKUP(B174,'Werte =<15°C'!$Q$2:$S$8,3,FALSE),VLOOKUP(B174,'Werte >15°C'!$Q$2:$S$8,3,FALSE)))","v":""},{"$f":"IF(Stammdaten!A177=\"\",\"\",U174*(E176-D174)+V174)","v":""},{"$f":"IF(Stammdaten!A177=\"\",\"\",C174+W174)","v":""}]
[{"$f":"Analysedaten!A172","v":""},{"$f":"IF(Stammdaten!A175=\"\",\"\",WEEKDAY(A175,2))","v":""},{"$f":"IF(Stammdaten!A175=\"\",\"\",Analysedaten!C172)","v":""},{"$f":"Analysedaten!D172","v":""},{"$f":"Analysedaten!E172","v":""},"","","","","","","","","","","","","","",null,{"$f":"IF(Stammdaten!A178=\"\",\"\",IF(D175<=15,VLOOKUP(B175,'Werte =<15°C'!$Q$2:$S$8,2,FALSE),VLOOKUP(B175,'Werte >15°C'!$Q$2:$S$8,2,FALSE)))","v":""},{"$f":"IF(Stammdaten!A178=\"\",\"\",IF(D175<=15,VLOOKUP(B175,'Werte =<15°C'!$Q$2:$S$8,3,FALSE),VLOOKUP(B175,'Werte >15°C'!$Q$2:$S$8,3,FALSE)))","v":""},{"$f":"IF(Stammdaten!A178=\"\",\"\",U175*(E177-D175)+V175)","v":""},{"$f":"IF(Stammdaten!A178=\"\",\"\",C175+W175)","v":""}]
[{"$f":"Analysedaten!A173","v":""},{"$f":"IF(Stammdaten!A176=\"\",\"\",WEEKDAY(A176,2))","v":""},{"$f":"IF(Stammdaten!A176=\"\",\"\",Analysedaten!C173)","v":""},{"$f":"Analysedaten!D173","v":""},{"$f":"Analysedaten!E173","v":""},"","","","","","","","","","","","","","",null,{"$f":"IF(Stammdaten!A179=\"\",\"\",IF(D176<=15,VLOOKUP(B176,'Werte =<15°C'!$Q$2:$S$8,2,FALSE),VLOOKUP(B176,'Werte >15°C'!$Q$2:$S$8,2,FALSE)))","v":""},{"$f":"IF(Stammdaten!A179=\"\",\"\",IF(D176<=15,VLOOKUP(B176,'Werte =<15°C'!$Q$2:$S$8,3,FALSE),VLOOKUP(B176,'Werte >15°C'!$Q$2:$S$8,3,FALSE)))","v":""},{"$f":"IF(Stammdaten!A179=\"\",\"\",U176*(E178-D176)+V176)","v":""},{"$f":"IF(Stammdaten!A179=\"\",\"\",C176+W176)","v":""}]
[{"$f":"Analysedaten!A174","v":""},{"$f":"IF(Stammdaten!A177=\"\",\"\",WEEKDAY(A177,2))","v":""},{"$f":"IF(Stammdaten!A177=\"\",\"\",Analysedaten!C174)","v":""},{"$f":"Analysedaten!D174","v":""},{"$f":"Analysedaten!E174","v":""},"","","","","","","","","","","","","","",null,{"$f":"IF(Stammdaten!A180=\"\",\"\",IF(D177<=15,VLOOKUP(B177,'Werte =<15°C'!$Q$2:$S$8,2,FALSE),VLOOKUP(B177,'Werte >15°C'!$Q$2:$S$8,2,FALSE)))","v":""},{"$f":"IF(Stammdaten!A180=\"\",\"\",IF(D177<=15,VLOOKUP(B177,'Werte =<15°C'!$Q$2:$S$8,3,FALSE),VLOOKUP(B177,'Werte >15°C'!$Q$2:$S$8,3,FALSE)))","v":""},{"$f":"IF(Stammdaten!A180=\"\",\"\",U177*(E179-D177)+V177)","v":""},{"$f":"IF(Stammdaten!A180=\"\",\"\",C177+W177)","v":""}]
[{"$f":"Analysedaten!A175","v":""},{"$f":"IF(Stammdaten!A178=\"\",\"\",WEEKDAY(A178,2))","v":""},{"$f":"IF(Stammdaten!A178=\"\",\"\",Analysedaten!C175)","v":""},{"$f":"Analysedaten!D175","v":""},{"$f":"Analysedaten!E175","v":""},"","","","","","","","","","","","","","",null,{"$f":"IF(Stammdaten!A181=\"\",\"\",IF(D178<=15,VLOOKUP(B178,'Werte =<15°C'!$Q$2:$S$8,2,FALSE),VLOOKUP(B178,'Werte >15°C'!$Q$2:$S$8,2,FALSE)))","v":""},{"$f":"IF(Stammdaten!A181=\"\",\"\",IF(D178<=15,VLOOKUP(B178,'Werte =<15°C'!$Q$2:$S$8,3,FALSE),VLOOKUP(B178,'Werte >15°C'!$Q$2:$S$8,3,FALSE)))","v":""},{"$f":"IF(Stammdaten!A181=\"\",\"\",U178*(E180-D178)+V178)","v":""},{"$f":"IF(Stammdaten!A181=\"\",\"\",C178+W178)","v":""}]
[{"$f":"Analysedaten!A176","v":""},{"$f":"IF(Stammdaten!A179=\"\",\"\",WEEKDAY(A179,2))","v":""},{"$f":"IF(Stammdaten!A179=\"\",\"\",Analysedaten!C176)","v":""},{"$f":"Analysedaten!D176","v":""},{"$f":"Analysedaten!E176","v":""},"","","","","","","","","","","","","","",null,{"$f":"IF(Stammdaten!A182=\"\",\"\",IF(D179<=15,VLOOKUP(B179,'Werte =<15°C'!$Q$2:$S$8,2,FALSE),VLOOKUP(B179,'Werte >15°C'!$Q$2:$S$8,2,FALSE)))","v":""},{"$f":"IF(Stammdaten!A182=\"\",\"\",IF(D179<=15,VLOOKUP(B179,'Werte =<15°C'!$Q$2:$S$8,3,FALSE),VLOOKUP(B179,'Werte >15°C'!$Q$2:$S$8,3,FALSE)))","v":""},{"$f":"IF(Stammdaten!A182=\"\",\"\",U179*(E181-D179)+V179)","v":""},{"$f":"IF(Stammdaten!A182=\"\",\"\",C179+W179)","v":""}]
[{"$f":"Analysedaten!A177","v":""},{"$f":"IF(Stammdaten!A180=\"\",\"\",WEEKDAY(A180,2))","v":""},{"$f":"IF(Stammdaten!A180=\"\",\"\",Analysedaten!C177)","v":""},{"$f":"Analysedaten!D177","v":""},{"$f":"Analysedaten!E177","v":""},"","","","","","","","","","","","","","",null,{"$f":"IF(Stammdaten!A183=\"\",\"\",IF(D180<=15,VLOOKUP(B180,'Werte =<15°C'!$Q$2:$S$8,2,FALSE),VLOOKUP(B180,'Werte >15°C'!$Q$2:$S$8,2,FALSE)))","v":""},{"$f":"IF(Stammdaten!A183=\"\",\"\",IF(D180<=15,VLOOKUP(B180,'Werte =<15°C'!$Q$2:$S$8,3,FALSE),VLOOKUP(B180,'Werte >15°C'!$Q$2:$S$8,3,FALSE)))","v":""},{"$f":"IF(Stammdaten!A183=\"\",\"\",U180*(E182-D180)+V180)","v":""},{"$f":"IF(Stammdaten!A183=\"\",\"\",C180+W180)","v":""}]
[{"$f":"Analysedaten!A178","v":""},{"$f":"IF(Stammdaten!A181=\"\",\"\",WEEKDAY(A181,2))","v":""},{"$f":"IF(Stammdaten!A181=\"\",\"\",Analysedaten!C178)","v":""},{"$f":"Analysedaten!D178","v":""},{"$f":"Analysedaten!E178","v":""},"","","","","","","","","","","","","","",null,{"$f":"IF(Stammdaten!A184=\"\",\"\",IF(D181<=15,VLOOKUP(B181,'Werte =<15°C'!$Q$2:$S$8,2,FALSE),VLOOKUP(B181,'Werte >15°C'!$Q$2:$S$8,2,FALSE)))","v":""},{"$f":"IF(Stammdaten!A184=\"\",\"\",IF(D181<=15,VLOOKUP(B181,'Werte =<15°C'!$Q$2:$S$8,3,FALSE),VLOOKUP(B181,'Werte >15°C'!$Q$2:$S$8,3,FALSE)))","v":""},{"$f":"IF(Stammdaten!A184=\"\",\"\",U181*(E183-D181)+V181)","v":""},{"$f":"IF(Stammdaten!A184=\"\",\"\",C181+W181)","v":""}]
[{"$f":"Analysedaten!A179","v":""},{"$f":"IF(Stammdaten!A182=\"\",\"\",WEEKDAY(A182,2))","v":""},{"$f":"IF(Stammdaten!A182=\"\",\"\",Analysedaten!C179)","v":""},{"$f":"Analysedaten!D179","v":""},{"$f":"Analysedaten!E179","v":""},"","","","","","","","","","","","","","",null,{"$f":"IF(Stammdaten!A185=\"\",\"\",IF(D182<=15,VLOOKUP(B182,'Werte =<15°C'!$Q$2:$S$8,2,FALSE),VLOOKUP(B182,'Werte >15°C'!$Q$2:$S$8,2,FALSE)))","v":""},{"$f":"IF(Stammdaten!A185=\"\",\"\",IF(D182<=15,VLOOKUP(B182,'Werte =<15°C'!$Q$2:$S$8,3,FALSE),VLOOKUP(B182,'Werte >15°C'!$Q$2:$S$8,3,FALSE)))","v":""},{"$f":"IF(Stammdaten!A185=\"\",\"\",U182*(E184-D182)+V182)","v":""},{"$f":"IF(Stammdaten!A185=\"\",\"\",C182+W182)","v":""}]
[{"$f":"Analysedaten!A180","v":""},{"$f":"IF(Stammdaten!A183=\"\",\"\",WEEKDAY(A183,2))","v":""},{"$f":"IF(Stammdaten!A183=\"\",\"\",Analysedaten!C180)","v":""},{"$f":"Analysedaten!D180","v":""},{"$f":"Analysedaten!E180","v":""},"","","","","","","","","","","","","","",null,{"$f":"IF(Stammdaten!A186=\"\",\"\",IF(D183<=15,VLOOKUP(B183,'Werte =<15°C'!$Q$2:$S$8,2,FALSE),VLOOKUP(B183,'Werte >15°C'!$Q$2:$S$8,2,FALSE)))","v":""},{"$f":"IF(Stammdaten!A186=\"\",\"\",IF(D183<=15,VLOOKUP(B183,'Werte =<15°C'!$Q$2:$S$8,3,FALSE),VLOOKUP(B183,'Werte >15°C'!$Q$2:$S$8,3,FALSE)))","v":""},{"$f":"IF(Stammdaten!A186=\"\",\"\",U183*(E185-D183)+V183)","v":""},{"$f":"IF(Stammdaten!A186=\"\",\"\",C183+W183)","v":""}]
[{"$f":"Analysedaten!A181","v":""},{"$f":"IF(Stammdaten!A184=\"\",\"\",WEEKDAY(A184,2))","v":""},{"$f":"IF(Stammdaten!A184=\"\",\"\",Analysedaten!C181)","v":""},{"$f":"Analysedaten!D181","v":""},{"$f":"Analysedaten!E181","v":""},"","","","","","","","","","","","","","",null,{"$f":"IF(Stammdaten!A187=\"\",\"\",IF(D184<=15,VLOOKUP(B184,'Werte =<15°C'!$Q$2:$S$8,2,FALSE),VLOOKUP(B184,'Werte >15°C'!$Q$2:$S$8,2,FALSE)))","v":""},{"$f":"IF(Stammdaten!A187=\"\",\"\",IF(D184<=15,VLOOKUP(B184,'Werte =<15°C'!$Q$2:$S$8,3,FALSE),VLOOKUP(B184,'Werte >15°C'!$Q$2:$S$8,3,FALSE)))","v":""},{"$f":"IF(Stammdaten!A187=\"\",\"\",U184*(E186-D184)+V184)","v":""},{"$f":"IF(Stammdaten!A187=\"\",\"\",C184+W184)","v":""}]
[{"$f":"Analysedaten!A182","v":""},{"$f":"IF(Stammdaten!A185=\"\",\"\",WEEKDAY(A185,2))","v":""},{"$f":"IF(Stammdaten!A185=\"\",\"\",Analysedaten!C182)","v":""},{"$f":"Analysedaten!D182","v":""},{"$f":"Analysedaten!E182","v":""},"","","","","","","","","","","","","","",null,{"$f":"IF(Stammdaten!A188=\"\",\"\",IF(D185<=15,VLOOKUP(B185,'Werte =<15°C'!$Q$2:$S$8,2,FALSE),VLOOKUP(B185,'Werte >15°C'!$Q$2:$S$8,2,FALSE)))","v":""},{"$f":"IF(Stammdaten!A188=\"\",\"\",IF(D185<=15,VLOOKUP(B185,'Werte =<15°C'!$Q$2:$S$8,3,FALSE),VLOOKUP(B185,'Werte >15°C'!$Q$2:$S$8,3,FALSE)))","v":""},{"$f":"IF(Stammdaten!A188=\"\",\"\",U185*(E187-D185)+V185)","v":""},{"$f":"IF(Stammdaten!A188=\"\",\"\",C185+W185)","v":""}]
[{"$f":"Analysedaten!A183","v":""},{"$f":"IF(Stammdaten!A186=\"\",\"\",WEEKDAY(A186,2))","v":""},{"$f":"IF(Stammdaten!A186=\"\",\"\",Analysedaten!C183)","v":""},{"$f":"Analysedaten!D183","v":""},{"$f":"Analysedaten!E183","v":""},"","","","","","","","","","","","","","",null,{"$f":"IF(Stammdaten!A189=\"\",\"\",IF(D186<=15,VLOOKUP(B186,'Werte =<15°C'!$Q$2:$S$8,2,FALSE),VLOOKUP(B186,'Werte >15°C'!$Q$2:$S$8,2,FALSE)))","v":""},{"$f":"IF(Stammdaten!A189=\"\",\"\",IF(D186<=15,VLOOKUP(B186,'Werte =<15°C'!$Q$2:$S$8,3,FALSE),VLOOKUP(B186,'Werte >15°C'!$Q$2:$S$8,3,FALSE)))","v":""},{"$f":"IF(Stammdaten!A189=\"\",\"\",U186*(E188-D186)+V186)","v":""},{"$f":"IF(Stammdaten!A189=\"\",\"\",C186+W186)","v":""}]
[{"$f":"Analysedaten!A184","v":""},{"$f":"IF(Stammdaten!A187=\"\",\"\",WEEKDAY(A187,2))","v":""},{"$f":"IF(Stammdaten!A187=\"\",\"\",Analysedaten!C184)","v":""},{"$f":"Analysedaten!D184","v":""},{"$f":"Analysedaten!E184","v":""},"","","","","","","","","","","","","","",null,{"$f":"IF(Stammdaten!A190=\"\",\"\",IF(D187<=15,VLOOKUP(B187,'Werte =<15°C'!$Q$2:$S$8,2,FALSE),VLOOKUP(B187,'Werte >15°C'!$Q$2:$S$8,2,FALSE)))","v":""},{"$f":"IF(Stammdaten!A190=\"\",\"\",IF(D187<=15,VLOOKUP(B187,'Werte =<15°C'!$Q$2:$S$8,3,FALSE),VLOOKUP(B187,'Werte >15°C'!$Q$2:$S$8,3,FALSE)))","v":""},{"$f":"IF(Stammdaten!A190=\"\",\"\",U187*(E189-D187)+V187)","v":""},{"$f":"IF(Stammdaten!A190=\"\",\"\",C187+W187)","v":""}]
[{"$f":"Analysedaten!A185","v":""},{"$f":"IF(Stammdaten!A188=\"\",\"\",WEEKDAY(A188,2))","v":""},{"$f":"IF(Stammdaten!A188=\"\",\"\",Analysedaten!C185)","v":""},{"$f":"Analysedaten!D185","v":""},{"$f":"Analysedaten!E185","v":""},"","","","","","","","","","","","","","",null,{"$f":"IF(Stammdaten!A191=\"\",\"\",IF(D188<=15,VLOOKUP(B188,'Werte =<15°C'!$Q$2:$S$8,2,FALSE),VLOOKUP(B188,'Werte >15°C'!$Q$2:$S$8,2,FALSE)))","v":""},{"$f":"IF(Stammdaten!A191=\"\",\"\",IF(D188<=15,VLOOKUP(B188,'Werte =<15°C'!$Q$2:$S$8,3,FALSE),VLOOKUP(B188,'Werte >15°C'!$Q$2:$S$8,3,FALSE)))","v":""},{"$f":"IF(Stammdaten!A191=\"\",\"\",U188*(E190-D188)+V188)","v":""},{"$f":"IF(Stammdaten!A191=\"\",\"\",C188+W188)","v":""}]
[{"$f":"Analysedaten!A186","v":""},{"$f":"IF(Stammdaten!A189=\"\",\"\",WEEKDAY(A189,2))","v":""},{"$f":"IF(Stammdaten!A189=\"\",\"\",Analysedaten!C186)","v":""},{"$f":"Analysedaten!D186","v":""},{"$f":"Analysedaten!E186","v":""},"","","","","","","","","","","","","","",null,{"$f":"IF(Stammdaten!A192=\"\",\"\",IF(D189<=15,VLOOKUP(B189,'Werte =<15°C'!$Q$2:$S$8,2,FALSE),VLOOKUP(B189,'Werte >15°C'!$Q$2:$S$8,2,FALSE)))","v":""},{"$f":"IF(Stammdaten!A192=\"\",\"\",IF(D189<=15,VLOOKUP(B189,'Werte =<15°C'!$Q$2:$S$8,3,FALSE),VLOOKUP(B189,'Werte >15°C'!$Q$2:$S$8,3,FALSE)))","v":""},{"$f":"IF(Stammdaten!A192=\"\",\"\",U189*(E191-D189)+V189)","v":""},{"$f":"IF(Stammdaten!A192=\"\",\"\",C189+W189)","v":""}]
[{"$f":"Analysedaten!A187","v":""},{"$f":"IF(Stammdaten!A190=\"\",\"\",WEEKDAY(A190,2))","v":""},{"$f":"IF(Stammdaten!A190=\"\",\"\",Analysedaten!C187)","v":""},{"$f":"Analysedaten!D187","v":""},{"$f":"Analysedaten!E187","v":""},"","","","","","","","","","","","","","",null,{"$f":"IF(Stammdaten!A193=\"\",\"\",IF(D190<=15,VLOOKUP(B190,'Werte =<15°C'!$Q$2:$S$8,2,FALSE),VLOOKUP(B190,'Werte >15°C'!$Q$2:$S$8,2,FALSE)))","v":""},{"$f":"IF(Stammdaten!A193=\"\",\"\",IF(D190<=15,VLOOKUP(B190,'Werte =<15°C'!$Q$2:$S$8,3,FALSE),VLOOKUP(B190,'Werte >15°C'!$Q$2:$S$8,3,FALSE)))","v":""},{"$f":"IF(Stammdaten!A193=\"\",\"\",U190*(E192-D190)+V190)","v":""},{"$f":"IF(Stammdaten!A193=\"\",\"\",C190+W190)","v":""}]
[{"$f":"Analysedaten!A188","v":""},{"$f":"IF(Stammdaten!A191=\"\",\"\",WEEKDAY(A191,2))","v":""},{"$f":"IF(Stammdaten!A191=\"\",\"\",Analysedaten!C188)","v":""},{"$f":"Analysedaten!D188","v":""},{"$f":"Analysedaten!E188","v":""},"","","","","","","","","","","","","","",null,{"$f":"IF(Stammdaten!A194=\"\",\"\",IF(D191<=15,VLOOKUP(B191,'Werte =<15°C'!$Q$2:$S$8,2,FALSE),VLOOKUP(B191,'Werte >15°C'!$Q$2:$S$8,2,FALSE)))","v":""},{"$f":"IF(Stammdaten!A194=\"\",\"\",IF(D191<=15,VLOOKUP(B191,'Werte =<15°C'!$Q$2:$S$8,3,FALSE),VLOOKUP(B191,'Werte >15°C'!$Q$2:$S$8,3,FALSE)))","v":""},{"$f":"IF(Stammdaten!A194=\"\",\"\",U191*(E193-D191)+V191)","v":""},{"$f":"IF(Stammdaten!A194=\"\",\"\",C191+W191)","v":""}]
[{"$f":"Analysedaten!A189","v":""},{"$f":"IF(Stammdaten!A192=\"\",\"\",WEEKDAY(A192,2))","v":""},{"$f":"IF(Stammdaten!A192=\"\",\"\",Analysedaten!C189)","v":""},{"$f":"Analysedaten!D189","v":""},{"$f":"Analysedaten!E189","v":""},"","","","","","","","","","","","","","",null,{"$f":"IF(Stammdaten!A195=\"\",\"\",IF(D192<=15,VLOOKUP(B192,'Werte =<15°C'!$Q$2:$S$8,2,FALSE),VLOOKUP(B192,'Werte >15°C'!$Q$2:$S$8,2,FALSE)))","v":""},{"$f":"IF(Stammdaten!A195=\"\",\"\",IF(D192<=15,VLOOKUP(B192,'Werte =<15°C'!$Q$2:$S$8,3,FALSE),VLOOKUP(B192,'Werte >15°C'!$Q$2:$S$8,3,FALSE)))","v":""},{"$f":"IF(Stammdaten!A195=\"\",\"\",U192*(E194-D192)+V192)","v":""},{"$f":"IF(Stammdaten!A195=\"\",\"\",C192+W192)","v":""}]
[{"$f":"Analysedaten!A190","v":""},{"$f":"IF(Stammdaten!A193=\"\",\"\",WEEKDAY(A193,2))","v":""},{"$f":"IF(Stammdaten!A193=\"\",\"\",Analysedaten!C190)","v":""},{"$f":"Analysedaten!D190","v":""},{"$f":"Analysedaten!E190","v":""},"","","","","","","","","","","","","","",null,{"$f":"IF(Stammdaten!A196=\"\",\"\",IF(D193<=15,VLOOKUP(B193,'Werte =<15°C'!$Q$2:$S$8,2,FALSE),VLOOKUP(B193,'Werte >15°C'!$Q$2:$S$8,2,FALSE)))","v":""},{"$f":"IF(Stammdaten!A196=\"\",\"\",IF(D193<=15,VLOOKUP(B193,'Werte =<15°C'!$Q$2:$S$8,3,FALSE),VLOOKUP(B193,'Werte >15°C'!$Q$2:$S$8,3,FALSE)))","v":""},{"$f":"IF(Stammdaten!A196=\"\",\"\",U193*(E195-D193)+V193)","v":""},{"$f":"IF(Stammdaten!A196=\"\",\"\",C193+W193)","v":""}]
[{"$f":"Analysedaten!A191","v":""},{"$f":"IF(Stammdaten!A194=\"\",\"\",WEEKDAY(A194,2))","v":""},{"$f":"IF(Stammdaten!A194=\"\",\"\",Analysedaten!C191)","v":""},{"$f":"Analysedaten!D191","v":""},{"$f":"Analysedaten!E191","v":""},"","","","","","","","","","","","","","",null,{"$f":"IF(Stammdaten!A197=\"\",\"\",IF(D194<=15,VLOOKUP(B194,'Werte =<15°C'!$Q$2:$S$8,2,FALSE),VLOOKUP(B194,'Werte >15°C'!$Q$2:$S$8,2,FALSE)))","v":""},{"$f":"IF(Stammdaten!A197=\"\",\"\",IF(D194<=15,VLOOKUP(B194,'Werte =<15°C'!$Q$2:$S$8,3,FALSE),VLOOKUP(B194,'Werte >15°C'!$Q$2:$S$8,3,FALSE)))","v":""},{"$f":"IF(Stammdaten!A197=\"\",\"\",U194*(E196-D194)+V194)","v":""},{"$f":"IF(Stammdaten!A197=\"\",\"\",C194+W194)","v":""}]
[{"$f":"Analysedaten!A192","v":""},{"$f":"IF(Stammdaten!A195=\"\",\"\",WEEKDAY(A195,2))","v":""},{"$f":"IF(Stammdaten!A195=\"\",\"\",Analysedaten!C192)","v":""},{"$f":"Analysedaten!D192","v":""},{"$f":"Analysedaten!E192","v":""},"","","","","","","","","","","","","","",null,{"$f":"IF(Stammdaten!A198=\"\",\"\",IF(D195<=15,VLOOKUP(B195,'Werte =<15°C'!$Q$2:$S$8,2,FALSE),VLOOKUP(B195,'Werte >15°C'!$Q$2:$S$8,2,FALSE)))","v":""},{"$f":"IF(Stammdaten!A198=\"\",\"\",IF(D195<=15,VLOOKUP(B195,'Werte =<15°C'!$Q$2:$S$8,3,FALSE),VLOOKUP(B195,'Werte >15°C'!$Q$2:$S$8,3,FALSE)))","v":""},{"$f":"IF(Stammdaten!A198=\"\",\"\",U195*(E197-D195)+V195)","v":""},{"$f":"IF(Stammdaten!A198=\"\",\"\",C195+W195)","v":""}]
[{"$f":"Analysedaten!A193","v":""},{"$f":"IF(Stammdaten!A196=\"\",\"\",WEEKDAY(A196,2))","v":""},{"$f":"IF(Stammdaten!A196=\"\",\"\",Analysedaten!C193)","v":""},{"$f":"Analysedaten!D193","v":""},{"$f":"Analysedaten!E193","v":""},"","","","","","","","","","","","","","",null,{"$f":"IF(Stammdaten!A199=\"\",\"\",IF(D196<=15,VLOOKUP(B196,'Werte =<15°C'!$Q$2:$S$8,2,FALSE),VLOOKUP(B196,'Werte >15°C'!$Q$2:$S$8,2,FALSE)))","v":""},{"$f":"IF(Stammdaten!A199=\"\",\"\",IF(D196<=15,VLOOKUP(B196,'Werte =<15°C'!$Q$2:$S$8,3,FALSE),VLOOKUP(B196,'Werte >15°C'!$Q$2:$S$8,3,FALSE)))","v":""},{"$f":"IF(Stammdaten!A199=\"\",\"\",U196*(E198-D196)+V196)","v":""},{"$f":"IF(Stammdaten!A199=\"\",\"\",C196+W196)","v":""}]
[{"$f":"Analysedaten!A194","v":""},{"$f":"IF(Stammdaten!A197=\"\",\"\",WEEKDAY(A197,2))","v":""},{"$f":"IF(Stammdaten!A197=\"\",\"\",Analysedaten!C194)","v":""},{"$f":"Analysedaten!D194","v":""},{"$f":"Analysedaten!E194","v":""},{"$f":"IF(B199=1,(E199-D197),\"\")","v":""},{"$f":"IF(B199=1,(C199-C197),\"\")","v":""},{"$f":"IF(B199=2,(E199-D197),\"\")","v":""},{"$f":"IF(B199=2,(C199-C197),\"\")","v":""},{"$f":"IF(B199=3,(E199-D197),\"\")","v":""},{"$f":"IF(B199=3,(C199-C197),\"\")","v":""},{"$f":"IF(B199=4,(E199-D197),\"\")","v":""},{"$f":"IF(B199=4,(C199-C197),\"\")","v":""},{"$f":"IF(B199=5,(E199-D197),\"\")","v":""},{"$f":"IF(B199=5,(C199-C197),\"\")","v":""},{"$f":"IF(B199=6,(E199-D197),\"\")","v":""},{"$f":"IF(B199=6,(C199-C197),\"\")","v":""},{"$f":"IF(B199=7,(E199-D197),\"\")","v":""},{"$f":"IF(B199=7,(C199-C197),\"\")","v":""},null,{"$f":"IF(Stammdaten!A200=\"\",\"\",IF(D197<=15,VLOOKUP(B197,'Werte =<15°C'!$Q$2:$S$8,2,FALSE),VLOOKUP(B197,'Werte >15°C'!$Q$2:$S$8,2,FALSE)))","v":""},{"$f":"IF(Stammdaten!A200=\"\",\"\",IF(D197<=15,VLOOKUP(B197,'Werte =<15°C'!$Q$2:$S$8,3,FALSE),VLOOKUP(B197,'Werte >15°C'!$Q$2:$S$8,3,FALSE)))","v":""},{"$f":"IF(Stammdaten!A200=\"\",\"\",U197*(E199-D197)+V197)","v":""},{"$f":"IF(Stammdaten!A200=\"\",\"\",C197+W197)","v":""}]
[{"$f":"Analysedaten!A195","v":""},{"$f":"IF(Stammdaten!A198=\"\",\"\",WEEKDAY(A198,2))","v":""},{"$f":"IF(Stammdaten!A198=\"\",\"\",Analysedaten!C195)","v":""},{"$f":"Analysedaten!D195","v":""},{"$f":"Analysedaten!E195","v":""},"","","","","","","","","","","","","","",null,{"$f":"IF(Stammdaten!A201=\"\",\"\",IF(D198<=15,VLOOKUP(B198,'Werte =<15°C'!$Q$2:$S$8,2,FALSE),VLOOKUP(B198,'Werte >15°C'!$Q$2:$S$8,2,FALSE)))","v":""},{"$f":"IF(Stammdaten!A201=\"\",\"\",IF(D198<=15,VLOOKUP(B198,'Werte =<15°C'!$Q$2:$S$8,3,FALSE),VLOOKUP(B198,'Werte >15°C'!$Q$2:$S$8,3,FALSE)))","v":""},{"$f":"IF(Stammdaten!A201=\"\",\"\",U198*(E200-D198)+V198)","v":""},{"$f":"IF(Stammdaten!A201=\"\",\"\",C198+W198)","v":""}]
[{"$f":"Analysedaten!A196","v":""},{"$f":"IF(Stammdaten!A199=\"\",\"\",WEEKDAY(A199,2))","v":""},{"$f":"IF(Stammdaten!A199=\"\",\"\",Analysedaten!C196)","v":""},{"$f":"Analysedaten!D196","v":""},{"$f":"Analysedaten!E196","v":""},"","","","","","","","","","","","","","",null,{"$f":"IF(Stammdaten!A202=\"\",\"\",IF(D199<=15,VLOOKUP(B199,'Werte =<15°C'!$Q$2:$S$8,2,FALSE),VLOOKUP(B199,'Werte >15°C'!$Q$2:$S$8,2,FALSE)))","v":""},{"$f":"IF(Stammdaten!A202=\"\",\"\",IF(D199<=15,VLOOKUP(B199,'Werte =<15°C'!$Q$2:$S$8,3,FALSE),VLOOKUP(B199,'Werte >15°C'!$Q$2:$S$8,3,FALSE)))","v":""},{"$f":"IF(Stammdaten!A202=\"\",\"\",U199*(E201-D199)+V199)","v":""},{"$f":"IF(Stammdaten!A202=\"\",\"\",C199+W199)","v":""}]
[{"$f":"Analysedaten!A197","v":""},{"$f":"IF(Stammdaten!A200=\"\",\"\",WEEKDAY(A200,2))","v":""},{"$f":"IF(Stammdaten!A200=\"\",\"\",Analysedaten!C197)","v":""},{"$f":"Analysedaten!D197","v":""},{"$f":"Analysedaten!E197","v":""},"","","","","","","","","","","","","","",null,{"$f":"IF(Stammdaten!A203=\"\",\"\",IF(D200<=15,VLOOKUP(B200,'Werte =<15°C'!$Q$2:$S$8,2,FALSE),VLOOKUP(B200,'Werte >15°C'!$Q$2:$S$8,2,FALSE)))","v":""},{"$f":"IF(Stammdaten!A203=\"\",\"\",IF(D200<=15,VLOOKUP(B200,'Werte =<15°C'!$Q$2:$S$8,3,FALSE),VLOOKUP(B200,'Werte >15°C'!$Q$2:$S$8,3,FALSE)))","v":""},{"$f":"IF(Stammdaten!A203=\"\",\"\",U200*(E202-D200)+V200)","v":""},{"$f":"IF(Stammdaten!A203=\"\",\"\",C200+W200)","v":""}]
[{"$f":"Analysedaten!A198","v":""},{"$f":"IF(Stammdaten!A201=\"\",\"\",WEEKDAY(A201,2))","v":""},{"$f":"IF(Stammdaten!A201=\"\",\"\",Analysedaten!C198)","v":""},{"$f":"Analysedaten!D198","v":""},{"$f":"Analysedaten!E198","v":""},"","","","","","","","","","","","","","",null,{"$f":"IF(Stammdaten!A204=\"\",\"\",IF(D201<=15,VLOOKUP(B201,'Werte =<15°C'!$Q$2:$S$8,2,FALSE),VLOOKUP(B201,'Werte >15°C'!$Q$2:$S$8,2,FALSE)))","v":""},{"$f":"IF(Stammdaten!A204=\"\",\"\",IF(D201<=15,VLOOKUP(B201,'Werte =<15°C'!$Q$2:$S$8,3,FALSE),VLOOKUP(B201,'Werte >15°C'!$Q$2:$S$8,3,FALSE)))","v":""},{"$f":"IF(Stammdaten!A204=\"\",\"\",U201*(E203-D201)+V201)","v":""},{"$f":"IF(Stammdaten!A204=\"\",\"\",C201+W201)","v":""}]
[{"$f":"Analysedaten!A199","v":""},{"$f":"IF(Stammdaten!A202=\"\",\"\",WEEKDAY(A202,2))","v":""},{"$f":"IF(Stammdaten!A202=\"\",\"\",Analysedaten!C199)","v":""},{"$f":"Analysedaten!D199","v":""},{"$f":"Analysedaten!E199","v":""},"","","","","","","","","","","","","","",null,{"$f":"IF(Stammdaten!A205=\"\",\"\",IF(D202<=15,VLOOKUP(B202,'Werte =<15°C'!$Q$2:$S$8,2,FALSE),VLOOKUP(B202,'Werte >15°C'!$Q$2:$S$8,2,FALSE)))","v":""},{"$f":"IF(Stammdaten!A205=\"\",\"\",IF(D202<=15,VLOOKUP(B202,'Werte =<15°C'!$Q$2:$S$8,3,FALSE),VLOOKUP(B202,'Werte >15°C'!$Q$2:$S$8,3,FALSE)))","v":""},{"$f":"IF(Stammdaten!A205=\"\",\"\",U202*(E204-D202)+V202)","v":""},{"$f":"IF(Stammdaten!A205=\"\",\"\",C202+W202)","v":""}]
[{"$f":"Analysedaten!A200","v":""},{"$f":"IF(Stammdaten!A203=\"\",\"\",WEEKDAY(A203,2))","v":""},{"$f":"IF(Stammdaten!A203=\"\",\"\",Analysedaten!C200)","v":""},{"$f":"Analysedaten!D200","v":""},{"$f":"Analysedaten!E200","v":""},"","","","","","","","","","","","","","",null,{"$f":"IF(Stammdaten!A206=\"\",\"\",IF(D203<=15,VLOOKUP(B203,'Werte =<15°C'!$Q$2:$S$8,2,FALSE),VLOOKUP(B203,'Werte >15°C'!$Q$2:$S$8,2,FALSE)))","v":""},{"$f":"IF(Stammdaten!A206=\"\",\"\",IF(D203<=15,VLOOKUP(B203,'Werte =<15°C'!$Q$2:$S$8,3,FALSE),VLOOKUP(B203,'Werte >15°C'!$Q$2:$S$8,3,FALSE)))","v":""},{"$f":"IF(Stammdaten!A206=\"\",\"\",U203*(E205-D203)+V203)","v":""},{"$f":"IF(Stammdaten!A206=\"\",\"\",C203+W203)","v":""}]
[{"$f":"Analysedaten!A201","v":""},{"$f":"IF(Stammdaten!A204=\"\",\"\",WEEKDAY(A204,2))","v":""},{"$f":"IF(Stammdaten!A204=\"\",\"\",Analysedaten!C201)","v":""},{"$f":"Analysedaten!D201","v":""},{"$f":"Analysedaten!E201","v":""},"","","","","","","","","","","","","","",null,{"$f":"IF(Stammdaten!A207=\"\",\"\",IF(D204<=15,VLOOKUP(B204,'Werte =<15°C'!$Q$2:$S$8,2,FALSE),VLOOKUP(B204,'Werte >15°C'!$Q$2:$S$8,2,FALSE)))","v":""},{"$f":"IF(Stammdaten!A207=\"\",\"\",IF(D204<=15,VLOOKUP(B204,'Werte =<15°C'!$Q$2:$S$8,3,FALSE),VLOOKUP(B204,'Werte >15°C'!$Q$2:$S$8,3,FALSE)))","v":""},{"$f":"IF(Stammdaten!A207=\"\",\"\",U204*(E206-D204)+V204)","v":""},{"$f":"IF(Stammdaten!A207=\"\",\"\",C204+W204)","v":""}]
[{"$f":"Analysedaten!A202","v":""},{"$f":"IF(Stammdaten!A205=\"\",\"\",WEEKDAY(A205,2))","v":""},{"$f":"IF(Stammdaten!A205=\"\",\"\",Analysedaten!C202)","v":""},{"$f":"Analysedaten!D202","v":""},{"$f":"Analysedaten!E202","v":""},"","","","","","","","","","","","","","",null,{"$f":"IF(Stammdaten!A208=\"\",\"\",IF(D205<=15,VLOOKUP(B205,'Werte =<15°C'!$Q$2:$S$8,2,FALSE),VLOOKUP(B205,'Werte >15°C'!$Q$2:$S$8,2,FALSE)))","v":""},{"$f":"IF(Stammdaten!A208=\"\",\"\",IF(D205<=15,VLOOKUP(B205,'Werte =<15°C'!$Q$2:$S$8,3,FALSE),VLOOKUP(B205,'Werte >15°C'!$Q$2:$S$8,3,FALSE)))","v":""},{"$f":"IF(Stammdaten!A208=\"\",\"\",U205*(E207-D205)+V205)","v":""},{"$f":"IF(Stammdaten!A208=\"\",\"\",C205+W205)","v":""}]
[{"$f":"Analysedaten!A203","v":""},{"$f":"IF(Stammdaten!A206=\"\",\"\",WEEKDAY(A206,2))","v":""},{"$f":"IF(Stammdaten!A206=\"\",\"\",Analysedaten!C203)","v":""},{"$f":"Analysedaten!D203","v":""},{"$f":"Analysedaten!E203","v":""},"","","","","","","","","","","","","","",null,{"$f":"IF(Stammdaten!A209=\"\",\"\",IF(D206<=15,VLOOKUP(B206,'Werte =<15°C'!$Q$2:$S$8,2,FALSE),VLOOKUP(B206,'Werte >15°C'!$Q$2:$S$8,2,FALSE)))","v":""},{"$f":"IF(Stammdaten!A209=\"\",\"\",IF(D206<=15,VLOOKUP(B206,'Werte =<15°C'!$Q$2:$S$8,3,FALSE),VLOOKUP(B206,'Werte >15°C'!$Q$2:$S$8,3,FALSE)))","v":""},{"$f":"IF(Stammdaten!A209=\"\",\"\",U206*(E208-D206)+V206)","v":""},{"$f":"IF(Stammdaten!A209=\"\",\"\",C206+W206)","v":""}]
[{"$f":"Analysedaten!A204","v":""},{"$f":"IF(Stammdaten!A207=\"\",\"\",WEEKDAY(A207,2))","v":""},{"$f":"IF(Stammdaten!A207=\"\",\"\",Analysedaten!C204)","v":""},{"$f":"Analysedaten!D204","v":""},{"$f":"Analysedaten!E204","v":""},"","","","","","","","","","","","","","",null,{"$f":"IF(Stammdaten!A210=\"\",\"\",IF(D207<=15,VLOOKUP(B207,'Werte =<15°C'!$Q$2:$S$8,2,FALSE),VLOOKUP(B207,'Werte >15°C'!$Q$2:$S$8,2,FALSE)))","v":""},{"$f":"IF(Stammdaten!A210=\"\",\"\",IF(D207<=15,VLOOKUP(B207,'Werte =<15°C'!$Q$2:$S$8,3,FALSE),VLOOKUP(B207,'Werte >15°C'!$Q$2:$S$8,3,FALSE)))","v":""},{"$f":"IF(Stammdaten!A210=\"\",\"\",U207*(E209-D207)+V207)","v":""},{"$f":"IF(Stammdaten!A210=\"\",\"\",C207+W207)","v":""}]
[{"$f":"Analysedaten!A205","v":""},{"$f":"IF(Stammdaten!A208=\"\",\"\",WEEKDAY(A208,2))","v":""},{"$f":"IF(Stammdaten!A208=\"\",\"\",Analysedaten!C205)","v":""},{"$f":"Analysedaten!D205","v":""},{"$f":"Analysedaten!E205","v":""},"","","","","","","","","","","","","","",null,{"$f":"IF(Stammdaten!A211=\"\",\"\",IF(D208<=15,VLOOKUP(B208,'Werte =<15°C'!$Q$2:$S$8,2,FALSE),VLOOKUP(B208,'Werte >15°C'!$Q$2:$S$8,2,FALSE)))","v":""},{"$f":"IF(Stammdaten!A211=\"\",\"\",IF(D208<=15,VLOOKUP(B208,'Werte =<15°C'!$Q$2:$S$8,3,FALSE),VLOOKUP(B208,'Werte >15°C'!$Q$2:$S$8,3,FALSE)))","v":""},{"$f":"IF(Stammdaten!A211=\"\",\"\",U208*(E210-D208)+V208)","v":""},{"$f":"IF(Stammdaten!A211=\"\",\"\",C208+W208)","v":""}]
[{"$f":"Analysedaten!A206","v":""},{"$f":"IF(Stammdaten!A209=\"\",\"\",WEEKDAY(A209,2))","v":""},{"$f":"IF(Stammdaten!A209=\"\",\"\",Analysedaten!C206)","v":""},{"$f":"Analysedaten!D206","v":""},{"$f":"Analysedaten!E206","v":""},"","","","","","","","","","","","","","",null,{"$f":"IF(Stammdaten!A212=\"\",\"\",IF(D209<=15,VLOOKUP(B209,'Werte =<15°C'!$Q$2:$S$8,2,FALSE),VLOOKUP(B209,'Werte >15°C'!$Q$2:$S$8,2,FALSE)))","v":""},{"$f":"IF(Stammdaten!A212=\"\",\"\",IF(D209<=15,VLOOKUP(B209,'Werte =<15°C'!$Q$2:$S$8,3,FALSE),VLOOKUP(B209,'Werte >15°C'!$Q$2:$S$8,3,FALSE)))","v":""},{"$f":"IF(Stammdaten!A212=\"\",\"\",U209*(E211-D209)+V209)","v":""},{"$f":"IF(Stammdaten!A212=\"\",\"\",C209+W209)","v":""}]
[{"$f":"Analysedaten!A207","v":""},{"$f":"IF(Stammdaten!A210=\"\",\"\",WEEKDAY(A210,2))","v":""},{"$f":"IF(Stammdaten!A210=\"\",\"\",Analysedaten!C207)","v":""},{"$f":"Analysedaten!D207","v":""},{"$f":"Analysedaten!E207","v":""},"","","","","","","","","","","","","","",null,{"$f":"IF(Stammdaten!A213=\"\",\"\",IF(D210<=15,VLOOKUP(B210,'Werte =<15°C'!$Q$2:$S$8,2,FALSE),VLOOKUP(B210,'Werte >15°C'!$Q$2:$S$8,2,FALSE)))","v":""},{"$f":"IF(Stammdaten!A213=\"\",\"\",IF(D210<=15,VLOOKUP(B210,'Werte =<15°C'!$Q$2:$S$8,3,FALSE),VLOOKUP(B210,'Werte >15°C'!$Q$2:$S$8,3,FALSE)))","v":""},{"$f":"IF(Stammdaten!A213=\"\",\"\",U210*(E212-D210)+V210)","v":""},{"$f":"IF(Stammdaten!A213=\"\",\"\",C210+W210)","v":""}]
[{"$f":"Analysedaten!A208","v":""},{"$f":"IF(Stammdaten!A211=\"\",\"\",WEEKDAY(A211,2))","v":""},{"$f":"IF(Stammdaten!A211=\"\",\"\",Analysedaten!C208)","v":""},{"$f":"Analysedaten!D208","v":""},{"$f":"Analysedaten!E208","v":""},"","","","","","","","","","","","","","",null,{"$f":"IF(Stammdaten!A214=\"\",\"\",IF(D211<=15,VLOOKUP(B211,'Werte =<15°C'!$Q$2:$S$8,2,FALSE),VLOOKUP(B211,'Werte >15°C'!$Q$2:$S$8,2,FALSE)))","v":""},{"$f":"IF(Stammdaten!A214=\"\",\"\",IF(D211<=15,VLOOKUP(B211,'Werte =<15°C'!$Q$2:$S$8,3,FALSE),VLOOKUP(B211,'Werte >15°C'!$Q$2:$S$8,3,FALSE)))","v":""},{"$f":"IF(Stammdaten!A214=\"\",\"\",U211*(E213-D211)+V211)","v":""},{"$f":"IF(Stammdaten!A214=\"\",\"\",C211+W211)","v":""}]
[{"$f":"Analysedaten!A209","v":""},{"$f":"IF(Stammdaten!A212=\"\",\"\",WEEKDAY(A212,2))","v":""},{"$f":"IF(Stammdaten!A212=\"\",\"\",Analysedaten!C209)","v":""},{"$f":"Analysedaten!D209","v":""},{"$f":"Analysedaten!E209","v":""},"","","","","","","","","","","","","","",null,{"$f":"IF(Stammdaten!A215=\"\",\"\",IF(D212<=15,VLOOKUP(B212,'Werte =<15°C'!$Q$2:$S$8,2,FALSE),VLOOKUP(B212,'Werte >15°C'!$Q$2:$S$8,2,FALSE)))","v":""},{"$f":"IF(Stammdaten!A215=\"\",\"\",IF(D212<=15,VLOOKUP(B212,'Werte =<15°C'!$Q$2:$S$8,3,FALSE),VLOOKUP(B212,'Werte >15°C'!$Q$2:$S$8,3,FALSE)))","v":""},{"$f":"IF(Stammdaten!A215=\"\",\"\",U212*(E214-D212)+V212)","v":""},{"$f":"IF(Stammdaten!A215=\"\",\"\",C212+W212)","v":""}]
[{"$f":"Analysedaten!A210","v":""},{"$f":"IF(Stammdaten!A213=\"\",\"\",WEEKDAY(A213,2))","v":""},{"$f":"IF(Stammdaten!A213=\"\",\"\",Analysedaten!C210)","v":""},{"$f":"Analysedaten!D210","v":""},{"$f":"Analysedaten!E210","v":""},"","","","","","","","","","","","","","",null,{"$f":"IF(Stammdaten!A216=\"\",\"\",IF(D213<=15,VLOOKUP(B213,'Werte =<15°C'!$Q$2:$S$8,2,FALSE),VLOOKUP(B213,'Werte >15°C'!$Q$2:$S$8,2,FALSE)))","v":""},{"$f":"IF(Stammdaten!A216=\"\",\"\",IF(D213<=15,VLOOKUP(B213,'Werte =<15°C'!$Q$2:$S$8,3,FALSE),VLOOKUP(B213,'Werte >15°C'!$Q$2:$S$8,3,FALSE)))","v":""},{"$f":"IF(Stammdaten!A216=\"\",\"\",U213*(E215-D213)+V213)","v":""},{"$f":"IF(Stammdaten!A216=\"\",\"\",C213+W213)","v":""}]
[{"$f":"Analysedaten!A211","v":""},{"$f":"IF(Stammdaten!A214=\"\",\"\",WEEKDAY(A214,2))","v":""},{"$f":"IF(Stammdaten!A214=\"\",\"\",Analysedaten!C211)","v":""},{"$f":"Analysedaten!D211","v":""},{"$f":"Analysedaten!E211","v":""},"","","","","","","","","","","","","","",null,{"$f":"IF(Stammdaten!A217=\"\",\"\",IF(D214<=15,VLOOKUP(B214,'Werte =<15°C'!$Q$2:$S$8,2,FALSE),VLOOKUP(B214,'Werte >15°C'!$Q$2:$S$8,2,FALSE)))","v":""},{"$f":"IF(Stammdaten!A217=\"\",\"\",IF(D214<=15,VLOOKUP(B214,'Werte =<15°C'!$Q$2:$S$8,3,FALSE),VLOOKUP(B214,'Werte >15°C'!$Q$2:$S$8,3,FALSE)))","v":""},{"$f":"IF(Stammdaten!A217=\"\",\"\",U214*(E216-D214)+V214)","v":""},{"$f":"IF(Stammdaten!A217=\"\",\"\",C214+W214)","v":""}]
[{"$f":"Analysedaten!A212","v":""},{"$f":"IF(Stammdaten!A215=\"\",\"\",WEEKDAY(A215,2))","v":""},{"$f":"IF(Stammdaten!A215=\"\",\"\",Analysedaten!C212)","v":""},{"$f":"Analysedaten!D212","v":""},{"$f":"Analysedaten!E212","v":""},"","","","","","","","","","","","","","",null,{"$f":"IF(Stammdaten!A218=\"\",\"\",IF(D215<=15,VLOOKUP(B215,'Werte =<15°C'!$Q$2:$S$8,2,FALSE),VLOOKUP(B215,'Werte >15°C'!$Q$2:$S$8,2,FALSE)))","v":""},{"$f":"IF(Stammdaten!A218=\"\",\"\",IF(D215<=15,VLOOKUP(B215,'Werte =<15°C'!$Q$2:$S$8,3,FALSE),VLOOKUP(B215,'Werte >15°C'!$Q$2:$S$8,3,FALSE)))","v":""},{"$f":"IF(Stammdaten!A218=\"\",\"\",U215*(E217-D215)+V215)","v":""},{"$f":"IF(Stammdaten!A218=\"\",\"\",C215+W215)","v":""}]
[{"$f":"Analysedaten!A213","v":""},{"$f":"IF(Stammdaten!A216=\"\",\"\",WEEKDAY(A216,2))","v":""},{"$f":"IF(Stammdaten!A216=\"\",\"\",Analysedaten!C213)","v":""},{"$f":"Analysedaten!D213","v":""},{"$f":"Analysedaten!E213","v":""},"","","","","","","","","","","","","","",null,{"$f":"IF(Stammdaten!A219=\"\",\"\",IF(D216<=15,VLOOKUP(B216,'Werte =<15°C'!$Q$2:$S$8,2,FALSE),VLOOKUP(B216,'Werte >15°C'!$Q$2:$S$8,2,FALSE)))","v":""},{"$f":"IF(Stammdaten!A219=\"\",\"\",IF(D216<=15,VLOOKUP(B216,'Werte =<15°C'!$Q$2:$S$8,3,FALSE),VLOOKUP(B216,'Werte >15°C'!$Q$2:$S$8,3,FALSE)))","v":""},{"$f":"IF(Stammdaten!A219=\"\",\"\",U216*(E218-D216)+V216)","v":""},{"$f":"IF(Stammdaten!A219=\"\",\"\",C216+W216)","v":""}]
[{"$f":"Analysedaten!A214","v":""},{"$f":"IF(Stammdaten!A217=\"\",\"\",WEEKDAY(A217,2))","v":""},{"$f":"IF(Stammdaten!A217=\"\",\"\",Analysedaten!C214)","v":""},{"$f":"Analysedaten!D214","v":""},{"$f":"Analysedaten!E214","v":""},"","","","","","","","","","","","","","",null,{"$f":"IF(Stammdaten!A220=\"\",\"\",IF(D217<=15,VLOOKUP(B217,'Werte =<15°C'!$Q$2:$S$8,2,FALSE),VLOOKUP(B217,'Werte >15°C'!$Q$2:$S$8,2,FALSE)))","v":""},{"$f":"IF(Stammdaten!A220=\"\",\"\",IF(D217<=15,VLOOKUP(B217,'Werte =<15°C'!$Q$2:$S$8,3,FALSE),VLOOKUP(B217,'Werte >15°C'!$Q$2:$S$8,3,FALSE)))","v":""},{"$f":"IF(Stammdaten!A220=\"\",\"\",U217*(E219-D217)+V217)","v":""},{"$f":"IF(Stammdaten!A220=\"\",\"\",C217+W217)","v":""}]
[{"$f":"Analysedaten!A215","v":""},{"$f":"IF(Stammdaten!A218=\"\",\"\",WEEKDAY(A218,2))","v":""},{"$f":"IF(Stammdaten!A218=\"\",\"\",Analysedaten!C215)","v":""},{"$f":"Analysedaten!D215","v":""},{"$f":"Analysedaten!E215","v":""},"","","","","","","","","","","","","","",null,{"$f":"IF(Stammdaten!A221=\"\",\"\",IF(D218<=15,VLOOKUP(B218,'Werte =<15°C'!$Q$2:$S$8,2,FALSE),VLOOKUP(B218,'Werte >15°C'!$Q$2:$S$8,2,FALSE)))","v":""},{"$f":"IF(Stammdaten!A221=\"\",\"\",IF(D218<=15,VLOOKUP(B218,'Werte =<15°C'!$Q$2:$S$8,3,FALSE),VLOOKUP(B218,'Werte >15°C'!$Q$2:$S$8,3,FALSE)))","v":""},{"$f":"IF(Stammdaten!A221=\"\",\"\",U218*(E220-D218)+V218)","v":""},{"$f":"IF(Stammdaten!A221=\"\",\"\",C218+W218)","v":""}]
[{"$f":"Analysedaten!A216","v":""},{"$f":"IF(Stammdaten!A219=\"\",\"\",WEEKDAY(A219,2))","v":""},{"$f":"IF(Stammdaten!A219=\"\",\"\",Analysedaten!C216)","v":""},{"$f":"Analysedaten!D216","v":""},{"$f":"Analysedaten!E216","v":""},"","","","","","","","","","","","","","",null,{"$f":"IF(Stammdaten!A222=\"\",\"\",IF(D219<=15,VLOOKUP(B219,'Werte =<15°C'!$Q$2:$S$8,2,FALSE),VLOOKUP(B219,'Werte >15°C'!$Q$2:$S$8,2,FALSE)))","v":""},{"$f":"IF(Stammdaten!A222=\"\",\"\",IF(D219<=15,VLOOKUP(B219,'Werte =<15°C'!$Q$2:$S$8,3,FALSE),VLOOKUP(B219,'Werte >15°C'!$Q$2:$S$8,3,FALSE)))","v":""},{"$f":"IF(Stammdaten!A222=\"\",\"\",U219*(E221-D219)+V219)","v":""},{"$f":"IF(Stammdaten!A222=\"\",\"\",C219+W219)","v":""}]
[{"$f":"Analysedaten!A217","v":""},{"$f":"IF(Stammdaten!A220=\"\",\"\",WEEKDAY(A220,2))","v":""},{"$f":"IF(Stammdaten!A220=\"\",\"\",Analysedaten!C217)","v":""},{"$f":"Analysedaten!D217","v":""},{"$f":"Analysedaten!E217","v":""},"","","","","","","","","","","","","","",null,{"$f":"IF(Stammdaten!A223=\"\",\"\",IF(D220<=15,VLOOKUP(B220,'Werte =<15°C'!$Q$2:$S$8,2,FALSE),VLOOKUP(B220,'Werte >15°C'!$Q$2:$S$8,2,FALSE)))","v":""},{"$f":"IF(Stammdaten!A223=\"\",\"\",IF(D220<=15,VLOOKUP(B220,'Werte =<15°C'!$Q$2:$S$8,3,FALSE),VLOOKUP(B220,'Werte >15°C'!$Q$2:$S$8,3,FALSE)))","v":""},{"$f":"IF(Stammdaten!A223=\"\",\"\",U220*(E222-D220)+V220)","v":""},{"$f":"IF(Stammdaten!A223=\"\",\"\",C220+W220)","v":""}]
[{"$f":"Analysedaten!A218","v":""},{"$f":"IF(Stammdaten!A221=\"\",\"\",WEEKDAY(A221,2))","v":""},{"$f":"IF(Stammdaten!A221=\"\",\"\",Analysedaten!C218)","v":""},{"$f":"Analysedaten!D218","v":""},{"$f":"Analysedaten!E218","v":""},"","","","","","","","","","","","","","",null,{"$f":"IF(Stammdaten!A224=\"\",\"\",IF(D221<=15,VLOOKUP(B221,'Werte =<15°C'!$Q$2:$S$8,2,FALSE),VLOOKUP(B221,'Werte >15°C'!$Q$2:$S$8,2,FALSE)))","v":""},{"$f":"IF(Stammdaten!A224=\"\",\"\",IF(D221<=15,VLOOKUP(B221,'Werte =<15°C'!$Q$2:$S$8,3,FALSE),VLOOKUP(B221,'Werte >15°C'!$Q$2:$S$8,3,FALSE)))","v":""},{"$f":"IF(Stammdaten!A224=\"\",\"\",U221*(E223-D221)+V221)","v":""},{"$f":"IF(Stammdaten!A224=\"\",\"\",C221+W221)","v":""}]
[{"$f":"Analysedaten!A219","v":""},{"$f":"IF(Stammdaten!A222=\"\",\"\",WEEKDAY(A222,2))","v":""},{"$f":"IF(Stammdaten!A222=\"\",\"\",Analysedaten!C219)","v":""},{"$f":"Analysedaten!D219","v":""},{"$f":"Analysedaten!E219","v":""},"","","","","","","","","","","","","","",null,{"$f":"IF(Stammdaten!A225=\"\",\"\",IF(D222<=15,VLOOKUP(B222,'Werte =<15°C'!$Q$2:$S$8,2,FALSE),VLOOKUP(B222,'Werte >15°C'!$Q$2:$S$8,2,FALSE)))","v":""},{"$f":"IF(Stammdaten!A225=\"\",\"\",IF(D222<=15,VLOOKUP(B222,'Werte =<15°C'!$Q$2:$S$8,3,FALSE),VLOOKUP(B222,'Werte >15°C'!$Q$2:$S$8,3,FALSE)))","v":""},{"$f":"IF(Stammdaten!A225=\"\",\"\",U222*(E224-D222)+V222)","v":""},{"$f":"IF(Stammdaten!A225=\"\",\"\",C222+W222)","v":""}]
[{"$f":"Analysedaten!A220","v":""},{"$f":"IF(Stammdaten!A223=\"\",\"\",WEEKDAY(A223,2))","v":""},{"$f":"IF(Stammdaten!A223=\"\",\"\",Analysedaten!C220)","v":""},{"$f":"Analysedaten!D220","v":""},{"$f":"Analysedaten!E220","v":""},"","","","","","","","","","","","","","",null,{"$f":"IF(Stammdaten!A226=\"\",\"\",IF(D223<=15,VLOOKUP(B223,'Werte =<15°C'!$Q$2:$S$8,2,FALSE),VLOOKUP(B223,'Werte >15°C'!$Q$2:$S$8,2,FALSE)))","v":""},{"$f":"IF(Stammdaten!A226=\"\",\"\",IF(D223<=15,VLOOKUP(B223,'Werte =<15°C'!$Q$2:$S$8,3,FALSE),VLOOKUP(B223,'Werte >15°C'!$Q$2:$S$8,3,FALSE)))","v":""},{"$f":"IF(Stammdaten!A226=\"\",\"\",U223*(E225-D223)+V223)","v":""},{"$f":"IF(Stammdaten!A226=\"\",\"\",C223+W223)","v":""}]
[{"$f":"Analysedaten!A221","v":""},{"$f":"IF(Stammdaten!A224=\"\",\"\",WEEKDAY(A224,2))","v":""},{"$f":"IF(Stammdaten!A224=\"\",\"\",Analysedaten!C221)","v":""},{"$f":"Analysedaten!D221","v":""},{"$f":"Analysedaten!E221","v":""},"","","","","","","","","","","","","","",null,{"$f":"IF(Stammdaten!A227=\"\",\"\",IF(D224<=15,VLOOKUP(B224,'Werte =<15°C'!$Q$2:$S$8,2,FALSE),VLOOKUP(B224,'Werte >15°C'!$Q$2:$S$8,2,FALSE)))","v":""},{"$f":"IF(Stammdaten!A227=\"\",\"\",IF(D224<=15,VLOOKUP(B224,'Werte =<15°C'!$Q$2:$S$8,3,FALSE),VLOOKUP(B224,'Werte >15°C'!$Q$2:$S$8,3,FALSE)))","v":""},{"$f":"IF(Stammdaten!A227=\"\",\"\",U224*(E226-D224)+V224)","v":""},{"$f":"IF(Stammdaten!A227=\"\",\"\",C224+W224)","v":""}]
[{"$f":"Analysedaten!A222","v":""},{"$f":"IF(Stammdaten!A225=\"\",\"\",WEEKDAY(A225,2))","v":""},{"$f":"IF(Stammdaten!A225=\"\",\"\",Analysedaten!C222)","v":""},{"$f":"Analysedaten!D222","v":""},{"$f":"Analysedaten!E222","v":""},"","","","","","","","","","","","","","",null,{"$f":"IF(Stammdaten!A228=\"\",\"\",IF(D225<=15,VLOOKUP(B225,'Werte =<15°C'!$Q$2:$S$8,2,FALSE),VLOOKUP(B225,'Werte >15°C'!$Q$2:$S$8,2,FALSE)))","v":""},{"$f":"IF(Stammdaten!A228=\"\",\"\",IF(D225<=15,VLOOKUP(B225,'Werte =<15°C'!$Q$2:$S$8,3,FALSE),VLOOKUP(B225,'Werte >15°C'!$Q$2:$S$8,3,FALSE)))","v":""},{"$f":"IF(Stammdaten!A228=\"\",\"\",U225*(E227-D225)+V225)","v":""},{"$f":"IF(Stammdaten!A228=\"\",\"\",C225+W225)","v":""}]
[{"$f":"Analysedaten!A223","v":""},{"$f":"IF(Stammdaten!A226=\"\",\"\",WEEKDAY(A226,2))","v":""},{"$f":"IF(Stammdaten!A226=\"\",\"\",Analysedaten!C223)","v":""},{"$f":"Analysedaten!D223","v":""},{"$f":"Analysedaten!E223","v":""},"","","","","","","","","","","","","","",null,{"$f":"IF(Stammdaten!A229=\"\",\"\",IF(D226<=15,VLOOKUP(B226,'Werte =<15°C'!$Q$2:$S$8,2,FALSE),VLOOKUP(B226,'Werte >15°C'!$Q$2:$S$8,2,FALSE)))","v":""},{"$f":"IF(Stammdaten!A229=\"\",\"\",IF(D226<=15,VLOOKUP(B226,'Werte =<15°C'!$Q$2:$S$8,3,FALSE),VLOOKUP(B226,'Werte >15°C'!$Q$2:$S$8,3,FALSE)))","v":""},{"$f":"IF(Stammdaten!A229=\"\",\"\",U226*(E228-D226)+V226)","v":""},{"$f":"IF(Stammdaten!A229=\"\",\"\",C226+W226)","v":""}]
[{"$f":"Analysedaten!A224","v":""},{"$f":"IF(Stammdaten!A227=\"\",\"\",WEEKDAY(A227,2))","v":""},{"$f":"IF(Stammdaten!A227=\"\",\"\",Analysedaten!C224)","v":""},{"$f":"Analysedaten!D224","v":""},{"$f":"Analysedaten!E224","v":""},"","","","","","","","","","","","","","",null,{"$f":"IF(Stammdaten!A230=\"\",\"\",IF(D227<=15,VLOOKUP(B227,'Werte =<15°C'!$Q$2:$S$8,2,FALSE),VLOOKUP(B227,'Werte >15°C'!$Q$2:$S$8,2,FALSE)))","v":""},{"$f":"IF(Stammdaten!A230=\"\",\"\",IF(D227<=15,VLOOKUP(B227,'Werte =<15°C'!$Q$2:$S$8,3,FALSE),VLOOKUP(B227,'Werte >15°C'!$Q$2:$S$8,3,FALSE)))","v":""},{"$f":"IF(Stammdaten!A230=\"\",\"\",U227*(E229-D227)+V227)","v":""},{"$f":"IF(Stammdaten!A230=\"\",\"\",C227+W227)","v":""}]
[{"$f":"Analysedaten!A225","v":""},{"$f":"IF(Stammdaten!A228=\"\",\"\",WEEKDAY(A228,2))","v":""},{"$f":"IF(Stammdaten!A228=\"\",\"\",Analysedaten!C225)","v":""},{"$f":"Analysedaten!D225","v":""},{"$f":"Analysedaten!E225","v":""},"","","","","","","","","","","","","","",null,{"$f":"IF(Stammdaten!A231=\"\",\"\",IF(D228<=15,VLOOKUP(B228,'Werte =<15°C'!$Q$2:$S$8,2,FALSE),VLOOKUP(B228,'Werte >15°C'!$Q$2:$S$8,2,FALSE)))","v":""},{"$f":"IF(Stammdaten!A231=\"\",\"\",IF(D228<=15,VLOOKUP(B228,'Werte =<15°C'!$Q$2:$S$8,3,FALSE),VLOOKUP(B228,'Werte >15°C'!$Q$2:$S$8,3,FALSE)))","v":""},{"$f":"IF(Stammdaten!A231=\"\",\"\",U228*(E230-D228)+V228)","v":""},{"$f":"IF(Stammdaten!A231=\"\",\"\",C228+W228)","v":""}]
[{"$f":"Analysedaten!A226","v":""},{"$f":"IF(Stammdaten!A229=\"\",\"\",WEEKDAY(A229,2))","v":""},{"$f":"IF(Stammdaten!A229=\"\",\"\",Analysedaten!C226)","v":""},{"$f":"Analysedaten!D226","v":""},{"$f":"Analysedaten!E226","v":""},"","","","","","","","","","","","","","",null,{"$f":"IF(Stammdaten!A232=\"\",\"\",IF(D229<=15,VLOOKUP(B229,'Werte =<15°C'!$Q$2:$S$8,2,FALSE),VLOOKUP(B229,'Werte >15°C'!$Q$2:$S$8,2,FALSE)))","v":""},{"$f":"IF(Stammdaten!A232=\"\",\"\",IF(D229<=15,VLOOKUP(B229,'Werte =<15°C'!$Q$2:$S$8,3,FALSE),VLOOKUP(B229,'Werte >15°C'!$Q$2:$S$8,3,FALSE)))","v":""},{"$f":"IF(Stammdaten!A232=\"\",\"\",U229*(E231-D229)+V229)","v":""},{"$f":"IF(Stammdaten!A232=\"\",\"\",C229+W229)","v":""}]
[{"$f":"Analysedaten!A227","v":""},{"$f":"IF(Stammdaten!A230=\"\",\"\",WEEKDAY(A230,2))","v":""},{"$f":"IF(Stammdaten!A230=\"\",\"\",Analysedaten!C227)","v":""},{"$f":"Analysedaten!D227","v":""},{"$f":"Analysedaten!E227","v":""},"","","","","","","","","","","","","","",null,{"$f":"IF(Stammdaten!A233=\"\",\"\",IF(D230<=15,VLOOKUP(B230,'Werte =<15°C'!$Q$2:$S$8,2,FALSE),VLOOKUP(B230,'Werte >15°C'!$Q$2:$S$8,2,FALSE)))","v":""},{"$f":"IF(Stammdaten!A233=\"\",\"\",IF(D230<=15,VLOOKUP(B230,'Werte =<15°C'!$Q$2:$S$8,3,FALSE),VLOOKUP(B230,'Werte >15°C'!$Q$2:$S$8,3,FALSE)))","v":""},{"$f":"IF(Stammdaten!A233=\"\",\"\",U230*(E232-D230)+V230)","v":""},{"$f":"IF(Stammdaten!A233=\"\",\"\",C230+W230)","v":""}]
[{"$f":"Analysedaten!A228","v":""},{"$f":"IF(Stammdaten!A231=\"\",\"\",WEEKDAY(A231,2))","v":""},{"$f":"IF(Stammdaten!A231=\"\",\"\",Analysedaten!C228)","v":""},{"$f":"Analysedaten!D228","v":""},{"$f":"Analysedaten!E228","v":""},"","","","","","","","","","","","","","",null,{"$f":"IF(Stammdaten!A234=\"\",\"\",IF(D231<=15,VLOOKUP(B231,'Werte =<15°C'!$Q$2:$S$8,2,FALSE),VLOOKUP(B231,'Werte >15°C'!$Q$2:$S$8,2,FALSE)))","v":""},{"$f":"IF(Stammdaten!A234=\"\",\"\",IF(D231<=15,VLOOKUP(B231,'Werte =<15°C'!$Q$2:$S$8,3,FALSE),VLOOKUP(B231,'Werte >15°C'!$Q$2:$S$8,3,FALSE)))","v":""},{"$f":"IF(Stammdaten!A234=\"\",\"\",U231*(E233-D231)+V231)","v":""},{"$f":"IF(Stammdaten!A234=\"\",\"\",C231+W231)","v":""}]
[{"$f":"Analysedaten!A229","v":""},{"$f":"IF(Stammdaten!A232=\"\",\"\",WEEKDAY(A232,2))","v":""},{"$f":"IF(Stammdaten!A232=\"\",\"\",Analysedaten!C229)","v":""},{"$f":"Analysedaten!D229","v":""},{"$f":"Analysedaten!E229","v":""},"","","","","","","","","","","","","","",null,{"$f":"IF(Stammdaten!A235=\"\",\"\",IF(D232<=15,VLOOKUP(B232,'Werte =<15°C'!$Q$2:$S$8,2,FALSE),VLOOKUP(B232,'Werte >15°C'!$Q$2:$S$8,2,FALSE)))","v":""},{"$f":"IF(Stammdaten!A235=\"\",\"\",IF(D232<=15,VLOOKUP(B232,'Werte =<15°C'!$Q$2:$S$8,3,FALSE),VLOOKUP(B232,'Werte >15°C'!$Q$2:$S$8,3,FALSE)))","v":""},{"$f":"IF(Stammdaten!A235=\"\",\"\",U232*(E234-D232)+V232)","v":""},{"$f":"IF(Stammdaten!A235=\"\",\"\",C232+W232)","v":""}]
[{"$f":"Analysedaten!A230","v":""},{"$f":"IF(Stammdaten!A233=\"\",\"\",WEEKDAY(A233,2))","v":""},{"$f":"IF(Stammdaten!A233=\"\",\"\",Analysedaten!C230)","v":""},{"$f":"Analysedaten!D230","v":""},{"$f":"Analysedaten!E230","v":""},"","","","","","","","","","","","","","",null,{"$f":"IF(Stammdaten!A236=\"\",\"\",IF(D233<=15,VLOOKUP(B233,'Werte =<15°C'!$Q$2:$S$8,2,FALSE),VLOOKUP(B233,'Werte >15°C'!$Q$2:$S$8,2,FALSE)))","v":""},{"$f":"IF(Stammdaten!A236=\"\",\"\",IF(D233<=15,VLOOKUP(B233,'Werte =<15°C'!$Q$2:$S$8,3,FALSE),VLOOKUP(B233,'Werte >15°C'!$Q$2:$S$8,3,FALSE)))","v":""},{"$f":"IF(Stammdaten!A236=\"\",\"\",U233*(E235-D233)+V233)","v":""},{"$f":"IF(Stammdaten!A236=\"\",\"\",C233+W233)","v":""}]
[{"$f":"Analysedaten!A231","v":""},{"$f":"IF(Stammdaten!A234=\"\",\"\",WEEKDAY(A234,2))","v":""},{"$f":"IF(Stammdaten!A234=\"\",\"\",Analysedaten!C231)","v":""},{"$f":"Analysedaten!D231","v":""},{"$f":"Analysedaten!E231","v":""},"","","","","","","","","","","","","","",null,{"$f":"IF(Stammdaten!A237=\"\",\"\",IF(D234<=15,VLOOKUP(B234,'Werte =<15°C'!$Q$2:$S$8,2,FALSE),VLOOKUP(B234,'Werte >15°C'!$Q$2:$S$8,2,FALSE)))","v":""},{"$f":"IF(Stammdaten!A237=\"\",\"\",IF(D234<=15,VLOOKUP(B234,'Werte =<15°C'!$Q$2:$S$8,3,FALSE),VLOOKUP(B234,'Werte >15°C'!$Q$2:$S$8,3,FALSE)))","v":""},{"$f":"IF(Stammdaten!A237=\"\",\"\",U234*(E236-D234)+V234)","v":""},{"$f":"IF(Stammdaten!A237=\"\",\"\",C234+W234)","v":""}]
[{"$f":"Analysedaten!A232","v":""},{"$f":"IF(Stammdaten!A235=\"\",\"\",WEEKDAY(A235,2))","v":""},{"$f":"IF(Stammdaten!A235=\"\",\"\",Analysedaten!C232)","v":""},{"$f":"Analysedaten!D232","v":""},{"$f":"Analysedaten!E232","v":""},"","","","","","","","","","","","","","",null,{"$f":"IF(Stammdaten!A238=\"\",\"\",IF(D235<=15,VLOOKUP(B235,'Werte =<15°C'!$Q$2:$S$8,2,FALSE),VLOOKUP(B235,'Werte >15°C'!$Q$2:$S$8,2,FALSE)))","v":""},{"$f":"IF(Stammdaten!A238=\"\",\"\",IF(D235<=15,VLOOKUP(B235,'Werte =<15°C'!$Q$2:$S$8,3,FALSE),VLOOKUP(B235,'Werte >15°C'!$Q$2:$S$8,3,FALSE)))","v":""},{"$f":"IF(Stammdaten!A238=\"\",\"\",U235*(E237-D235)+V235)","v":""},{"$f":"IF(Stammdaten!A238=\"\",\"\",C235+W235)","v":""}]
[{"$f":"Analysedaten!A233","v":""},{"$f":"IF(Stammdaten!A236=\"\",\"\",WEEKDAY(A236,2))","v":""},{"$f":"IF(Stammdaten!A236=\"\",\"\",Analysedaten!C233)","v":""},{"$f":"Analysedaten!D233","v":""},{"$f":"Analysedaten!E233","v":""},"","","","","","","","","","","","","","",null,{"$f":"IF(Stammdaten!A239=\"\",\"\",IF(D236<=15,VLOOKUP(B236,'Werte =<15°C'!$Q$2:$S$8,2,FALSE),VLOOKUP(B236,'Werte >15°C'!$Q$2:$S$8,2,FALSE)))","v":""},{"$f":"IF(Stammdaten!A239=\"\",\"\",IF(D236<=15,VLOOKUP(B236,'Werte =<15°C'!$Q$2:$S$8,3,FALSE),VLOOKUP(B236,'Werte >15°C'!$Q$2:$S$8,3,FALSE)))","v":""},{"$f":"IF(Stammdaten!A239=\"\",\"\",U236*(E238-D236)+V236)","v":""},{"$f":"IF(Stammdaten!A239=\"\",\"\",C236+W236)","v":""}]
[{"$f":"Analysedaten!A234","v":""},{"$f":"IF(Stammdaten!A237=\"\",\"\",WEEKDAY(A237,2))","v":""},{"$f":"IF(Stammdaten!A237=\"\",\"\",Analysedaten!C234)","v":""},{"$f":"Analysedaten!D234","v":""},{"$f":"Analysedaten!E234","v":""},"","","","","","","","","","","","","","",null,{"$f":"IF(Stammdaten!A240=\"\",\"\",IF(D237<=15,VLOOKUP(B237,'Werte =<15°C'!$Q$2:$S$8,2,FALSE),VLOOKUP(B237,'Werte >15°C'!$Q$2:$S$8,2,FALSE)))","v":""},{"$f":"IF(Stammdaten!A240=\"\",\"\",IF(D237<=15,VLOOKUP(B237,'Werte =<15°C'!$Q$2:$S$8,3,FALSE),VLOOKUP(B237,'Werte >15°C'!$Q$2:$S$8,3,FALSE)))","v":""},{"$f":"IF(Stammdaten!A240=\"\",\"\",U237*(E239-D237)+V237)","v":""},{"$f":"IF(Stammdaten!A240=\"\",\"\",C237+W237)","v":""}]
[{"$f":"Analysedaten!A235","v":""},{"$f":"IF(Stammdaten!A238=\"\",\"\",WEEKDAY(A238,2))","v":""},{"$f":"IF(Stammdaten!A238=\"\",\"\",Analysedaten!C235)","v":""},{"$f":"Analysedaten!D235","v":""},{"$f":"Analysedaten!E235","v":""},"","","","","","","","","","","","","","",null,{"$f":"IF(Stammdaten!A241=\"\",\"\",IF(D238<=15,VLOOKUP(B238,'Werte =<15°C'!$Q$2:$S$8,2,FALSE),VLOOKUP(B238,'Werte >15°C'!$Q$2:$S$8,2,FALSE)))","v":""},{"$f":"IF(Stammdaten!A241=\"\",\"\",IF(D238<=15,VLOOKUP(B238,'Werte =<15°C'!$Q$2:$S$8,3,FALSE),VLOOKUP(B238,'Werte >15°C'!$Q$2:$S$8,3,FALSE)))","v":""},{"$f":"IF(Stammdaten!A241=\"\",\"\",U238*(E240-D238)+V238)","v":""},{"$f":"IF(Stammdaten!A241=\"\",\"\",C238+W238)","v":""}]
[{"$f":"Analysedaten!A236","v":""},{"$f":"IF(Stammdaten!A239=\"\",\"\",WEEKDAY(A239,2))","v":""},{"$f":"IF(Stammdaten!A239=\"\",\"\",Analysedaten!C236)","v":""},{"$f":"Analysedaten!D236","v":""},{"$f":"Analysedaten!E236","v":""},"","","","","","","","","","","","","","",null,{"$f":"IF(Stammdaten!A242=\"\",\"\",IF(D239<=15,VLOOKUP(B239,'Werte =<15°C'!$Q$2:$S$8,2,FALSE),VLOOKUP(B239,'Werte >15°C'!$Q$2:$S$8,2,FALSE)))","v":""},{"$f":"IF(Stammdaten!A242=\"\",\"\",IF(D239<=15,VLOOKUP(B239,'Werte =<15°C'!$Q$2:$S$8,3,FALSE),VLOOKUP(B239,'Werte >15°C'!$Q$2:$S$8,3,FALSE)))","v":""},{"$f":"IF(Stammdaten!A242=\"\",\"\",U239*(E241-D239)+V239)","v":""},{"$f":"IF(Stammdaten!A242=\"\",\"\",C239+W239)","v":""}]
[{"$f":"Analysedaten!A237","v":""},{"$f":"IF(Stammdaten!A240=\"\",\"\",WEEKDAY(A240,2))","v":""},{"$f":"IF(Stammdaten!A240=\"\",\"\",Analysedaten!C237)","v":""},{"$f":"Analysedaten!D237","v":""},{"$f":"Analysedaten!E237","v":""},"","","","","","","","","","","","","","",null,{"$f":"IF(Stammdaten!A243=\"\",\"\",IF(D240<=15,VLOOKUP(B240,'Werte =<15°C'!$Q$2:$S$8,2,FALSE),VLOOKUP(B240,'Werte >15°C'!$Q$2:$S$8,2,FALSE)))","v":""},{"$f":"IF(Stammdaten!A243=\"\",\"\",IF(D240<=15,VLOOKUP(B240,'Werte =<15°C'!$Q$2:$S$8,3,FALSE),VLOOKUP(B240,'Werte >15°C'!$Q$2:$S$8,3,FALSE)))","v":""},{"$f":"IF(Stammdaten!A243=\"\",\"\",U240*(E242-D240)+V240)","v":""},{"$f":"IF(Stammdaten!A243=\"\",\"\",C240+W240)","v":""}]
[{"$f":"Analysedaten!A238","v":""},{"$f":"IF(Stammdaten!A241=\"\",\"\",WEEKDAY(A241,2))","v":""},{"$f":"IF(Stammdaten!A241=\"\",\"\",Analysedaten!C238)","v":""},{"$f":"Analysedaten!D238","v":""},{"$f":"Analysedaten!E238","v":""},"","","","","","","","","","","","","","",null,{"$f":"IF(Stammdaten!A244=\"\",\"\",IF(D241<=15,VLOOKUP(B241,'Werte =<15°C'!$Q$2:$S$8,2,FALSE),VLOOKUP(B241,'Werte >15°C'!$Q$2:$S$8,2,FALSE)))","v":""},{"$f":"IF(Stammdaten!A244=\"\",\"\",IF(D241<=15,VLOOKUP(B241,'Werte =<15°C'!$Q$2:$S$8,3,FALSE),VLOOKUP(B241,'Werte >15°C'!$Q$2:$S$8,3,FALSE)))","v":""},{"$f":"IF(Stammdaten!A244=\"\",\"\",U241*(E243-D241)+V241)","v":""},{"$f":"IF(Stammdaten!A244=\"\",\"\",C241+W241)","v":""}]
[{"$f":"Analysedaten!A239","v":""},{"$f":"IF(Stammdaten!A242=\"\",\"\",WEEKDAY(A242,2))","v":""},{"$f":"IF(Stammdaten!A242=\"\",\"\",Analysedaten!C239)","v":""},{"$f":"Analysedaten!D239","v":""},{"$f":"Analysedaten!E239","v":""},"","","","","","","","","","","","","","",null,{"$f":"IF(Stammdaten!A245=\"\",\"\",IF(D242<=15,VLOOKUP(B242,'Werte =<15°C'!$Q$2:$S$8,2,FALSE),VLOOKUP(B242,'Werte >15°C'!$Q$2:$S$8,2,FALSE)))","v":""},{"$f":"IF(Stammdaten!A245=\"\",\"\",IF(D242<=15,VLOOKUP(B242,'Werte =<15°C'!$Q$2:$S$8,3,FALSE),VLOOKUP(B242,'Werte >15°C'!$Q$2:$S$8,3,FALSE)))","v":""},{"$f":"IF(Stammdaten!A245=\"\",\"\",U242*(E244-D242)+V242)","v":""},{"$f":"IF(Stammdaten!A245=\"\",\"\",C242+W242)","v":""}]
[{"$f":"Analysedaten!A240","v":""},{"$f":"IF(Stammdaten!A243=\"\",\"\",WEEKDAY(A243,2))","v":""},{"$f":"IF(Stammdaten!A243=\"\",\"\",Analysedaten!C240)","v":""},{"$f":"Analysedaten!D240","v":""},{"$f":"Analysedaten!E240","v":""},"","","","","","","","","","","","","","",null,{"$f":"IF(Stammdaten!A246=\"\",\"\",IF(D243<=15,VLOOKUP(B243,'Werte =<15°C'!$Q$2:$S$8,2,FALSE),VLOOKUP(B243,'Werte >15°C'!$Q$2:$S$8,2,FALSE)))","v":""},{"$f":"IF(Stammdaten!A246=\"\",\"\",IF(D243<=15,VLOOKUP(B243,'Werte =<15°C'!$Q$2:$S$8,3,FALSE),VLOOKUP(B243,'Werte >15°C'!$Q$2:$S$8,3,FALSE)))","v":""},{"$f":"IF(Stammdaten!A246=\"\",\"\",U243*(E245-D243)+V243)","v":""},{"$f":"IF(Stammdaten!A246=\"\",\"\",C243+W243)","v":""}]
[{"$f":"Analysedaten!A241","v":""},{"$f":"IF(Stammdaten!A244=\"\",\"\",WEEKDAY(A244,2))","v":""},{"$f":"IF(Stammdaten!A244=\"\",\"\",Analysedaten!C241)","v":""},{"$f":"Analysedaten!D241","v":""},{"$f":"Analysedaten!E241","v":""},"","","","","","","","","","","","","","",null,{"$f":"IF(Stammdaten!A247=\"\",\"\",IF(D244<=15,VLOOKUP(B244,'Werte =<15°C'!$Q$2:$S$8,2,FALSE),VLOOKUP(B244,'Werte >15°C'!$Q$2:$S$8,2,FALSE)))","v":""},{"$f":"IF(Stammdaten!A247=\"\",\"\",IF(D244<=15,VLOOKUP(B244,'Werte =<15°C'!$Q$2:$S$8,3,FALSE),VLOOKUP(B244,'Werte >15°C'!$Q$2:$S$8,3,FALSE)))","v":""},{"$f":"IF(Stammdaten!A247=\"\",\"\",U244*(E246-D244)+V244)","v":""},{"$f":"IF(Stammdaten!A247=\"\",\"\",C244+W244)","v":""}]
[{"$f":"Analysedaten!A242","v":""},{"$f":"IF(Stammdaten!A245=\"\",\"\",WEEKDAY(A245,2))","v":""},{"$f":"IF(Stammdaten!A245=\"\",\"\",Analysedaten!C242)","v":""},{"$f":"Analysedaten!D242","v":""},{"$f":"Analysedaten!E242","v":""},"","","","","","","","","","","","","","",null,{"$f":"IF(Stammdaten!A248=\"\",\"\",IF(D245<=15,VLOOKUP(B245,'Werte =<15°C'!$Q$2:$S$8,2,FALSE),VLOOKUP(B245,'Werte >15°C'!$Q$2:$S$8,2,FALSE)))","v":""},{"$f":"IF(Stammdaten!A248=\"\",\"\",IF(D245<=15,VLOOKUP(B245,'Werte =<15°C'!$Q$2:$S$8,3,FALSE),VLOOKUP(B245,'Werte >15°C'!$Q$2:$S$8,3,FALSE)))","v":""},{"$f":"IF(Stammdaten!A248=\"\",\"\",U245*(E247-D245)+V245)","v":""},{"$f":"IF(Stammdaten!A248=\"\",\"\",C245+W245)","v":""}]
[{"$f":"Analysedaten!A243","v":""},{"$f":"IF(Stammdaten!A246=\"\",\"\",WEEKDAY(A246,2))","v":""},{"$f":"IF(Stammdaten!A246=\"\",\"\",Analysedaten!C243)","v":""},{"$f":"Analysedaten!D243","v":""},{"$f":"Analysedaten!E243","v":""},"","","","","","","","","","","","","","",null,{"$f":"IF(Stammdaten!A249=\"\",\"\",IF(D246<=15,VLOOKUP(B246,'Werte =<15°C'!$Q$2:$S$8,2,FALSE),VLOOKUP(B246,'Werte >15°C'!$Q$2:$S$8,2,FALSE)))","v":""},{"$f":"IF(Stammdaten!A249=\"\",\"\",IF(D246<=15,VLOOKUP(B246,'Werte =<15°C'!$Q$2:$S$8,3,FALSE),VLOOKUP(B246,'Werte >15°C'!$Q$2:$S$8,3,FALSE)))","v":""},{"$f":"IF(Stammdaten!A249=\"\",\"\",U246*(E248-D246)+V246)","v":""},{"$f":"IF(Stammdaten!A249=\"\",\"\",C246+W246)","v":""}]
[{"$f":"Analysedaten!A244","v":""},{"$f":"IF(Stammdaten!A247=\"\",\"\",WEEKDAY(A247,2))","v":""},{"$f":"IF(Stammdaten!A247=\"\",\"\",Analysedaten!C244)","v":""},{"$f":"Analysedaten!D244","v":""},{"$f":"Analysedaten!E244","v":""},"","","","","","","","","","","","","","",null,{"$f":"IF(Stammdaten!A250=\"\",\"\",IF(D247<=15,VLOOKUP(B247,'Werte =<15°C'!$Q$2:$S$8,2,FALSE),VLOOKUP(B247,'Werte >15°C'!$Q$2:$S$8,2,FALSE)))","v":""},{"$f":"IF(Stammdaten!A250=\"\",\"\",IF(D247<=15,VLOOKUP(B247,'Werte =<15°C'!$Q$2:$S$8,3,FALSE),VLOOKUP(B247,'Werte >15°C'!$Q$2:$S$8,3,FALSE)))","v":""},{"$f":"IF(Stammdaten!A250=\"\",\"\",U247*(E249-D247)+V247)","v":""},{"$f":"IF(Stammdaten!A250=\"\",\"\",C247+W247)","v":""}]
[{"$f":"Analysedaten!A245","v":""},{"$f":"IF(Stammdaten!A248=\"\",\"\",WEEKDAY(A248,2))","v":""},{"$f":"IF(Stammdaten!A248=\"\",\"\",Analysedaten!C245)","v":""},{"$f":"Analysedaten!D245","v":""},{"$f":"Analysedaten!E245","v":""},"","","","","","","","","","","","","","",null,{"$f":"IF(Stammdaten!A251=\"\",\"\",IF(D248<=15,VLOOKUP(B248,'Werte =<15°C'!$Q$2:$S$8,2,FALSE),VLOOKUP(B248,'Werte >15°C'!$Q$2:$S$8,2,FALSE)))","v":""},{"$f":"IF(Stammdaten!A251=\"\",\"\",IF(D248<=15,VLOOKUP(B248,'Werte =<15°C'!$Q$2:$S$8,3,FALSE),VLOOKUP(B248,'Werte >15°C'!$Q$2:$S$8,3,FALSE)))","v":""},{"$f":"IF(Stammdaten!A251=\"\",\"\",U248*(E250-D248)+V248)","v":""},{"$f":"IF(Stammdaten!A251=\"\",\"\",C248+W248)","v":""}]
[{"$f":"Analysedaten!A246","v":""},{"$f":"IF(Stammdaten!A249=\"\",\"\",WEEKDAY(A249,2))","v":""},{"$f":"IF(Stammdaten!A249=\"\",\"\",Analysedaten!C246)","v":""},{"$f":"Analysedaten!D246","v":""},{"$f":"Analysedaten!E246","v":""},"","","","","","","","","","","","","","",null,{"$f":"IF(Stammdaten!A252=\"\",\"\",IF(D249<=15,VLOOKUP(B249,'Werte =<15°C'!$Q$2:$S$8,2,FALSE),VLOOKUP(B249,'Werte >15°C'!$Q$2:$S$8,2,FALSE)))","v":""},{"$f":"IF(Stammdaten!A252=\"\",\"\",IF(D249<=15,VLOOKUP(B249,'Werte =<15°C'!$Q$2:$S$8,3,FALSE),VLOOKUP(B249,'Werte >15°C'!$Q$2:$S$8,3,FALSE)))","v":""},{"$f":"IF(Stammdaten!A252=\"\",\"\",U249*(E251-D249)+V249)","v":""},{"$f":"IF(Stammdaten!A252=\"\",\"\",C249+W249)","v":""}]
[{"$f":"Analysedaten!A247","v":""},{"$f":"IF(Stammdaten!A250=\"\",\"\",WEEKDAY(A250,2))","v":""},{"$f":"IF(Stammdaten!A250=\"\",\"\",Analysedaten!C247)","v":""},{"$f":"Analysedaten!D247","v":""},{"$f":"Analysedaten!E247","v":""},"","","","","","","","","","","","","","",null,{"$f":"IF(Stammdaten!A253=\"\",\"\",IF(D250<=15,VLOOKUP(B250,'Werte =<15°C'!$Q$2:$S$8,2,FALSE),VLOOKUP(B250,'Werte >15°C'!$Q$2:$S$8,2,FALSE)))","v":""},{"$f":"IF(Stammdaten!A253=\"\",\"\",IF(D250<=15,VLOOKUP(B250,'Werte =<15°C'!$Q$2:$S$8,3,FALSE),VLOOKUP(B250,'Werte >15°C'!$Q$2:$S$8,3,FALSE)))","v":""},{"$f":"IF(Stammdaten!A253=\"\",\"\",U250*(E252-D250)+V250)","v":""},{"$f":"IF(Stammdaten!A253=\"\",\"\",C250+W250)","v":""}]
[{"$f":"Analysedaten!A248","v":""},{"$f":"IF(Stammdaten!A251=\"\",\"\",WEEKDAY(A251,2))","v":""},{"$f":"IF(Stammdaten!A251=\"\",\"\",Analysedaten!C248)","v":""},{"$f":"Analysedaten!D248","v":""},{"$f":"Analysedaten!E248","v":""},"","","","","","","","","","","","","","",null,{"$f":"IF(Stammdaten!A254=\"\",\"\",IF(D251<=15,VLOOKUP(B251,'Werte =<15°C'!$Q$2:$S$8,2,FALSE),VLOOKUP(B251,'Werte >15°C'!$Q$2:$S$8,2,FALSE)))","v":""},{"$f":"IF(Stammdaten!A254=\"\",\"\",IF(D251<=15,VLOOKUP(B251,'Werte =<15°C'!$Q$2:$S$8,3,FALSE),VLOOKUP(B251,'Werte >15°C'!$Q$2:$S$8,3,FALSE)))","v":""},{"$f":"IF(Stammdaten!A254=\"\",\"\",U251*(E253-D251)+V251)","v":""},{"$f":"IF(Stammdaten!A254=\"\",\"\",C251+W251)","v":""}]
[{"$f":"Analysedaten!A249","v":""},{"$f":"IF(Stammdaten!A252=\"\",\"\",WEEKDAY(A252,2))","v":""},{"$f":"IF(Stammdaten!A252=\"\",\"\",Analysedaten!C249)","v":""},{"$f":"Analysedaten!D249","v":""},{"$f":"Analysedaten!E249","v":""},"","","","","","","","","","","","","","",null,{"$f":"IF(Stammdaten!A255=\"\",\"\",IF(D252<=15,VLOOKUP(B252,'Werte =<15°C'!$Q$2:$S$8,2,FALSE),VLOOKUP(B252,'Werte >15°C'!$Q$2:$S$8,2,FALSE)))","v":""},{"$f":"IF(Stammdaten!A255=\"\",\"\",IF(D252<=15,VLOOKUP(B252,'Werte =<15°C'!$Q$2:$S$8,3,FALSE),VLOOKUP(B252,'Werte >15°C'!$Q$2:$S$8,3,FALSE)))","v":""},{"$f":"IF(Stammdaten!A255=\"\",\"\",U252*(E254-D252)+V252)","v":""},{"$f":"IF(Stammdaten!A255=\"\",\"\",C252+W252)","v":""}]
[{"$f":"Analysedaten!A250","v":""},{"$f":"IF(Stammdaten!A253=\"\",\"\",WEEKDAY(A253,2))","v":""},{"$f":"IF(Stammdaten!A253=\"\",\"\",Analysedaten!C250)","v":""},{"$f":"Analysedaten!D250","v":""},{"$f":"Analysedaten!E250","v":""},"","","","","","","","","","","","","","",null,{"$f":"IF(Stammdaten!A256=\"\",\"\",IF(D253<=15,VLOOKUP(B253,'Werte =<15°C'!$Q$2:$S$8,2,FALSE),VLOOKUP(B253,'Werte >15°C'!$Q$2:$S$8,2,FALSE)))","v":""},{"$f":"IF(Stammdaten!A256=\"\",\"\",IF(D253<=15,VLOOKUP(B253,'Werte =<15°C'!$Q$2:$S$8,3,FALSE),VLOOKUP(B253,'Werte >15°C'!$Q$2:$S$8,3,FALSE)))","v":""},{"$f":"IF(Stammdaten!A256=\"\",\"\",U253*(E255-D253)+V253)","v":""},{"$f":"IF(Stammdaten!A256=\"\",\"\",C253+W253)","v":""}]
[{"$f":"Analysedaten!A251","v":""},{"$f":"IF(Stammdaten!A254=\"\",\"\",WEEKDAY(A254,2))","v":""},{"$f":"IF(Stammdaten!A254=\"\",\"\",Analysedaten!C251)","v":""},{"$f":"Analysedaten!D251","v":""},{"$f":"Analysedaten!E251","v":""},"","","","","","","","","","","","","","",null,{"$f":"IF(Stammdaten!A257=\"\",\"\",IF(D254<=15,VLOOKUP(B254,'Werte =<15°C'!$Q$2:$S$8,2,FALSE),VLOOKUP(B254,'Werte >15°C'!$Q$2:$S$8,2,FALSE)))","v":""},{"$f":"IF(Stammdaten!A257=\"\",\"\",IF(D254<=15,VLOOKUP(B254,'Werte =<15°C'!$Q$2:$S$8,3,FALSE),VLOOKUP(B254,'Werte >15°C'!$Q$2:$S$8,3,FALSE)))","v":""},{"$f":"IF(Stammdaten!A257=\"\",\"\",U254*(E256-D254)+V254)","v":""},{"$f":"IF(Stammdaten!A257=\"\",\"\",C254+W254)","v":""}]
[{"$f":"Analysedaten!A252","v":""},{"$f":"IF(Stammdaten!A255=\"\",\"\",WEEKDAY(A255,2))","v":""},{"$f":"IF(Stammdaten!A255=\"\",\"\",Analysedaten!C252)","v":""},{"$f":"Analysedaten!D252","v":""},{"$f":"Analysedaten!E252","v":""},"","","","","","","","","","","","","","",null,{"$f":"IF(Stammdaten!A258=\"\",\"\",IF(D255<=15,VLOOKUP(B255,'Werte =<15°C'!$Q$2:$S$8,2,FALSE),VLOOKUP(B255,'Werte >15°C'!$Q$2:$S$8,2,FALSE)))","v":""},{"$f":"IF(Stammdaten!A258=\"\",\"\",IF(D255<=15,VLOOKUP(B255,'Werte =<15°C'!$Q$2:$S$8,3,FALSE),VLOOKUP(B255,'Werte >15°C'!$Q$2:$S$8,3,FALSE)))","v":""},{"$f":"IF(Stammdaten!A258=\"\",\"\",U255*(E257-D255)+V255)","v":""},{"$f":"IF(Stammdaten!A258=\"\",\"\",C255+W255)","v":""}]
[{"$f":"Analysedaten!A253","v":""},{"$f":"IF(Stammdaten!A256=\"\",\"\",WEEKDAY(A256,2))","v":""},{"$f":"IF(Stammdaten!A256=\"\",\"\",Analysedaten!C253)","v":""},{"$f":"Analysedaten!D253","v":""},{"$f":"Analysedaten!E253","v":""},"","","","","","","","","","","","","","",null,{"$f":"IF(Stammdaten!A259=\"\",\"\",IF(D256<=15,VLOOKUP(B256,'Werte =<15°C'!$Q$2:$S$8,2,FALSE),VLOOKUP(B256,'Werte >15°C'!$Q$2:$S$8,2,FALSE)))","v":""},{"$f":"IF(Stammdaten!A259=\"\",\"\",IF(D256<=15,VLOOKUP(B256,'Werte =<15°C'!$Q$2:$S$8,3,FALSE),VLOOKUP(B256,'Werte >15°C'!$Q$2:$S$8,3,FALSE)))","v":""},{"$f":"IF(Stammdaten!A259=\"\",\"\",U256*(E258-D256)+V256)","v":""},{"$f":"IF(Stammdaten!A259=\"\",\"\",C256+W256)","v":""}]
[{"$f":"Analysedaten!A254","v":""},{"$f":"IF(Stammdaten!A257=\"\",\"\",WEEKDAY(A257,2))","v":""},{"$f":"IF(Stammdaten!A257=\"\",\"\",Analysedaten!C254)","v":""},{"$f":"Analysedaten!D254","v":""},{"$f":"Analysedaten!E254","v":""},"","","","","","","","","","","","","","",null,{"$f":"IF(Stammdaten!A260=\"\",\"\",IF(D257<=15,VLOOKUP(B257,'Werte =<15°C'!$Q$2:$S$8,2,FALSE),VLOOKUP(B257,'Werte >15°C'!$Q$2:$S$8,2,FALSE)))","v":""},{"$f":"IF(Stammdaten!A260=\"\",\"\",IF(D257<=15,VLOOKUP(B257,'Werte =<15°C'!$Q$2:$S$8,3,FALSE),VLOOKUP(B257,'Werte >15°C'!$Q$2:$S$8,3,FALSE)))","v":""},{"$f":"IF(Stammdaten!A260=\"\",\"\",U257*(E259-D257)+V257)","v":""},{"$f":"IF(Stammdaten!A260=\"\",\"\",C257+W257)","v":""}]
[{"$f":"Analysedaten!A255","v":""},{"$f":"IF(Stammdaten!A258=\"\",\"\",WEEKDAY(A258,2))","v":""},{"$f":"IF(Stammdaten!A258=\"\",\"\",Analysedaten!C255)","v":""},{"$f":"Analysedaten!D255","v":""},{"$f":"Analysedaten!E255","v":""},"","","","","","","","","","","","","","",null,{"$f":"IF(Stammdaten!A261=\"\",\"\",IF(D258<=15,VLOOKUP(B258,'Werte =<15°C'!$Q$2:$S$8,2,FALSE),VLOOKUP(B258,'Werte >15°C'!$Q$2:$S$8,2,FALSE)))","v":""},{"$f":"IF(Stammdaten!A261=\"\",\"\",IF(D258<=15,VLOOKUP(B258,'Werte =<15°C'!$Q$2:$S$8,3,FALSE),VLOOKUP(B258,'Werte >15°C'!$Q$2:$S$8,3,FALSE)))","v":""},{"$f":"IF(Stammdaten!A261=\"\",\"\",U258*(E260-D258)+V258)","v":""},{"$f":"IF(Stammdaten!A261=\"\",\"\",C258+W258)","v":""}]
[{"$f":"Analysedaten!A256","v":""},{"$f":"IF(Stammdaten!A259=\"\",\"\",WEEKDAY(A259,2))","v":""},{"$f":"IF(Stammdaten!A259=\"\",\"\",Analysedaten!C256)","v":""},{"$f":"Analysedaten!D256","v":""},{"$f":"Analysedaten!E256","v":""},"","","","","","","","","","","","","","",null,{"$f":"IF(Stammdaten!A262=\"\",\"\",IF(D259<=15,VLOOKUP(B259,'Werte =<15°C'!$Q$2:$S$8,2,FALSE),VLOOKUP(B259,'Werte >15°C'!$Q$2:$S$8,2,FALSE)))","v":""},{"$f":"IF(Stammdaten!A262=\"\",\"\",IF(D259<=15,VLOOKUP(B259,'Werte =<15°C'!$Q$2:$S$8,3,FALSE),VLOOKUP(B259,'Werte >15°C'!$Q$2:$S$8,3,FALSE)))","v":""},{"$f":"IF(Stammdaten!A262=\"\",\"\",U259*(E261-D259)+V259)","v":""},{"$f":"IF(Stammdaten!A262=\"\",\"\",C259+W259)","v":""}]
[{"$f":"Analysedaten!A257","v":""},{"$f":"IF(Stammdaten!A260=\"\",\"\",WEEKDAY(A260,2))","v":""},{"$f":"IF(Stammdaten!A260=\"\",\"\",Analysedaten!C257)","v":""},{"$f":"Analysedaten!D257","v":""},{"$f":"Analysedaten!E257","v":""},"","","","","","","","","","","","","","",null,{"$f":"IF(Stammdaten!A263=\"\",\"\",IF(D260<=15,VLOOKUP(B260,'Werte =<15°C'!$Q$2:$S$8,2,FALSE),VLOOKUP(B260,'Werte >15°C'!$Q$2:$S$8,2,FALSE)))","v":""},{"$f":"IF(Stammdaten!A263=\"\",\"\",IF(D260<=15,VLOOKUP(B260,'Werte =<15°C'!$Q$2:$S$8,3,FALSE),VLOOKUP(B260,'Werte >15°C'!$Q$2:$S$8,3,FALSE)))","v":""},{"$f":"IF(Stammdaten!A263=\"\",\"\",U260*(E262-D260)+V260)","v":""},{"$f":"IF(Stammdaten!A263=\"\",\"\",C260+W260)","v":""}]
[{"$f":"Analysedaten!A258","v":""},{"$f":"IF(Stammdaten!A261=\"\",\"\",WEEKDAY(A261,2))","v":""},{"$f":"IF(Stammdaten!A261=\"\",\"\",Analysedaten!C258)","v":""},{"$f":"Analysedaten!D258","v":""},{"$f":"Analysedaten!E258","v":""},{"$f":"IF(B263=1,(E263-D261),\"\")","v":""},{"$f":"IF(B263=1,(C263-C261),\"\")","v":""},{"$f":"IF(B263=2,(E263-D261),\"\")","v":""},{"$f":"IF(B263=2,(C263-C261),\"\")","v":""},{"$f":"IF(B263=3,(E263-D261),\"\")","v":""},{"$f":"IF(B263=3,(C263-C261),\"\")","v":""},{"$f":"IF(B263=4,(E263-D261),\"\")","v":""},{"$f":"IF(B263=4,(C263-C261),\"\")","v":""},{"$f":"IF(B263=5,(E263-D261),\"\")","v":""},{"$f":"IF(B263=5,(C263-C261),\"\")","v":""},{"$f":"IF(B263=6,(E263-D261),\"\")","v":""},{"$f":"IF(B263=6,(C263-C261),\"\")","v":""},{"$f":"IF(B263=7,(E263-D261),\"\")","v":""},{"$f":"IF(B263=7,(C263-C261),\"\")","v":""},null,{"$f":"IF(Stammdaten!A264=\"\",\"\",IF(D261<=15,VLOOKUP(B261,'Werte =<15°C'!$Q$2:$S$8,2,FALSE),VLOOKUP(B261,'Werte >15°C'!$Q$2:$S$8,2,FALSE)))","v":""},{"$f":"IF(Stammdaten!A264=\"\",\"\",IF(D261<=15,VLOOKUP(B261,'Werte =<15°C'!$Q$2:$S$8,3,FALSE),VLOOKUP(B261,'Werte >15°C'!$Q$2:$S$8,3,FALSE)))","v":""},{"$f":"IF(Stammdaten!A264=\"\",\"\",U261*(E263-D261)+V261)","v":""},{"$f":"IF(Stammdaten!A264=\"\",\"\",C261+W261)","v":""}]
[{"$f":"Analysedaten!A259","v":""},{"$f":"IF(Stammdaten!A262=\"\",\"\",WEEKDAY(A262,2))","v":""},{"$f":"IF(Stammdaten!A262=\"\",\"\",Analysedaten!C259)","v":""},{"$f":"Analysedaten!D259","v":""},{"$f":"Analysedaten!E259","v":""},"","","","","","","","","","","","","","",null,{"$f":"IF(Stammdaten!A265=\"\",\"\",IF(D262<=15,VLOOKUP(B262,'Werte =<15°C'!$Q$2:$S$8,2,FALSE),VLOOKUP(B262,'Werte >15°C'!$Q$2:$S$8,2,FALSE)))","v":""},{"$f":"IF(Stammdaten!A265=\"\",\"\",IF(D262<=15,VLOOKUP(B262,'Werte =<15°C'!$Q$2:$S$8,3,FALSE),VLOOKUP(B262,'Werte >15°C'!$Q$2:$S$8,3,FALSE)))","v":""},{"$f":"IF(Stammdaten!A265=\"\",\"\",U262*(E264-D262)+V262)","v":""},{"$f":"IF(Stammdaten!A265=\"\",\"\",C262+W262)","v":""}]
[{"$f":"Analysedaten!A260","v":""},{"$f":"IF(Stammdaten!A263=\"\",\"\",WEEKDAY(A263,2))","v":""},{"$f":"IF(Stammdaten!A263=\"\",\"\",Analysedaten!C260)","v":""},{"$f":"Analysedaten!D260","v":""},{"$f":"Analysedaten!E260","v":""},"","","","","","","","","","","","","","",null,{"$f":"IF(Stammdaten!A266=\"\",\"\",IF(D263<=15,VLOOKUP(B263,'Werte =<15°C'!$Q$2:$S$8,2,FALSE),VLOOKUP(B263,'Werte >15°C'!$Q$2:$S$8,2,FALSE)))","v":""},{"$f":"IF(Stammdaten!A266=\"\",\"\",IF(D263<=15,VLOOKUP(B263,'Werte =<15°C'!$Q$2:$S$8,3,FALSE),VLOOKUP(B263,'Werte >15°C'!$Q$2:$S$8,3,FALSE)))","v":""},{"$f":"IF(Stammdaten!A266=\"\",\"\",U263*(E265-D263)+V263)","v":""},{"$f":"IF(Stammdaten!A266=\"\",\"\",C263+W263)","v":""}]
[{"$f":"Analysedaten!A261","v":""},{"$f":"IF(Stammdaten!A264=\"\",\"\",WEEKDAY(A264,2))","v":""},{"$f":"IF(Stammdaten!A264=\"\",\"\",Analysedaten!C261)","v":""},{"$f":"Analysedaten!D261","v":""},{"$f":"Analysedaten!E261","v":""},"","","","","","","","","","","","","","",null,{"$f":"IF(Stammdaten!A267=\"\",\"\",IF(D264<=15,VLOOKUP(B264,'Werte =<15°C'!$Q$2:$S$8,2,FALSE),VLOOKUP(B264,'Werte >15°C'!$Q$2:$S$8,2,FALSE)))","v":""},{"$f":"IF(Stammdaten!A267=\"\",\"\",IF(D264<=15,VLOOKUP(B264,'Werte =<15°C'!$Q$2:$S$8,3,FALSE),VLOOKUP(B264,'Werte >15°C'!$Q$2:$S$8,3,FALSE)))","v":""},{"$f":"IF(Stammdaten!A267=\"\",\"\",U264*(E266-D264)+V264)","v":""},{"$f":"IF(Stammdaten!A267=\"\",\"\",C264+W264)","v":""}]
[{"$f":"Analysedaten!A262","v":""},{"$f":"IF(Stammdaten!A265=\"\",\"\",WEEKDAY(A265,2))","v":""},{"$f":"IF(Stammdaten!A265=\"\",\"\",Analysedaten!C262)","v":""},{"$f":"Analysedaten!D262","v":""},{"$f":"Analysedaten!E262","v":""},"","","","","","","","","","","","","","",null,{"$f":"IF(Stammdaten!A268=\"\",\"\",IF(D265<=15,VLOOKUP(B265,'Werte =<15°C'!$Q$2:$S$8,2,FALSE),VLOOKUP(B265,'Werte >15°C'!$Q$2:$S$8,2,FALSE)))","v":""},{"$f":"IF(Stammdaten!A268=\"\",\"\",IF(D265<=15,VLOOKUP(B265,'Werte =<15°C'!$Q$2:$S$8,3,FALSE),VLOOKUP(B265,'Werte >15°C'!$Q$2:$S$8,3,FALSE)))","v":""},{"$f":"IF(Stammdaten!A268=\"\",\"\",U265*(E267-D265)+V265)","v":""},{"$f":"IF(Stammdaten!A268=\"\",\"\",C265+W265)","v":""}]
[{"$f":"Analysedaten!A263","v":""},{"$f":"IF(Stammdaten!A266=\"\",\"\",WEEKDAY(A266,2))","v":""},{"$f":"IF(Stammdaten!A266=\"\",\"\",Analysedaten!C263)","v":""},{"$f":"Analysedaten!D263","v":""},{"$f":"Analysedaten!E263","v":""},"","","","","","","","","","","","","","",null,{"$f":"IF(Stammdaten!A269=\"\",\"\",IF(D266<=15,VLOOKUP(B266,'Werte =<15°C'!$Q$2:$S$8,2,FALSE),VLOOKUP(B266,'Werte >15°C'!$Q$2:$S$8,2,FALSE)))","v":""},{"$f":"IF(Stammdaten!A269=\"\",\"\",IF(D266<=15,VLOOKUP(B266,'Werte =<15°C'!$Q$2:$S$8,3,FALSE),VLOOKUP(B266,'Werte >15°C'!$Q$2:$S$8,3,FALSE)))","v":""},{"$f":"IF(Stammdaten!A269=\"\",\"\",U266*(E268-D266)+V266)","v":""},{"$f":"IF(Stammdaten!A269=\"\",\"\",C266+W266)","v":""}]
[{"$f":"Analysedaten!A264","v":""},{"$f":"IF(Stammdaten!A267=\"\",\"\",WEEKDAY(A267,2))","v":""},{"$f":"IF(Stammdaten!A267=\"\",\"\",Analysedaten!C264)","v":""},{"$f":"Analysedaten!D264","v":""},{"$f":"Analysedaten!E264","v":""},"","","","","","","","","","","","","","",null,{"$f":"IF(Stammdaten!A270=\"\",\"\",IF(D267<=15,VLOOKUP(B267,'Werte =<15°C'!$Q$2:$S$8,2,FALSE),VLOOKUP(B267,'Werte >15°C'!$Q$2:$S$8,2,FALSE)))","v":""},{"$f":"IF(Stammdaten!A270=\"\",\"\",IF(D267<=15,VLOOKUP(B267,'Werte =<15°C'!$Q$2:$S$8,3,FALSE),VLOOKUP(B267,'Werte >15°C'!$Q$2:$S$8,3,FALSE)))","v":""},{"$f":"IF(Stammdaten!A270=\"\",\"\",U267*(E269-D267)+V267)","v":""},{"$f":"IF(Stammdaten!A270=\"\",\"\",C267+W267)","v":""}]
[{"$f":"Analysedaten!A265","v":""},{"$f":"IF(Stammdaten!A268=\"\",\"\",WEEKDAY(A268,2))","v":""},{"$f":"IF(Stammdaten!A268=\"\",\"\",Analysedaten!C265)","v":""},{"$f":"Analysedaten!D265","v":""},{"$f":"Analysedaten!E265","v":""},"","","","","","","","","","","","","","",null,{"$f":"IF(Stammdaten!A271=\"\",\"\",IF(D268<=15,VLOOKUP(B268,'Werte =<15°C'!$Q$2:$S$8,2,FALSE),VLOOKUP(B268,'Werte >15°C'!$Q$2:$S$8,2,FALSE)))","v":""},{"$f":"IF(Stammdaten!A271=\"\",\"\",IF(D268<=15,VLOOKUP(B268,'Werte =<15°C'!$Q$2:$S$8,3,FALSE),VLOOKUP(B268,'Werte >15°C'!$Q$2:$S$8,3,FALSE)))","v":""},{"$f":"IF(Stammdaten!A271=\"\",\"\",U268*(E270-D268)+V268)","v":""},{"$f":"IF(Stammdaten!A271=\"\",\"\",C268+W268)","v":""}]
[{"$f":"Analysedaten!A266","v":""},{"$f":"IF(Stammdaten!A269=\"\",\"\",WEEKDAY(A269,2))","v":""},{"$f":"IF(Stammdaten!A269=\"\",\"\",Analysedaten!C266)","v":""},{"$f":"Analysedaten!D266","v":""},{"$f":"Analysedaten!E266","v":""},"","","","","","","","","","","","","","",null,{"$f":"IF(Stammdaten!A272=\"\",\"\",IF(D269<=15,VLOOKUP(B269,'Werte =<15°C'!$Q$2:$S$8,2,FALSE),VLOOKUP(B269,'Werte >15°C'!$Q$2:$S$8,2,FALSE)))","v":""},{"$f":"IF(Stammdaten!A272=\"\",\"\",IF(D269<=15,VLOOKUP(B269,'Werte =<15°C'!$Q$2:$S$8,3,FALSE),VLOOKUP(B269,'Werte >15°C'!$Q$2:$S$8,3,FALSE)))","v":""},{"$f":"IF(Stammdaten!A272=\"\",\"\",U269*(E271-D269)+V269)","v":""},{"$f":"IF(Stammdaten!A272=\"\",\"\",C269+W269)","v":""}]
[{"$f":"Analysedaten!A267","v":""},{"$f":"IF(Stammdaten!A270=\"\",\"\",WEEKDAY(A270,2))","v":""},{"$f":"IF(Stammdaten!A270=\"\",\"\",Analysedaten!C267)","v":""},{"$f":"Analysedaten!D267","v":""},{"$f":"Analysedaten!E267","v":""},"","","","","","","","","","","","","","",null,{"$f":"IF(Stammdaten!A273=\"\",\"\",IF(D270<=15,VLOOKUP(B270,'Werte =<15°C'!$Q$2:$S$8,2,FALSE),VLOOKUP(B270,'Werte >15°C'!$Q$2:$S$8,2,FALSE)))","v":""},{"$f":"IF(Stammdaten!A273=\"\",\"\",IF(D270<=15,VLOOKUP(B270,'Werte =<15°C'!$Q$2:$S$8,3,FALSE),VLOOKUP(B270,'Werte >15°C'!$Q$2:$S$8,3,FALSE)))","v":""},{"$f":"IF(Stammdaten!A273=\"\",\"\",U270*(E272-D270)+V270)","v":""},{"$f":"IF(Stammdaten!A273=\"\",\"\",C270+W270)","v":""}]
[{"$f":"Analysedaten!A268","v":""},{"$f":"IF(Stammdaten!A271=\"\",\"\",WEEKDAY(A271,2))","v":""},{"$f":"IF(Stammdaten!A271=\"\",\"\",Analysedaten!C268)","v":""},{"$f":"Analysedaten!D268","v":""},{"$f":"Analysedaten!E268","v":""},"","","","","","","","","","","","","","",null,{"$f":"IF(Stammdaten!A274=\"\",\"\",IF(D271<=15,VLOOKUP(B271,'Werte =<15°C'!$Q$2:$S$8,2,FALSE),VLOOKUP(B271,'Werte >15°C'!$Q$2:$S$8,2,FALSE)))","v":""},{"$f":"IF(Stammdaten!A274=\"\",\"\",IF(D271<=15,VLOOKUP(B271,'Werte =<15°C'!$Q$2:$S$8,3,FALSE),VLOOKUP(B271,'Werte >15°C'!$Q$2:$S$8,3,FALSE)))","v":""},{"$f":"IF(Stammdaten!A274=\"\",\"\",U271*(E273-D271)+V271)","v":""},{"$f":"IF(Stammdaten!A274=\"\",\"\",C271+W271)","v":""}]
[{"$f":"Analysedaten!A269","v":""},{"$f":"IF(Stammdaten!A272=\"\",\"\",WEEKDAY(A272,2))","v":""},{"$f":"IF(Stammdaten!A272=\"\",\"\",Analysedaten!C269)","v":""},{"$f":"Analysedaten!D269","v":""},{"$f":"Analysedaten!E269","v":""},"","","","","","","","","","","","","","",null,{"$f":"IF(Stammdaten!A275=\"\",\"\",IF(D272<=15,VLOOKUP(B272,'Werte =<15°C'!$Q$2:$S$8,2,FALSE),VLOOKUP(B272,'Werte >15°C'!$Q$2:$S$8,2,FALSE)))","v":""},{"$f":"IF(Stammdaten!A275=\"\",\"\",IF(D272<=15,VLOOKUP(B272,'Werte =<15°C'!$Q$2:$S$8,3,FALSE),VLOOKUP(B272,'Werte >15°C'!$Q$2:$S$8,3,FALSE)))","v":""},{"$f":"IF(Stammdaten!A275=\"\",\"\",U272*(E274-D272)+V272)","v":""},{"$f":"IF(Stammdaten!A275=\"\",\"\",C272+W272)","v":""}]
[{"$f":"Analysedaten!A270","v":""},{"$f":"IF(Stammdaten!A273=\"\",\"\",WEEKDAY(A273,2))","v":""},{"$f":"IF(Stammdaten!A273=\"\",\"\",Analysedaten!C270)","v":""},{"$f":"Analysedaten!D270","v":""},{"$f":"Analysedaten!E270","v":""},"","","","","","","","","","","","","","",null,{"$f":"IF(Stammdaten!A276=\"\",\"\",IF(D273<=15,VLOOKUP(B273,'Werte =<15°C'!$Q$2:$S$8,2,FALSE),VLOOKUP(B273,'Werte >15°C'!$Q$2:$S$8,2,FALSE)))","v":""},{"$f":"IF(Stammdaten!A276=\"\",\"\",IF(D273<=15,VLOOKUP(B273,'Werte =<15°C'!$Q$2:$S$8,3,FALSE),VLOOKUP(B273,'Werte >15°C'!$Q$2:$S$8,3,FALSE)))","v":""},{"$f":"IF(Stammdaten!A276=\"\",\"\",U273*(E275-D273)+V273)","v":""},{"$f":"IF(Stammdaten!A276=\"\",\"\",C273+W273)","v":""}]
[{"$f":"Analysedaten!A271","v":""},{"$f":"IF(Stammdaten!A274=\"\",\"\",WEEKDAY(A274,2))","v":""},{"$f":"IF(Stammdaten!A274=\"\",\"\",Analysedaten!C271)","v":""},{"$f":"Analysedaten!D271","v":""},{"$f":"Analysedaten!E271","v":""},"","","","","","","","","","","","","","",null,{"$f":"IF(Stammdaten!A277=\"\",\"\",IF(D274<=15,VLOOKUP(B274,'Werte =<15°C'!$Q$2:$S$8,2,FALSE),VLOOKUP(B274,'Werte >15°C'!$Q$2:$S$8,2,FALSE)))","v":""},{"$f":"IF(Stammdaten!A277=\"\",\"\",IF(D274<=15,VLOOKUP(B274,'Werte =<15°C'!$Q$2:$S$8,3,FALSE),VLOOKUP(B274,'Werte >15°C'!$Q$2:$S$8,3,FALSE)))","v":""},{"$f":"IF(Stammdaten!A277=\"\",\"\",U274*(E276-D274)+V274)","v":""},{"$f":"IF(Stammdaten!A277=\"\",\"\",C274+W274)","v":""}]
[{"$f":"Analysedaten!A272","v":""},{"$f":"IF(Stammdaten!A275=\"\",\"\",WEEKDAY(A275,2))","v":""},{"$f":"IF(Stammdaten!A275=\"\",\"\",Analysedaten!C272)","v":""},{"$f":"Analysedaten!D272","v":""},{"$f":"Analysedaten!E272","v":""},"","","","","","","","","","","","","","",null,{"$f":"IF(Stammdaten!A278=\"\",\"\",IF(D275<=15,VLOOKUP(B275,'Werte =<15°C'!$Q$2:$S$8,2,FALSE),VLOOKUP(B275,'Werte >15°C'!$Q$2:$S$8,2,FALSE)))","v":""},{"$f":"IF(Stammdaten!A278=\"\",\"\",IF(D275<=15,VLOOKUP(B275,'Werte =<15°C'!$Q$2:$S$8,3,FALSE),VLOOKUP(B275,'Werte >15°C'!$Q$2:$S$8,3,FALSE)))","v":""},{"$f":"IF(Stammdaten!A278=\"\",\"\",U275*(E277-D275)+V275)","v":""},{"$f":"IF(Stammdaten!A278=\"\",\"\",C275+W275)","v":""}]
[{"$f":"Analysedaten!A273","v":""},{"$f":"IF(Stammdaten!A276=\"\",\"\",WEEKDAY(A276,2))","v":""},{"$f":"IF(Stammdaten!A276=\"\",\"\",Analysedaten!C273)","v":""},{"$f":"Analysedaten!D273","v":""},{"$f":"Analysedaten!E273","v":""},"","","","","","","","","","","","","","",null,{"$f":"IF(Stammdaten!A279=\"\",\"\",IF(D276<=15,VLOOKUP(B276,'Werte =<15°C'!$Q$2:$S$8,2,FALSE),VLOOKUP(B276,'Werte >15°C'!$Q$2:$S$8,2,FALSE)))","v":""},{"$f":"IF(Stammdaten!A279=\"\",\"\",IF(D276<=15,VLOOKUP(B276,'Werte =<15°C'!$Q$2:$S$8,3,FALSE),VLOOKUP(B276,'Werte >15°C'!$Q$2:$S$8,3,FALSE)))","v":""},{"$f":"IF(Stammdaten!A279=\"\",\"\",U276*(E278-D276)+V276)","v":""},{"$f":"IF(Stammdaten!A279=\"\",\"\",C276+W276)","v":""}]
[{"$f":"Analysedaten!A274","v":""},{"$f":"IF(Stammdaten!A277=\"\",\"\",WEEKDAY(A277,2))","v":""},{"$f":"IF(Stammdaten!A277=\"\",\"\",Analysedaten!C274)","v":""},{"$f":"Analysedaten!D274","v":""},{"$f":"Analysedaten!E274","v":""},"","","","","","","","","","","","","","",null,{"$f":"IF(Stammdaten!A280=\"\",\"\",IF(D277<=15,VLOOKUP(B277,'Werte =<15°C'!$Q$2:$S$8,2,FALSE),VLOOKUP(B277,'Werte >15°C'!$Q$2:$S$8,2,FALSE)))","v":""},{"$f":"IF(Stammdaten!A280=\"\",\"\",IF(D277<=15,VLOOKUP(B277,'Werte =<15°C'!$Q$2:$S$8,3,FALSE),VLOOKUP(B277,'Werte >15°C'!$Q$2:$S$8,3,FALSE)))","v":""},{"$f":"IF(Stammdaten!A280=\"\",\"\",U277*(E279-D277)+V277)","v":""},{"$f":"IF(Stammdaten!A280=\"\",\"\",C277+W277)","v":""}]
[{"$f":"Analysedaten!A275","v":""},{"$f":"IF(Stammdaten!A278=\"\",\"\",WEEKDAY(A278,2))","v":""},{"$f":"IF(Stammdaten!A278=\"\",\"\",Analysedaten!C275)","v":""},{"$f":"Analysedaten!D275","v":""},{"$f":"Analysedaten!E275","v":""},"","","","","","","","","","","","","","",null,{"$f":"IF(Stammdaten!A281=\"\",\"\",IF(D278<=15,VLOOKUP(B278,'Werte =<15°C'!$Q$2:$S$8,2,FALSE),VLOOKUP(B278,'Werte >15°C'!$Q$2:$S$8,2,FALSE)))","v":""},{"$f":"IF(Stammdaten!A281=\"\",\"\",IF(D278<=15,VLOOKUP(B278,'Werte =<15°C'!$Q$2:$S$8,3,FALSE),VLOOKUP(B278,'Werte >15°C'!$Q$2:$S$8,3,FALSE)))","v":""},{"$f":"IF(Stammdaten!A281=\"\",\"\",U278*(E280-D278)+V278)","v":""},{"$f":"IF(Stammdaten!A281=\"\",\"\",C278+W278)","v":""}]
[{"$f":"Analysedaten!A276","v":""},{"$f":"IF(Stammdaten!A279=\"\",\"\",WEEKDAY(A279,2))","v":""},{"$f":"IF(Stammdaten!A279=\"\",\"\",Analysedaten!C276)","v":""},{"$f":"Analysedaten!D276","v":""},{"$f":"Analysedaten!E276","v":""},"","","","","","","","","","","","","","",null,{"$f":"IF(Stammdaten!A282=\"\",\"\",IF(D279<=15,VLOOKUP(B279,'Werte =<15°C'!$Q$2:$S$8,2,FALSE),VLOOKUP(B279,'Werte >15°C'!$Q$2:$S$8,2,FALSE)))","v":""},{"$f":"IF(Stammdaten!A282=\"\",\"\",IF(D279<=15,VLOOKUP(B279,'Werte =<15°C'!$Q$2:$S$8,3,FALSE),VLOOKUP(B279,'Werte >15°C'!$Q$2:$S$8,3,FALSE)))","v":""},{"$f":"IF(Stammdaten!A282=\"\",\"\",U279*(E281-D279)+V279)","v":""},{"$f":"IF(Stammdaten!A282=\"\",\"\",C279+W279)","v":""}]
[{"$f":"Analysedaten!A277","v":""},{"$f":"IF(Stammdaten!A280=\"\",\"\",WEEKDAY(A280,2))","v":""},{"$f":"IF(Stammdaten!A280=\"\",\"\",Analysedaten!C277)","v":""},{"$f":"Analysedaten!D277","v":""},{"$f":"Analysedaten!E277","v":""},"","","","","","","","","","","","","","",null,{"$f":"IF(Stammdaten!A283=\"\",\"\",IF(D280<=15,VLOOKUP(B280,'Werte =<15°C'!$Q$2:$S$8,2,FALSE),VLOOKUP(B280,'Werte >15°C'!$Q$2:$S$8,2,FALSE)))","v":""},{"$f":"IF(Stammdaten!A283=\"\",\"\",IF(D280<=15,VLOOKUP(B280,'Werte =<15°C'!$Q$2:$S$8,3,FALSE),VLOOKUP(B280,'Werte >15°C'!$Q$2:$S$8,3,FALSE)))","v":""},{"$f":"IF(Stammdaten!A283=\"\",\"\",U280*(E282-D280)+V280)","v":""},{"$f":"IF(Stammdaten!A283=\"\",\"\",C280+W280)","v":""}]
[{"$f":"Analysedaten!A278","v":""},{"$f":"IF(Stammdaten!A281=\"\",\"\",WEEKDAY(A281,2))","v":""},{"$f":"IF(Stammdaten!A281=\"\",\"\",Analysedaten!C278)","v":""},{"$f":"Analysedaten!D278","v":""},{"$f":"Analysedaten!E278","v":""},"","","","","","","","","","","","","","",null,{"$f":"IF(Stammdaten!A284=\"\",\"\",IF(D281<=15,VLOOKUP(B281,'Werte =<15°C'!$Q$2:$S$8,2,FALSE),VLOOKUP(B281,'Werte >15°C'!$Q$2:$S$8,2,FALSE)))","v":""},{"$f":"IF(Stammdaten!A284=\"\",\"\",IF(D281<=15,VLOOKUP(B281,'Werte =<15°C'!$Q$2:$S$8,3,FALSE),VLOOKUP(B281,'Werte >15°C'!$Q$2:$S$8,3,FALSE)))","v":""},{"$f":"IF(Stammdaten!A284=\"\",\"\",U281*(E283-D281)+V281)","v":""},{"$f":"IF(Stammdaten!A284=\"\",\"\",C281+W281)","v":""}]
[{"$f":"Analysedaten!A279","v":""},{"$f":"IF(Stammdaten!A282=\"\",\"\",WEEKDAY(A282,2))","v":""},{"$f":"IF(Stammdaten!A282=\"\",\"\",Analysedaten!C279)","v":""},{"$f":"Analysedaten!D279","v":""},{"$f":"Analysedaten!E279","v":""},"","","","","","","","","","","","","","",null,{"$f":"IF(Stammdaten!A285=\"\",\"\",IF(D282<=15,VLOOKUP(B282,'Werte =<15°C'!$Q$2:$S$8,2,FALSE),VLOOKUP(B282,'Werte >15°C'!$Q$2:$S$8,2,FALSE)))","v":""},{"$f":"IF(Stammdaten!A285=\"\",\"\",IF(D282<=15,VLOOKUP(B282,'Werte =<15°C'!$Q$2:$S$8,3,FALSE),VLOOKUP(B282,'Werte >15°C'!$Q$2:$S$8,3,FALSE)))","v":""},{"$f":"IF(Stammdaten!A285=\"\",\"\",U282*(E284-D282)+V282)","v":""},{"$f":"IF(Stammdaten!A285=\"\",\"\",C282+W282)","v":""}]
[{"$f":"Analysedaten!A280","v":""},{"$f":"IF(Stammdaten!A283=\"\",\"\",WEEKDAY(A283,2))","v":""},{"$f":"IF(Stammdaten!A283=\"\",\"\",Analysedaten!C280)","v":""},{"$f":"Analysedaten!D280","v":""},{"$f":"Analysedaten!E280","v":""},"","","","","","","","","","","","","","",null,{"$f":"IF(Stammdaten!A286=\"\",\"\",IF(D283<=15,VLOOKUP(B283,'Werte =<15°C'!$Q$2:$S$8,2,FALSE),VLOOKUP(B283,'Werte >15°C'!$Q$2:$S$8,2,FALSE)))","v":""},{"$f":"IF(Stammdaten!A286=\"\",\"\",IF(D283<=15,VLOOKUP(B283,'Werte =<15°C'!$Q$2:$S$8,3,FALSE),VLOOKUP(B283,'Werte >15°C'!$Q$2:$S$8,3,FALSE)))","v":""},{"$f":"IF(Stammdaten!A286=\"\",\"\",U283*(E285-D283)+V283)","v":""},{"$f":"IF(Stammdaten!A286=\"\",\"\",C283+W283)","v":""}]
[{"$f":"Analysedaten!A281","v":""},{"$f":"IF(Stammdaten!A284=\"\",\"\",WEEKDAY(A284,2))","v":""},{"$f":"IF(Stammdaten!A284=\"\",\"\",Analysedaten!C281)","v":""},{"$f":"Analysedaten!D281","v":""},{"$f":"Analysedaten!E281","v":""},"","","","","","","","","","","","","","",null,{"$f":"IF(Stammdaten!A287=\"\",\"\",IF(D284<=15,VLOOKUP(B284,'Werte =<15°C'!$Q$2:$S$8,2,FALSE),VLOOKUP(B284,'Werte >15°C'!$Q$2:$S$8,2,FALSE)))","v":""},{"$f":"IF(Stammdaten!A287=\"\",\"\",IF(D284<=15,VLOOKUP(B284,'Werte =<15°C'!$Q$2:$S$8,3,FALSE),VLOOKUP(B284,'Werte >15°C'!$Q$2:$S$8,3,FALSE)))","v":""},{"$f":"IF(Stammdaten!A287=\"\",\"\",U284*(E286-D284)+V284)","v":""},{"$f":"IF(Stammdaten!A287=\"\",\"\",C284+W284)","v":""}]
[{"$f":"Analysedaten!A282","v":""},{"$f":"IF(Stammdaten!A285=\"\",\"\",WEEKDAY(A285,2))","v":""},{"$f":"IF(Stammdaten!A285=\"\",\"\",Analysedaten!C282)","v":""},{"$f":"Analysedaten!D282","v":""},{"$f":"Analysedaten!E282","v":""},"","","","","","","","","","","","","","",null,{"$f":"IF(Stammdaten!A288=\"\",\"\",IF(D285<=15,VLOOKUP(B285,'Werte =<15°C'!$Q$2:$S$8,2,FALSE),VLOOKUP(B285,'Werte >15°C'!$Q$2:$S$8,2,FALSE)))","v":""},{"$f":"IF(Stammdaten!A288=\"\",\"\",IF(D285<=15,VLOOKUP(B285,'Werte =<15°C'!$Q$2:$S$8,3,FALSE),VLOOKUP(B285,'Werte >15°C'!$Q$2:$S$8,3,FALSE)))","v":""},{"$f":"IF(Stammdaten!A288=\"\",\"\",U285*(E287-D285)+V285)","v":""},{"$f":"IF(Stammdaten!A288=\"\",\"\",C285+W285)","v":""}]
[{"$f":"Analysedaten!A283","v":""},{"$f":"IF(Stammdaten!A286=\"\",\"\",WEEKDAY(A286,2))","v":""},{"$f":"IF(Stammdaten!A286=\"\",\"\",Analysedaten!C283)","v":""},{"$f":"Analysedaten!D283","v":""},{"$f":"Analysedaten!E283","v":""},"","","","","","","","","","","","","","",null,{"$f":"IF(Stammdaten!A289=\"\",\"\",IF(D286<=15,VLOOKUP(B286,'Werte =<15°C'!$Q$2:$S$8,2,FALSE),VLOOKUP(B286,'Werte >15°C'!$Q$2:$S$8,2,FALSE)))","v":""},{"$f":"IF(Stammdaten!A289=\"\",\"\",IF(D286<=15,VLOOKUP(B286,'Werte =<15°C'!$Q$2:$S$8,3,FALSE),VLOOKUP(B286,'Werte >15°C'!$Q$2:$S$8,3,FALSE)))","v":""},{"$f":"IF(Stammdaten!A289=\"\",\"\",U286*(E288-D286)+V286)","v":""},{"$f":"IF(Stammdaten!A289=\"\",\"\",C286+W286)","v":""}]
[{"$f":"Analysedaten!A284","v":""},{"$f":"IF(Stammdaten!A287=\"\",\"\",WEEKDAY(A287,2))","v":""},{"$f":"IF(Stammdaten!A287=\"\",\"\",Analysedaten!C284)","v":""},{"$f":"Analysedaten!D284","v":""},{"$f":"Analysedaten!E284","v":""},"","","","","","","","","","","","","","",null,{"$f":"IF(Stammdaten!A290=\"\",\"\",IF(D287<=15,VLOOKUP(B287,'Werte =<15°C'!$Q$2:$S$8,2,FALSE),VLOOKUP(B287,'Werte >15°C'!$Q$2:$S$8,2,FALSE)))","v":""},{"$f":"IF(Stammdaten!A290=\"\",\"\",IF(D287<=15,VLOOKUP(B287,'Werte =<15°C'!$Q$2:$S$8,3,FALSE),VLOOKUP(B287,'Werte >15°C'!$Q$2:$S$8,3,FALSE)))","v":""},{"$f":"IF(Stammdaten!A290=\"\",\"\",U287*(E289-D287)+V287)","v":""},{"$f":"IF(Stammdaten!A290=\"\",\"\",C287+W287)","v":""}]
[{"$f":"Analysedaten!A285","v":""},{"$f":"IF(Stammdaten!A288=\"\",\"\",WEEKDAY(A288,2))","v":""},{"$f":"IF(Stammdaten!A288=\"\",\"\",Analysedaten!C285)","v":""},{"$f":"Analysedaten!D285","v":""},{"$f":"Analysedaten!E285","v":""},"","","","","","","","","","","","","","",null,{"$f":"IF(Stammdaten!A291=\"\",\"\",IF(D288<=15,VLOOKUP(B288,'Werte =<15°C'!$Q$2:$S$8,2,FALSE),VLOOKUP(B288,'Werte >15°C'!$Q$2:$S$8,2,FALSE)))","v":""},{"$f":"IF(Stammdaten!A291=\"\",\"\",IF(D288<=15,VLOOKUP(B288,'Werte =<15°C'!$Q$2:$S$8,3,FALSE),VLOOKUP(B288,'Werte >15°C'!$Q$2:$S$8,3,FALSE)))","v":""},{"$f":"IF(Stammdaten!A291=\"\",\"\",U288*(E290-D288)+V288)","v":""},{"$f":"IF(Stammdaten!A291=\"\",\"\",C288+W288)","v":""}]
[{"$f":"Analysedaten!A286","v":""},{"$f":"IF(Stammdaten!A289=\"\",\"\",WEEKDAY(A289,2))","v":""},{"$f":"IF(Stammdaten!A289=\"\",\"\",Analysedaten!C286)","v":""},{"$f":"Analysedaten!D286","v":""},{"$f":"Analysedaten!E286","v":""},"","","","","","","","","","","","","","",null,{"$f":"IF(Stammdaten!A292=\"\",\"\",IF(D289<=15,VLOOKUP(B289,'Werte =<15°C'!$Q$2:$S$8,2,FALSE),VLOOKUP(B289,'Werte >15°C'!$Q$2:$S$8,2,FALSE)))","v":""},{"$f":"IF(Stammdaten!A292=\"\",\"\",IF(D289<=15,VLOOKUP(B289,'Werte =<15°C'!$Q$2:$S$8,3,FALSE),VLOOKUP(B289,'Werte >15°C'!$Q$2:$S$8,3,FALSE)))","v":""},{"$f":"IF(Stammdaten!A292=\"\",\"\",U289*(E291-D289)+V289)","v":""},{"$f":"IF(Stammdaten!A292=\"\",\"\",C289+W289)","v":""}]
[{"$f":"Analysedaten!A287","v":""},{"$f":"IF(Stammdaten!A290=\"\",\"\",WEEKDAY(A290,2))","v":""},{"$f":"IF(Stammdaten!A290=\"\",\"\",Analysedaten!C287)","v":""},{"$f":"Analysedaten!D287","v":""},{"$f":"Analysedaten!E287","v":""},"","","","","","","","","","","","","","",null,{"$f":"IF(Stammdaten!A293=\"\",\"\",IF(D290<=15,VLOOKUP(B290,'Werte =<15°C'!$Q$2:$S$8,2,FALSE),VLOOKUP(B290,'Werte >15°C'!$Q$2:$S$8,2,FALSE)))","v":""},{"$f":"IF(Stammdaten!A293=\"\",\"\",IF(D290<=15,VLOOKUP(B290,'Werte =<15°C'!$Q$2:$S$8,3,FALSE),VLOOKUP(B290,'Werte >15°C'!$Q$2:$S$8,3,FALSE)))","v":""},{"$f":"IF(Stammdaten!A293=\"\",\"\",U290*(E292-D290)+V290)","v":""},{"$f":"IF(Stammdaten!A293=\"\",\"\",C290+W290)","v":""}]
[{"$f":"Analysedaten!A288","v":""},{"$f":"IF(Stammdaten!A291=\"\",\"\",WEEKDAY(A291,2))","v":""},{"$f":"IF(Stammdaten!A291=\"\",\"\",Analysedaten!C288)","v":""},{"$f":"Analysedaten!D288","v":""},{"$f":"Analysedaten!E288","v":""},"","","","","","","","","","","","","","",null,{"$f":"IF(Stammdaten!A294=\"\",\"\",IF(D291<=15,VLOOKUP(B291,'Werte =<15°C'!$Q$2:$S$8,2,FALSE),VLOOKUP(B291,'Werte >15°C'!$Q$2:$S$8,2,FALSE)))","v":""},{"$f":"IF(Stammdaten!A294=\"\",\"\",IF(D291<=15,VLOOKUP(B291,'Werte =<15°C'!$Q$2:$S$8,3,FALSE),VLOOKUP(B291,'Werte >15°C'!$Q$2:$S$8,3,FALSE)))","v":""},{"$f":"IF(Stammdaten!A294=\"\",\"\",U291*(E293-D291)+V291)","v":""},{"$f":"IF(Stammdaten!A294=\"\",\"\",C291+W291)","v":""}]
[{"$f":"Analysedaten!A289","v":""},{"$f":"IF(Stammdaten!A292=\"\",\"\",WEEKDAY(A292,2))","v":""},{"$f":"IF(Stammdaten!A292=\"\",\"\",Analysedaten!C289)","v":""},{"$f":"Analysedaten!D289","v":""},{"$f":"Analysedaten!E289","v":""},"","","","","","","","","","","","","","",null,{"$f":"IF(Stammdaten!A295=\"\",\"\",IF(D292<=15,VLOOKUP(B292,'Werte =<15°C'!$Q$2:$S$8,2,FALSE),VLOOKUP(B292,'Werte >15°C'!$Q$2:$S$8,2,FALSE)))","v":""},{"$f":"IF(Stammdaten!A295=\"\",\"\",IF(D292<=15,VLOOKUP(B292,'Werte =<15°C'!$Q$2:$S$8,3,FALSE),VLOOKUP(B292,'Werte >15°C'!$Q$2:$S$8,3,FALSE)))","v":""},{"$f":"IF(Stammdaten!A295=\"\",\"\",U292*(E294-D292)+V292)","v":""},{"$f":"IF(Stammdaten!A295=\"\",\"\",C292+W292)","v":""}]
[{"$f":"Analysedaten!A290","v":""},{"$f":"IF(Stammdaten!A293=\"\",\"\",WEEKDAY(A293,2))","v":""},{"$f":"IF(Stammdaten!A293=\"\",\"\",Analysedaten!C290)","v":""},{"$f":"Analysedaten!D290","v":""},{"$f":"Analysedaten!E290","v":""},"","","","","","","","","","","","","","",null,{"$f":"IF(Stammdaten!A296=\"\",\"\",IF(D293<=15,VLOOKUP(B293,'Werte =<15°C'!$Q$2:$S$8,2,FALSE),VLOOKUP(B293,'Werte >15°C'!$Q$2:$S$8,2,FALSE)))","v":""},{"$f":"IF(Stammdaten!A296=\"\",\"\",IF(D293<=15,VLOOKUP(B293,'Werte =<15°C'!$Q$2:$S$8,3,FALSE),VLOOKUP(B293,'Werte >15°C'!$Q$2:$S$8,3,FALSE)))","v":""},{"$f":"IF(Stammdaten!A296=\"\",\"\",U293*(E295-D293)+V293)","v":""},{"$f":"IF(Stammdaten!A296=\"\",\"\",C293+W293)","v":""}]
[{"$f":"Analysedaten!A291","v":""},{"$f":"IF(Stammdaten!A294=\"\",\"\",WEEKDAY(A294,2))","v":""},{"$f":"IF(Stammdaten!A294=\"\",\"\",Analysedaten!C291)","v":""},{"$f":"Analysedaten!D291","v":""},{"$f":"Analysedaten!E291","v":""},"","","","","","","","","","","","","","",null,{"$f":"IF(Stammdaten!A297=\"\",\"\",IF(D294<=15,VLOOKUP(B294,'Werte =<15°C'!$Q$2:$S$8,2,FALSE),VLOOKUP(B294,'Werte >15°C'!$Q$2:$S$8,2,FALSE)))","v":""},{"$f":"IF(Stammdaten!A297=\"\",\"\",IF(D294<=15,VLOOKUP(B294,'Werte =<15°C'!$Q$2:$S$8,3,FALSE),VLOOKUP(B294,'Werte >15°C'!$Q$2:$S$8,3,FALSE)))","v":""},{"$f":"IF(Stammdaten!A297=\"\",\"\",U294*(E296-D294)+V294)","v":""},{"$f":"IF(Stammdaten!A297=\"\",\"\",C294+W294)","v":""}]
[{"$f":"Analysedaten!A292","v":""},{"$f":"IF(Stammdaten!A295=\"\",\"\",WEEKDAY(A295,2))","v":""},{"$f":"IF(Stammdaten!A295=\"\",\"\",Analysedaten!C292)","v":""},{"$f":"Analysedaten!D292","v":""},{"$f":"Analysedaten!E292","v":""},"","","","","","","","","","","","","","",null,{"$f":"IF(Stammdaten!A298=\"\",\"\",IF(D295<=15,VLOOKUP(B295,'Werte =<15°C'!$Q$2:$S$8,2,FALSE),VLOOKUP(B295,'Werte >15°C'!$Q$2:$S$8,2,FALSE)))","v":""},{"$f":"IF(Stammdaten!A298=\"\",\"\",IF(D295<=15,VLOOKUP(B295,'Werte =<15°C'!$Q$2:$S$8,3,FALSE),VLOOKUP(B295,'Werte >15°C'!$Q$2:$S$8,3,FALSE)))","v":""},{"$f":"IF(Stammdaten!A298=\"\",\"\",U295*(E297-D295)+V295)","v":""},{"$f":"IF(Stammdaten!A298=\"\",\"\",C295+W295)","v":""}]
[{"$f":"Analysedaten!A293","v":""},{"$f":"IF(Stammdaten!A296=\"\",\"\",WEEKDAY(A296,2))","v":""},{"$f":"IF(Stammdaten!A296=\"\",\"\",Analysedaten!C293)","v":""},{"$f":"Analysedaten!D293","v":""},{"$f":"Analysedaten!E293","v":""},"","","","","","","","","","","","","","",null,{"$f":"IF(Stammdaten!A299=\"\",\"\",IF(D296<=15,VLOOKUP(B296,'Werte =<15°C'!$Q$2:$S$8,2,FALSE),VLOOKUP(B296,'Werte >15°C'!$Q$2:$S$8,2,FALSE)))","v":""},{"$f":"IF(Stammdaten!A299=\"\",\"\",IF(D296<=15,VLOOKUP(B296,'Werte =<15°C'!$Q$2:$S$8,3,FALSE),VLOOKUP(B296,'Werte >15°C'!$Q$2:$S$8,3,FALSE)))","v":""},{"$f":"IF(Stammdaten!A299=\"\",\"\",U296*(E298-D296)+V296)","v":""},{"$f":"IF(Stammdaten!A299=\"\",\"\",C296+W296)","v":""}]
[{"$f":"Analysedaten!A294","v":""},{"$f":"IF(Stammdaten!A297=\"\",\"\",WEEKDAY(A297,2))","v":""},{"$f":"IF(Stammdaten!A297=\"\",\"\",Analysedaten!C294)","v":""},{"$f":"Analysedaten!D294","v":""},{"$f":"Analysedaten!E294","v":""},"","","","","","","","","","","","","","",null,{"$f":"IF(Stammdaten!A300=\"\",\"\",IF(D297<=15,VLOOKUP(B297,'Werte =<15°C'!$Q$2:$S$8,2,FALSE),VLOOKUP(B297,'Werte >15°C'!$Q$2:$S$8,2,FALSE)))","v":""},{"$f":"IF(Stammdaten!A300=\"\",\"\",IF(D297<=15,VLOOKUP(B297,'Werte =<15°C'!$Q$2:$S$8,3,FALSE),VLOOKUP(B297,'Werte >15°C'!$Q$2:$S$8,3,FALSE)))","v":""},{"$f":"IF(Stammdaten!A300=\"\",\"\",U297*(E299-D297)+V297)","v":""},{"$f":"IF(Stammdaten!A300=\"\",\"\",C297+W297)","v":""}]
[{"$f":"Analysedaten!A295","v":""},{"$f":"IF(Stammdaten!A298=\"\",\"\",WEEKDAY(A298,2))","v":""},{"$f":"IF(Stammdaten!A298=\"\",\"\",Analysedaten!C295)","v":""},{"$f":"Analysedaten!D295","v":""},{"$f":"Analysedaten!E295","v":""},"","","","","","","","","","","","","","",null,{"$f":"IF(Stammdaten!A301=\"\",\"\",IF(D298<=15,VLOOKUP(B298,'Werte =<15°C'!$Q$2:$S$8,2,FALSE),VLOOKUP(B298,'Werte >15°C'!$Q$2:$S$8,2,FALSE)))","v":""},{"$f":"IF(Stammdaten!A301=\"\",\"\",IF(D298<=15,VLOOKUP(B298,'Werte =<15°C'!$Q$2:$S$8,3,FALSE),VLOOKUP(B298,'Werte >15°C'!$Q$2:$S$8,3,FALSE)))","v":""},{"$f":"IF(Stammdaten!A301=\"\",\"\",U298*(E300-D298)+V298)","v":""},{"$f":"IF(Stammdaten!A301=\"\",\"\",C298+W298)","v":""}]
[{"$f":"Analysedaten!A296","v":""},{"$f":"IF(Stammdaten!A299=\"\",\"\",WEEKDAY(A299,2))","v":""},{"$f":"IF(Stammdaten!A299=\"\",\"\",Analysedaten!C296)","v":""},{"$f":"Analysedaten!D296","v":""},{"$f":"Analysedaten!E296","v":""},"","","","","","","","","","","","","","",null,{"$f":"IF(Stammdaten!A302=\"\",\"\",IF(D299<=15,VLOOKUP(B299,'Werte =<15°C'!$Q$2:$S$8,2,FALSE),VLOOKUP(B299,'Werte >15°C'!$Q$2:$S$8,2,FALSE)))","v":""},{"$f":"IF(Stammdaten!A302=\"\",\"\",IF(D299<=15,VLOOKUP(B299,'Werte =<15°C'!$Q$2:$S$8,3,FALSE),VLOOKUP(B299,'Werte >15°C'!$Q$2:$S$8,3,FALSE)))","v":""},{"$f":"IF(Stammdaten!A302=\"\",\"\",U299*(E301-D299)+V299)","v":""},{"$f":"IF(Stammdaten!A302=\"\",\"\",C299+W299)","v":""}]
[{"$f":"Analysedaten!A297","v":""},{"$f":"IF(Stammdaten!A300=\"\",\"\",WEEKDAY(A300,2))","v":""},{"$f":"IF(Stammdaten!A300=\"\",\"\",Analysedaten!C297)","v":""},{"$f":"Analysedaten!D297","v":""},{"$f":"Analysedaten!E297","v":""},"","","","","","","","","","","","","","",null,{"$f":"IF(Stammdaten!A303=\"\",\"\",IF(D300<=15,VLOOKUP(B300,'Werte =<15°C'!$Q$2:$S$8,2,FALSE),VLOOKUP(B300,'Werte >15°C'!$Q$2:$S$8,2,FALSE)))","v":""},{"$f":"IF(Stammdaten!A303=\"\",\"\",IF(D300<=15,VLOOKUP(B300,'Werte =<15°C'!$Q$2:$S$8,3,FALSE),VLOOKUP(B300,'Werte >15°C'!$Q$2:$S$8,3,FALSE)))","v":""},{"$f":"IF(Stammdaten!A303=\"\",\"\",U300*(E302-D300)+V300)","v":""},{"$f":"IF(Stammdaten!A303=\"\",\"\",C300+W300)","v":""}]
[{"$f":"Analysedaten!A298","v":""},{"$f":"IF(Stammdaten!A301=\"\",\"\",WEEKDAY(A301,2))","v":""},{"$f":"IF(Stammdaten!A301=\"\",\"\",Analysedaten!C298)","v":""},{"$f":"Analysedaten!D298","v":""},{"$f":"Analysedaten!E298","v":""},"","","","","","","","","","","","","","",null,{"$f":"IF(Stammdaten!A304=\"\",\"\",IF(D301<=15,VLOOKUP(B301,'Werte =<15°C'!$Q$2:$S$8,2,FALSE),VLOOKUP(B301,'Werte >15°C'!$Q$2:$S$8,2,FALSE)))","v":""},{"$f":"IF(Stammdaten!A304=\"\",\"\",IF(D301<=15,VLOOKUP(B301,'Werte =<15°C'!$Q$2:$S$8,3,FALSE),VLOOKUP(B301,'Werte >15°C'!$Q$2:$S$8,3,FALSE)))","v":""},{"$f":"IF(Stammdaten!A304=\"\",\"\",U301*(E303-D301)+V301)","v":""},{"$f":"IF(Stammdaten!A304=\"\",\"\",C301+W301)","v":""}]
[{"$f":"Analysedaten!A299","v":""},{"$f":"IF(Stammdaten!A302=\"\",\"\",WEEKDAY(A302,2))","v":""},{"$f":"IF(Stammdaten!A302=\"\",\"\",Analysedaten!C299)","v":""},{"$f":"Analysedaten!D299","v":""},{"$f":"Analysedaten!E299","v":""},"","","","","","","","","","","","","","",null,{"$f":"IF(Stammdaten!A305=\"\",\"\",IF(D302<=15,VLOOKUP(B302,'Werte =<15°C'!$Q$2:$S$8,2,FALSE),VLOOKUP(B302,'Werte >15°C'!$Q$2:$S$8,2,FALSE)))","v":""},{"$f":"IF(Stammdaten!A305=\"\",\"\",IF(D302<=15,VLOOKUP(B302,'Werte =<15°C'!$Q$2:$S$8,3,FALSE),VLOOKUP(B302,'Werte >15°C'!$Q$2:$S$8,3,FALSE)))","v":""},{"$f":"IF(Stammdaten!A305=\"\",\"\",U302*(E304-D302)+V302)","v":""},{"$f":"IF(Stammdaten!A305=\"\",\"\",C302+W302)","v":""}]
[{"$f":"Analysedaten!A300","v":""},{"$f":"IF(Stammdaten!A303=\"\",\"\",WEEKDAY(A303,2))","v":""},{"$f":"IF(Stammdaten!A303=\"\",\"\",Analysedaten!C300)","v":""},{"$f":"Analysedaten!D300","v":""},{"$f":"Analysedaten!E300","v":""},"","","","","","","","","","","","","","",null,{"$f":"IF(Stammdaten!A306=\"\",\"\",IF(D303<=15,VLOOKUP(B303,'Werte =<15°C'!$Q$2:$S$8,2,FALSE),VLOOKUP(B303,'Werte >15°C'!$Q$2:$S$8,2,FALSE)))","v":""},{"$f":"IF(Stammdaten!A306=\"\",\"\",IF(D303<=15,VLOOKUP(B303,'Werte =<15°C'!$Q$2:$S$8,3,FALSE),VLOOKUP(B303,'Werte >15°C'!$Q$2:$S$8,3,FALSE)))","v":""},{"$f":"IF(Stammdaten!A306=\"\",\"\",U303*(E305-D303)+V303)","v":""},{"$f":"IF(Stammdaten!A306=\"\",\"\",C303+W303)","v":""}]
[{"$f":"Analysedaten!A301","v":""},{"$f":"IF(Stammdaten!A304=\"\",\"\",WEEKDAY(A304,2))","v":""},{"$f":"IF(Stammdaten!A304=\"\",\"\",Analysedaten!C301)","v":""},{"$f":"Analysedaten!D301","v":""},{"$f":"Analysedaten!E301","v":""},"","","","","","","","","","","","","","",null,{"$f":"IF(Stammdaten!A307=\"\",\"\",IF(D304<=15,VLOOKUP(B304,'Werte =<15°C'!$Q$2:$S$8,2,FALSE),VLOOKUP(B304,'Werte >15°C'!$Q$2:$S$8,2,FALSE)))","v":""},{"$f":"IF(Stammdaten!A307=\"\",\"\",IF(D304<=15,VLOOKUP(B304,'Werte =<15°C'!$Q$2:$S$8,3,FALSE),VLOOKUP(B304,'Werte >15°C'!$Q$2:$S$8,3,FALSE)))","v":""},{"$f":"IF(Stammdaten!A307=\"\",\"\",U304*(E306-D304)+V304)","v":""},{"$f":"IF(Stammdaten!A307=\"\",\"\",C304+W304)","v":""}]
[{"$f":"Analysedaten!A302","v":""},{"$f":"IF(Stammdaten!A305=\"\",\"\",WEEKDAY(A305,2))","v":""},{"$f":"IF(Stammdaten!A305=\"\",\"\",Analysedaten!C302)","v":""},{"$f":"Analysedaten!D302","v":""},{"$f":"Analysedaten!E302","v":""},"","","","","","","","","","","","","","",null,{"$f":"IF(Stammdaten!A308=\"\",\"\",IF(D305<=15,VLOOKUP(B305,'Werte =<15°C'!$Q$2:$S$8,2,FALSE),VLOOKUP(B305,'Werte >15°C'!$Q$2:$S$8,2,FALSE)))","v":""},{"$f":"IF(Stammdaten!A308=\"\",\"\",IF(D305<=15,VLOOKUP(B305,'Werte =<15°C'!$Q$2:$S$8,3,FALSE),VLOOKUP(B305,'Werte >15°C'!$Q$2:$S$8,3,FALSE)))","v":""},{"$f":"IF(Stammdaten!A308=\"\",\"\",U305*(E307-D305)+V305)","v":""},{"$f":"IF(Stammdaten!A308=\"\",\"\",C305+W305)","v":""}]
[{"$f":"Analysedaten!A303","v":""},{"$f":"IF(Stammdaten!A306=\"\",\"\",WEEKDAY(A306,2))","v":""},{"$f":"IF(Stammdaten!A306=\"\",\"\",Analysedaten!C303)","v":""},{"$f":"Analysedaten!D303","v":""},{"$f":"Analysedaten!E303","v":""},"","","","","","","","","","","","","","",null,{"$f":"IF(Stammdaten!A309=\"\",\"\",IF(D306<=15,VLOOKUP(B306,'Werte =<15°C'!$Q$2:$S$8,2,FALSE),VLOOKUP(B306,'Werte >15°C'!$Q$2:$S$8,2,FALSE)))","v":""},{"$f":"IF(Stammdaten!A309=\"\",\"\",IF(D306<=15,VLOOKUP(B306,'Werte =<15°C'!$Q$2:$S$8,3,FALSE),VLOOKUP(B306,'Werte >15°C'!$Q$2:$S$8,3,FALSE)))","v":""},{"$f":"IF(Stammdaten!A309=\"\",\"\",U306*(E308-D306)+V306)","v":""},{"$f":"IF(Stammdaten!A309=\"\",\"\",C306+W306)","v":""}]
[{"$f":"Analysedaten!A304","v":""},{"$f":"IF(Stammdaten!A307=\"\",\"\",WEEKDAY(A307,2))","v":""},{"$f":"IF(Stammdaten!A307=\"\",\"\",Analysedaten!C304)","v":""},{"$f":"Analysedaten!D304","v":""},{"$f":"Analysedaten!E304","v":""},"","","","","","","","","","","","","","",null,{"$f":"IF(Stammdaten!A310=\"\",\"\",IF(D307<=15,VLOOKUP(B307,'Werte =<15°C'!$Q$2:$S$8,2,FALSE),VLOOKUP(B307,'Werte >15°C'!$Q$2:$S$8,2,FALSE)))","v":""},{"$f":"IF(Stammdaten!A310=\"\",\"\",IF(D307<=15,VLOOKUP(B307,'Werte =<15°C'!$Q$2:$S$8,3,FALSE),VLOOKUP(B307,'Werte >15°C'!$Q$2:$S$8,3,FALSE)))","v":""},{"$f":"IF(Stammdaten!A310=\"\",\"\",U307*(E309-D307)+V307)","v":""},{"$f":"IF(Stammdaten!A310=\"\",\"\",C307+W307)","v":""}]
[{"$f":"Analysedaten!A305","v":""},{"$f":"IF(Stammdaten!A308=\"\",\"\",WEEKDAY(A308,2))","v":""},{"$f":"IF(Stammdaten!A308=\"\",\"\",Analysedaten!C305)","v":""},{"$f":"Analysedaten!D305","v":""},{"$f":"Analysedaten!E305","v":""},"","","","","","","","","","","","","","",null,{"$f":"IF(Stammdaten!A311=\"\",\"\",IF(D308<=15,VLOOKUP(B308,'Werte =<15°C'!$Q$2:$S$8,2,FALSE),VLOOKUP(B308,'Werte >15°C'!$Q$2:$S$8,2,FALSE)))","v":""},{"$f":"IF(Stammdaten!A311=\"\",\"\",IF(D308<=15,VLOOKUP(B308,'Werte =<15°C'!$Q$2:$S$8,3,FALSE),VLOOKUP(B308,'Werte >15°C'!$Q$2:$S$8,3,FALSE)))","v":""},{"$f":"IF(Stammdaten!A311=\"\",\"\",U308*(E310-D308)+V308)","v":""},{"$f":"IF(Stammdaten!A311=\"\",\"\",C308+W308)","v":""}]
[{"$f":"Analysedaten!A306","v":""},{"$f":"IF(Stammdaten!A309=\"\",\"\",WEEKDAY(A309,2))","v":""},{"$f":"IF(Stammdaten!A309=\"\",\"\",Analysedaten!C306)","v":""},{"$f":"Analysedaten!D306","v":""},{"$f":"Analysedaten!E306","v":""},"","","","","","","","","","","","","","",null,{"$f":"IF(Stammdaten!A312=\"\",\"\",IF(D309<=15,VLOOKUP(B309,'Werte =<15°C'!$Q$2:$S$8,2,FALSE),VLOOKUP(B309,'Werte >15°C'!$Q$2:$S$8,2,FALSE)))","v":""},{"$f":"IF(Stammdaten!A312=\"\",\"\",IF(D309<=15,VLOOKUP(B309,'Werte =<15°C'!$Q$2:$S$8,3,FALSE),VLOOKUP(B309,'Werte >15°C'!$Q$2:$S$8,3,FALSE)))","v":""},{"$f":"IF(Stammdaten!A312=\"\",\"\",U309*(E311-D309)+V309)","v":""},{"$f":"IF(Stammdaten!A312=\"\",\"\",C309+W309)","v":""}]
[{"$f":"Analysedaten!A307","v":""},{"$f":"IF(Stammdaten!A310=\"\",\"\",WEEKDAY(A310,2))","v":""},{"$f":"IF(Stammdaten!A310=\"\",\"\",Analysedaten!C307)","v":""},{"$f":"Analysedaten!D307","v":""},{"$f":"Analysedaten!E307","v":""},"","","","","","","","","","","","","","",null,{"$f":"IF(Stammdaten!A313=\"\",\"\",IF(D310<=15,VLOOKUP(B310,'Werte =<15°C'!$Q$2:$S$8,2,FALSE),VLOOKUP(B310,'Werte >15°C'!$Q$2:$S$8,2,FALSE)))","v":""},{"$f":"IF(Stammdaten!A313=\"\",\"\",IF(D310<=15,VLOOKUP(B310,'Werte =<15°C'!$Q$2:$S$8,3,FALSE),VLOOKUP(B310,'Werte >15°C'!$Q$2:$S$8,3,FALSE)))","v":""},{"$f":"IF(Stammdaten!A313=\"\",\"\",U310*(E312-D310)+V310)","v":""},{"$f":"IF(Stammdaten!A313=\"\",\"\",C310+W310)","v":""}]
[{"$f":"Analysedaten!A308","v":""},{"$f":"IF(Stammdaten!A311=\"\",\"\",WEEKDAY(A311,2))","v":""},{"$f":"IF(Stammdaten!A311=\"\",\"\",Analysedaten!C308)","v":""},{"$f":"Analysedaten!D308","v":""},{"$f":"Analysedaten!E308","v":""},"","","","","","","","","","","","","","",null,{"$f":"IF(Stammdaten!A314=\"\",\"\",IF(D311<=15,VLOOKUP(B311,'Werte =<15°C'!$Q$2:$S$8,2,FALSE),VLOOKUP(B311,'Werte >15°C'!$Q$2:$S$8,2,FALSE)))","v":""},{"$f":"IF(Stammdaten!A314=\"\",\"\",IF(D311<=15,VLOOKUP(B311,'Werte =<15°C'!$Q$2:$S$8,3,FALSE),VLOOKUP(B311,'Werte >15°C'!$Q$2:$S$8,3,FALSE)))","v":""},{"$f":"IF(Stammdaten!A314=\"\",\"\",U311*(E313-D311)+V311)","v":""},{"$f":"IF(Stammdaten!A314=\"\",\"\",C311+W311)","v":""}]
[{"$f":"Analysedaten!A309","v":""},{"$f":"IF(Stammdaten!A312=\"\",\"\",WEEKDAY(A312,2))","v":""},{"$f":"IF(Stammdaten!A312=\"\",\"\",Analysedaten!C309)","v":""},{"$f":"Analysedaten!D309","v":""},{"$f":"Analysedaten!E309","v":""},"","","","","","","","","","","","","","",null,{"$f":"IF(Stammdaten!A315=\"\",\"\",IF(D312<=15,VLOOKUP(B312,'Werte =<15°C'!$Q$2:$S$8,2,FALSE),VLOOKUP(B312,'Werte >15°C'!$Q$2:$S$8,2,FALSE)))","v":""},{"$f":"IF(Stammdaten!A315=\"\",\"\",IF(D312<=15,VLOOKUP(B312,'Werte =<15°C'!$Q$2:$S$8,3,FALSE),VLOOKUP(B312,'Werte >15°C'!$Q$2:$S$8,3,FALSE)))","v":""},{"$f":"IF(Stammdaten!A315=\"\",\"\",U312*(E314-D312)+V312)","v":""},{"$f":"IF(Stammdaten!A315=\"\",\"\",C312+W312)","v":""}]
[{"$f":"Analysedaten!A310","v":""},{"$f":"IF(Stammdaten!A313=\"\",\"\",WEEKDAY(A313,2))","v":""},{"$f":"IF(Stammdaten!A313=\"\",\"\",Analysedaten!C310)","v":""},{"$f":"Analysedaten!D310","v":""},{"$f":"Analysedaten!E310","v":""},"","","","","","","","","","","","","","",null,{"$f":"IF(Stammdaten!A316=\"\",\"\",IF(D313<=15,VLOOKUP(B313,'Werte =<15°C'!$Q$2:$S$8,2,FALSE),VLOOKUP(B313,'Werte >15°C'!$Q$2:$S$8,2,FALSE)))","v":""},{"$f":"IF(Stammdaten!A316=\"\",\"\",IF(D313<=15,VLOOKUP(B313,'Werte =<15°C'!$Q$2:$S$8,3,FALSE),VLOOKUP(B313,'Werte >15°C'!$Q$2:$S$8,3,FALSE)))","v":""},{"$f":"IF(Stammdaten!A316=\"\",\"\",U313*(E315-D313)+V313)","v":""},{"$f":"IF(Stammdaten!A316=\"\",\"\",C313+W313)","v":""}]
[{"$f":"Analysedaten!A311","v":""},{"$f":"IF(Stammdaten!A314=\"\",\"\",WEEKDAY(A314,2))","v":""},{"$f":"IF(Stammdaten!A314=\"\",\"\",Analysedaten!C311)","v":""},{"$f":"Analysedaten!D311","v":""},{"$f":"Analysedaten!E311","v":""},"","","","","","","","","","","","","","",null,{"$f":"IF(Stammdaten!A317=\"\",\"\",IF(D314<=15,VLOOKUP(B314,'Werte =<15°C'!$Q$2:$S$8,2,FALSE),VLOOKUP(B314,'Werte >15°C'!$Q$2:$S$8,2,FALSE)))","v":""},{"$f":"IF(Stammdaten!A317=\"\",\"\",IF(D314<=15,VLOOKUP(B314,'Werte =<15°C'!$Q$2:$S$8,3,FALSE),VLOOKUP(B314,'Werte >15°C'!$Q$2:$S$8,3,FALSE)))","v":""},{"$f":"IF(Stammdaten!A317=\"\",\"\",U314*(E316-D314)+V314)","v":""},{"$f":"IF(Stammdaten!A317=\"\",\"\",C314+W314)","v":""}]
[{"$f":"Analysedaten!A312","v":""},{"$f":"IF(Stammdaten!A315=\"\",\"\",WEEKDAY(A315,2))","v":""},{"$f":"IF(Stammdaten!A315=\"\",\"\",Analysedaten!C312)","v":""},{"$f":"Analysedaten!D312","v":""},{"$f":"Analysedaten!E312","v":""},"","","","","","","","","","","","","","",null,{"$f":"IF(Stammdaten!A318=\"\",\"\",IF(D315<=15,VLOOKUP(B315,'Werte =<15°C'!$Q$2:$S$8,2,FALSE),VLOOKUP(B315,'Werte >15°C'!$Q$2:$S$8,2,FALSE)))","v":""},{"$f":"IF(Stammdaten!A318=\"\",\"\",IF(D315<=15,VLOOKUP(B315,'Werte =<15°C'!$Q$2:$S$8,3,FALSE),VLOOKUP(B315,'Werte >15°C'!$Q$2:$S$8,3,FALSE)))","v":""},{"$f":"IF(Stammdaten!A318=\"\",\"\",U315*(E317-D315)+V315)","v":""},{"$f":"IF(Stammdaten!A318=\"\",\"\",C315+W315)","v":""}]
[{"$f":"Analysedaten!A313","v":""},{"$f":"IF(Stammdaten!A316=\"\",\"\",WEEKDAY(A316,2))","v":""},{"$f":"IF(Stammdaten!A316=\"\",\"\",Analysedaten!C313)","v":""},{"$f":"Analysedaten!D313","v":""},{"$f":"Analysedaten!E313","v":""},"","","","","","","","","","","","","","",null,{"$f":"IF(Stammdaten!A319=\"\",\"\",IF(D316<=15,VLOOKUP(B316,'Werte =<15°C'!$Q$2:$S$8,2,FALSE),VLOOKUP(B316,'Werte >15°C'!$Q$2:$S$8,2,FALSE)))","v":""},{"$f":"IF(Stammdaten!A319=\"\",\"\",IF(D316<=15,VLOOKUP(B316,'Werte =<15°C'!$Q$2:$S$8,3,FALSE),VLOOKUP(B316,'Werte >15°C'!$Q$2:$S$8,3,FALSE)))","v":""},{"$f":"IF(Stammdaten!A319=\"\",\"\",U316*(E318-D316)+V316)","v":""},{"$f":"IF(Stammdaten!A319=\"\",\"\",C316+W316)","v":""}]
[{"$f":"Analysedaten!A314","v":""},{"$f":"IF(Stammdaten!A317=\"\",\"\",WEEKDAY(A317,2))","v":""},{"$f":"IF(Stammdaten!A317=\"\",\"\",Analysedaten!C314)","v":""},{"$f":"Analysedaten!D314","v":""},{"$f":"Analysedaten!E314","v":""},"","","","","","","","","","","","","","",null,{"$f":"IF(Stammdaten!A320=\"\",\"\",IF(D317<=15,VLOOKUP(B317,'Werte =<15°C'!$Q$2:$S$8,2,FALSE),VLOOKUP(B317,'Werte >15°C'!$Q$2:$S$8,2,FALSE)))","v":""},{"$f":"IF(Stammdaten!A320=\"\",\"\",IF(D317<=15,VLOOKUP(B317,'Werte =<15°C'!$Q$2:$S$8,3,FALSE),VLOOKUP(B317,'Werte >15°C'!$Q$2:$S$8,3,FALSE)))","v":""},{"$f":"IF(Stammdaten!A320=\"\",\"\",U317*(E319-D317)+V317)","v":""},{"$f":"IF(Stammdaten!A320=\"\",\"\",C317+W317)","v":""}]
[{"$f":"Analysedaten!A315","v":""},{"$f":"IF(Stammdaten!A318=\"\",\"\",WEEKDAY(A318,2))","v":""},{"$f":"IF(Stammdaten!A318=\"\",\"\",Analysedaten!C315)","v":""},{"$f":"Analysedaten!D315","v":""},{"$f":"Analysedaten!E315","v":""},"","","","","","","","","","","","","","",null,{"$f":"IF(Stammdaten!A321=\"\",\"\",IF(D318<=15,VLOOKUP(B318,'Werte =<15°C'!$Q$2:$S$8,2,FALSE),VLOOKUP(B318,'Werte >15°C'!$Q$2:$S$8,2,FALSE)))","v":""},{"$f":"IF(Stammdaten!A321=\"\",\"\",IF(D318<=15,VLOOKUP(B318,'Werte =<15°C'!$Q$2:$S$8,3,FALSE),VLOOKUP(B318,'Werte >15°C'!$Q$2:$S$8,3,FALSE)))","v":""},{"$f":"IF(Stammdaten!A321=\"\",\"\",U318*(E320-D318)+V318)","v":""},{"$f":"IF(Stammdaten!A321=\"\",\"\",C318+W318)","v":""}]
[{"$f":"Analysedaten!A316","v":""},{"$f":"IF(Stammdaten!A319=\"\",\"\",WEEKDAY(A319,2))","v":""},{"$f":"IF(Stammdaten!A319=\"\",\"\",Analysedaten!C316)","v":""},{"$f":"Analysedaten!D316","v":""},{"$f":"Analysedaten!E316","v":""},"","","","","","","","","","","","","","",null,{"$f":"IF(Stammdaten!A322=\"\",\"\",IF(D319<=15,VLOOKUP(B319,'Werte =<15°C'!$Q$2:$S$8,2,FALSE),VLOOKUP(B319,'Werte >15°C'!$Q$2:$S$8,2,FALSE)))","v":""},{"$f":"IF(Stammdaten!A322=\"\",\"\",IF(D319<=15,VLOOKUP(B319,'Werte =<15°C'!$Q$2:$S$8,3,FALSE),VLOOKUP(B319,'Werte >15°C'!$Q$2:$S$8,3,FALSE)))","v":""},{"$f":"IF(Stammdaten!A322=\"\",\"\",U319*(E321-D319)+V319)","v":""},{"$f":"IF(Stammdaten!A322=\"\",\"\",C319+W319)","v":""}]
[{"$f":"Analysedaten!A317","v":""},{"$f":"IF(Stammdaten!A320=\"\",\"\",WEEKDAY(A320,2))","v":""},{"$f":"IF(Stammdaten!A320=\"\",\"\",Analysedaten!C317)","v":""},{"$f":"Analysedaten!D317","v":""},{"$f":"Analysedaten!E317","v":""},"","","","","","","","","","","","","","",null,{"$f":"IF(Stammdaten!A323=\"\",\"\",IF(D320<=15,VLOOKUP(B320,'Werte =<15°C'!$Q$2:$S$8,2,FALSE),VLOOKUP(B320,'Werte >15°C'!$Q$2:$S$8,2,FALSE)))","v":""},{"$f":"IF(Stammdaten!A323=\"\",\"\",IF(D320<=15,VLOOKUP(B320,'Werte =<15°C'!$Q$2:$S$8,3,FALSE),VLOOKUP(B320,'Werte >15°C'!$Q$2:$S$8,3,FALSE)))","v":""},{"$f":"IF(Stammdaten!A323=\"\",\"\",U320*(E322-D320)+V320)","v":""},{"$f":"IF(Stammdaten!A323=\"\",\"\",C320+W320)","v":""}]
[{"$f":"Analysedaten!A318","v":""},{"$f":"IF(Stammdaten!A321=\"\",\"\",WEEKDAY(A321,2))","v":""},{"$f":"IF(Stammdaten!A321=\"\",\"\",Analysedaten!C318)","v":""},{"$f":"Analysedaten!D318","v":""},{"$f":"Analysedaten!E318","v":""},"","","","","","","","","","","","","","",null,{"$f":"IF(Stammdaten!A324=\"\",\"\",IF(D321<=15,VLOOKUP(B321,'Werte =<15°C'!$Q$2:$S$8,2,FALSE),VLOOKUP(B321,'Werte >15°C'!$Q$2:$S$8,2,FALSE)))","v":""},{"$f":"IF(Stammdaten!A324=\"\",\"\",IF(D321<=15,VLOOKUP(B321,'Werte =<15°C'!$Q$2:$S$8,3,FALSE),VLOOKUP(B321,'Werte >15°C'!$Q$2:$S$8,3,FALSE)))","v":""},{"$f":"IF(Stammdaten!A324=\"\",\"\",U321*(E323-D321)+V321)","v":""},{"$f":"IF(Stammdaten!A324=\"\",\"\",C321+W321)","v":""}]
[{"$f":"Analysedaten!A319","v":""},{"$f":"IF(Stammdaten!A322=\"\",\"\",WEEKDAY(A322,2))","v":""},{"$f":"IF(Stammdaten!A322=\"\",\"\",Analysedaten!C319)","v":""},{"$f":"Analysedaten!D319","v":""},{"$f":"Analysedaten!E319","v":""},"","","","","","","","","","","","","","",null,{"$f":"IF(Stammdaten!A325=\"\",\"\",IF(D322<=15,VLOOKUP(B322,'Werte =<15°C'!$Q$2:$S$8,2,FALSE),VLOOKUP(B322,'Werte >15°C'!$Q$2:$S$8,2,FALSE)))","v":""},{"$f":"IF(Stammdaten!A325=\"\",\"\",IF(D322<=15,VLOOKUP(B322,'Werte =<15°C'!$Q$2:$S$8,3,FALSE),VLOOKUP(B322,'Werte >15°C'!$Q$2:$S$8,3,FALSE)))","v":""},{"$f":"IF(Stammdaten!A325=\"\",\"\",U322*(E324-D322)+V322)","v":""},{"$f":"IF(Stammdaten!A325=\"\",\"\",C322+W322)","v":""}]
[{"$f":"Analysedaten!A320","v":""},{"$f":"IF(Stammdaten!A323=\"\",\"\",WEEKDAY(A323,2))","v":""},{"$f":"IF(Stammdaten!A323=\"\",\"\",Analysedaten!C320)","v":""},{"$f":"Analysedaten!D320","v":""},{"$f":"Analysedaten!E320","v":""},"","","","","","","","","","","","","","",null,{"$f":"IF(Stammdaten!A326=\"\",\"\",IF(D323<=15,VLOOKUP(B323,'Werte =<15°C'!$Q$2:$S$8,2,FALSE),VLOOKUP(B323,'Werte >15°C'!$Q$2:$S$8,2,FALSE)))","v":""},{"$f":"IF(Stammdaten!A326=\"\",\"\",IF(D323<=15,VLOOKUP(B323,'Werte =<15°C'!$Q$2:$S$8,3,FALSE),VLOOKUP(B323,'Werte >15°C'!$Q$2:$S$8,3,FALSE)))","v":""},{"$f":"IF(Stammdaten!A326=\"\",\"\",U323*(E325-D323)+V323)","v":""},{"$f":"IF(Stammdaten!A326=\"\",\"\",C323+W323)","v":""}]
[{"$f":"Analysedaten!A321","v":""},{"$f":"IF(Stammdaten!A324=\"\",\"\",WEEKDAY(A324,2))","v":""},{"$f":"IF(Stammdaten!A324=\"\",\"\",Analysedaten!C321)","v":""},{"$f":"Analysedaten!D321","v":""},{"$f":"Analysedaten!E321","v":""},"","","","","","","","","","","","","","",null,{"$f":"IF(Stammdaten!A327=\"\",\"\",IF(D324<=15,VLOOKUP(B324,'Werte =<15°C'!$Q$2:$S$8,2,FALSE),VLOOKUP(B324,'Werte >15°C'!$Q$2:$S$8,2,FALSE)))","v":""},{"$f":"IF(Stammdaten!A327=\"\",\"\",IF(D324<=15,VLOOKUP(B324,'Werte =<15°C'!$Q$2:$S$8,3,FALSE),VLOOKUP(B324,'Werte >15°C'!$Q$2:$S$8,3,FALSE)))","v":""},{"$f":"IF(Stammdaten!A327=\"\",\"\",U324*(E326-D324)+V324)","v":""},{"$f":"IF(Stammdaten!A327=\"\",\"\",C324+W324)","v":""}]
[{"$f":"Analysedaten!A322","v":""},{"$f":"IF(Stammdaten!A325=\"\",\"\",WEEKDAY(A325,2))","v":""},{"$f":"IF(Stammdaten!A325=\"\",\"\",Analysedaten!C322)","v":""},{"$f":"Analysedaten!D322","v":""},{"$f":"Analysedaten!E322","v":""},{"$f":"IF(B327=1,(E327-D325),\"\")","v":""},{"$f":"IF(B327=1,(C327-C325),\"\")","v":""},{"$f":"IF(B327=2,(E327-D325),\"\")","v":""},{"$f":"IF(B327=2,(C327-C325),\"\")","v":""},{"$f":"IF(B327=3,(E327-D325),\"\")","v":""},{"$f":"IF(B327=3,(C327-C325),\"\")","v":""},{"$f":"IF(B327=4,(E327-D325),\"\")","v":""},{"$f":"IF(B327=4,(C327-C325),\"\")","v":""},{"$f":"IF(B327=5,(E327-D325),\"\")","v":""},{"$f":"IF(B327=5,(C327-C325),\"\")","v":""},{"$f":"IF(B327=6,(E327-D325),\"\")","v":""},{"$f":"IF(B327=6,(C327-C325),\"\")","v":""},{"$f":"IF(B327=7,(E327-D325),\"\")","v":""},{"$f":"IF(B327=7,(C327-C325),\"\")","v":""},null,{"$f":"IF(Stammdaten!A328=\"\",\"\",IF(D325<=15,VLOOKUP(B325,'Werte =<15°C'!$Q$2:$S$8,2,FALSE),VLOOKUP(B325,'Werte >15°C'!$Q$2:$S$8,2,FALSE)))","v":""},{"$f":"IF(Stammdaten!A328=\"\",\"\",IF(D325<=15,VLOOKUP(B325,'Werte =<15°C'!$Q$2:$S$8,3,FALSE),VLOOKUP(B325,'Werte >15°C'!$Q$2:$S$8,3,FALSE)))","v":""},{"$f":"IF(Stammdaten!A328=\"\",\"\",U325*(E327-D325)+V325)","v":""},{"$f":"IF(Stammdaten!A328=\"\",\"\",C325+W325)","v":""}]
[{"$f":"Analysedaten!A323","v":""},{"$f":"IF(Stammdaten!A326=\"\",\"\",WEEKDAY(A326,2))","v":""},{"$f":"IF(Stammdaten!A326=\"\",\"\",Analysedaten!C323)","v":""},{"$f":"Analysedaten!D323","v":""},{"$f":"Analysedaten!E323","v":""},"","","","","","","","","","","","","","",null,{"$f":"IF(Stammdaten!A329=\"\",\"\",IF(D326<=15,VLOOKUP(B326,'Werte =<15°C'!$Q$2:$S$8,2,FALSE),VLOOKUP(B326,'Werte >15°C'!$Q$2:$S$8,2,FALSE)))","v":""},{"$f":"IF(Stammdaten!A329=\"\",\"\",IF(D326<=15,VLOOKUP(B326,'Werte =<15°C'!$Q$2:$S$8,3,FALSE),VLOOKUP(B326,'Werte >15°C'!$Q$2:$S$8,3,FALSE)))","v":""},{"$f":"IF(Stammdaten!A329=\"\",\"\",U326*(E328-D326)+V326)","v":""},{"$f":"IF(Stammdaten!A329=\"\",\"\",C326+W326)","v":""}]
[{"$f":"Analysedaten!A324","v":""},{"$f":"IF(Stammdaten!A327=\"\",\"\",WEEKDAY(A327,2))","v":""},{"$f":"IF(Stammdaten!A327=\"\",\"\",Analysedaten!C324)","v":""},{"$f":"Analysedaten!D324","v":""},{"$f":"Analysedaten!E324","v":""},"","","","","","","","","","","","","","",null,{"$f":"IF(Stammdaten!A330=\"\",\"\",IF(D327<=15,VLOOKUP(B327,'Werte =<15°C'!$Q$2:$S$8,2,FALSE),VLOOKUP(B327,'Werte >15°C'!$Q$2:$S$8,2,FALSE)))","v":""},{"$f":"IF(Stammdaten!A330=\"\",\"\",IF(D327<=15,VLOOKUP(B327,'Werte =<15°C'!$Q$2:$S$8,3,FALSE),VLOOKUP(B327,'Werte >15°C'!$Q$2:$S$8,3,FALSE)))","v":""},{"$f":"IF(Stammdaten!A330=\"\",\"\",U327*(E329-D327)+V327)","v":""},{"$f":"IF(Stammdaten!A330=\"\",\"\",C327+W327)","v":""}]
[{"$f":"Analysedaten!A325","v":""},{"$f":"IF(Stammdaten!A328=\"\",\"\",WEEKDAY(A328,2))","v":""},{"$f":"IF(Stammdaten!A328=\"\",\"\",Analysedaten!C325)","v":""},{"$f":"Analysedaten!D325","v":""},{"$f":"Analysedaten!E325","v":""},"","","","","","","","","","","","","","",null,{"$f":"IF(Stammdaten!A331=\"\",\"\",IF(D328<=15,VLOOKUP(B328,'Werte =<15°C'!$Q$2:$S$8,2,FALSE),VLOOKUP(B328,'Werte >15°C'!$Q$2:$S$8,2,FALSE)))","v":""},{"$f":"IF(Stammdaten!A331=\"\",\"\",IF(D328<=15,VLOOKUP(B328,'Werte =<15°C'!$Q$2:$S$8,3,FALSE),VLOOKUP(B328,'Werte >15°C'!$Q$2:$S$8,3,FALSE)))","v":""},{"$f":"IF(Stammdaten!A331=\"\",\"\",U328*(E330-D328)+V328)","v":""},{"$f":"IF(Stammdaten!A331=\"\",\"\",C328+W328)","v":""}]
[{"$f":"Analysedaten!A326","v":""},{"$f":"IF(Stammdaten!A329=\"\",\"\",WEEKDAY(A329,2))","v":""},{"$f":"IF(Stammdaten!A329=\"\",\"\",Analysedaten!C326)","v":""},{"$f":"Analysedaten!D326","v":""},{"$f":"Analysedaten!E326","v":""},"","","","","","","","","","","","","","",null,{"$f":"IF(Stammdaten!A332=\"\",\"\",IF(D329<=15,VLOOKUP(B329,'Werte =<15°C'!$Q$2:$S$8,2,FALSE),VLOOKUP(B329,'Werte >15°C'!$Q$2:$S$8,2,FALSE)))","v":""},{"$f":"IF(Stammdaten!A332=\"\",\"\",IF(D329<=15,VLOOKUP(B329,'Werte =<15°C'!$Q$2:$S$8,3,FALSE),VLOOKUP(B329,'Werte >15°C'!$Q$2:$S$8,3,FALSE)))","v":""},{"$f":"IF(Stammdaten!A332=\"\",\"\",U329*(E331-D329)+V329)","v":""},{"$f":"IF(Stammdaten!A332=\"\",\"\",C329+W329)","v":""}]
[{"$f":"Analysedaten!A327","v":""},{"$f":"IF(Stammdaten!A330=\"\",\"\",WEEKDAY(A330,2))","v":""},{"$f":"IF(Stammdaten!A330=\"\",\"\",Analysedaten!C327)","v":""},{"$f":"Analysedaten!D327","v":""},{"$f":"Analysedaten!E327","v":""},"","","","","","","","","","","","","","",null,{"$f":"IF(Stammdaten!A333=\"\",\"\",IF(D330<=15,VLOOKUP(B330,'Werte =<15°C'!$Q$2:$S$8,2,FALSE),VLOOKUP(B330,'Werte >15°C'!$Q$2:$S$8,2,FALSE)))","v":""},{"$f":"IF(Stammdaten!A333=\"\",\"\",IF(D330<=15,VLOOKUP(B330,'Werte =<15°C'!$Q$2:$S$8,3,FALSE),VLOOKUP(B330,'Werte >15°C'!$Q$2:$S$8,3,FALSE)))","v":""},{"$f":"IF(Stammdaten!A333=\"\",\"\",U330*(E332-D330)+V330)","v":""},{"$f":"IF(Stammdaten!A333=\"\",\"\",C330+W330)","v":""}]
[{"$f":"Analysedaten!A328","v":""},{"$f":"IF(Stammdaten!A331=\"\",\"\",WEEKDAY(A331,2))","v":""},{"$f":"IF(Stammdaten!A331=\"\",\"\",Analysedaten!C328)","v":""},{"$f":"Analysedaten!D328","v":""},{"$f":"Analysedaten!E328","v":""},"","","","","","","","","","","","","","",null,{"$f":"IF(Stammdaten!A334=\"\",\"\",IF(D331<=15,VLOOKUP(B331,'Werte =<15°C'!$Q$2:$S$8,2,FALSE),VLOOKUP(B331,'Werte >15°C'!$Q$2:$S$8,2,FALSE)))","v":""},{"$f":"IF(Stammdaten!A334=\"\",\"\",IF(D331<=15,VLOOKUP(B331,'Werte =<15°C'!$Q$2:$S$8,3,FALSE),VLOOKUP(B331,'Werte >15°C'!$Q$2:$S$8,3,FALSE)))","v":""},{"$f":"IF(Stammdaten!A334=\"\",\"\",U331*(E333-D331)+V331)","v":""},{"$f":"IF(Stammdaten!A334=\"\",\"\",C331+W331)","v":""}]
[{"$f":"Analysedaten!A329","v":""},{"$f":"IF(Stammdaten!A332=\"\",\"\",WEEKDAY(A332,2))","v":""},{"$f":"IF(Stammdaten!A332=\"\",\"\",Analysedaten!C329)","v":""},{"$f":"Analysedaten!D329","v":""},{"$f":"Analysedaten!E329","v":""},"","","","","","","","","","","","","","",null,{"$f":"IF(Stammdaten!A335=\"\",\"\",IF(D332<=15,VLOOKUP(B332,'Werte =<15°C'!$Q$2:$S$8,2,FALSE),VLOOKUP(B332,'Werte >15°C'!$Q$2:$S$8,2,FALSE)))","v":""},{"$f":"IF(Stammdaten!A335=\"\",\"\",IF(D332<=15,VLOOKUP(B332,'Werte =<15°C'!$Q$2:$S$8,3,FALSE),VLOOKUP(B332,'Werte >15°C'!$Q$2:$S$8,3,FALSE)))","v":""},{"$f":"IF(Stammdaten!A335=\"\",\"\",U332*(E334-D332)+V332)","v":""},{"$f":"IF(Stammdaten!A335=\"\",\"\",C332+W332)","v":""}]
[{"$f":"Analysedaten!A330","v":""},{"$f":"IF(Stammdaten!A333=\"\",\"\",WEEKDAY(A333,2))","v":""},{"$f":"IF(Stammdaten!A333=\"\",\"\",Analysedaten!C330)","v":""},{"$f":"Analysedaten!D330","v":""},{"$f":"Analysedaten!E330","v":""},"","","","","","","","","","","","","","",null,{"$f":"IF(Stammdaten!A336=\"\",\"\",IF(D333<=15,VLOOKUP(B333,'Werte =<15°C'!$Q$2:$S$8,2,FALSE),VLOOKUP(B333,'Werte >15°C'!$Q$2:$S$8,2,FALSE)))","v":""},{"$f":"IF(Stammdaten!A336=\"\",\"\",IF(D333<=15,VLOOKUP(B333,'Werte =<15°C'!$Q$2:$S$8,3,FALSE),VLOOKUP(B333,'Werte >15°C'!$Q$2:$S$8,3,FALSE)))","v":""},{"$f":"IF(Stammdaten!A336=\"\",\"\",U333*(E335-D333)+V333)","v":""},{"$f":"IF(Stammdaten!A336=\"\",\"\",C333+W333)","v":""}]
[{"$f":"Analysedaten!A331","v":""},{"$f":"IF(Stammdaten!A334=\"\",\"\",WEEKDAY(A334,2))","v":""},{"$f":"IF(Stammdaten!A334=\"\",\"\",Analysedaten!C331)","v":""},{"$f":"Analysedaten!D331","v":""},{"$f":"Analysedaten!E331","v":""},"","","","","","","","","","","","","","",null,{"$f":"IF(Stammdaten!A337=\"\",\"\",IF(D334<=15,VLOOKUP(B334,'Werte =<15°C'!$Q$2:$S$8,2,FALSE),VLOOKUP(B334,'Werte >15°C'!$Q$2:$S$8,2,FALSE)))","v":""},{"$f":"IF(Stammdaten!A337=\"\",\"\",IF(D334<=15,VLOOKUP(B334,'Werte =<15°C'!$Q$2:$S$8,3,FALSE),VLOOKUP(B334,'Werte >15°C'!$Q$2:$S$8,3,FALSE)))","v":""},{"$f":"IF(Stammdaten!A337=\"\",\"\",U334*(E336-D334)+V334)","v":""},{"$f":"IF(Stammdaten!A337=\"\",\"\",C334+W334)","v":""}]
[{"$f":"Analysedaten!A332","v":""},{"$f":"IF(Stammdaten!A335=\"\",\"\",WEEKDAY(A335,2))","v":""},{"$f":"IF(Stammdaten!A335=\"\",\"\",Analysedaten!C332)","v":""},{"$f":"Analysedaten!D332","v":""},{"$f":"Analysedaten!E332","v":""},"","","","","","","","","","","","","","",null,{"$f":"IF(Stammdaten!A338=\"\",\"\",IF(D335<=15,VLOOKUP(B335,'Werte =<15°C'!$Q$2:$S$8,2,FALSE),VLOOKUP(B335,'Werte >15°C'!$Q$2:$S$8,2,FALSE)))","v":""},{"$f":"IF(Stammdaten!A338=\"\",\"\",IF(D335<=15,VLOOKUP(B335,'Werte =<15°C'!$Q$2:$S$8,3,FALSE),VLOOKUP(B335,'Werte >15°C'!$Q$2:$S$8,3,FALSE)))","v":""},{"$f":"IF(Stammdaten!A338=\"\",\"\",U335*(E337-D335)+V335)","v":""},{"$f":"IF(Stammdaten!A338=\"\",\"\",C335+W335)","v":""}]
[{"$f":"Analysedaten!A333","v":""},{"$f":"IF(Stammdaten!A336=\"\",\"\",WEEKDAY(A336,2))","v":""},{"$f":"IF(Stammdaten!A336=\"\",\"\",Analysedaten!C333)","v":""},{"$f":"Analysedaten!D333","v":""},{"$f":"Analysedaten!E333","v":""},"","","","","","","","","","","","","","",null,{"$f":"IF(Stammdaten!A339=\"\",\"\",IF(D336<=15,VLOOKUP(B336,'Werte =<15°C'!$Q$2:$S$8,2,FALSE),VLOOKUP(B336,'Werte >15°C'!$Q$2:$S$8,2,FALSE)))","v":""},{"$f":"IF(Stammdaten!A339=\"\",\"\",IF(D336<=15,VLOOKUP(B336,'Werte =<15°C'!$Q$2:$S$8,3,FALSE),VLOOKUP(B336,'Werte >15°C'!$Q$2:$S$8,3,FALSE)))","v":""},{"$f":"IF(Stammdaten!A339=\"\",\"\",U336*(E338-D336)+V336)","v":""},{"$f":"IF(Stammdaten!A339=\"\",\"\",C336+W336)","v":""}]
[{"$f":"Analysedaten!A334","v":""},{"$f":"IF(Stammdaten!A337=\"\",\"\",WEEKDAY(A337,2))","v":""},{"$f":"IF(Stammdaten!A337=\"\",\"\",Analysedaten!C334)","v":""},{"$f":"Analysedaten!D334","v":""},{"$f":"Analysedaten!E334","v":""},"","","","","","","","","","","","","","",null,{"$f":"IF(Stammdaten!A340=\"\",\"\",IF(D337<=15,VLOOKUP(B337,'Werte =<15°C'!$Q$2:$S$8,2,FALSE),VLOOKUP(B337,'Werte >15°C'!$Q$2:$S$8,2,FALSE)))","v":""},{"$f":"IF(Stammdaten!A340=\"\",\"\",IF(D337<=15,VLOOKUP(B337,'Werte =<15°C'!$Q$2:$S$8,3,FALSE),VLOOKUP(B337,'Werte >15°C'!$Q$2:$S$8,3,FALSE)))","v":""},{"$f":"IF(Stammdaten!A340=\"\",\"\",U337*(E339-D337)+V337)","v":""},{"$f":"IF(Stammdaten!A340=\"\",\"\",C337+W337)","v":""}]
[{"$f":"Analysedaten!A335","v":""},{"$f":"IF(Stammdaten!A338=\"\",\"\",WEEKDAY(A338,2))","v":""},{"$f":"IF(Stammdaten!A338=\"\",\"\",Analysedaten!C335)","v":""},{"$f":"Analysedaten!D335","v":""},{"$f":"Analysedaten!E335","v":""},"","","","","","","","","","","","","","",null,{"$f":"IF(Stammdaten!A341=\"\",\"\",IF(D338<=15,VLOOKUP(B338,'Werte =<15°C'!$Q$2:$S$8,2,FALSE),VLOOKUP(B338,'Werte >15°C'!$Q$2:$S$8,2,FALSE)))","v":""},{"$f":"IF(Stammdaten!A341=\"\",\"\",IF(D338<=15,VLOOKUP(B338,'Werte =<15°C'!$Q$2:$S$8,3,FALSE),VLOOKUP(B338,'Werte >15°C'!$Q$2:$S$8,3,FALSE)))","v":""},{"$f":"IF(Stammdaten!A341=\"\",\"\",U338*(E340-D338)+V338)","v":""},{"$f":"IF(Stammdaten!A341=\"\",\"\",C338+W338)","v":""}]
[{"$f":"Analysedaten!A336","v":""},{"$f":"IF(Stammdaten!A339=\"\",\"\",WEEKDAY(A339,2))","v":""},{"$f":"IF(Stammdaten!A339=\"\",\"\",Analysedaten!C336)","v":""},{"$f":"Analysedaten!D336","v":""},{"$f":"Analysedaten!E336","v":""},"","","","","","","","","","","","","","",null,{"$f":"IF(Stammdaten!A342=\"\",\"\",IF(D339<=15,VLOOKUP(B339,'Werte =<15°C'!$Q$2:$S$8,2,FALSE),VLOOKUP(B339,'Werte >15°C'!$Q$2:$S$8,2,FALSE)))","v":""},{"$f":"IF(Stammdaten!A342=\"\",\"\",IF(D339<=15,VLOOKUP(B339,'Werte =<15°C'!$Q$2:$S$8,3,FALSE),VLOOKUP(B339,'Werte >15°C'!$Q$2:$S$8,3,FALSE)))","v":""},{"$f":"IF(Stammdaten!A342=\"\",\"\",U339*(E341-D339)+V339)","v":""},{"$f":"IF(Stammdaten!A342=\"\",\"\",C339+W339)","v":""}]
[{"$f":"Analysedaten!A337","v":""},{"$f":"IF(Stammdaten!A340=\"\",\"\",WEEKDAY(A340,2))","v":""},{"$f":"IF(Stammdaten!A340=\"\",\"\",Analysedaten!C337)","v":""},{"$f":"Analysedaten!D337","v":""},{"$f":"Analysedaten!E337","v":""},"","","","","","","","","","","","","","",null,{"$f":"IF(Stammdaten!A343=\"\",\"\",IF(D340<=15,VLOOKUP(B340,'Werte =<15°C'!$Q$2:$S$8,2,FALSE),VLOOKUP(B340,'Werte >15°C'!$Q$2:$S$8,2,FALSE)))","v":""},{"$f":"IF(Stammdaten!A343=\"\",\"\",IF(D340<=15,VLOOKUP(B340,'Werte =<15°C'!$Q$2:$S$8,3,FALSE),VLOOKUP(B340,'Werte >15°C'!$Q$2:$S$8,3,FALSE)))","v":""},{"$f":"IF(Stammdaten!A343=\"\",\"\",U340*(E342-D340)+V340)","v":""},{"$f":"IF(Stammdaten!A343=\"\",\"\",C340+W340)","v":""}]
[{"$f":"Analysedaten!A338","v":""},{"$f":"IF(Stammdaten!A341=\"\",\"\",WEEKDAY(A341,2))","v":""},{"$f":"IF(Stammdaten!A341=\"\",\"\",Analysedaten!C338)","v":""},{"$f":"Analysedaten!D338","v":""},{"$f":"Analysedaten!E338","v":""},"","","","","","","","","","","","","","",null,{"$f":"IF(Stammdaten!A344=\"\",\"\",IF(D341<=15,VLOOKUP(B341,'Werte =<15°C'!$Q$2:$S$8,2,FALSE),VLOOKUP(B341,'Werte >15°C'!$Q$2:$S$8,2,FALSE)))","v":""},{"$f":"IF(Stammdaten!A344=\"\",\"\",IF(D341<=15,VLOOKUP(B341,'Werte =<15°C'!$Q$2:$S$8,3,FALSE),VLOOKUP(B341,'Werte >15°C'!$Q$2:$S$8,3,FALSE)))","v":""},{"$f":"IF(Stammdaten!A344=\"\",\"\",U341*(E343-D341)+V341)","v":""},{"$f":"IF(Stammdaten!A344=\"\",\"\",C341+W341)","v":""}]
[{"$f":"Analysedaten!A339","v":""},{"$f":"IF(Stammdaten!A342=\"\",\"\",WEEKDAY(A342,2))","v":""},{"$f":"IF(Stammdaten!A342=\"\",\"\",Analysedaten!C339)","v":""},{"$f":"Analysedaten!D339","v":""},{"$f":"Analysedaten!E339","v":""},"","","","","","","","","","","","","","",null,{"$f":"IF(Stammdaten!A345=\"\",\"\",IF(D342<=15,VLOOKUP(B342,'Werte =<15°C'!$Q$2:$S$8,2,FALSE),VLOOKUP(B342,'Werte >15°C'!$Q$2:$S$8,2,FALSE)))","v":""},{"$f":"IF(Stammdaten!A345=\"\",\"\",IF(D342<=15,VLOOKUP(B342,'Werte =<15°C'!$Q$2:$S$8,3,FALSE),VLOOKUP(B342,'Werte >15°C'!$Q$2:$S$8,3,FALSE)))","v":""},{"$f":"IF(Stammdaten!A345=\"\",\"\",U342*(E344-D342)+V342)","v":""},{"$f":"IF(Stammdaten!A345=\"\",\"\",C342+W342)","v":""}]
[{"$f":"Analysedaten!A340","v":""},{"$f":"IF(Stammdaten!A343=\"\",\"\",WEEKDAY(A343,2))","v":""},{"$f":"IF(Stammdaten!A343=\"\",\"\",Analysedaten!C340)","v":""},{"$f":"Analysedaten!D340","v":""},{"$f":"Analysedaten!E340","v":""},"","","","","","","","","","","","","","",null,{"$f":"IF(Stammdaten!A346=\"\",\"\",IF(D343<=15,VLOOKUP(B343,'Werte =<15°C'!$Q$2:$S$8,2,FALSE),VLOOKUP(B343,'Werte >15°C'!$Q$2:$S$8,2,FALSE)))","v":""},{"$f":"IF(Stammdaten!A346=\"\",\"\",IF(D343<=15,VLOOKUP(B343,'Werte =<15°C'!$Q$2:$S$8,3,FALSE),VLOOKUP(B343,'Werte >15°C'!$Q$2:$S$8,3,FALSE)))","v":""},{"$f":"IF(Stammdaten!A346=\"\",\"\",U343*(E345-D343)+V343)","v":""},{"$f":"IF(Stammdaten!A346=\"\",\"\",C343+W343)","v":""}]
[{"$f":"Analysedaten!A341","v":""},{"$f":"IF(Stammdaten!A344=\"\",\"\",WEEKDAY(A344,2))","v":""},{"$f":"IF(Stammdaten!A344=\"\",\"\",Analysedaten!C341)","v":""},{"$f":"Analysedaten!D341","v":""},{"$f":"Analysedaten!E341","v":""},"","","","","","","","","","","","","","",null,{"$f":"IF(Stammdaten!A347=\"\",\"\",IF(D344<=15,VLOOKUP(B344,'Werte =<15°C'!$Q$2:$S$8,2,FALSE),VLOOKUP(B344,'Werte >15°C'!$Q$2:$S$8,2,FALSE)))","v":""},{"$f":"IF(Stammdaten!A347=\"\",\"\",IF(D344<=15,VLOOKUP(B344,'Werte =<15°C'!$Q$2:$S$8,3,FALSE),VLOOKUP(B344,'Werte >15°C'!$Q$2:$S$8,3,FALSE)))","v":""},{"$f":"IF(Stammdaten!A347=\"\",\"\",U344*(E346-D344)+V344)","v":""},{"$f":"IF(Stammdaten!A347=\"\",\"\",C344+W344)","v":""}]
[{"$f":"Analysedaten!A342","v":""},{"$f":"IF(Stammdaten!A345=\"\",\"\",WEEKDAY(A345,2))","v":""},{"$f":"IF(Stammdaten!A345=\"\",\"\",Analysedaten!C342)","v":""},{"$f":"Analysedaten!D342","v":""},{"$f":"Analysedaten!E342","v":""},"","","","","","","","","","","","","","",null,{"$f":"IF(Stammdaten!A348=\"\",\"\",IF(D345<=15,VLOOKUP(B345,'Werte =<15°C'!$Q$2:$S$8,2,FALSE),VLOOKUP(B345,'Werte >15°C'!$Q$2:$S$8,2,FALSE)))","v":""},{"$f":"IF(Stammdaten!A348=\"\",\"\",IF(D345<=15,VLOOKUP(B345,'Werte =<15°C'!$Q$2:$S$8,3,FALSE),VLOOKUP(B345,'Werte >15°C'!$Q$2:$S$8,3,FALSE)))","v":""},{"$f":"IF(Stammdaten!A348=\"\",\"\",U345*(E347-D345)+V345)","v":""},{"$f":"IF(Stammdaten!A348=\"\",\"\",C345+W345)","v":""}]
[{"$f":"Analysedaten!A343","v":""},{"$f":"IF(Stammdaten!A346=\"\",\"\",WEEKDAY(A346,2))","v":""},{"$f":"IF(Stammdaten!A346=\"\",\"\",Analysedaten!C343)","v":""},{"$f":"Analysedaten!D343","v":""},{"$f":"Analysedaten!E343","v":""},"","","","","","","","","","","","","","",null,{"$f":"IF(Stammdaten!A349=\"\",\"\",IF(D346<=15,VLOOKUP(B346,'Werte =<15°C'!$Q$2:$S$8,2,FALSE),VLOOKUP(B346,'Werte >15°C'!$Q$2:$S$8,2,FALSE)))","v":""},{"$f":"IF(Stammdaten!A349=\"\",\"\",IF(D346<=15,VLOOKUP(B346,'Werte =<15°C'!$Q$2:$S$8,3,FALSE),VLOOKUP(B346,'Werte >15°C'!$Q$2:$S$8,3,FALSE)))","v":""},{"$f":"IF(Stammdaten!A349=\"\",\"\",U346*(E348-D346)+V346)","v":""},{"$f":"IF(Stammdaten!A349=\"\",\"\",C346+W346)","v":""}]
[{"$f":"Analysedaten!A344","v":""},{"$f":"IF(Stammdaten!A347=\"\",\"\",WEEKDAY(A347,2))","v":""},{"$f":"IF(Stammdaten!A347=\"\",\"\",Analysedaten!C344)","v":""},{"$f":"Analysedaten!D344","v":""},{"$f":"Analysedaten!E344","v":""},"","","","","","","","","","","","","","",null,{"$f":"IF(Stammdaten!A350=\"\",\"\",IF(D347<=15,VLOOKUP(B347,'Werte =<15°C'!$Q$2:$S$8,2,FALSE),VLOOKUP(B347,'Werte >15°C'!$Q$2:$S$8,2,FALSE)))","v":""},{"$f":"IF(Stammdaten!A350=\"\",\"\",IF(D347<=15,VLOOKUP(B347,'Werte =<15°C'!$Q$2:$S$8,3,FALSE),VLOOKUP(B347,'Werte >15°C'!$Q$2:$S$8,3,FALSE)))","v":""},{"$f":"IF(Stammdaten!A350=\"\",\"\",U347*(E349-D347)+V347)","v":""},{"$f":"IF(Stammdaten!A350=\"\",\"\",C347+W347)","v":""}]
[{"$f":"Analysedaten!A345","v":""},{"$f":"IF(Stammdaten!A348=\"\",\"\",WEEKDAY(A348,2))","v":""},{"$f":"IF(Stammdaten!A348=\"\",\"\",Analysedaten!C345)","v":""},{"$f":"Analysedaten!D345","v":""},{"$f":"Analysedaten!E345","v":""},"","","","","","","","","","","","","","",null,{"$f":"IF(Stammdaten!A351=\"\",\"\",IF(D348<=15,VLOOKUP(B348,'Werte =<15°C'!$Q$2:$S$8,2,FALSE),VLOOKUP(B348,'Werte >15°C'!$Q$2:$S$8,2,FALSE)))","v":""},{"$f":"IF(Stammdaten!A351=\"\",\"\",IF(D348<=15,VLOOKUP(B348,'Werte =<15°C'!$Q$2:$S$8,3,FALSE),VLOOKUP(B348,'Werte >15°C'!$Q$2:$S$8,3,FALSE)))","v":""},{"$f":"IF(Stammdaten!A351=\"\",\"\",U348*(E350-D348)+V348)","v":""},{"$f":"IF(Stammdaten!A351=\"\",\"\",C348+W348)","v":""}]
[{"$f":"Analysedaten!A346","v":""},{"$f":"IF(Stammdaten!A349=\"\",\"\",WEEKDAY(A349,2))","v":""},{"$f":"IF(Stammdaten!A349=\"\",\"\",Analysedaten!C346)","v":""},{"$f":"Analysedaten!D346","v":""},{"$f":"Analysedaten!E346","v":""},"","","","","","","","","","","","","","",null,{"$f":"IF(Stammdaten!A352=\"\",\"\",IF(D349<=15,VLOOKUP(B349,'Werte =<15°C'!$Q$2:$S$8,2,FALSE),VLOOKUP(B349,'Werte >15°C'!$Q$2:$S$8,2,FALSE)))","v":""},{"$f":"IF(Stammdaten!A352=\"\",\"\",IF(D349<=15,VLOOKUP(B349,'Werte =<15°C'!$Q$2:$S$8,3,FALSE),VLOOKUP(B349,'Werte >15°C'!$Q$2:$S$8,3,FALSE)))","v":""},{"$f":"IF(Stammdaten!A352=\"\",\"\",U349*(E351-D349)+V349)","v":""},{"$f":"IF(Stammdaten!A352=\"\",\"\",C349+W349)","v":""}]
[{"$f":"Analysedaten!A347","v":""},{"$f":"IF(Stammdaten!A350=\"\",\"\",WEEKDAY(A350,2))","v":""},{"$f":"IF(Stammdaten!A350=\"\",\"\",Analysedaten!C347)","v":""},{"$f":"Analysedaten!D347","v":""},{"$f":"Analysedaten!E347","v":""},"","","","","","","","","","","","","","",null,{"$f":"IF(Stammdaten!A353=\"\",\"\",IF(D350<=15,VLOOKUP(B350,'Werte =<15°C'!$Q$2:$S$8,2,FALSE),VLOOKUP(B350,'Werte >15°C'!$Q$2:$S$8,2,FALSE)))","v":""},{"$f":"IF(Stammdaten!A353=\"\",\"\",IF(D350<=15,VLOOKUP(B350,'Werte =<15°C'!$Q$2:$S$8,3,FALSE),VLOOKUP(B350,'Werte >15°C'!$Q$2:$S$8,3,FALSE)))","v":""},{"$f":"IF(Stammdaten!A353=\"\",\"\",U350*(E352-D350)+V350)","v":""},{"$f":"IF(Stammdaten!A353=\"\",\"\",C350+W350)","v":""}]
[{"$f":"Analysedaten!A348","v":""},{"$f":"IF(Stammdaten!A351=\"\",\"\",WEEKDAY(A351,2))","v":""},{"$f":"IF(Stammdaten!A351=\"\",\"\",Analysedaten!C348)","v":""},{"$f":"Analysedaten!D348","v":""},{"$f":"Analysedaten!E348","v":""},"","","","","","","","","","","","","","",null,{"$f":"IF(Stammdaten!A354=\"\",\"\",IF(D351<=15,VLOOKUP(B351,'Werte =<15°C'!$Q$2:$S$8,2,FALSE),VLOOKUP(B351,'Werte >15°C'!$Q$2:$S$8,2,FALSE)))","v":""},{"$f":"IF(Stammdaten!A354=\"\",\"\",IF(D351<=15,VLOOKUP(B351,'Werte =<15°C'!$Q$2:$S$8,3,FALSE),VLOOKUP(B351,'Werte >15°C'!$Q$2:$S$8,3,FALSE)))","v":""},{"$f":"IF(Stammdaten!A354=\"\",\"\",U351*(E353-D351)+V351)","v":""},{"$f":"IF(Stammdaten!A354=\"\",\"\",C351+W351)","v":""}]
[{"$f":"Analysedaten!A349","v":""},{"$f":"IF(Stammdaten!A352=\"\",\"\",WEEKDAY(A352,2))","v":""},{"$f":"IF(Stammdaten!A352=\"\",\"\",Analysedaten!C349)","v":""},{"$f":"Analysedaten!D349","v":""},{"$f":"Analysedaten!E349","v":""},"","","","","","","","","","","","","","",null,{"$f":"IF(Stammdaten!A355=\"\",\"\",IF(D352<=15,VLOOKUP(B352,'Werte =<15°C'!$Q$2:$S$8,2,FALSE),VLOOKUP(B352,'Werte >15°C'!$Q$2:$S$8,2,FALSE)))","v":""},{"$f":"IF(Stammdaten!A355=\"\",\"\",IF(D352<=15,VLOOKUP(B352,'Werte =<15°C'!$Q$2:$S$8,3,FALSE),VLOOKUP(B352,'Werte >15°C'!$Q$2:$S$8,3,FALSE)))","v":""},{"$f":"IF(Stammdaten!A355=\"\",\"\",U352*(E354-D352)+V352)","v":""},{"$f":"IF(Stammdaten!A355=\"\",\"\",C352+W352)","v":""}]
[{"$f":"Analysedaten!A350","v":""},{"$f":"IF(Stammdaten!A353=\"\",\"\",WEEKDAY(A353,2))","v":""},{"$f":"IF(Stammdaten!A353=\"\",\"\",Analysedaten!C350)","v":""},{"$f":"Analysedaten!D350","v":""},{"$f":"Analysedaten!E350","v":""},"","","","","","","","","","","","","","",null,{"$f":"IF(Stammdaten!A356=\"\",\"\",IF(D353<=15,VLOOKUP(B353,'Werte =<15°C'!$Q$2:$S$8,2,FALSE),VLOOKUP(B353,'Werte >15°C'!$Q$2:$S$8,2,FALSE)))","v":""},{"$f":"IF(Stammdaten!A356=\"\",\"\",IF(D353<=15,VLOOKUP(B353,'Werte =<15°C'!$Q$2:$S$8,3,FALSE),VLOOKUP(B353,'Werte >15°C'!$Q$2:$S$8,3,FALSE)))","v":""},{"$f":"IF(Stammdaten!A356=\"\",\"\",U353*(E355-D353)+V353)","v":""},{"$f":"IF(Stammdaten!A356=\"\",\"\",C353+W353)","v":""}]
[{"$f":"Analysedaten!A351","v":""},{"$f":"IF(Stammdaten!A354=\"\",\"\",WEEKDAY(A354,2))","v":""},{"$f":"IF(Stammdaten!A354=\"\",\"\",Analysedaten!C351)","v":""},{"$f":"Analysedaten!D351","v":""},{"$f":"Analysedaten!E351","v":""},"","","","","","","","","","","","","","",null,{"$f":"IF(Stammdaten!A357=\"\",\"\",IF(D354<=15,VLOOKUP(B354,'Werte =<15°C'!$Q$2:$S$8,2,FALSE),VLOOKUP(B354,'Werte >15°C'!$Q$2:$S$8,2,FALSE)))","v":""},{"$f":"IF(Stammdaten!A357=\"\",\"\",IF(D354<=15,VLOOKUP(B354,'Werte =<15°C'!$Q$2:$S$8,3,FALSE),VLOOKUP(B354,'Werte >15°C'!$Q$2:$S$8,3,FALSE)))","v":""},{"$f":"IF(Stammdaten!A357=\"\",\"\",U354*(E356-D354)+V354)","v":""},{"$f":"IF(Stammdaten!A357=\"\",\"\",C354+W354)","v":""}]
[{"$f":"Analysedaten!A352","v":""},{"$f":"IF(Stammdaten!A355=\"\",\"\",WEEKDAY(A355,2))","v":""},{"$f":"IF(Stammdaten!A355=\"\",\"\",Analysedaten!C352)","v":""},{"$f":"Analysedaten!D352","v":""},{"$f":"Analysedaten!E352","v":""},"","","","","","","","","","","","","","",null,{"$f":"IF(Stammdaten!A358=\"\",\"\",IF(D355<=15,VLOOKUP(B355,'Werte =<15°C'!$Q$2:$S$8,2,FALSE),VLOOKUP(B355,'Werte >15°C'!$Q$2:$S$8,2,FALSE)))","v":""},{"$f":"IF(Stammdaten!A358=\"\",\"\",IF(D355<=15,VLOOKUP(B355,'Werte =<15°C'!$Q$2:$S$8,3,FALSE),VLOOKUP(B355,'Werte >15°C'!$Q$2:$S$8,3,FALSE)))","v":""},{"$f":"IF(Stammdaten!A358=\"\",\"\",U355*(E357-D355)+V355)","v":""},{"$f":"IF(Stammdaten!A358=\"\",\"\",C355+W355)","v":""}]
[{"$f":"Analysedaten!A353","v":""},{"$f":"IF(Stammdaten!A356=\"\",\"\",WEEKDAY(A356,2))","v":""},{"$f":"IF(Stammdaten!A356=\"\",\"\",Analysedaten!C353)","v":""},{"$f":"Analysedaten!D353","v":""},{"$f":"Analysedaten!E353","v":""},"","","","","","","","","","","","","","",null,{"$f":"IF(Stammdaten!A359=\"\",\"\",IF(D356<=15,VLOOKUP(B356,'Werte =<15°C'!$Q$2:$S$8,2,FALSE),VLOOKUP(B356,'Werte >15°C'!$Q$2:$S$8,2,FALSE)))","v":""},{"$f":"IF(Stammdaten!A359=\"\",\"\",IF(D356<=15,VLOOKUP(B356,'Werte =<15°C'!$Q$2:$S$8,3,FALSE),VLOOKUP(B356,'Werte >15°C'!$Q$2:$S$8,3,FALSE)))","v":""},{"$f":"IF(Stammdaten!A359=\"\",\"\",U356*(E358-D356)+V356)","v":""},{"$f":"IF(Stammdaten!A359=\"\",\"\",C356+W356)","v":""}]
[{"$f":"Analysedaten!A354","v":""},{"$f":"IF(Stammdaten!A357=\"\",\"\",WEEKDAY(A357,2))","v":""},{"$f":"IF(Stammdaten!A357=\"\",\"\",Analysedaten!C354)","v":""},{"$f":"Analysedaten!D354","v":""},{"$f":"Analysedaten!E354","v":""},"","","","","","","","","","","","","","",null,{"$f":"IF(Stammdaten!A360=\"\",\"\",IF(D357<=15,VLOOKUP(B357,'Werte =<15°C'!$Q$2:$S$8,2,FALSE),VLOOKUP(B357,'Werte >15°C'!$Q$2:$S$8,2,FALSE)))","v":""},{"$f":"IF(Stammdaten!A360=\"\",\"\",IF(D357<=15,VLOOKUP(B357,'Werte =<15°C'!$Q$2:$S$8,3,FALSE),VLOOKUP(B357,'Werte >15°C'!$Q$2:$S$8,3,FALSE)))","v":""},{"$f":"IF(Stammdaten!A360=\"\",\"\",U357*(E359-D357)+V357)","v":""},{"$f":"IF(Stammdaten!A360=\"\",\"\",C357+W357)","v":""}]
[{"$f":"Analysedaten!A355","v":""},{"$f":"IF(Stammdaten!A358=\"\",\"\",WEEKDAY(A358,2))","v":""},{"$f":"IF(Stammdaten!A358=\"\",\"\",Analysedaten!C355)","v":""},{"$f":"Analysedaten!D355","v":""},{"$f":"Analysedaten!E355","v":""},"","","","","","","","","","","","","","",null,{"$f":"IF(Stammdaten!A361=\"\",\"\",IF(D358<=15,VLOOKUP(B358,'Werte =<15°C'!$Q$2:$S$8,2,FALSE),VLOOKUP(B358,'Werte >15°C'!$Q$2:$S$8,2,FALSE)))","v":""},{"$f":"IF(Stammdaten!A361=\"\",\"\",IF(D358<=15,VLOOKUP(B358,'Werte =<15°C'!$Q$2:$S$8,3,FALSE),VLOOKUP(B358,'Werte >15°C'!$Q$2:$S$8,3,FALSE)))","v":""},{"$f":"IF(Stammdaten!A361=\"\",\"\",U358*(E360-D358)+V358)","v":""},{"$f":"IF(Stammdaten!A361=\"\",\"\",C358+W358)","v":""}]
[{"$f":"Analysedaten!A356","v":""},{"$f":"IF(Stammdaten!A359=\"\",\"\",WEEKDAY(A359,2))","v":""},{"$f":"IF(Stammdaten!A359=\"\",\"\",Analysedaten!C356)","v":""},{"$f":"Analysedaten!D356","v":""},{"$f":"Analysedaten!E356","v":""},"","","","","","","","","","","","","","",null,{"$f":"IF(Stammdaten!A362=\"\",\"\",IF(D359<=15,VLOOKUP(B359,'Werte =<15°C'!$Q$2:$S$8,2,FALSE),VLOOKUP(B359,'Werte >15°C'!$Q$2:$S$8,2,FALSE)))","v":""},{"$f":"IF(Stammdaten!A362=\"\",\"\",IF(D359<=15,VLOOKUP(B359,'Werte =<15°C'!$Q$2:$S$8,3,FALSE),VLOOKUP(B359,'Werte >15°C'!$Q$2:$S$8,3,FALSE)))","v":""},{"$f":"IF(Stammdaten!A362=\"\",\"\",U359*(E361-D359)+V359)","v":""},{"$f":"IF(Stammdaten!A362=\"\",\"\",C359+W359)","v":""}]
[{"$f":"Analysedaten!A357","v":""},{"$f":"IF(Stammdaten!A360=\"\",\"\",WEEKDAY(A360,2))","v":""},{"$f":"IF(Stammdaten!A360=\"\",\"\",Analysedaten!C357)","v":""},{"$f":"Analysedaten!D357","v":""},{"$f":"Analysedaten!E357","v":""},"","","","","","","","","","","","","","",null,{"$f":"IF(Stammdaten!A363=\"\",\"\",IF(D360<=15,VLOOKUP(B360,'Werte =<15°C'!$Q$2:$S$8,2,FALSE),VLOOKUP(B360,'Werte >15°C'!$Q$2:$S$8,2,FALSE)))","v":""},{"$f":"IF(Stammdaten!A363=\"\",\"\",IF(D360<=15,VLOOKUP(B360,'Werte =<15°C'!$Q$2:$S$8,3,FALSE),VLOOKUP(B360,'Werte >15°C'!$Q$2:$S$8,3,FALSE)))","v":""},{"$f":"IF(Stammdaten!A363=\"\",\"\",U360*(E362-D360)+V360)","v":""},{"$f":"IF(Stammdaten!A363=\"\",\"\",C360+W360)","v":""}]
[{"$f":"Analysedaten!A358","v":""},{"$f":"IF(Stammdaten!A361=\"\",\"\",WEEKDAY(A361,2))","v":""},{"$f":"IF(Stammdaten!A361=\"\",\"\",Analysedaten!C358)","v":""},{"$f":"Analysedaten!D358","v":""},{"$f":"Analysedaten!E358","v":""},"","","","","","","","","","","","","","",null,{"$f":"IF(Stammdaten!A364=\"\",\"\",IF(D361<=15,VLOOKUP(B361,'Werte =<15°C'!$Q$2:$S$8,2,FALSE),VLOOKUP(B361,'Werte >15°C'!$Q$2:$S$8,2,FALSE)))","v":""},{"$f":"IF(Stammdaten!A364=\"\",\"\",IF(D361<=15,VLOOKUP(B361,'Werte =<15°C'!$Q$2:$S$8,3,FALSE),VLOOKUP(B361,'Werte >15°C'!$Q$2:$S$8,3,FALSE)))","v":""},{"$f":"IF(Stammdaten!A364=\"\",\"\",U361*(E363-D361)+V361)","v":""},{"$f":"IF(Stammdaten!A364=\"\",\"\",C361+W361)","v":""}]
[{"$f":"Analysedaten!A359","v":""},{"$f":"IF(Stammdaten!A362=\"\",\"\",WEEKDAY(A362,2))","v":""},{"$f":"IF(Stammdaten!A362=\"\",\"\",Analysedaten!C359)","v":""},{"$f":"Analysedaten!D359","v":""},{"$f":"Analysedaten!E359","v":""},"","","","","","","","","","","","","","",null,{"$f":"IF(Stammdaten!A365=\"\",\"\",IF(D362<=15,VLOOKUP(B362,'Werte =<15°C'!$Q$2:$S$8,2,FALSE),VLOOKUP(B362,'Werte >15°C'!$Q$2:$S$8,2,FALSE)))","v":""},{"$f":"IF(Stammdaten!A365=\"\",\"\",IF(D362<=15,VLOOKUP(B362,'Werte =<15°C'!$Q$2:$S$8,3,FALSE),VLOOKUP(B362,'Werte >15°C'!$Q$2:$S$8,3,FALSE)))","v":""},{"$f":"IF(Stammdaten!A365=\"\",\"\",U362*(E364-D362)+V362)","v":""},{"$f":"IF(Stammdaten!A365=\"\",\"\",C362+W362)","v":""}]
[{"$f":"Analysedaten!A360","v":""},{"$f":"IF(Stammdaten!A363=\"\",\"\",WEEKDAY(A363,2))","v":""},{"$f":"IF(Stammdaten!A363=\"\",\"\",Analysedaten!C360)","v":""},{"$f":"Analysedaten!D360","v":""},{"$f":"Analysedaten!E360","v":""},"","","","","","","","","","","","","","",null,{"$f":"IF(Stammdaten!A366=\"\",\"\",IF(D363<=15,VLOOKUP(B363,'Werte =<15°C'!$Q$2:$S$8,2,FALSE),VLOOKUP(B363,'Werte >15°C'!$Q$2:$S$8,2,FALSE)))","v":""},{"$f":"IF(Stammdaten!A366=\"\",\"\",IF(D363<=15,VLOOKUP(B363,'Werte =<15°C'!$Q$2:$S$8,3,FALSE),VLOOKUP(B363,'Werte >15°C'!$Q$2:$S$8,3,FALSE)))","v":""},{"$f":"IF(Stammdaten!A366=\"\",\"\",U363*(E365-D363)+V363)","v":""},{"$f":"IF(Stammdaten!A366=\"\",\"\",C363+W363)","v":""}]
[{"$f":"Analysedaten!A361","v":""},{"$f":"IF(Stammdaten!A364=\"\",\"\",WEEKDAY(A364,2))","v":""},{"$f":"IF(Stammdaten!A364=\"\",\"\",Analysedaten!C361)","v":""},{"$f":"Analysedaten!D361","v":""},{"$f":"Analysedaten!E361","v":""},"","","","","","","","","","","","","","",null,{"$f":"IF(Stammdaten!A367=\"\",\"\",IF(D364<=15,VLOOKUP(B364,'Werte =<15°C'!$Q$2:$S$8,2,FALSE),VLOOKUP(B364,'Werte >15°C'!$Q$2:$S$8,2,FALSE)))","v":""},{"$f":"IF(Stammdaten!A367=\"\",\"\",IF(D364<=15,VLOOKUP(B364,'Werte =<15°C'!$Q$2:$S$8,3,FALSE),VLOOKUP(B364,'Werte >15°C'!$Q$2:$S$8,3,FALSE)))","v":""},{"$f":"IF(Stammdaten!A367=\"\",\"\",U364*(E366-D364)+V364)","v":""},{"$f":"IF(Stammdaten!A367=\"\",\"\",C364+W364)","v":""}]
[{"$f":"Analysedaten!A362","v":""},{"$f":"IF(Stammdaten!A365=\"\",\"\",WEEKDAY(A365,2))","v":""},{"$f":"IF(Stammdaten!A365=\"\",\"\",Analysedaten!C362)","v":""},{"$f":"Analysedaten!D362","v":""},{"$f":"Analysedaten!E362","v":""},"","","","","","","","","","","","","","",null,{"$f":"IF(Stammdaten!A368=\"\",\"\",IF(D365<=15,VLOOKUP(B365,'Werte =<15°C'!$Q$2:$S$8,2,FALSE),VLOOKUP(B365,'Werte >15°C'!$Q$2:$S$8,2,FALSE)))","v":""},{"$f":"IF(Stammdaten!A368=\"\",\"\",IF(D365<=15,VLOOKUP(B365,'Werte =<15°C'!$Q$2:$S$8,3,FALSE),VLOOKUP(B365,'Werte >15°C'!$Q$2:$S$8,3,FALSE)))","v":""},{"$f":"IF(Stammdaten!A368=\"\",\"\",U365*(E367-D365)+V365)","v":""},{"$f":"IF(Stammdaten!A368=\"\",\"\",C365+W365)","v":""}]
[{"$f":"Analysedaten!A363","v":""},{"$f":"IF(Stammdaten!A366=\"\",\"\",WEEKDAY(A366,2))","v":""},{"$f":"IF(Stammdaten!A366=\"\",\"\",Analysedaten!C363)","v":""},{"$f":"Analysedaten!D363","v":""},{"$f":"Analysedaten!E363","v":""},"","","","","","","","","","","","","","",null,{"$f":"IF(Stammdaten!A369=\"\",\"\",IF(D366<=15,VLOOKUP(B366,'Werte =<15°C'!$Q$2:$S$8,2,FALSE),VLOOKUP(B366,'Werte >15°C'!$Q$2:$S$8,2,FALSE)))","v":""},{"$f":"IF(Stammdaten!A369=\"\",\"\",IF(D366<=15,VLOOKUP(B366,'Werte =<15°C'!$Q$2:$S$8,3,FALSE),VLOOKUP(B366,'Werte >15°C'!$Q$2:$S$8,3,FALSE)))","v":""},{"$f":"IF(Stammdaten!A369=\"\",\"\",U366*(E368-D366)+V366)","v":""},{"$f":"IF(Stammdaten!A369=\"\",\"\",C366+W366)","v":""}]
[{"$f":"Analysedaten!A364","v":""},{"$f":"IF(Stammdaten!A367=\"\",\"\",WEEKDAY(A367,2))","v":""},{"$f":"IF(Stammdaten!A367=\"\",\"\",Analysedaten!C364)","v":""},{"$f":"Analysedaten!D364","v":""},{"$f":"Analysedaten!E364","v":""},"","","","","","","","","","","","","","",null,{"$f":"IF(Stammdaten!A370=\"\",\"\",IF(D367<=15,VLOOKUP(B367,'Werte =<15°C'!$Q$2:$S$8,2,FALSE),VLOOKUP(B367,'Werte >15°C'!$Q$2:$S$8,2,FALSE)))","v":""},{"$f":"IF(Stammdaten!A370=\"\",\"\",IF(D367<=15,VLOOKUP(B367,'Werte =<15°C'!$Q$2:$S$8,3,FALSE),VLOOKUP(B367,'Werte >15°C'!$Q$2:$S$8,3,FALSE)))","v":""},{"$f":"IF(Stammdaten!A370=\"\",\"\",U367*(E369-D367)+V367)","v":""},{"$f":"IF(Stammdaten!A370=\"\",\"\",C367+W367)","v":""}]
[{"$f":"Analysedaten!A365","v":""},{"$f":"IF(Stammdaten!A368=\"\",\"\",WEEKDAY(A368,2))","v":""},{"$f":"IF(Stammdaten!A368=\"\",\"\",Analysedaten!C365)","v":""},{"$f":"Analysedaten!D365","v":""},{"$f":"Analysedaten!E365","v":""},"","","","","","","","","","","","","","",null,{"$f":"IF(Stammdaten!A371=\"\",\"\",IF(D368<=15,VLOOKUP(B368,'Werte =<15°C'!$Q$2:$S$8,2,FALSE),VLOOKUP(B368,'Werte >15°C'!$Q$2:$S$8,2,FALSE)))","v":""},{"$f":"IF(Stammdaten!A371=\"\",\"\",IF(D368<=15,VLOOKUP(B368,'Werte =<15°C'!$Q$2:$S$8,3,FALSE),VLOOKUP(B368,'Werte >15°C'!$Q$2:$S$8,3,FALSE)))","v":""},{"$f":"IF(Stammdaten!A371=\"\",\"\",U368*(E370-D368)+V368)","v":""},{"$f":"IF(Stammdaten!A371=\"\",\"\",C368+W368)","v":""}]
[{"$f":"Analysedaten!A366","v":""},{"$f":"IF(Stammdaten!A369=\"\",\"\",WEEKDAY(A369,2))","v":""},{"$f":"IF(Stammdaten!A369=\"\",\"\",Analysedaten!C366)","v":""},{"$f":"Analysedaten!D366","v":""},{"$f":"Analysedaten!E366","v":""},"","","","","","","","","","","","","","",null,{"$f":"IF(Stammdaten!A372=\"\",\"\",IF(D369<=15,VLOOKUP(B369,'Werte =<15°C'!$Q$2:$S$8,2,FALSE),VLOOKUP(B369,'Werte >15°C'!$Q$2:$S$8,2,FALSE)))","v":""},{"$f":"IF(Stammdaten!A372=\"\",\"\",IF(D369<=15,VLOOKUP(B369,'Werte =<15°C'!$Q$2:$S$8,3,FALSE),VLOOKUP(B369,'Werte >15°C'!$Q$2:$S$8,3,FALSE)))","v":""},{"$f":"IF(Stammdaten!A372=\"\",\"\",U369*(E371-D369)+V369)","v":""},{"$f":"IF(Stammdaten!A372=\"\",\"\",C369+W369)","v":""}]
[{"$f":"Analysedaten!A367","v":""},{"$f":"IF(Stammdaten!A370=\"\",\"\",WEEKDAY(A370,2))","v":""},{"$f":"IF(Stammdaten!A370=\"\",\"\",Analysedaten!C367)","v":""},{"$f":"Analysedaten!D367","v":""},{"$f":"Analysedaten!E367","v":""},"","","","","","","","","","","","","","",null,{"$f":"IF(Stammdaten!A373=\"\",\"\",IF(D370<=15,VLOOKUP(B370,'Werte =<15°C'!$Q$2:$S$8,2,FALSE),VLOOKUP(B370,'Werte >15°C'!$Q$2:$S$8,2,FALSE)))","v":""},{"$f":"IF(Stammdaten!A373=\"\",\"\",IF(D370<=15,VLOOKUP(B370,'Werte =<15°C'!$Q$2:$S$8,3,FALSE),VLOOKUP(B370,'Werte >15°C'!$Q$2:$S$8,3,FALSE)))","v":""},{"$f":"IF(Stammdaten!A373=\"\",\"\",U370*(E372-D370)+V370)","v":""},{"$f":"IF(Stammdaten!A373=\"\",\"\",C370+W370)","v":""}]
[{"$f":"Analysedaten!A368","v":""},{"$f":"IF(Stammdaten!A371=\"\",\"\",WEEKDAY(A371,2))","v":""},{"$f":"IF(Stammdaten!A371=\"\",\"\",Analysedaten!C368)","v":""},{"$f":"Analysedaten!D368","v":""},{"$f":"Analysedaten!E368","v":""},"","","","","","","","","","","","","","",null,{"$f":"IF(Stammdaten!A374=\"\",\"\",IF(D371<=15,VLOOKUP(B371,'Werte =<15°C'!$Q$2:$S$8,2,FALSE),VLOOKUP(B371,'Werte >15°C'!$Q$2:$S$8,2,FALSE)))","v":""},{"$f":"IF(Stammdaten!A374=\"\",\"\",IF(D371<=15,VLOOKUP(B371,'Werte =<15°C'!$Q$2:$S$8,3,FALSE),VLOOKUP(B371,'Werte >15°C'!$Q$2:$S$8,3,FALSE)))","v":""},{"$f":"IF(Stammdaten!A374=\"\",\"\",U371*(E373-D371)+V371)","v":""},{"$f":"IF(Stammdaten!A374=\"\",\"\",C371+W371)","v":""}]
[{"$f":"Analysedaten!A369","v":""},{"$f":"IF(Stammdaten!A372=\"\",\"\",WEEKDAY(A372,2))","v":""},{"$f":"IF(Stammdaten!A372=\"\",\"\",Analysedaten!C369)","v":""},{"$f":"Analysedaten!D369","v":""},{"$f":"Analysedaten!E369","v":""},"","","","","","","","","","","","","","",null,{"$f":"IF(Stammdaten!A375=\"\",\"\",IF(D372<=15,VLOOKUP(B372,'Werte =<15°C'!$Q$2:$S$8,2,FALSE),VLOOKUP(B372,'Werte >15°C'!$Q$2:$S$8,2,FALSE)))","v":""},{"$f":"IF(Stammdaten!A375=\"\",\"\",IF(D372<=15,VLOOKUP(B372,'Werte =<15°C'!$Q$2:$S$8,3,FALSE),VLOOKUP(B372,'Werte >15°C'!$Q$2:$S$8,3,FALSE)))","v":""},{"$f":"IF(Stammdaten!A375=\"\",\"\",U372*(E374-D372)+V372)","v":""},{"$f":"IF(Stammdaten!A375=\"\",\"\",C372+W372)","v":""}]
[{"$f":"Analysedaten!A370","v":""},{"$f":"IF(Stammdaten!A373=\"\",\"\",WEEKDAY(A373,2))","v":""},{"$f":"IF(Stammdaten!A373=\"\",\"\",Analysedaten!C370)","v":""},{"$f":"Analysedaten!D370","v":""},{"$f":"Analysedaten!E370","v":""},"","","","","","","","","","","","","","",null,{"$f":"IF(Stammdaten!A376=\"\",\"\",IF(D373<=15,VLOOKUP(B373,'Werte =<15°C'!$Q$2:$S$8,2,FALSE),VLOOKUP(B373,'Werte >15°C'!$Q$2:$S$8,2,FALSE)))","v":""},{"$f":"IF(Stammdaten!A376=\"\",\"\",IF(D373<=15,VLOOKUP(B373,'Werte =<15°C'!$Q$2:$S$8,3,FALSE),VLOOKUP(B373,'Werte >15°C'!$Q$2:$S$8,3,FALSE)))","v":""},{"$f":"IF(Stammdaten!A376=\"\",\"\",U373*(E375-D373)+V373)","v":""},{"$f":"IF(Stammdaten!A376=\"\",\"\",C373+W373)","v":""}]
[{"$f":"Analysedaten!A371","v":""},{"$f":"IF(Stammdaten!A374=\"\",\"\",WEEKDAY(A374,2))","v":""},{"$f":"IF(Stammdaten!A374=\"\",\"\",Analysedaten!C371)","v":""},{"$f":"Analysedaten!D371","v":""},{"$f":"Analysedaten!E371","v":""},"","","","","","","","","","","","","","",null,{"$f":"IF(Stammdaten!A377=\"\",\"\",IF(D374<=15,VLOOKUP(B374,'Werte =<15°C'!$Q$2:$S$8,2,FALSE),VLOOKUP(B374,'Werte >15°C'!$Q$2:$S$8,2,FALSE)))","v":""},{"$f":"IF(Stammdaten!A377=\"\",\"\",IF(D374<=15,VLOOKUP(B374,'Werte =<15°C'!$Q$2:$S$8,3,FALSE),VLOOKUP(B374,'Werte >15°C'!$Q$2:$S$8,3,FALSE)))","v":""},{"$f":"IF(Stammdaten!A377=\"\",\"\",U374*(E376-D374)+V374)","v":""},{"$f":"IF(Stammdaten!A377=\"\",\"\",C374+W374)","v":""}]
[{"$f":"Analysedaten!A372","v":""},{"$f":"IF(Stammdaten!A375=\"\",\"\",WEEKDAY(A375,2))","v":""},{"$f":"IF(Stammdaten!A375=\"\",\"\",Analysedaten!C372)","v":""},{"$f":"Analysedaten!D372","v":""},{"$f":"Analysedaten!E372","v":""},"","","","","","","","","","","","","","",null,{"$f":"IF(Stammdaten!A378=\"\",\"\",IF(D375<=15,VLOOKUP(B375,'Werte =<15°C'!$Q$2:$S$8,2,FALSE),VLOOKUP(B375,'Werte >15°C'!$Q$2:$S$8,2,FALSE)))","v":""},{"$f":"IF(Stammdaten!A378=\"\",\"\",IF(D375<=15,VLOOKUP(B375,'Werte =<15°C'!$Q$2:$S$8,3,FALSE),VLOOKUP(B375,'Werte >15°C'!$Q$2:$S$8,3,FALSE)))","v":""},{"$f":"IF(Stammdaten!A378=\"\",\"\",U375*(E377-D375)+V375)","v":""},{"$f":"IF(Stammdaten!A378=\"\",\"\",C375+W375)","v":""}]
[{"$f":"Analysedaten!A373","v":""},{"$f":"IF(Stammdaten!A376=\"\",\"\",WEEKDAY(A376,2))","v":""},{"$f":"IF(Stammdaten!A376=\"\",\"\",Analysedaten!C373)","v":""},{"$f":"Analysedaten!D373","v":""},{"$f":"Analysedaten!E373","v":""},"","","","","","","","","","","","","","",null,{"$f":"IF(Stammdaten!A379=\"\",\"\",IF(D376<=15,VLOOKUP(B376,'Werte =<15°C'!$Q$2:$S$8,2,FALSE),VLOOKUP(B376,'Werte >15°C'!$Q$2:$S$8,2,FALSE)))","v":""},{"$f":"IF(Stammdaten!A379=\"\",\"\",IF(D376<=15,VLOOKUP(B376,'Werte =<15°C'!$Q$2:$S$8,3,FALSE),VLOOKUP(B376,'Werte >15°C'!$Q$2:$S$8,3,FALSE)))","v":""},{"$f":"IF(Stammdaten!A379=\"\",\"\",U376*(E378-D376)+V376)","v":""},{"$f":"IF(Stammdaten!A379=\"\",\"\",C376+W376)","v":""}]
[{"$f":"Analysedaten!A374","v":""},{"$f":"IF(Stammdaten!A377=\"\",\"\",WEEKDAY(A377,2))","v":""},{"$f":"IF(Stammdaten!A377=\"\",\"\",Analysedaten!C374)","v":""},{"$f":"Analysedaten!D374","v":""},{"$f":"Analysedaten!E374","v":""},"","","","","","","","","","","","","","",null,{"$f":"IF(Stammdaten!A380=\"\",\"\",IF(D377<=15,VLOOKUP(B377,'Werte =<15°C'!$Q$2:$S$8,2,FALSE),VLOOKUP(B377,'Werte >15°C'!$Q$2:$S$8,2,FALSE)))","v":""},{"$f":"IF(Stammdaten!A380=\"\",\"\",IF(D377<=15,VLOOKUP(B377,'Werte =<15°C'!$Q$2:$S$8,3,FALSE),VLOOKUP(B377,'Werte >15°C'!$Q$2:$S$8,3,FALSE)))","v":""},{"$f":"IF(Stammdaten!A380=\"\",\"\",U377*(E379-D377)+V377)","v":""},{"$f":"IF(Stammdaten!A380=\"\",\"\",C377+W377)","v":""}]
[{"$f":"Analysedaten!A375","v":""},{"$f":"IF(Stammdaten!A378=\"\",\"\",WEEKDAY(A378,2))","v":""},{"$f":"IF(Stammdaten!A378=\"\",\"\",Analysedaten!C375)","v":""},{"$f":"Analysedaten!D375","v":""},{"$f":"Analysedaten!E375","v":""},"","","","","","","","","","","","","","",null,{"$f":"IF(Stammdaten!A381=\"\",\"\",IF(D378<=15,VLOOKUP(B378,'Werte =<15°C'!$Q$2:$S$8,2,FALSE),VLOOKUP(B378,'Werte >15°C'!$Q$2:$S$8,2,FALSE)))","v":""},{"$f":"IF(Stammdaten!A381=\"\",\"\",IF(D378<=15,VLOOKUP(B378,'Werte =<15°C'!$Q$2:$S$8,3,FALSE),VLOOKUP(B378,'Werte >15°C'!$Q$2:$S$8,3,FALSE)))","v":""},{"$f":"IF(Stammdaten!A381=\"\",\"\",U378*(E380-D378)+V378)","v":""},{"$f":"IF(Stammdaten!A381=\"\",\"\",C378+W378)","v":""}]
[{"$f":"Analysedaten!A376","v":""},{"$f":"IF(Stammdaten!A379=\"\",\"\",WEEKDAY(A379,2))","v":""},{"$f":"IF(Stammdaten!A379=\"\",\"\",Analysedaten!C376)","v":""},{"$f":"Analysedaten!D376","v":""},{"$f":"Analysedaten!E376","v":""},"","","","","","","","","","","","","","",null,{"$f":"IF(Stammdaten!A382=\"\",\"\",IF(D379<=15,VLOOKUP(B379,'Werte =<15°C'!$Q$2:$S$8,2,FALSE),VLOOKUP(B379,'Werte >15°C'!$Q$2:$S$8,2,FALSE)))","v":""},{"$f":"IF(Stammdaten!A382=\"\",\"\",IF(D379<=15,VLOOKUP(B379,'Werte =<15°C'!$Q$2:$S$8,3,FALSE),VLOOKUP(B379,'Werte >15°C'!$Q$2:$S$8,3,FALSE)))","v":""},{"$f":"IF(Stammdaten!A382=\"\",\"\",U379*(E381-D379)+V379)","v":""},{"$f":"IF(Stammdaten!A382=\"\",\"\",C379+W379)","v":""}]
[{"$f":"Analysedaten!A377","v":""},{"$f":"IF(Stammdaten!A380=\"\",\"\",WEEKDAY(A380,2))","v":""},{"$f":"IF(Stammdaten!A380=\"\",\"\",Analysedaten!C377)","v":""},{"$f":"Analysedaten!D377","v":""},{"$f":"Analysedaten!E377","v":""},"","","","","","","","","","","","","","",null,{"$f":"IF(Stammdaten!A383=\"\",\"\",IF(D380<=15,VLOOKUP(B380,'Werte =<15°C'!$Q$2:$S$8,2,FALSE),VLOOKUP(B380,'Werte >15°C'!$Q$2:$S$8,2,FALSE)))","v":""},{"$f":"IF(Stammdaten!A383=\"\",\"\",IF(D380<=15,VLOOKUP(B380,'Werte =<15°C'!$Q$2:$S$8,3,FALSE),VLOOKUP(B380,'Werte >15°C'!$Q$2:$S$8,3,FALSE)))","v":""},{"$f":"IF(Stammdaten!A383=\"\",\"\",U380*(E382-D380)+V380)","v":""},{"$f":"IF(Stammdaten!A383=\"\",\"\",C380+W380)","v":""}]
[{"$f":"Analysedaten!A378","v":""},{"$f":"IF(Stammdaten!A381=\"\",\"\",WEEKDAY(A381,2))","v":""},{"$f":"IF(Stammdaten!A381=\"\",\"\",Analysedaten!C378)","v":""},{"$f":"Analysedaten!D378","v":""},{"$f":"Analysedaten!E378","v":""},"","","","","","","","","","","","","","",null,{"$f":"IF(Stammdaten!A384=\"\",\"\",IF(D381<=15,VLOOKUP(B381,'Werte =<15°C'!$Q$2:$S$8,2,FALSE),VLOOKUP(B381,'Werte >15°C'!$Q$2:$S$8,2,FALSE)))","v":""},{"$f":"IF(Stammdaten!A384=\"\",\"\",IF(D381<=15,VLOOKUP(B381,'Werte =<15°C'!$Q$2:$S$8,3,FALSE),VLOOKUP(B381,'Werte >15°C'!$Q$2:$S$8,3,FALSE)))","v":""},{"$f":"IF(Stammdaten!A384=\"\",\"\",U381*(E383-D381)+V381)","v":""},{"$f":"IF(Stammdaten!A384=\"\",\"\",C381+W381)","v":""}]
[{"$f":"Analysedaten!A379","v":""},{"$f":"IF(Stammdaten!A382=\"\",\"\",WEEKDAY(A382,2))","v":""},{"$f":"IF(Stammdaten!A382=\"\",\"\",Analysedaten!C379)","v":""},{"$f":"Analysedaten!D379","v":""},{"$f":"Analysedaten!E379","v":""},"","","","","","","","","","","","","","",null,{"$f":"IF(Stammdaten!A385=\"\",\"\",IF(D382<=15,VLOOKUP(B382,'Werte =<15°C'!$Q$2:$S$8,2,FALSE),VLOOKUP(B382,'Werte >15°C'!$Q$2:$S$8,2,FALSE)))","v":""},{"$f":"IF(Stammdaten!A385=\"\",\"\",IF(D382<=15,VLOOKUP(B382,'Werte =<15°C'!$Q$2:$S$8,3,FALSE),VLOOKUP(B382,'Werte >15°C'!$Q$2:$S$8,3,FALSE)))","v":""},{"$f":"IF(Stammdaten!A385=\"\",\"\",U382*(E384-D382)+V382)","v":""},{"$f":"IF(Stammdaten!A385=\"\",\"\",C382+W382)","v":""}]
[{"$f":"Analysedaten!A380","v":""},{"$f":"IF(Stammdaten!A383=\"\",\"\",WEEKDAY(A383,2))","v":""},{"$f":"IF(Stammdaten!A383=\"\",\"\",Analysedaten!C380)","v":""},{"$f":"Analysedaten!D380","v":""},{"$f":"Analysedaten!E380","v":""},"","","","","","","","","","","","","","",null,{"$f":"IF(Stammdaten!A386=\"\",\"\",IF(D383<=15,VLOOKUP(B383,'Werte =<15°C'!$Q$2:$S$8,2,FALSE),VLOOKUP(B383,'Werte >15°C'!$Q$2:$S$8,2,FALSE)))","v":""},{"$f":"IF(Stammdaten!A386=\"\",\"\",IF(D383<=15,VLOOKUP(B383,'Werte =<15°C'!$Q$2:$S$8,3,FALSE),VLOOKUP(B383,'Werte >15°C'!$Q$2:$S$8,3,FALSE)))","v":""},{"$f":"IF(Stammdaten!A386=\"\",\"\",U383*(E385-D383)+V383)","v":""},{"$f":"IF(Stammdaten!A386=\"\",\"\",C383+W383)","v":""}]
[{"$f":"Analysedaten!A381","v":""},{"$f":"IF(Stammdaten!A384=\"\",\"\",WEEKDAY(A384,2))","v":""},{"$f":"IF(Stammdaten!A384=\"\",\"\",Analysedaten!C381)","v":""},{"$f":"Analysedaten!D381","v":""},{"$f":"Analysedaten!E381","v":""},"","","","","","","","","","","","","","",null,{"$f":"IF(Stammdaten!A387=\"\",\"\",IF(D384<=15,VLOOKUP(B384,'Werte =<15°C'!$Q$2:$S$8,2,FALSE),VLOOKUP(B384,'Werte >15°C'!$Q$2:$S$8,2,FALSE)))","v":""},{"$f":"IF(Stammdaten!A387=\"\",\"\",IF(D384<=15,VLOOKUP(B384,'Werte =<15°C'!$Q$2:$S$8,3,FALSE),VLOOKUP(B384,'Werte >15°C'!$Q$2:$S$8,3,FALSE)))","v":""},{"$f":"IF(Stammdaten!A387=\"\",\"\",U384*(E386-D384)+V384)","v":""},{"$f":"IF(Stammdaten!A387=\"\",\"\",C384+W384)","v":""}]
[{"$f":"Analysedaten!A382","v":""},{"$f":"IF(Stammdaten!A385=\"\",\"\",WEEKDAY(A385,2))","v":""},{"$f":"IF(Stammdaten!A385=\"\",\"\",Analysedaten!C382)","v":""},{"$f":"Analysedaten!D382","v":""},{"$f":"Analysedaten!E382","v":""},"","","","","","","","","","","","","","",null,{"$f":"IF(Stammdaten!A388=\"\",\"\",IF(D385<=15,VLOOKUP(B385,'Werte =<15°C'!$Q$2:$S$8,2,FALSE),VLOOKUP(B385,'Werte >15°C'!$Q$2:$S$8,2,FALSE)))","v":""},{"$f":"IF(Stammdaten!A388=\"\",\"\",IF(D385<=15,VLOOKUP(B385,'Werte =<15°C'!$Q$2:$S$8,3,FALSE),VLOOKUP(B385,'Werte >15°C'!$Q$2:$S$8,3,FALSE)))","v":""},{"$f":"IF(Stammdaten!A388=\"\",\"\",U385*(E387-D385)+V385)","v":""},{"$f":"IF(Stammdaten!A388=\"\",\"\",C385+W385)","v":""}]
[{"$f":"Analysedaten!A383","v":""},{"$f":"IF(Stammdaten!A386=\"\",\"\",WEEKDAY(A386,2))","v":""},{"$f":"IF(Stammdaten!A386=\"\",\"\",Analysedaten!C383)","v":""},{"$f":"Analysedaten!D383","v":""},{"$f":"Analysedaten!E383","v":""},"","","","","","","","","","","","","","",null,{"$f":"IF(Stammdaten!A389=\"\",\"\",IF(D386<=15,VLOOKUP(B386,'Werte =<15°C'!$Q$2:$S$8,2,FALSE),VLOOKUP(B386,'Werte >15°C'!$Q$2:$S$8,2,FALSE)))","v":""},{"$f":"IF(Stammdaten!A389=\"\",\"\",IF(D386<=15,VLOOKUP(B386,'Werte =<15°C'!$Q$2:$S$8,3,FALSE),VLOOKUP(B386,'Werte >15°C'!$Q$2:$S$8,3,FALSE)))","v":""},{"$f":"IF(Stammdaten!A389=\"\",\"\",U386*(E388-D386)+V386)","v":""},{"$f":"IF(Stammdaten!A389=\"\",\"\",C386+W386)","v":""}]
[{"$f":"Analysedaten!A384","v":""},{"$f":"IF(Stammdaten!A387=\"\",\"\",WEEKDAY(A387,2))","v":""},{"$f":"IF(Stammdaten!A387=\"\",\"\",Analysedaten!C384)","v":""},{"$f":"Analysedaten!D384","v":""},{"$f":"Analysedaten!E384","v":""},"","","","","","","","","","","","","","",null,{"$f":"IF(Stammdaten!A390=\"\",\"\",IF(D387<=15,VLOOKUP(B387,'Werte =<15°C'!$Q$2:$S$8,2,FALSE),VLOOKUP(B387,'Werte >15°C'!$Q$2:$S$8,2,FALSE)))","v":""},{"$f":"IF(Stammdaten!A390=\"\",\"\",IF(D387<=15,VLOOKUP(B387,'Werte =<15°C'!$Q$2:$S$8,3,FALSE),VLOOKUP(B387,'Werte >15°C'!$Q$2:$S$8,3,FALSE)))","v":""},{"$f":"IF(Stammdaten!A390=\"\",\"\",U387*(E389-D387)+V387)","v":""},{"$f":"IF(Stammdaten!A390=\"\",\"\",C387+W387)","v":""}]
[{"$f":"Analysedaten!A385","v":""},{"$f":"IF(Stammdaten!A388=\"\",\"\",WEEKDAY(A388,2))","v":""},{"$f":"IF(Stammdaten!A388=\"\",\"\",Analysedaten!C385)","v":""},{"$f":"Analysedaten!D385","v":""},{"$f":"Analysedaten!E385","v":""},"","","","","","","","","","","","","","",null,{"$f":"IF(Stammdaten!A391=\"\",\"\",IF(D388<=15,VLOOKUP(B388,'Werte =<15°C'!$Q$2:$S$8,2,FALSE),VLOOKUP(B388,'Werte >15°C'!$Q$2:$S$8,2,FALSE)))","v":""},{"$f":"IF(Stammdaten!A391=\"\",\"\",IF(D388<=15,VLOOKUP(B388,'Werte =<15°C'!$Q$2:$S$8,3,FALSE),VLOOKUP(B388,'Werte >15°C'!$Q$2:$S$8,3,FALSE)))","v":""},{"$f":"IF(Stammdaten!A391=\"\",\"\",U388*(E390-D388)+V388)","v":""},{"$f":"IF(Stammdaten!A391=\"\",\"\",C388+W388)","v":""}]
[{"$f":"Analysedaten!A386","v":""},{"$f":"IF(Stammdaten!A389=\"\",\"\",WEEKDAY(A389,2))","v":""},{"$f":"IF(Stammdaten!A389=\"\",\"\",Analysedaten!C386)","v":""},{"$f":"Analysedaten!D386","v":""},{"$f":"Analysedaten!E386","v":""},{"$f":"IF(B391=1,(E391-D389),\"\")","v":""},{"$f":"IF(B391=1,(C391-C389),\"\")","v":""},{"$f":"IF(B391=2,(E391-D389),\"\")","v":""},{"$f":"IF(B391=2,(C391-C389),\"\")","v":""},{"$f":"IF(B391=3,(E391-D389),\"\")","v":""},{"$f":"IF(B391=3,(C391-C389),\"\")","v":""},{"$f":"IF(B391=4,(E391-D389),\"\")","v":""},{"$f":"IF(B391=4,(C391-C389),\"\")","v":""},{"$f":"IF(B391=5,(E391-D389),\"\")","v":""},{"$f":"IF(B391=5,(C391-C389),\"\")","v":""},{"$f":"IF(B391=6,(E391-D389),\"\")","v":""},{"$f":"IF(B391=6,(C391-C389),\"\")","v":""},{"$f":"IF(B391=7,(E391-D389),\"\")","v":""},{"$f":"IF(B391=7,(C391-C389),\"\")","v":""},null,{"$f":"IF(Stammdaten!A392=\"\",\"\",IF(D389<=15,VLOOKUP(B389,'Werte =<15°C'!$Q$2:$S$8,2,FALSE),VLOOKUP(B389,'Werte >15°C'!$Q$2:$S$8,2,FALSE)))","v":""},{"$f":"IF(Stammdaten!A392=\"\",\"\",IF(D389<=15,VLOOKUP(B389,'Werte =<15°C'!$Q$2:$S$8,3,FALSE),VLOOKUP(B389,'Werte >15°C'!$Q$2:$S$8,3,FALSE)))","v":""},{"$f":"IF(Stammdaten!A392=\"\",\"\",U389*(E391-D389)+V389)","v":""},{"$f":"IF(Stammdaten!A392=\"\",\"\",C389+W389)","v":""}]
[{"$f":"Analysedaten!A387","v":""},{"$f":"IF(Stammdaten!A390=\"\",\"\",WEEKDAY(A390,2))","v":""},{"$f":"IF(Stammdaten!A390=\"\",\"\",Analysedaten!C387)","v":""},{"$f":"Analysedaten!D387","v":""},{"$f":"Analysedaten!E387","v":""},"","","","","","","","","","","","","","",null,{"$f":"IF(Stammdaten!A393=\"\",\"\",IF(D390<=15,VLOOKUP(B390,'Werte =<15°C'!$Q$2:$S$8,2,FALSE),VLOOKUP(B390,'Werte >15°C'!$Q$2:$S$8,2,FALSE)))","v":""},{"$f":"IF(Stammdaten!A393=\"\",\"\",IF(D390<=15,VLOOKUP(B390,'Werte =<15°C'!$Q$2:$S$8,3,FALSE),VLOOKUP(B390,'Werte >15°C'!$Q$2:$S$8,3,FALSE)))","v":""},{"$f":"IF(Stammdaten!A393=\"\",\"\",U390*(E392-D390)+V390)","v":""},{"$f":"IF(Stammdaten!A393=\"\",\"\",C390+W390)","v":""}]
[{"$f":"Analysedaten!A388","v":""},{"$f":"IF(Stammdaten!A391=\"\",\"\",WEEKDAY(A391,2))","v":""},{"$f":"IF(Stammdaten!A391=\"\",\"\",Analysedaten!C388)","v":""},{"$f":"Analysedaten!D388","v":""},{"$f":"Analysedaten!E388","v":""},"","","","","","","","","","","","","","",null,{"$f":"IF(Stammdaten!A394=\"\",\"\",IF(D391<=15,VLOOKUP(B391,'Werte =<15°C'!$Q$2:$S$8,2,FALSE),VLOOKUP(B391,'Werte >15°C'!$Q$2:$S$8,2,FALSE)))","v":""},{"$f":"IF(Stammdaten!A394=\"\",\"\",IF(D391<=15,VLOOKUP(B391,'Werte =<15°C'!$Q$2:$S$8,3,FALSE),VLOOKUP(B391,'Werte >15°C'!$Q$2:$S$8,3,FALSE)))","v":""},{"$f":"IF(Stammdaten!A394=\"\",\"\",U391*(E393-D391)+V391)","v":""},{"$f":"IF(Stammdaten!A394=\"\",\"\",C391+W391)","v":""}]
[{"$f":"Analysedaten!A389","v":""},{"$f":"IF(Stammdaten!A392=\"\",\"\",WEEKDAY(A392,2))","v":""},{"$f":"IF(Stammdaten!A392=\"\",\"\",Analysedaten!C389)","v":""},{"$f":"Analysedaten!D389","v":""},{"$f":"Analysedaten!E389","v":""},"","","","","","","","","","","","","","",null,{"$f":"IF(Stammdaten!A395=\"\",\"\",IF(D392<=15,VLOOKUP(B392,'Werte =<15°C'!$Q$2:$S$8,2,FALSE),VLOOKUP(B392,'Werte >15°C'!$Q$2:$S$8,2,FALSE)))","v":""},{"$f":"IF(Stammdaten!A395=\"\",\"\",IF(D392<=15,VLOOKUP(B392,'Werte =<15°C'!$Q$2:$S$8,3,FALSE),VLOOKUP(B392,'Werte >15°C'!$Q$2:$S$8,3,FALSE)))","v":""},{"$f":"IF(Stammdaten!A395=\"\",\"\",U392*(E394-D392)+V392)","v":""},{"$f":"IF(Stammdaten!A395=\"\",\"\",C392+W392)","v":""}]
[{"$f":"Analysedaten!A390","v":""},{"$f":"IF(Stammdaten!A393=\"\",\"\",WEEKDAY(A393,2))","v":""},{"$f":"IF(Stammdaten!A393=\"\",\"\",Analysedaten!C390)","v":""},{"$f":"Analysedaten!D390","v":""},{"$f":"Analysedaten!E390","v":""},"","","","","","","","","","","","","","",null,{"$f":"IF(Stammdaten!A396=\"\",\"\",IF(D393<=15,VLOOKUP(B393,'Werte =<15°C'!$Q$2:$S$8,2,FALSE),VLOOKUP(B393,'Werte >15°C'!$Q$2:$S$8,2,FALSE)))","v":""},{"$f":"IF(Stammdaten!A396=\"\",\"\",IF(D393<=15,VLOOKUP(B393,'Werte =<15°C'!$Q$2:$S$8,3,FALSE),VLOOKUP(B393,'Werte >15°C'!$Q$2:$S$8,3,FALSE)))","v":""},{"$f":"IF(Stammdaten!A396=\"\",\"\",U393*(E395-D393)+V393)","v":""},{"$f":"IF(Stammdaten!A396=\"\",\"\",C393+W393)","v":""}]
[{"$f":"Analysedaten!A391","v":""},{"$f":"IF(Stammdaten!A394=\"\",\"\",WEEKDAY(A394,2))","v":""},{"$f":"IF(Stammdaten!A394=\"\",\"\",Analysedaten!C391)","v":""},{"$f":"Analysedaten!D391","v":""},{"$f":"Analysedaten!E391","v":""},"","","","","","","","","","","","","","",null,{"$f":"IF(Stammdaten!A397=\"\",\"\",IF(D394<=15,VLOOKUP(B394,'Werte =<15°C'!$Q$2:$S$8,2,FALSE),VLOOKUP(B394,'Werte >15°C'!$Q$2:$S$8,2,FALSE)))","v":""},{"$f":"IF(Stammdaten!A397=\"\",\"\",IF(D394<=15,VLOOKUP(B394,'Werte =<15°C'!$Q$2:$S$8,3,FALSE),VLOOKUP(B394,'Werte >15°C'!$Q$2:$S$8,3,FALSE)))","v":""},{"$f":"IF(Stammdaten!A397=\"\",\"\",U394*(E396-D394)+V394)","v":""},{"$f":"IF(Stammdaten!A397=\"\",\"\",C394+W394)","v":""}]
[{"$f":"Analysedaten!A392","v":""},{"$f":"IF(Stammdaten!A395=\"\",\"\",WEEKDAY(A395,2))","v":""},{"$f":"IF(Stammdaten!A395=\"\",\"\",Analysedaten!C392)","v":""},{"$f":"Analysedaten!D392","v":""},{"$f":"Analysedaten!E392","v":""},"","","","","","","","","","","","","","",null,{"$f":"IF(Stammdaten!A398=\"\",\"\",IF(D395<=15,VLOOKUP(B395,'Werte =<15°C'!$Q$2:$S$8,2,FALSE),VLOOKUP(B395,'Werte >15°C'!$Q$2:$S$8,2,FALSE)))","v":""},{"$f":"IF(Stammdaten!A398=\"\",\"\",IF(D395<=15,VLOOKUP(B395,'Werte =<15°C'!$Q$2:$S$8,3,FALSE),VLOOKUP(B395,'Werte >15°C'!$Q$2:$S$8,3,FALSE)))","v":""},{"$f":"IF(Stammdaten!A398=\"\",\"\",U395*(E397-D395)+V395)","v":""},{"$f":"IF(Stammdaten!A398=\"\",\"\",C395+W395)","v":""}]
[{"$f":"Analysedaten!A393","v":""},{"$f":"IF(Stammdaten!A396=\"\",\"\",WEEKDAY(A396,2))","v":""},{"$f":"IF(Stammdaten!A396=\"\",\"\",Analysedaten!C393)","v":""},{"$f":"Analysedaten!D393","v":""},{"$f":"Analysedaten!E393","v":""},"","","","","","","","","","","","","","",null,{"$f":"IF(Stammdaten!A399=\"\",\"\",IF(D396<=15,VLOOKUP(B396,'Werte =<15°C'!$Q$2:$S$8,2,FALSE),VLOOKUP(B396,'Werte >15°C'!$Q$2:$S$8,2,FALSE)))","v":""},{"$f":"IF(Stammdaten!A399=\"\",\"\",IF(D396<=15,VLOOKUP(B396,'Werte =<15°C'!$Q$2:$S$8,3,FALSE),VLOOKUP(B396,'Werte >15°C'!$Q$2:$S$8,3,FALSE)))","v":""},{"$f":"IF(Stammdaten!A399=\"\",\"\",U396*(E398-D396)+V396)","v":""},{"$f":"IF(Stammdaten!A399=\"\",\"\",C396+W396)","v":""}]
[{"$f":"Analysedaten!A394","v":""},{"$f":"IF(Stammdaten!A397=\"\",\"\",WEEKDAY(A397,2))","v":""},{"$f":"IF(Stammdaten!A397=\"\",\"\",Analysedaten!C394)","v":""},{"$f":"Analysedaten!D394","v":""},{"$f":"Analysedaten!E394","v":""},"","","","","","","","","","","","","","",null,{"$f":"IF(Stammdaten!A400=\"\",\"\",IF(D397<=15,VLOOKUP(B397,'Werte =<15°C'!$Q$2:$S$8,2,FALSE),VLOOKUP(B397,'Werte >15°C'!$Q$2:$S$8,2,FALSE)))","v":""},{"$f":"IF(Stammdaten!A400=\"\",\"\",IF(D397<=15,VLOOKUP(B397,'Werte =<15°C'!$Q$2:$S$8,3,FALSE),VLOOKUP(B397,'Werte >15°C'!$Q$2:$S$8,3,FALSE)))","v":""},{"$f":"IF(Stammdaten!A400=\"\",\"\",U397*(E399-D397)+V397)","v":""},{"$f":"IF(Stammdaten!A400=\"\",\"\",C397+W397)","v":""}]
[{"$f":"Analysedaten!A395","v":""},{"$f":"IF(Stammdaten!A398=\"\",\"\",WEEKDAY(A398,2))","v":""},{"$f":"IF(Stammdaten!A398=\"\",\"\",Analysedaten!C395)","v":""},{"$f":"Analysedaten!D395","v":""},{"$f":"Analysedaten!E395","v":""},"","","","","","","","","","","","","","",null,{"$f":"IF(Stammdaten!A401=\"\",\"\",IF(D398<=15,VLOOKUP(B398,'Werte =<15°C'!$Q$2:$S$8,2,FALSE),VLOOKUP(B398,'Werte >15°C'!$Q$2:$S$8,2,FALSE)))","v":""},{"$f":"IF(Stammdaten!A401=\"\",\"\",IF(D398<=15,VLOOKUP(B398,'Werte =<15°C'!$Q$2:$S$8,3,FALSE),VLOOKUP(B398,'Werte >15°C'!$Q$2:$S$8,3,FALSE)))","v":""},{"$f":"IF(Stammdaten!A401=\"\",\"\",U398*(E400-D398)+V398)","v":""},{"$f":"IF(Stammdaten!A401=\"\",\"\",C398+W398)","v":""}]
[{"$f":"Analysedaten!A396","v":""},{"$f":"IF(Stammdaten!A399=\"\",\"\",WEEKDAY(A399,2))","v":""},{"$f":"IF(Stammdaten!A399=\"\",\"\",Analysedaten!C396)","v":""},{"$f":"Analysedaten!D396","v":""},{"$f":"Analysedaten!E396","v":""},"","","","","","","","","","","","","","",null,{"$f":"IF(Stammdaten!A402=\"\",\"\",IF(D399<=15,VLOOKUP(B399,'Werte =<15°C'!$Q$2:$S$8,2,FALSE),VLOOKUP(B399,'Werte >15°C'!$Q$2:$S$8,2,FALSE)))","v":""},{"$f":"IF(Stammdaten!A402=\"\",\"\",IF(D399<=15,VLOOKUP(B399,'Werte =<15°C'!$Q$2:$S$8,3,FALSE),VLOOKUP(B399,'Werte >15°C'!$Q$2:$S$8,3,FALSE)))","v":""},{"$f":"IF(Stammdaten!A402=\"\",\"\",U399*(E401-D399)+V399)","v":""},{"$f":"IF(Stammdaten!A402=\"\",\"\",C399+W399)","v":""}]
[{"$f":"Analysedaten!A397","v":""},{"$f":"IF(Stammdaten!A400=\"\",\"\",WEEKDAY(A400,2))","v":""},{"$f":"IF(Stammdaten!A400=\"\",\"\",Analysedaten!C397)","v":""},{"$f":"Analysedaten!D397","v":""},{"$f":"Analysedaten!E397","v":""},"","","","","","","","","","","","","","",null,{"$f":"IF(Stammdaten!A403=\"\",\"\",IF(D400<=15,VLOOKUP(B400,'Werte =<15°C'!$Q$2:$S$8,2,FALSE),VLOOKUP(B400,'Werte >15°C'!$Q$2:$S$8,2,FALSE)))","v":""},{"$f":"IF(Stammdaten!A403=\"\",\"\",IF(D400<=15,VLOOKUP(B400,'Werte =<15°C'!$Q$2:$S$8,3,FALSE),VLOOKUP(B400,'Werte >15°C'!$Q$2:$S$8,3,FALSE)))","v":""},{"$f":"IF(Stammdaten!A403=\"\",\"\",U400*(E402-D400)+V400)","v":""},{"$f":"IF(Stammdaten!A403=\"\",\"\",C400+W400)","v":""}]
[{"$f":"Analysedaten!A398","v":""},{"$f":"IF(Stammdaten!A401=\"\",\"\",WEEKDAY(A401,2))","v":""},{"$f":"IF(Stammdaten!A401=\"\",\"\",Analysedaten!C398)","v":""},{"$f":"Analysedaten!D398","v":""},{"$f":"Analysedaten!E398","v":""},"","","","","","","","","","","","","","",null,{"$f":"IF(Stammdaten!A404=\"\",\"\",IF(D401<=15,VLOOKUP(B401,'Werte =<15°C'!$Q$2:$S$8,2,FALSE),VLOOKUP(B401,'Werte >15°C'!$Q$2:$S$8,2,FALSE)))","v":""},{"$f":"IF(Stammdaten!A404=\"\",\"\",IF(D401<=15,VLOOKUP(B401,'Werte =<15°C'!$Q$2:$S$8,3,FALSE),VLOOKUP(B401,'Werte >15°C'!$Q$2:$S$8,3,FALSE)))","v":""},{"$f":"IF(Stammdaten!A404=\"\",\"\",U401*(E403-D401)+V401)","v":""},{"$f":"IF(Stammdaten!A404=\"\",\"\",C401+W401)","v":""}]
[{"$f":"Analysedaten!A399","v":""},{"$f":"IF(Stammdaten!A402=\"\",\"\",WEEKDAY(A402,2))","v":""},{"$f":"IF(Stammdaten!A402=\"\",\"\",Analysedaten!C399)","v":""},{"$f":"Analysedaten!D399","v":""},{"$f":"Analysedaten!E399","v":""},"","","","","","","","","","","","","","",null,{"$f":"IF(Stammdaten!A405=\"\",\"\",IF(D402<=15,VLOOKUP(B402,'Werte =<15°C'!$Q$2:$S$8,2,FALSE),VLOOKUP(B402,'Werte >15°C'!$Q$2:$S$8,2,FALSE)))","v":""},{"$f":"IF(Stammdaten!A405=\"\",\"\",IF(D402<=15,VLOOKUP(B402,'Werte =<15°C'!$Q$2:$S$8,3,FALSE),VLOOKUP(B402,'Werte >15°C'!$Q$2:$S$8,3,FALSE)))","v":""},{"$f":"IF(Stammdaten!A405=\"\",\"\",U402*(E404-D402)+V402)","v":""},{"$f":"IF(Stammdaten!A405=\"\",\"\",C402+W402)","v":""}]
[{"$f":"Analysedaten!A400","v":""},{"$f":"IF(Stammdaten!A403=\"\",\"\",WEEKDAY(A403,2))","v":""},{"$f":"IF(Stammdaten!A403=\"\",\"\",Analysedaten!C400)","v":""},{"$f":"Analysedaten!D400","v":""},{"$f":"Analysedaten!E400","v":""},"","","","","","","","","","","","","","",null,{"$f":"IF(Stammdaten!A406=\"\",\"\",IF(D403<=15,VLOOKUP(B403,'Werte =<15°C'!$Q$2:$S$8,2,FALSE),VLOOKUP(B403,'Werte >15°C'!$Q$2:$S$8,2,FALSE)))","v":""},{"$f":"IF(Stammdaten!A406=\"\",\"\",IF(D403<=15,VLOOKUP(B403,'Werte =<15°C'!$Q$2:$S$8,3,FALSE),VLOOKUP(B403,'Werte >15°C'!$Q$2:$S$8,3,FALSE)))","v":""},{"$f":"IF(Stammdaten!A406=\"\",\"\",U403*(E405-D403)+V403)","v":""},{"$f":"IF(Stammdaten!A406=\"\",\"\",C403+W403)","v":""}]
[{"$f":"Analysedaten!A401","v":""},{"$f":"IF(Stammdaten!A404=\"\",\"\",WEEKDAY(A404,2))","v":""},{"$f":"IF(Stammdaten!A404=\"\",\"\",Analysedaten!C401)","v":""},{"$f":"Analysedaten!D401","v":""},{"$f":"Analysedaten!E401","v":""},"","","","","","","","","","","","","","",null,{"$f":"IF(Stammdaten!A407=\"\",\"\",IF(D404<=15,VLOOKUP(B404,'Werte =<15°C'!$Q$2:$S$8,2,FALSE),VLOOKUP(B404,'Werte >15°C'!$Q$2:$S$8,2,FALSE)))","v":""},{"$f":"IF(Stammdaten!A407=\"\",\"\",IF(D404<=15,VLOOKUP(B404,'Werte =<15°C'!$Q$2:$S$8,3,FALSE),VLOOKUP(B404,'Werte >15°C'!$Q$2:$S$8,3,FALSE)))","v":""},{"$f":"IF(Stammdaten!A407=\"\",\"\",U404*(E406-D404)+V404)","v":""},{"$f":"IF(Stammdaten!A407=\"\",\"\",C404+W404)","v":""}]
[{"$f":"Analysedaten!A402","v":""},{"$f":"IF(Stammdaten!A405=\"\",\"\",WEEKDAY(A405,2))","v":""},{"$f":"IF(Stammdaten!A405=\"\",\"\",Analysedaten!C402)","v":""},{"$f":"Analysedaten!D402","v":""},{"$f":"Analysedaten!E402","v":""},"","","","","","","","","","","","","","",null,{"$f":"IF(Stammdaten!A408=\"\",\"\",IF(D405<=15,VLOOKUP(B405,'Werte =<15°C'!$Q$2:$S$8,2,FALSE),VLOOKUP(B405,'Werte >15°C'!$Q$2:$S$8,2,FALSE)))","v":""},{"$f":"IF(Stammdaten!A408=\"\",\"\",IF(D405<=15,VLOOKUP(B405,'Werte =<15°C'!$Q$2:$S$8,3,FALSE),VLOOKUP(B405,'Werte >15°C'!$Q$2:$S$8,3,FALSE)))","v":""},{"$f":"IF(Stammdaten!A408=\"\",\"\",U405*(E407-D405)+V405)","v":""},{"$f":"IF(Stammdaten!A408=\"\",\"\",C405+W405)","v":""}]
[{"$f":"Analysedaten!A403","v":""},{"$f":"IF(Stammdaten!A406=\"\",\"\",WEEKDAY(A406,2))","v":""},{"$f":"IF(Stammdaten!A406=\"\",\"\",Analysedaten!C403)","v":""},{"$f":"Analysedaten!D403","v":""},{"$f":"Analysedaten!E403","v":""},"","","","","","","","","","","","","","",null,{"$f":"IF(Stammdaten!A409=\"\",\"\",IF(D406<=15,VLOOKUP(B406,'Werte =<15°C'!$Q$2:$S$8,2,FALSE),VLOOKUP(B406,'Werte >15°C'!$Q$2:$S$8,2,FALSE)))","v":""},{"$f":"IF(Stammdaten!A409=\"\",\"\",IF(D406<=15,VLOOKUP(B406,'Werte =<15°C'!$Q$2:$S$8,3,FALSE),VLOOKUP(B406,'Werte >15°C'!$Q$2:$S$8,3,FALSE)))","v":""},{"$f":"IF(Stammdaten!A409=\"\",\"\",U406*(E408-D406)+V406)","v":""},{"$f":"IF(Stammdaten!A409=\"\",\"\",C406+W406)","v":""}]
[{"$f":"Analysedaten!A404","v":""},{"$f":"IF(Stammdaten!A407=\"\",\"\",WEEKDAY(A407,2))","v":""},{"$f":"IF(Stammdaten!A407=\"\",\"\",Analysedaten!C404)","v":""},{"$f":"Analysedaten!D404","v":""},{"$f":"Analysedaten!E404","v":""},"","","","","","","","","","","","","","",null,{"$f":"IF(Stammdaten!A410=\"\",\"\",IF(D407<=15,VLOOKUP(B407,'Werte =<15°C'!$Q$2:$S$8,2,FALSE),VLOOKUP(B407,'Werte >15°C'!$Q$2:$S$8,2,FALSE)))","v":""},{"$f":"IF(Stammdaten!A410=\"\",\"\",IF(D407<=15,VLOOKUP(B407,'Werte =<15°C'!$Q$2:$S$8,3,FALSE),VLOOKUP(B407,'Werte >15°C'!$Q$2:$S$8,3,FALSE)))","v":""},{"$f":"IF(Stammdaten!A410=\"\",\"\",U407*(E409-D407)+V407)","v":""},{"$f":"IF(Stammdaten!A410=\"\",\"\",C407+W407)","v":""}]
[{"$f":"Analysedaten!A405","v":""},{"$f":"IF(Stammdaten!A408=\"\",\"\",WEEKDAY(A408,2))","v":""},{"$f":"IF(Stammdaten!A408=\"\",\"\",Analysedaten!C405)","v":""},{"$f":"Analysedaten!D405","v":""},{"$f":"Analysedaten!E405","v":""},"","","","","","","","","","","","","","",null,{"$f":"IF(Stammdaten!A411=\"\",\"\",IF(D408<=15,VLOOKUP(B408,'Werte =<15°C'!$Q$2:$S$8,2,FALSE),VLOOKUP(B408,'Werte >15°C'!$Q$2:$S$8,2,FALSE)))","v":""},{"$f":"IF(Stammdaten!A411=\"\",\"\",IF(D408<=15,VLOOKUP(B408,'Werte =<15°C'!$Q$2:$S$8,3,FALSE),VLOOKUP(B408,'Werte >15°C'!$Q$2:$S$8,3,FALSE)))","v":""},{"$f":"IF(Stammdaten!A411=\"\",\"\",U408*(E410-D408)+V408)","v":""},{"$f":"IF(Stammdaten!A411=\"\",\"\",C408+W408)","v":""}]
[{"$f":"Analysedaten!A406","v":""},{"$f":"IF(Stammdaten!A409=\"\",\"\",WEEKDAY(A409,2))","v":""},{"$f":"IF(Stammdaten!A409=\"\",\"\",Analysedaten!C406)","v":""},{"$f":"Analysedaten!D406","v":""},{"$f":"Analysedaten!E406","v":""},"","","","","","","","","","","","","","",null,{"$f":"IF(Stammdaten!A412=\"\",\"\",IF(D409<=15,VLOOKUP(B409,'Werte =<15°C'!$Q$2:$S$8,2,FALSE),VLOOKUP(B409,'Werte >15°C'!$Q$2:$S$8,2,FALSE)))","v":""},{"$f":"IF(Stammdaten!A412=\"\",\"\",IF(D409<=15,VLOOKUP(B409,'Werte =<15°C'!$Q$2:$S$8,3,FALSE),VLOOKUP(B409,'Werte >15°C'!$Q$2:$S$8,3,FALSE)))","v":""},{"$f":"IF(Stammdaten!A412=\"\",\"\",U409*(E411-D409)+V409)","v":""},{"$f":"IF(Stammdaten!A412=\"\",\"\",C409+W409)","v":""}]
[{"$f":"Analysedaten!A407","v":""},{"$f":"IF(Stammdaten!A410=\"\",\"\",WEEKDAY(A410,2))","v":""},{"$f":"IF(Stammdaten!A410=\"\",\"\",Analysedaten!C407)","v":""},{"$f":"Analysedaten!D407","v":""},{"$f":"Analysedaten!E407","v":""},"","","","","","","","","","","","","","",null,{"$f":"IF(Stammdaten!A413=\"\",\"\",IF(D410<=15,VLOOKUP(B410,'Werte =<15°C'!$Q$2:$S$8,2,FALSE),VLOOKUP(B410,'Werte >15°C'!$Q$2:$S$8,2,FALSE)))","v":""},{"$f":"IF(Stammdaten!A413=\"\",\"\",IF(D410<=15,VLOOKUP(B410,'Werte =<15°C'!$Q$2:$S$8,3,FALSE),VLOOKUP(B410,'Werte >15°C'!$Q$2:$S$8,3,FALSE)))","v":""},{"$f":"IF(Stammdaten!A413=\"\",\"\",U410*(E412-D410)+V410)","v":""},{"$f":"IF(Stammdaten!A413=\"\",\"\",C410+W410)","v":""}]
[{"$f":"Analysedaten!A408","v":""},{"$f":"IF(Stammdaten!A411=\"\",\"\",WEEKDAY(A411,2))","v":""},{"$f":"IF(Stammdaten!A411=\"\",\"\",Analysedaten!C408)","v":""},{"$f":"Analysedaten!D408","v":""},{"$f":"Analysedaten!E408","v":""},"","","","","","","","","","","","","","",null,{"$f":"IF(Stammdaten!A414=\"\",\"\",IF(D411<=15,VLOOKUP(B411,'Werte =<15°C'!$Q$2:$S$8,2,FALSE),VLOOKUP(B411,'Werte >15°C'!$Q$2:$S$8,2,FALSE)))","v":""},{"$f":"IF(Stammdaten!A414=\"\",\"\",IF(D411<=15,VLOOKUP(B411,'Werte =<15°C'!$Q$2:$S$8,3,FALSE),VLOOKUP(B411,'Werte >15°C'!$Q$2:$S$8,3,FALSE)))","v":""},{"$f":"IF(Stammdaten!A414=\"\",\"\",U411*(E413-D411)+V411)","v":""},{"$f":"IF(Stammdaten!A414=\"\",\"\",C411+W411)","v":""}]
[{"$f":"Analysedaten!A409","v":""},{"$f":"IF(Stammdaten!A412=\"\",\"\",WEEKDAY(A412,2))","v":""},{"$f":"IF(Stammdaten!A412=\"\",\"\",Analysedaten!C409)","v":""},{"$f":"Analysedaten!D409","v":""},{"$f":"Analysedaten!E409","v":""},"","","","","","","","","","","","","","",null,{"$f":"IF(Stammdaten!A415=\"\",\"\",IF(D412<=15,VLOOKUP(B412,'Werte =<15°C'!$Q$2:$S$8,2,FALSE),VLOOKUP(B412,'Werte >15°C'!$Q$2:$S$8,2,FALSE)))","v":""},{"$f":"IF(Stammdaten!A415=\"\",\"\",IF(D412<=15,VLOOKUP(B412,'Werte =<15°C'!$Q$2:$S$8,3,FALSE),VLOOKUP(B412,'Werte >15°C'!$Q$2:$S$8,3,FALSE)))","v":""},{"$f":"IF(Stammdaten!A415=\"\",\"\",U412*(E414-D412)+V412)","v":""},{"$f":"IF(Stammdaten!A415=\"\",\"\",C412+W412)","v":""}]
[{"$f":"Analysedaten!A410","v":""},{"$f":"IF(Stammdaten!A413=\"\",\"\",WEEKDAY(A413,2))","v":""},{"$f":"IF(Stammdaten!A413=\"\",\"\",Analysedaten!C410)","v":""},{"$f":"Analysedaten!D410","v":""},{"$f":"Analysedaten!E410","v":""},"","","","","","","","","","","","","","",null,{"$f":"IF(Stammdaten!A416=\"\",\"\",IF(D413<=15,VLOOKUP(B413,'Werte =<15°C'!$Q$2:$S$8,2,FALSE),VLOOKUP(B413,'Werte >15°C'!$Q$2:$S$8,2,FALSE)))","v":""},{"$f":"IF(Stammdaten!A416=\"\",\"\",IF(D413<=15,VLOOKUP(B413,'Werte =<15°C'!$Q$2:$S$8,3,FALSE),VLOOKUP(B413,'Werte >15°C'!$Q$2:$S$8,3,FALSE)))","v":""},{"$f":"IF(Stammdaten!A416=\"\",\"\",U413*(E415-D413)+V413)","v":""},{"$f":"IF(Stammdaten!A416=\"\",\"\",C413+W413)","v":""}]
[{"$f":"Analysedaten!A411","v":""},{"$f":"IF(Stammdaten!A414=\"\",\"\",WEEKDAY(A414,2))","v":""},{"$f":"IF(Stammdaten!A414=\"\",\"\",Analysedaten!C411)","v":""},{"$f":"Analysedaten!D411","v":""},{"$f":"Analysedaten!E411","v":""},"","","","","","","","","","","","","","",null,{"$f":"IF(Stammdaten!A417=\"\",\"\",IF(D414<=15,VLOOKUP(B414,'Werte =<15°C'!$Q$2:$S$8,2,FALSE),VLOOKUP(B414,'Werte >15°C'!$Q$2:$S$8,2,FALSE)))","v":""},{"$f":"IF(Stammdaten!A417=\"\",\"\",IF(D414<=15,VLOOKUP(B414,'Werte =<15°C'!$Q$2:$S$8,3,FALSE),VLOOKUP(B414,'Werte >15°C'!$Q$2:$S$8,3,FALSE)))","v":""},{"$f":"IF(Stammdaten!A417=\"\",\"\",U414*(E416-D414)+V414)","v":""},{"$f":"IF(Stammdaten!A417=\"\",\"\",C414+W414)","v":""}]
[{"$f":"Analysedaten!A412","v":""},{"$f":"IF(Stammdaten!A415=\"\",\"\",WEEKDAY(A415,2))","v":""},{"$f":"IF(Stammdaten!A415=\"\",\"\",Analysedaten!C412)","v":""},{"$f":"Analysedaten!D412","v":""},{"$f":"Analysedaten!E412","v":""},"","","","","","","","","","","","","","",null,{"$f":"IF(Stammdaten!A418=\"\",\"\",IF(D415<=15,VLOOKUP(B415,'Werte =<15°C'!$Q$2:$S$8,2,FALSE),VLOOKUP(B415,'Werte >15°C'!$Q$2:$S$8,2,FALSE)))","v":""},{"$f":"IF(Stammdaten!A418=\"\",\"\",IF(D415<=15,VLOOKUP(B415,'Werte =<15°C'!$Q$2:$S$8,3,FALSE),VLOOKUP(B415,'Werte >15°C'!$Q$2:$S$8,3,FALSE)))","v":""},{"$f":"IF(Stammdaten!A418=\"\",\"\",U415*(E417-D415)+V415)","v":""},{"$f":"IF(Stammdaten!A418=\"\",\"\",C415+W415)","v":""}]
[{"$f":"Analysedaten!A413","v":""},{"$f":"IF(Stammdaten!A416=\"\",\"\",WEEKDAY(A416,2))","v":""},{"$f":"IF(Stammdaten!A416=\"\",\"\",Analysedaten!C413)","v":""},{"$f":"Analysedaten!D413","v":""},{"$f":"Analysedaten!E413","v":""},"","","","","","","","","","","","","","",null,{"$f":"IF(Stammdaten!A419=\"\",\"\",IF(D416<=15,VLOOKUP(B416,'Werte =<15°C'!$Q$2:$S$8,2,FALSE),VLOOKUP(B416,'Werte >15°C'!$Q$2:$S$8,2,FALSE)))","v":""},{"$f":"IF(Stammdaten!A419=\"\",\"\",IF(D416<=15,VLOOKUP(B416,'Werte =<15°C'!$Q$2:$S$8,3,FALSE),VLOOKUP(B416,'Werte >15°C'!$Q$2:$S$8,3,FALSE)))","v":""},{"$f":"IF(Stammdaten!A419=\"\",\"\",U416*(E418-D416)+V416)","v":""},{"$f":"IF(Stammdaten!A419=\"\",\"\",C416+W416)","v":""}]
[{"$f":"Analysedaten!A414","v":""},{"$f":"IF(Stammdaten!A417=\"\",\"\",WEEKDAY(A417,2))","v":""},{"$f":"IF(Stammdaten!A417=\"\",\"\",Analysedaten!C414)","v":""},{"$f":"Analysedaten!D414","v":""},{"$f":"Analysedaten!E414","v":""},"","","","","","","","","","","","","","",null,{"$f":"IF(Stammdaten!A420=\"\",\"\",IF(D417<=15,VLOOKUP(B417,'Werte =<15°C'!$Q$2:$S$8,2,FALSE),VLOOKUP(B417,'Werte >15°C'!$Q$2:$S$8,2,FALSE)))","v":""},{"$f":"IF(Stammdaten!A420=\"\",\"\",IF(D417<=15,VLOOKUP(B417,'Werte =<15°C'!$Q$2:$S$8,3,FALSE),VLOOKUP(B417,'Werte >15°C'!$Q$2:$S$8,3,FALSE)))","v":""},{"$f":"IF(Stammdaten!A420=\"\",\"\",U417*(E419-D417)+V417)","v":""},{"$f":"IF(Stammdaten!A420=\"\",\"\",C417+W417)","v":""}]
[{"$f":"Analysedaten!A415","v":""},{"$f":"IF(Stammdaten!A418=\"\",\"\",WEEKDAY(A418,2))","v":""},{"$f":"IF(Stammdaten!A418=\"\",\"\",Analysedaten!C415)","v":""},{"$f":"Analysedaten!D415","v":""},{"$f":"Analysedaten!E415","v":""},"","","","","","","","","","","","","","",null,{"$f":"IF(Stammdaten!A421=\"\",\"\",IF(D418<=15,VLOOKUP(B418,'Werte =<15°C'!$Q$2:$S$8,2,FALSE),VLOOKUP(B418,'Werte >15°C'!$Q$2:$S$8,2,FALSE)))","v":""},{"$f":"IF(Stammdaten!A421=\"\",\"\",IF(D418<=15,VLOOKUP(B418,'Werte =<15°C'!$Q$2:$S$8,3,FALSE),VLOOKUP(B418,'Werte >15°C'!$Q$2:$S$8,3,FALSE)))","v":""},{"$f":"IF(Stammdaten!A421=\"\",\"\",U418*(E420-D418)+V418)","v":""},{"$f":"IF(Stammdaten!A421=\"\",\"\",C418+W418)","v":""}]
[{"$f":"Analysedaten!A416","v":""},{"$f":"IF(Stammdaten!A419=\"\",\"\",WEEKDAY(A419,2))","v":""},{"$f":"IF(Stammdaten!A419=\"\",\"\",Analysedaten!C416)","v":""},{"$f":"Analysedaten!D416","v":""},{"$f":"Analysedaten!E416","v":""},"","","","","","","","","","","","","","",null,{"$f":"IF(Stammdaten!A422=\"\",\"\",IF(D419<=15,VLOOKUP(B419,'Werte =<15°C'!$Q$2:$S$8,2,FALSE),VLOOKUP(B419,'Werte >15°C'!$Q$2:$S$8,2,FALSE)))","v":""},{"$f":"IF(Stammdaten!A422=\"\",\"\",IF(D419<=15,VLOOKUP(B419,'Werte =<15°C'!$Q$2:$S$8,3,FALSE),VLOOKUP(B419,'Werte >15°C'!$Q$2:$S$8,3,FALSE)))","v":""},{"$f":"IF(Stammdaten!A422=\"\",\"\",U419*(E421-D419)+V419)","v":""},{"$f":"IF(Stammdaten!A422=\"\",\"\",C419+W419)","v":""}]
[{"$f":"Analysedaten!A417","v":""},{"$f":"IF(Stammdaten!A420=\"\",\"\",WEEKDAY(A420,2))","v":""},{"$f":"IF(Stammdaten!A420=\"\",\"\",Analysedaten!C417)","v":""},{"$f":"Analysedaten!D417","v":""},{"$f":"Analysedaten!E417","v":""},"","","","","","","","","","","","","","",null,{"$f":"IF(Stammdaten!A423=\"\",\"\",IF(D420<=15,VLOOKUP(B420,'Werte =<15°C'!$Q$2:$S$8,2,FALSE),VLOOKUP(B420,'Werte >15°C'!$Q$2:$S$8,2,FALSE)))","v":""},{"$f":"IF(Stammdaten!A423=\"\",\"\",IF(D420<=15,VLOOKUP(B420,'Werte =<15°C'!$Q$2:$S$8,3,FALSE),VLOOKUP(B420,'Werte >15°C'!$Q$2:$S$8,3,FALSE)))","v":""},{"$f":"IF(Stammdaten!A423=\"\",\"\",U420*(E422-D420)+V420)","v":""},{"$f":"IF(Stammdaten!A423=\"\",\"\",C420+W420)","v":""}]
[{"$f":"Analysedaten!A418","v":""},{"$f":"IF(Stammdaten!A421=\"\",\"\",WEEKDAY(A421,2))","v":""},{"$f":"IF(Stammdaten!A421=\"\",\"\",Analysedaten!C418)","v":""},{"$f":"Analysedaten!D418","v":""},{"$f":"Analysedaten!E418","v":""},"","","","","","","","","","","","","","",null,{"$f":"IF(Stammdaten!A424=\"\",\"\",IF(D421<=15,VLOOKUP(B421,'Werte =<15°C'!$Q$2:$S$8,2,FALSE),VLOOKUP(B421,'Werte >15°C'!$Q$2:$S$8,2,FALSE)))","v":""},{"$f":"IF(Stammdaten!A424=\"\",\"\",IF(D421<=15,VLOOKUP(B421,'Werte =<15°C'!$Q$2:$S$8,3,FALSE),VLOOKUP(B421,'Werte >15°C'!$Q$2:$S$8,3,FALSE)))","v":""},{"$f":"IF(Stammdaten!A424=\"\",\"\",U421*(E423-D421)+V421)","v":""},{"$f":"IF(Stammdaten!A424=\"\",\"\",C421+W421)","v":""}]
[{"$f":"Analysedaten!A419","v":""},{"$f":"IF(Stammdaten!A422=\"\",\"\",WEEKDAY(A422,2))","v":""},{"$f":"IF(Stammdaten!A422=\"\",\"\",Analysedaten!C419)","v":""},{"$f":"Analysedaten!D419","v":""},{"$f":"Analysedaten!E419","v":""},"","","","","","","","","","","","","","",null,{"$f":"IF(Stammdaten!A425=\"\",\"\",IF(D422<=15,VLOOKUP(B422,'Werte =<15°C'!$Q$2:$S$8,2,FALSE),VLOOKUP(B422,'Werte >15°C'!$Q$2:$S$8,2,FALSE)))","v":""},{"$f":"IF(Stammdaten!A425=\"\",\"\",IF(D422<=15,VLOOKUP(B422,'Werte =<15°C'!$Q$2:$S$8,3,FALSE),VLOOKUP(B422,'Werte >15°C'!$Q$2:$S$8,3,FALSE)))","v":""},{"$f":"IF(Stammdaten!A425=\"\",\"\",U422*(E424-D422)+V422)","v":""},{"$f":"IF(Stammdaten!A425=\"\",\"\",C422+W422)","v":""}]
[{"$f":"Analysedaten!A420","v":""},{"$f":"IF(Stammdaten!A423=\"\",\"\",WEEKDAY(A423,2))","v":""},{"$f":"IF(Stammdaten!A423=\"\",\"\",Analysedaten!C420)","v":""},{"$f":"Analysedaten!D420","v":""},{"$f":"Analysedaten!E420","v":""},"","","","","","","","","","","","","","",null,{"$f":"IF(Stammdaten!A426=\"\",\"\",IF(D423<=15,VLOOKUP(B423,'Werte =<15°C'!$Q$2:$S$8,2,FALSE),VLOOKUP(B423,'Werte >15°C'!$Q$2:$S$8,2,FALSE)))","v":""},{"$f":"IF(Stammdaten!A426=\"\",\"\",IF(D423<=15,VLOOKUP(B423,'Werte =<15°C'!$Q$2:$S$8,3,FALSE),VLOOKUP(B423,'Werte >15°C'!$Q$2:$S$8,3,FALSE)))","v":""},{"$f":"IF(Stammdaten!A426=\"\",\"\",U423*(E425-D423)+V423)","v":""},{"$f":"IF(Stammdaten!A426=\"\",\"\",C423+W423)","v":""}]
[{"$f":"Analysedaten!A421","v":""},{"$f":"IF(Stammdaten!A424=\"\",\"\",WEEKDAY(A424,2))","v":""},{"$f":"IF(Stammdaten!A424=\"\",\"\",Analysedaten!C421)","v":""},{"$f":"Analysedaten!D421","v":""},{"$f":"Analysedaten!E421","v":""},"","","","","","","","","","","","","","",null,{"$f":"IF(Stammdaten!A427=\"\",\"\",IF(D424<=15,VLOOKUP(B424,'Werte =<15°C'!$Q$2:$S$8,2,FALSE),VLOOKUP(B424,'Werte >15°C'!$Q$2:$S$8,2,FALSE)))","v":""},{"$f":"IF(Stammdaten!A427=\"\",\"\",IF(D424<=15,VLOOKUP(B424,'Werte =<15°C'!$Q$2:$S$8,3,FALSE),VLOOKUP(B424,'Werte >15°C'!$Q$2:$S$8,3,FALSE)))","v":""},{"$f":"IF(Stammdaten!A427=\"\",\"\",U424*(E426-D424)+V424)","v":""},{"$f":"IF(Stammdaten!A427=\"\",\"\",C424+W424)","v":""}]
[{"$f":"Analysedaten!A422","v":""},{"$f":"IF(Stammdaten!A425=\"\",\"\",WEEKDAY(A425,2))","v":""},{"$f":"IF(Stammdaten!A425=\"\",\"\",Analysedaten!C422)","v":""},{"$f":"Analysedaten!D422","v":""},{"$f":"Analysedaten!E422","v":""},"","","","","","","","","","","","","","",null,{"$f":"IF(Stammdaten!A428=\"\",\"\",IF(D425<=15,VLOOKUP(B425,'Werte =<15°C'!$Q$2:$S$8,2,FALSE),VLOOKUP(B425,'Werte >15°C'!$Q$2:$S$8,2,FALSE)))","v":""},{"$f":"IF(Stammdaten!A428=\"\",\"\",IF(D425<=15,VLOOKUP(B425,'Werte =<15°C'!$Q$2:$S$8,3,FALSE),VLOOKUP(B425,'Werte >15°C'!$Q$2:$S$8,3,FALSE)))","v":""},{"$f":"IF(Stammdaten!A428=\"\",\"\",U425*(E427-D425)+V425)","v":""},{"$f":"IF(Stammdaten!A428=\"\",\"\",C425+W425)","v":""}]
[{"$f":"Analysedaten!A423","v":""},{"$f":"IF(Stammdaten!A426=\"\",\"\",WEEKDAY(A426,2))","v":""},{"$f":"IF(Stammdaten!A426=\"\",\"\",Analysedaten!C423)","v":""},{"$f":"Analysedaten!D423","v":""},{"$f":"Analysedaten!E423","v":""},"","","","","","","","","","","","","","",null,{"$f":"IF(Stammdaten!A429=\"\",\"\",IF(D426<=15,VLOOKUP(B426,'Werte =<15°C'!$Q$2:$S$8,2,FALSE),VLOOKUP(B426,'Werte >15°C'!$Q$2:$S$8,2,FALSE)))","v":""},{"$f":"IF(Stammdaten!A429=\"\",\"\",IF(D426<=15,VLOOKUP(B426,'Werte =<15°C'!$Q$2:$S$8,3,FALSE),VLOOKUP(B426,'Werte >15°C'!$Q$2:$S$8,3,FALSE)))","v":""},{"$f":"IF(Stammdaten!A429=\"\",\"\",U426*(E428-D426)+V426)","v":""},{"$f":"IF(Stammdaten!A429=\"\",\"\",C426+W426)","v":""}]
[{"$f":"Analysedaten!A424","v":""},{"$f":"IF(Stammdaten!A427=\"\",\"\",WEEKDAY(A427,2))","v":""},{"$f":"IF(Stammdaten!A427=\"\",\"\",Analysedaten!C424)","v":""},{"$f":"Analysedaten!D424","v":""},{"$f":"Analysedaten!E424","v":""},"","","","","","","","","","","","","","",null,{"$f":"IF(Stammdaten!A430=\"\",\"\",IF(D427<=15,VLOOKUP(B427,'Werte =<15°C'!$Q$2:$S$8,2,FALSE),VLOOKUP(B427,'Werte >15°C'!$Q$2:$S$8,2,FALSE)))","v":""},{"$f":"IF(Stammdaten!A430=\"\",\"\",IF(D427<=15,VLOOKUP(B427,'Werte =<15°C'!$Q$2:$S$8,3,FALSE),VLOOKUP(B427,'Werte >15°C'!$Q$2:$S$8,3,FALSE)))","v":""},{"$f":"IF(Stammdaten!A430=\"\",\"\",U427*(E429-D427)+V427)","v":""},{"$f":"IF(Stammdaten!A430=\"\",\"\",C427+W427)","v":""}]
[{"$f":"Analysedaten!A425","v":""},{"$f":"IF(Stammdaten!A428=\"\",\"\",WEEKDAY(A428,2))","v":""},{"$f":"IF(Stammdaten!A428=\"\",\"\",Analysedaten!C425)","v":""},{"$f":"Analysedaten!D425","v":""},{"$f":"Analysedaten!E425","v":""},"","","","","","","","","","","","","","",null,{"$f":"IF(Stammdaten!A431=\"\",\"\",IF(D428<=15,VLOOKUP(B428,'Werte =<15°C'!$Q$2:$S$8,2,FALSE),VLOOKUP(B428,'Werte >15°C'!$Q$2:$S$8,2,FALSE)))","v":""},{"$f":"IF(Stammdaten!A431=\"\",\"\",IF(D428<=15,VLOOKUP(B428,'Werte =<15°C'!$Q$2:$S$8,3,FALSE),VLOOKUP(B428,'Werte >15°C'!$Q$2:$S$8,3,FALSE)))","v":""},{"$f":"IF(Stammdaten!A431=\"\",\"\",U428*(E430-D428)+V428)","v":""},{"$f":"IF(Stammdaten!A431=\"\",\"\",C428+W428)","v":""}]
[{"$f":"Analysedaten!A426","v":""},{"$f":"IF(Stammdaten!A429=\"\",\"\",WEEKDAY(A429,2))","v":""},{"$f":"IF(Stammdaten!A429=\"\",\"\",Analysedaten!C426)","v":""},{"$f":"Analysedaten!D426","v":""},{"$f":"Analysedaten!E426","v":""},"","","","","","","","","","","","","","",null,{"$f":"IF(Stammdaten!A432=\"\",\"\",IF(D429<=15,VLOOKUP(B429,'Werte =<15°C'!$Q$2:$S$8,2,FALSE),VLOOKUP(B429,'Werte >15°C'!$Q$2:$S$8,2,FALSE)))","v":""},{"$f":"IF(Stammdaten!A432=\"\",\"\",IF(D429<=15,VLOOKUP(B429,'Werte =<15°C'!$Q$2:$S$8,3,FALSE),VLOOKUP(B429,'Werte >15°C'!$Q$2:$S$8,3,FALSE)))","v":""},{"$f":"IF(Stammdaten!A432=\"\",\"\",U429*(E431-D429)+V429)","v":""},{"$f":"IF(Stammdaten!A432=\"\",\"\",C429+W429)","v":""}]
[{"$f":"Analysedaten!A427","v":""},{"$f":"IF(Stammdaten!A430=\"\",\"\",WEEKDAY(A430,2))","v":""},{"$f":"IF(Stammdaten!A430=\"\",\"\",Analysedaten!C427)","v":""},{"$f":"Analysedaten!D427","v":""},{"$f":"Analysedaten!E427","v":""},"","","","","","","","","","","","","","",null,{"$f":"IF(Stammdaten!A433=\"\",\"\",IF(D430<=15,VLOOKUP(B430,'Werte =<15°C'!$Q$2:$S$8,2,FALSE),VLOOKUP(B430,'Werte >15°C'!$Q$2:$S$8,2,FALSE)))","v":""},{"$f":"IF(Stammdaten!A433=\"\",\"\",IF(D430<=15,VLOOKUP(B430,'Werte =<15°C'!$Q$2:$S$8,3,FALSE),VLOOKUP(B430,'Werte >15°C'!$Q$2:$S$8,3,FALSE)))","v":""},{"$f":"IF(Stammdaten!A433=\"\",\"\",U430*(E432-D430)+V430)","v":""},{"$f":"IF(Stammdaten!A433=\"\",\"\",C430+W430)","v":""}]
[{"$f":"Analysedaten!A428","v":""},{"$f":"IF(Stammdaten!A431=\"\",\"\",WEEKDAY(A431,2))","v":""},{"$f":"IF(Stammdaten!A431=\"\",\"\",Analysedaten!C428)","v":""},{"$f":"Analysedaten!D428","v":""},{"$f":"Analysedaten!E428","v":""},"","","","","","","","","","","","","","",null,{"$f":"IF(Stammdaten!A434=\"\",\"\",IF(D431<=15,VLOOKUP(B431,'Werte =<15°C'!$Q$2:$S$8,2,FALSE),VLOOKUP(B431,'Werte >15°C'!$Q$2:$S$8,2,FALSE)))","v":""},{"$f":"IF(Stammdaten!A434=\"\",\"\",IF(D431<=15,VLOOKUP(B431,'Werte =<15°C'!$Q$2:$S$8,3,FALSE),VLOOKUP(B431,'Werte >15°C'!$Q$2:$S$8,3,FALSE)))","v":""},{"$f":"IF(Stammdaten!A434=\"\",\"\",U431*(E433-D431)+V431)","v":""},{"$f":"IF(Stammdaten!A434=\"\",\"\",C431+W431)","v":""}]
[{"$f":"Analysedaten!A429","v":""},{"$f":"IF(Stammdaten!A432=\"\",\"\",WEEKDAY(A432,2))","v":""},{"$f":"IF(Stammdaten!A432=\"\",\"\",Analysedaten!C429)","v":""},{"$f":"Analysedaten!D429","v":""},{"$f":"Analysedaten!E429","v":""},"","","","","","","","","","","","","","",null,{"$f":"IF(Stammdaten!A435=\"\",\"\",IF(D432<=15,VLOOKUP(B432,'Werte =<15°C'!$Q$2:$S$8,2,FALSE),VLOOKUP(B432,'Werte >15°C'!$Q$2:$S$8,2,FALSE)))","v":""},{"$f":"IF(Stammdaten!A435=\"\",\"\",IF(D432<=15,VLOOKUP(B432,'Werte =<15°C'!$Q$2:$S$8,3,FALSE),VLOOKUP(B432,'Werte >15°C'!$Q$2:$S$8,3,FALSE)))","v":""},{"$f":"IF(Stammdaten!A435=\"\",\"\",U432*(E434-D432)+V432)","v":""},{"$f":"IF(Stammdaten!A435=\"\",\"\",C432+W432)","v":""}]
[{"$f":"Analysedaten!A430","v":""},{"$f":"IF(Stammdaten!A433=\"\",\"\",WEEKDAY(A433,2))","v":""},{"$f":"IF(Stammdaten!A433=\"\",\"\",Analysedaten!C430)","v":""},{"$f":"Analysedaten!D430","v":""},{"$f":"Analysedaten!E430","v":""},"","","","","","","","","","","","","","",null,{"$f":"IF(Stammdaten!A436=\"\",\"\",IF(D433<=15,VLOOKUP(B433,'Werte =<15°C'!$Q$2:$S$8,2,FALSE),VLOOKUP(B433,'Werte >15°C'!$Q$2:$S$8,2,FALSE)))","v":""},{"$f":"IF(Stammdaten!A436=\"\",\"\",IF(D433<=15,VLOOKUP(B433,'Werte =<15°C'!$Q$2:$S$8,3,FALSE),VLOOKUP(B433,'Werte >15°C'!$Q$2:$S$8,3,FALSE)))","v":""},{"$f":"IF(Stammdaten!A436=\"\",\"\",U433*(E435-D433)+V433)","v":""},{"$f":"IF(Stammdaten!A436=\"\",\"\",C433+W433)","v":""}]
[{"$f":"Analysedaten!A431","v":""},{"$f":"IF(Stammdaten!A434=\"\",\"\",WEEKDAY(A434,2))","v":""},{"$f":"IF(Stammdaten!A434=\"\",\"\",Analysedaten!C431)","v":""},{"$f":"Analysedaten!D431","v":""},{"$f":"Analysedaten!E431","v":""},"","","","","","","","","","","","","","",null,{"$f":"IF(Stammdaten!A437=\"\",\"\",IF(D434<=15,VLOOKUP(B434,'Werte =<15°C'!$Q$2:$S$8,2,FALSE),VLOOKUP(B434,'Werte >15°C'!$Q$2:$S$8,2,FALSE)))","v":""},{"$f":"IF(Stammdaten!A437=\"\",\"\",IF(D434<=15,VLOOKUP(B434,'Werte =<15°C'!$Q$2:$S$8,3,FALSE),VLOOKUP(B434,'Werte >15°C'!$Q$2:$S$8,3,FALSE)))","v":""},{"$f":"IF(Stammdaten!A437=\"\",\"\",U434*(E436-D434)+V434)","v":""},{"$f":"IF(Stammdaten!A437=\"\",\"\",C434+W434)","v":""}]
[{"$f":"Analysedaten!A432","v":""},{"$f":"IF(Stammdaten!A435=\"\",\"\",WEEKDAY(A435,2))","v":""},{"$f":"IF(Stammdaten!A435=\"\",\"\",Analysedaten!C432)","v":""},{"$f":"Analysedaten!D432","v":""},{"$f":"Analysedaten!E432","v":""},"","","","","","","","","","","","","","",null,{"$f":"IF(Stammdaten!A438=\"\",\"\",IF(D435<=15,VLOOKUP(B435,'Werte =<15°C'!$Q$2:$S$8,2,FALSE),VLOOKUP(B435,'Werte >15°C'!$Q$2:$S$8,2,FALSE)))","v":""},{"$f":"IF(Stammdaten!A438=\"\",\"\",IF(D435<=15,VLOOKUP(B435,'Werte =<15°C'!$Q$2:$S$8,3,FALSE),VLOOKUP(B435,'Werte >15°C'!$Q$2:$S$8,3,FALSE)))","v":""},{"$f":"IF(Stammdaten!A438=\"\",\"\",U435*(E437-D435)+V435)","v":""},{"$f":"IF(Stammdaten!A438=\"\",\"\",C435+W435)","v":""}]
[{"$f":"Analysedaten!A433","v":""},{"$f":"IF(Stammdaten!A436=\"\",\"\",WEEKDAY(A436,2))","v":""},{"$f":"IF(Stammdaten!A436=\"\",\"\",Analysedaten!C433)","v":""},{"$f":"Analysedaten!D433","v":""},{"$f":"Analysedaten!E433","v":""},"","","","","","","","","","","","","","",null,{"$f":"IF(Stammdaten!A439=\"\",\"\",IF(D436<=15,VLOOKUP(B436,'Werte =<15°C'!$Q$2:$S$8,2,FALSE),VLOOKUP(B436,'Werte >15°C'!$Q$2:$S$8,2,FALSE)))","v":""},{"$f":"IF(Stammdaten!A439=\"\",\"\",IF(D436<=15,VLOOKUP(B436,'Werte =<15°C'!$Q$2:$S$8,3,FALSE),VLOOKUP(B436,'Werte >15°C'!$Q$2:$S$8,3,FALSE)))","v":""},{"$f":"IF(Stammdaten!A439=\"\",\"\",U436*(E438-D436)+V436)","v":""},{"$f":"IF(Stammdaten!A439=\"\",\"\",C436+W436)","v":""}]
[{"$f":"Analysedaten!A434","v":""},{"$f":"IF(Stammdaten!A437=\"\",\"\",WEEKDAY(A437,2))","v":""},{"$f":"IF(Stammdaten!A437=\"\",\"\",Analysedaten!C434)","v":""},{"$f":"Analysedaten!D434","v":""},{"$f":"Analysedaten!E434","v":""},"","","","","","","","","","","","","","",null,{"$f":"IF(Stammdaten!A440=\"\",\"\",IF(D437<=15,VLOOKUP(B437,'Werte =<15°C'!$Q$2:$S$8,2,FALSE),VLOOKUP(B437,'Werte >15°C'!$Q$2:$S$8,2,FALSE)))","v":""},{"$f":"IF(Stammdaten!A440=\"\",\"\",IF(D437<=15,VLOOKUP(B437,'Werte =<15°C'!$Q$2:$S$8,3,FALSE),VLOOKUP(B437,'Werte >15°C'!$Q$2:$S$8,3,FALSE)))","v":""},{"$f":"IF(Stammdaten!A440=\"\",\"\",U437*(E439-D437)+V437)","v":""},{"$f":"IF(Stammdaten!A440=\"\",\"\",C437+W437)","v":""}]
[{"$f":"Analysedaten!A435","v":""},{"$f":"IF(Stammdaten!A438=\"\",\"\",WEEKDAY(A438,2))","v":""},{"$f":"IF(Stammdaten!A438=\"\",\"\",Analysedaten!C435)","v":""},{"$f":"Analysedaten!D435","v":""},{"$f":"Analysedaten!E435","v":""},"","","","","","","","","","","","","","",null,{"$f":"IF(Stammdaten!A441=\"\",\"\",IF(D438<=15,VLOOKUP(B438,'Werte =<15°C'!$Q$2:$S$8,2,FALSE),VLOOKUP(B438,'Werte >15°C'!$Q$2:$S$8,2,FALSE)))","v":""},{"$f":"IF(Stammdaten!A441=\"\",\"\",IF(D438<=15,VLOOKUP(B438,'Werte =<15°C'!$Q$2:$S$8,3,FALSE),VLOOKUP(B438,'Werte >15°C'!$Q$2:$S$8,3,FALSE)))","v":""},{"$f":"IF(Stammdaten!A441=\"\",\"\",U438*(E440-D438)+V438)","v":""},{"$f":"IF(Stammdaten!A441=\"\",\"\",C438+W438)","v":""}]
[{"$f":"Analysedaten!A436","v":""},{"$f":"IF(Stammdaten!A439=\"\",\"\",WEEKDAY(A439,2))","v":""},{"$f":"IF(Stammdaten!A439=\"\",\"\",Analysedaten!C436)","v":""},{"$f":"Analysedaten!D436","v":""},{"$f":"Analysedaten!E436","v":""},"","","","","","","","","","","","","","",null,{"$f":"IF(Stammdaten!A442=\"\",\"\",IF(D439<=15,VLOOKUP(B439,'Werte =<15°C'!$Q$2:$S$8,2,FALSE),VLOOKUP(B439,'Werte >15°C'!$Q$2:$S$8,2,FALSE)))","v":""},{"$f":"IF(Stammdaten!A442=\"\",\"\",IF(D439<=15,VLOOKUP(B439,'Werte =<15°C'!$Q$2:$S$8,3,FALSE),VLOOKUP(B439,'Werte >15°C'!$Q$2:$S$8,3,FALSE)))","v":""},{"$f":"IF(Stammdaten!A442=\"\",\"\",U439*(E441-D439)+V439)","v":""},{"$f":"IF(Stammdaten!A442=\"\",\"\",C439+W439)","v":""}]
[{"$f":"Analysedaten!A437","v":""},{"$f":"IF(Stammdaten!A440=\"\",\"\",WEEKDAY(A440,2))","v":""},{"$f":"IF(Stammdaten!A440=\"\",\"\",Analysedaten!C437)","v":""},{"$f":"Analysedaten!D437","v":""},{"$f":"Analysedaten!E437","v":""},"","","","","","","","","","","","","","",null,{"$f":"IF(Stammdaten!A443=\"\",\"\",IF(D440<=15,VLOOKUP(B440,'Werte =<15°C'!$Q$2:$S$8,2,FALSE),VLOOKUP(B440,'Werte >15°C'!$Q$2:$S$8,2,FALSE)))","v":""},{"$f":"IF(Stammdaten!A443=\"\",\"\",IF(D440<=15,VLOOKUP(B440,'Werte =<15°C'!$Q$2:$S$8,3,FALSE),VLOOKUP(B440,'Werte >15°C'!$Q$2:$S$8,3,FALSE)))","v":""},{"$f":"IF(Stammdaten!A443=\"\",\"\",U440*(E442-D440)+V440)","v":""},{"$f":"IF(Stammdaten!A443=\"\",\"\",C440+W440)","v":""}]
[{"$f":"Analysedaten!A438","v":""},{"$f":"IF(Stammdaten!A441=\"\",\"\",WEEKDAY(A441,2))","v":""},{"$f":"IF(Stammdaten!A441=\"\",\"\",Analysedaten!C438)","v":""},{"$f":"Analysedaten!D438","v":""},{"$f":"Analysedaten!E438","v":""},"","","","","","","","","","","","","","",null,{"$f":"IF(Stammdaten!A444=\"\",\"\",IF(D441<=15,VLOOKUP(B441,'Werte =<15°C'!$Q$2:$S$8,2,FALSE),VLOOKUP(B441,'Werte >15°C'!$Q$2:$S$8,2,FALSE)))","v":""},{"$f":"IF(Stammdaten!A444=\"\",\"\",IF(D441<=15,VLOOKUP(B441,'Werte =<15°C'!$Q$2:$S$8,3,FALSE),VLOOKUP(B441,'Werte >15°C'!$Q$2:$S$8,3,FALSE)))","v":""},{"$f":"IF(Stammdaten!A444=\"\",\"\",U441*(E443-D441)+V441)","v":""},{"$f":"IF(Stammdaten!A444=\"\",\"\",C441+W441)","v":""}]
[{"$f":"Analysedaten!A439","v":""},{"$f":"IF(Stammdaten!A442=\"\",\"\",WEEKDAY(A442,2))","v":""},{"$f":"IF(Stammdaten!A442=\"\",\"\",Analysedaten!C439)","v":""},{"$f":"Analysedaten!D439","v":""},{"$f":"Analysedaten!E439","v":""},"","","","","","","","","","","","","","",null,{"$f":"IF(Stammdaten!A445=\"\",\"\",IF(D442<=15,VLOOKUP(B442,'Werte =<15°C'!$Q$2:$S$8,2,FALSE),VLOOKUP(B442,'Werte >15°C'!$Q$2:$S$8,2,FALSE)))","v":""},{"$f":"IF(Stammdaten!A445=\"\",\"\",IF(D442<=15,VLOOKUP(B442,'Werte =<15°C'!$Q$2:$S$8,3,FALSE),VLOOKUP(B442,'Werte >15°C'!$Q$2:$S$8,3,FALSE)))","v":""},{"$f":"IF(Stammdaten!A445=\"\",\"\",U442*(E444-D442)+V442)","v":""},{"$f":"IF(Stammdaten!A445=\"\",\"\",C442+W442)","v":""}]
[{"$f":"Analysedaten!A440","v":""},{"$f":"IF(Stammdaten!A443=\"\",\"\",WEEKDAY(A443,2))","v":""},{"$f":"IF(Stammdaten!A443=\"\",\"\",Analysedaten!C440)","v":""},{"$f":"Analysedaten!D440","v":""},{"$f":"Analysedaten!E440","v":""},"","","","","","","","","","","","","","",null,{"$f":"IF(Stammdaten!A446=\"\",\"\",IF(D443<=15,VLOOKUP(B443,'Werte =<15°C'!$Q$2:$S$8,2,FALSE),VLOOKUP(B443,'Werte >15°C'!$Q$2:$S$8,2,FALSE)))","v":""},{"$f":"IF(Stammdaten!A446=\"\",\"\",IF(D443<=15,VLOOKUP(B443,'Werte =<15°C'!$Q$2:$S$8,3,FALSE),VLOOKUP(B443,'Werte >15°C'!$Q$2:$S$8,3,FALSE)))","v":""},{"$f":"IF(Stammdaten!A446=\"\",\"\",U443*(E445-D443)+V443)","v":""},{"$f":"IF(Stammdaten!A446=\"\",\"\",C443+W443)","v":""}]
[{"$f":"Analysedaten!A441","v":""},{"$f":"IF(Stammdaten!A444=\"\",\"\",WEEKDAY(A444,2))","v":""},{"$f":"IF(Stammdaten!A444=\"\",\"\",Analysedaten!C441)","v":""},{"$f":"Analysedaten!D441","v":""},{"$f":"Analysedaten!E441","v":""},"","","","","","","","","","","","","","",null,{"$f":"IF(Stammdaten!A447=\"\",\"\",IF(D444<=15,VLOOKUP(B444,'Werte =<15°C'!$Q$2:$S$8,2,FALSE),VLOOKUP(B444,'Werte >15°C'!$Q$2:$S$8,2,FALSE)))","v":""},{"$f":"IF(Stammdaten!A447=\"\",\"\",IF(D444<=15,VLOOKUP(B444,'Werte =<15°C'!$Q$2:$S$8,3,FALSE),VLOOKUP(B444,'Werte >15°C'!$Q$2:$S$8,3,FALSE)))","v":""},{"$f":"IF(Stammdaten!A447=\"\",\"\",U444*(E446-D444)+V444)","v":""},{"$f":"IF(Stammdaten!A447=\"\",\"\",C444+W444)","v":""}]
[{"$f":"Analysedaten!A442","v":""},{"$f":"IF(Stammdaten!A445=\"\",\"\",WEEKDAY(A445,2))","v":""},{"$f":"IF(Stammdaten!A445=\"\",\"\",Analysedaten!C442)","v":""},{"$f":"Analysedaten!D442","v":""},{"$f":"Analysedaten!E442","v":""},"","","","","","","","","","","","","","",null,{"$f":"IF(Stammdaten!A448=\"\",\"\",IF(D445<=15,VLOOKUP(B445,'Werte =<15°C'!$Q$2:$S$8,2,FALSE),VLOOKUP(B445,'Werte >15°C'!$Q$2:$S$8,2,FALSE)))","v":""},{"$f":"IF(Stammdaten!A448=\"\",\"\",IF(D445<=15,VLOOKUP(B445,'Werte =<15°C'!$Q$2:$S$8,3,FALSE),VLOOKUP(B445,'Werte >15°C'!$Q$2:$S$8,3,FALSE)))","v":""},{"$f":"IF(Stammdaten!A448=\"\",\"\",U445*(E447-D445)+V445)","v":""},{"$f":"IF(Stammdaten!A448=\"\",\"\",C445+W445)","v":""}]
[{"$f":"Analysedaten!A443","v":""},{"$f":"IF(Stammdaten!A446=\"\",\"\",WEEKDAY(A446,2))","v":""},{"$f":"IF(Stammdaten!A446=\"\",\"\",Analysedaten!C443)","v":""},{"$f":"Analysedaten!D443","v":""},{"$f":"Analysedaten!E443","v":""},"","","","","","","","","","","","","","",null,{"$f":"IF(Stammdaten!A449=\"\",\"\",IF(D446<=15,VLOOKUP(B446,'Werte =<15°C'!$Q$2:$S$8,2,FALSE),VLOOKUP(B446,'Werte >15°C'!$Q$2:$S$8,2,FALSE)))","v":""},{"$f":"IF(Stammdaten!A449=\"\",\"\",IF(D446<=15,VLOOKUP(B446,'Werte =<15°C'!$Q$2:$S$8,3,FALSE),VLOOKUP(B446,'Werte >15°C'!$Q$2:$S$8,3,FALSE)))","v":""},{"$f":"IF(Stammdaten!A449=\"\",\"\",U446*(E448-D446)+V446)","v":""},{"$f":"IF(Stammdaten!A449=\"\",\"\",C446+W446)","v":""}]
[{"$f":"Analysedaten!A444","v":""},{"$f":"IF(Stammdaten!A447=\"\",\"\",WEEKDAY(A447,2))","v":""},{"$f":"IF(Stammdaten!A447=\"\",\"\",Analysedaten!C444)","v":""},{"$f":"Analysedaten!D444","v":""},{"$f":"Analysedaten!E444","v":""},"","","","","","","","","","","","","","",null,{"$f":"IF(Stammdaten!A450=\"\",\"\",IF(D447<=15,VLOOKUP(B447,'Werte =<15°C'!$Q$2:$S$8,2,FALSE),VLOOKUP(B447,'Werte >15°C'!$Q$2:$S$8,2,FALSE)))","v":""},{"$f":"IF(Stammdaten!A450=\"\",\"\",IF(D447<=15,VLOOKUP(B447,'Werte =<15°C'!$Q$2:$S$8,3,FALSE),VLOOKUP(B447,'Werte >15°C'!$Q$2:$S$8,3,FALSE)))","v":""},{"$f":"IF(Stammdaten!A450=\"\",\"\",U447*(E449-D447)+V447)","v":""},{"$f":"IF(Stammdaten!A450=\"\",\"\",C447+W447)","v":""}]
[{"$f":"Analysedaten!A445","v":""},{"$f":"IF(Stammdaten!A448=\"\",\"\",WEEKDAY(A448,2))","v":""},{"$f":"IF(Stammdaten!A448=\"\",\"\",Analysedaten!C445)","v":""},{"$f":"Analysedaten!D445","v":""},{"$f":"Analysedaten!E445","v":""},"","","","","","","","","","","","","","",null,{"$f":"IF(Stammdaten!A451=\"\",\"\",IF(D448<=15,VLOOKUP(B448,'Werte =<15°C'!$Q$2:$S$8,2,FALSE),VLOOKUP(B448,'Werte >15°C'!$Q$2:$S$8,2,FALSE)))","v":""},{"$f":"IF(Stammdaten!A451=\"\",\"\",IF(D448<=15,VLOOKUP(B448,'Werte =<15°C'!$Q$2:$S$8,3,FALSE),VLOOKUP(B448,'Werte >15°C'!$Q$2:$S$8,3,FALSE)))","v":""},{"$f":"IF(Stammdaten!A451=\"\",\"\",U448*(E450-D448)+V448)","v":""},{"$f":"IF(Stammdaten!A451=\"\",\"\",C448+W448)","v":""}]
[{"$f":"Analysedaten!A446","v":""},{"$f":"IF(Stammdaten!A449=\"\",\"\",WEEKDAY(A449,2))","v":""},{"$f":"IF(Stammdaten!A449=\"\",\"\",Analysedaten!C446)","v":""},{"$f":"Analysedaten!D446","v":""},{"$f":"Analysedaten!E446","v":""},"","","","","","","","","","","","","","",null,{"$f":"IF(Stammdaten!A452=\"\",\"\",IF(D449<=15,VLOOKUP(B449,'Werte =<15°C'!$Q$2:$S$8,2,FALSE),VLOOKUP(B449,'Werte >15°C'!$Q$2:$S$8,2,FALSE)))","v":""},{"$f":"IF(Stammdaten!A452=\"\",\"\",IF(D449<=15,VLOOKUP(B449,'Werte =<15°C'!$Q$2:$S$8,3,FALSE),VLOOKUP(B449,'Werte >15°C'!$Q$2:$S$8,3,FALSE)))","v":""},{"$f":"IF(Stammdaten!A452=\"\",\"\",U449*(E451-D449)+V449)","v":""},{"$f":"IF(Stammdaten!A452=\"\",\"\",C449+W449)","v":""}]
[{"$f":"Analysedaten!A447","v":""},{"$f":"IF(Stammdaten!A450=\"\",\"\",WEEKDAY(A450,2))","v":""},{"$f":"IF(Stammdaten!A450=\"\",\"\",Analysedaten!C447)","v":""},{"$f":"Analysedaten!D447","v":""},{"$f":"Analysedaten!E447","v":""},"","","","","","","","","","","","","","",null,{"$f":"IF(Stammdaten!A453=\"\",\"\",IF(D450<=15,VLOOKUP(B450,'Werte =<15°C'!$Q$2:$S$8,2,FALSE),VLOOKUP(B450,'Werte >15°C'!$Q$2:$S$8,2,FALSE)))","v":""},{"$f":"IF(Stammdaten!A453=\"\",\"\",IF(D450<=15,VLOOKUP(B450,'Werte =<15°C'!$Q$2:$S$8,3,FALSE),VLOOKUP(B450,'Werte >15°C'!$Q$2:$S$8,3,FALSE)))","v":""},{"$f":"IF(Stammdaten!A453=\"\",\"\",U450*(E452-D450)+V450)","v":""},{"$f":"IF(Stammdaten!A453=\"\",\"\",C450+W450)","v":""}]
[{"$f":"Analysedaten!A448","v":""},{"$f":"IF(Stammdaten!A451=\"\",\"\",WEEKDAY(A451,2))","v":""},{"$f":"IF(Stammdaten!A451=\"\",\"\",Analysedaten!C448)","v":""},{"$f":"Analysedaten!D448","v":""},{"$f":"Analysedaten!E448","v":""},"","","","","","","","","","","","","","",null,{"$f":"IF(Stammdaten!A454=\"\",\"\",IF(D451<=15,VLOOKUP(B451,'Werte =<15°C'!$Q$2:$S$8,2,FALSE),VLOOKUP(B451,'Werte >15°C'!$Q$2:$S$8,2,FALSE)))","v":""},{"$f":"IF(Stammdaten!A454=\"\",\"\",IF(D451<=15,VLOOKUP(B451,'Werte =<15°C'!$Q$2:$S$8,3,FALSE),VLOOKUP(B451,'Werte >15°C'!$Q$2:$S$8,3,FALSE)))","v":""},{"$f":"IF(Stammdaten!A454=\"\",\"\",U451*(E453-D451)+V451)","v":""},{"$f":"IF(Stammdaten!A454=\"\",\"\",C451+W451)","v":""}]
[{"$f":"Analysedaten!A449","v":""},{"$f":"IF(Stammdaten!A452=\"\",\"\",WEEKDAY(A452,2))","v":""},{"$f":"IF(Stammdaten!A452=\"\",\"\",Analysedaten!C449)","v":""},{"$f":"Analysedaten!D449","v":""},{"$f":"Analysedaten!E449","v":""},"","","","","","","","","","","","","","",null,{"$f":"IF(Stammdaten!A455=\"\",\"\",IF(D452<=15,VLOOKUP(B452,'Werte =<15°C'!$Q$2:$S$8,2,FALSE),VLOOKUP(B452,'Werte >15°C'!$Q$2:$S$8,2,FALSE)))","v":""},{"$f":"IF(Stammdaten!A455=\"\",\"\",IF(D452<=15,VLOOKUP(B452,'Werte =<15°C'!$Q$2:$S$8,3,FALSE),VLOOKUP(B452,'Werte >15°C'!$Q$2:$S$8,3,FALSE)))","v":""},{"$f":"IF(Stammdaten!A455=\"\",\"\",U452*(E454-D452)+V452)","v":""},{"$f":"IF(Stammdaten!A455=\"\",\"\",C452+W452)","v":""}]
[{"$f":"Analysedaten!A450","v":""},{"$f":"IF(Stammdaten!A453=\"\",\"\",WEEKDAY(A453,2))","v":""},{"$f":"IF(Stammdaten!A453=\"\",\"\",Analysedaten!C450)","v":""},{"$f":"Analysedaten!D450","v":""},{"$f":"Analysedaten!E450","v":""},{"$f":"IF(B455=1,(E455-D453),\"\")","v":""},{"$f":"IF(B455=1,(C455-C453),\"\")","v":""},{"$f":"IF(B455=2,(E455-D453),\"\")","v":""},{"$f":"IF(B455=2,(C455-C453),\"\")","v":""},{"$f":"IF(B455=3,(E455-D453),\"\")","v":""},{"$f":"IF(B455=3,(C455-C453),\"\")","v":""},{"$f":"IF(B455=4,(E455-D453),\"\")","v":""},{"$f":"IF(B455=4,(C455-C453),\"\")","v":""},{"$f":"IF(B455=5,(E455-D453),\"\")","v":""},{"$f":"IF(B455=5,(C455-C453),\"\")","v":""},{"$f":"IF(B455=6,(E455-D453),\"\")","v":""},{"$f":"IF(B455=6,(C455-C453),\"\")","v":""},{"$f":"IF(B455=7,(E455-D453),\"\")","v":""},{"$f":"IF(B455=7,(C455-C453),\"\")","v":""},null,{"$f":"IF(Stammdaten!A456=\"\",\"\",IF(D453<=15,VLOOKUP(B453,'Werte =<15°C'!$Q$2:$S$8,2,FALSE),VLOOKUP(B453,'Werte >15°C'!$Q$2:$S$8,2,FALSE)))","v":""},{"$f":"IF(Stammdaten!A456=\"\",\"\",IF(D453<=15,VLOOKUP(B453,'Werte =<15°C'!$Q$2:$S$8,3,FALSE),VLOOKUP(B453,'Werte >15°C'!$Q$2:$S$8,3,FALSE)))","v":""},{"$f":"IF(Stammdaten!A456=\"\",\"\",U453*(E455-D453)+V453)","v":""},{"$f":"IF(Stammdaten!A456=\"\",\"\",C453+W453)","v":""}]
[{"$f":"Analysedaten!A451","v":""},{"$f":"IF(Stammdaten!A454=\"\",\"\",WEEKDAY(A454,2))","v":""},{"$f":"IF(Stammdaten!A454=\"\",\"\",Analysedaten!C451)","v":""},{"$f":"Analysedaten!D451","v":""},{"$f":"Analysedaten!E451","v":""},"","","","","","","","","","","","","","",null,{"$f":"IF(Stammdaten!A457=\"\",\"\",IF(D454<=15,VLOOKUP(B454,'Werte =<15°C'!$Q$2:$S$8,2,FALSE),VLOOKUP(B454,'Werte >15°C'!$Q$2:$S$8,2,FALSE)))","v":""},{"$f":"IF(Stammdaten!A457=\"\",\"\",IF(D454<=15,VLOOKUP(B454,'Werte =<15°C'!$Q$2:$S$8,3,FALSE),VLOOKUP(B454,'Werte >15°C'!$Q$2:$S$8,3,FALSE)))","v":""},{"$f":"IF(Stammdaten!A457=\"\",\"\",U454*(E456-D454)+V454)","v":""},{"$f":"IF(Stammdaten!A457=\"\",\"\",C454+W454)","v":""}]
[{"$f":"Analysedaten!A452","v":""},{"$f":"IF(Stammdaten!A455=\"\",\"\",WEEKDAY(A455,2))","v":""},{"$f":"IF(Stammdaten!A455=\"\",\"\",Analysedaten!C452)","v":""},{"$f":"Analysedaten!D452","v":""},{"$f":"Analysedaten!E452","v":""},"","","","","","","","","","","","","","",null,{"$f":"IF(Stammdaten!A458=\"\",\"\",IF(D455<=15,VLOOKUP(B455,'Werte =<15°C'!$Q$2:$S$8,2,FALSE),VLOOKUP(B455,'Werte >15°C'!$Q$2:$S$8,2,FALSE)))","v":""},{"$f":"IF(Stammdaten!A458=\"\",\"\",IF(D455<=15,VLOOKUP(B455,'Werte =<15°C'!$Q$2:$S$8,3,FALSE),VLOOKUP(B455,'Werte >15°C'!$Q$2:$S$8,3,FALSE)))","v":""},{"$f":"IF(Stammdaten!A458=\"\",\"\",U455*(E457-D455)+V455)","v":""},{"$f":"IF(Stammdaten!A458=\"\",\"\",C455+W455)","v":""}]
[{"$f":"Analysedaten!A453","v":""},{"$f":"IF(Stammdaten!A456=\"\",\"\",WEEKDAY(A456,2))","v":""},{"$f":"IF(Stammdaten!A456=\"\",\"\",Analysedaten!C453)","v":""},{"$f":"Analysedaten!D453","v":""},{"$f":"Analysedaten!E453","v":""},"","","","","","","","","","","","","","",null,{"$f":"IF(Stammdaten!A459=\"\",\"\",IF(D456<=15,VLOOKUP(B456,'Werte =<15°C'!$Q$2:$S$8,2,FALSE),VLOOKUP(B456,'Werte >15°C'!$Q$2:$S$8,2,FALSE)))","v":""},{"$f":"IF(Stammdaten!A459=\"\",\"\",IF(D456<=15,VLOOKUP(B456,'Werte =<15°C'!$Q$2:$S$8,3,FALSE),VLOOKUP(B456,'Werte >15°C'!$Q$2:$S$8,3,FALSE)))","v":""},{"$f":"IF(Stammdaten!A459=\"\",\"\",U456*(E458-D456)+V456)","v":""},{"$f":"IF(Stammdaten!A459=\"\",\"\",C456+W456)","v":""}]
[{"$f":"Analysedaten!A454","v":""},{"$f":"IF(Stammdaten!A457=\"\",\"\",WEEKDAY(A457,2))","v":""},{"$f":"IF(Stammdaten!A457=\"\",\"\",Analysedaten!C454)","v":""},{"$f":"Analysedaten!D454","v":""},{"$f":"Analysedaten!E454","v":""},"","","","","","","","","","","","","","",null,{"$f":"IF(Stammdaten!A460=\"\",\"\",IF(D457<=15,VLOOKUP(B457,'Werte =<15°C'!$Q$2:$S$8,2,FALSE),VLOOKUP(B457,'Werte >15°C'!$Q$2:$S$8,2,FALSE)))","v":""},{"$f":"IF(Stammdaten!A460=\"\",\"\",IF(D457<=15,VLOOKUP(B457,'Werte =<15°C'!$Q$2:$S$8,3,FALSE),VLOOKUP(B457,'Werte >15°C'!$Q$2:$S$8,3,FALSE)))","v":""},{"$f":"IF(Stammdaten!A460=\"\",\"\",U457*(E459-D457)+V457)","v":""},{"$f":"IF(Stammdaten!A460=\"\",\"\",C457+W457)","v":""}]
[{"$f":"Analysedaten!A455","v":""},{"$f":"IF(Stammdaten!A458=\"\",\"\",WEEKDAY(A458,2))","v":""},{"$f":"IF(Stammdaten!A458=\"\",\"\",Analysedaten!C455)","v":""},{"$f":"Analysedaten!D455","v":""},{"$f":"Analysedaten!E455","v":""},"","","","","","","","","","","","","","",null,{"$f":"IF(Stammdaten!A461=\"\",\"\",IF(D458<=15,VLOOKUP(B458,'Werte =<15°C'!$Q$2:$S$8,2,FALSE),VLOOKUP(B458,'Werte >15°C'!$Q$2:$S$8,2,FALSE)))","v":""},{"$f":"IF(Stammdaten!A461=\"\",\"\",IF(D458<=15,VLOOKUP(B458,'Werte =<15°C'!$Q$2:$S$8,3,FALSE),VLOOKUP(B458,'Werte >15°C'!$Q$2:$S$8,3,FALSE)))","v":""},{"$f":"IF(Stammdaten!A461=\"\",\"\",U458*(E460-D458)+V458)","v":""},{"$f":"IF(Stammdaten!A461=\"\",\"\",C458+W458)","v":""}]
[{"$f":"Analysedaten!A456","v":""},{"$f":"IF(Stammdaten!A459=\"\",\"\",WEEKDAY(A459,2))","v":""},{"$f":"IF(Stammdaten!A459=\"\",\"\",Analysedaten!C456)","v":""},{"$f":"Analysedaten!D456","v":""},{"$f":"Analysedaten!E456","v":""},"","","","","","","","","","","","","","",null,{"$f":"IF(Stammdaten!A462=\"\",\"\",IF(D459<=15,VLOOKUP(B459,'Werte =<15°C'!$Q$2:$S$8,2,FALSE),VLOOKUP(B459,'Werte >15°C'!$Q$2:$S$8,2,FALSE)))","v":""},{"$f":"IF(Stammdaten!A462=\"\",\"\",IF(D459<=15,VLOOKUP(B459,'Werte =<15°C'!$Q$2:$S$8,3,FALSE),VLOOKUP(B459,'Werte >15°C'!$Q$2:$S$8,3,FALSE)))","v":""},{"$f":"IF(Stammdaten!A462=\"\",\"\",U459*(E461-D459)+V459)","v":""},{"$f":"IF(Stammdaten!A462=\"\",\"\",C459+W459)","v":""}]
[{"$f":"Analysedaten!A457","v":""},{"$f":"IF(Stammdaten!A460=\"\",\"\",WEEKDAY(A460,2))","v":""},{"$f":"IF(Stammdaten!A460=\"\",\"\",Analysedaten!C457)","v":""},{"$f":"Analysedaten!D457","v":""},{"$f":"Analysedaten!E457","v":""},"","","","","","","","","","","","","","",null,{"$f":"IF(Stammdaten!A463=\"\",\"\",IF(D460<=15,VLOOKUP(B460,'Werte =<15°C'!$Q$2:$S$8,2,FALSE),VLOOKUP(B460,'Werte >15°C'!$Q$2:$S$8,2,FALSE)))","v":""},{"$f":"IF(Stammdaten!A463=\"\",\"\",IF(D460<=15,VLOOKUP(B460,'Werte =<15°C'!$Q$2:$S$8,3,FALSE),VLOOKUP(B460,'Werte >15°C'!$Q$2:$S$8,3,FALSE)))","v":""},{"$f":"IF(Stammdaten!A463=\"\",\"\",U460*(E462-D460)+V460)","v":""},{"$f":"IF(Stammdaten!A463=\"\",\"\",C460+W460)","v":""}]
[{"$f":"Analysedaten!A458","v":""},{"$f":"IF(Stammdaten!A461=\"\",\"\",WEEKDAY(A461,2))","v":""},{"$f":"IF(Stammdaten!A461=\"\",\"\",Analysedaten!C458)","v":""},{"$f":"Analysedaten!D458","v":""},{"$f":"Analysedaten!E458","v":""},"","","","","","","","","","","","","","",null,{"$f":"IF(Stammdaten!A464=\"\",\"\",IF(D461<=15,VLOOKUP(B461,'Werte =<15°C'!$Q$2:$S$8,2,FALSE),VLOOKUP(B461,'Werte >15°C'!$Q$2:$S$8,2,FALSE)))","v":""},{"$f":"IF(Stammdaten!A464=\"\",\"\",IF(D461<=15,VLOOKUP(B461,'Werte =<15°C'!$Q$2:$S$8,3,FALSE),VLOOKUP(B461,'Werte >15°C'!$Q$2:$S$8,3,FALSE)))","v":""},{"$f":"IF(Stammdaten!A464=\"\",\"\",U461*(E463-D461)+V461)","v":""},{"$f":"IF(Stammdaten!A464=\"\",\"\",C461+W461)","v":""}]
[{"$f":"Analysedaten!A459","v":""},{"$f":"IF(Stammdaten!A462=\"\",\"\",WEEKDAY(A462,2))","v":""},{"$f":"IF(Stammdaten!A462=\"\",\"\",Analysedaten!C459)","v":""},{"$f":"Analysedaten!D459","v":""},{"$f":"Analysedaten!E459","v":""},"","","","","","","","","","","","","","",null,{"$f":"IF(Stammdaten!A465=\"\",\"\",IF(D462<=15,VLOOKUP(B462,'Werte =<15°C'!$Q$2:$S$8,2,FALSE),VLOOKUP(B462,'Werte >15°C'!$Q$2:$S$8,2,FALSE)))","v":""},{"$f":"IF(Stammdaten!A465=\"\",\"\",IF(D462<=15,VLOOKUP(B462,'Werte =<15°C'!$Q$2:$S$8,3,FALSE),VLOOKUP(B462,'Werte >15°C'!$Q$2:$S$8,3,FALSE)))","v":""},{"$f":"IF(Stammdaten!A465=\"\",\"\",U462*(E464-D462)+V462)","v":""},{"$f":"IF(Stammdaten!A465=\"\",\"\",C462+W462)","v":""}]
[{"$f":"Analysedaten!A460","v":""},{"$f":"IF(Stammdaten!A463=\"\",\"\",WEEKDAY(A463,2))","v":""},{"$f":"IF(Stammdaten!A463=\"\",\"\",Analysedaten!C460)","v":""},{"$f":"Analysedaten!D460","v":""},{"$f":"Analysedaten!E460","v":""},"","","","","","","","","","","","","","",null,{"$f":"IF(Stammdaten!A466=\"\",\"\",IF(D463<=15,VLOOKUP(B463,'Werte =<15°C'!$Q$2:$S$8,2,FALSE),VLOOKUP(B463,'Werte >15°C'!$Q$2:$S$8,2,FALSE)))","v":""},{"$f":"IF(Stammdaten!A466=\"\",\"\",IF(D463<=15,VLOOKUP(B463,'Werte =<15°C'!$Q$2:$S$8,3,FALSE),VLOOKUP(B463,'Werte >15°C'!$Q$2:$S$8,3,FALSE)))","v":""},{"$f":"IF(Stammdaten!A466=\"\",\"\",U463*(E465-D463)+V463)","v":""},{"$f":"IF(Stammdaten!A466=\"\",\"\",C463+W463)","v":""}]
[{"$f":"Analysedaten!A461","v":""},{"$f":"IF(Stammdaten!A464=\"\",\"\",WEEKDAY(A464,2))","v":""},{"$f":"IF(Stammdaten!A464=\"\",\"\",Analysedaten!C461)","v":""},{"$f":"Analysedaten!D461","v":""},{"$f":"Analysedaten!E461","v":""},"","","","","","","","","","","","","","",null,{"$f":"IF(Stammdaten!A467=\"\",\"\",IF(D464<=15,VLOOKUP(B464,'Werte =<15°C'!$Q$2:$S$8,2,FALSE),VLOOKUP(B464,'Werte >15°C'!$Q$2:$S$8,2,FALSE)))","v":""},{"$f":"IF(Stammdaten!A467=\"\",\"\",IF(D464<=15,VLOOKUP(B464,'Werte =<15°C'!$Q$2:$S$8,3,FALSE),VLOOKUP(B464,'Werte >15°C'!$Q$2:$S$8,3,FALSE)))","v":""},{"$f":"IF(Stammdaten!A467=\"\",\"\",U464*(E466-D464)+V464)","v":""},{"$f":"IF(Stammdaten!A467=\"\",\"\",C464+W464)","v":""}]
[{"$f":"Analysedaten!A462","v":""},{"$f":"IF(Stammdaten!A465=\"\",\"\",WEEKDAY(A465,2))","v":""},{"$f":"IF(Stammdaten!A465=\"\",\"\",Analysedaten!C462)","v":""},{"$f":"Analysedaten!D462","v":""},{"$f":"Analysedaten!E462","v":""},"","","","","","","","","","","","","","",null,{"$f":"IF(Stammdaten!A468=\"\",\"\",IF(D465<=15,VLOOKUP(B465,'Werte =<15°C'!$Q$2:$S$8,2,FALSE),VLOOKUP(B465,'Werte >15°C'!$Q$2:$S$8,2,FALSE)))","v":""},{"$f":"IF(Stammdaten!A468=\"\",\"\",IF(D465<=15,VLOOKUP(B465,'Werte =<15°C'!$Q$2:$S$8,3,FALSE),VLOOKUP(B465,'Werte >15°C'!$Q$2:$S$8,3,FALSE)))","v":""},{"$f":"IF(Stammdaten!A468=\"\",\"\",U465*(E467-D465)+V465)","v":""},{"$f":"IF(Stammdaten!A468=\"\",\"\",C465+W465)","v":""}]
[{"$f":"Analysedaten!A463","v":""},{"$f":"IF(Stammdaten!A466=\"\",\"\",WEEKDAY(A466,2))","v":""},{"$f":"IF(Stammdaten!A466=\"\",\"\",Analysedaten!C463)","v":""},{"$f":"Analysedaten!D463","v":""},{"$f":"Analysedaten!E463","v":""},"","","","","","","","","","","","","","",null,{"$f":"IF(Stammdaten!A469=\"\",\"\",IF(D466<=15,VLOOKUP(B466,'Werte =<15°C'!$Q$2:$S$8,2,FALSE),VLOOKUP(B466,'Werte >15°C'!$Q$2:$S$8,2,FALSE)))","v":""},{"$f":"IF(Stammdaten!A469=\"\",\"\",IF(D466<=15,VLOOKUP(B466,'Werte =<15°C'!$Q$2:$S$8,3,FALSE),VLOOKUP(B466,'Werte >15°C'!$Q$2:$S$8,3,FALSE)))","v":""},{"$f":"IF(Stammdaten!A469=\"\",\"\",U466*(E468-D466)+V466)","v":""},{"$f":"IF(Stammdaten!A469=\"\",\"\",C466+W466)","v":""}]
[{"$f":"Analysedaten!A464","v":""},{"$f":"IF(Stammdaten!A467=\"\",\"\",WEEKDAY(A467,2))","v":""},{"$f":"IF(Stammdaten!A467=\"\",\"\",Analysedaten!C464)","v":""},{"$f":"Analysedaten!D464","v":""},{"$f":"Analysedaten!E464","v":""},"","","","","","","","","","","","","","",null,{"$f":"IF(Stammdaten!A470=\"\",\"\",IF(D467<=15,VLOOKUP(B467,'Werte =<15°C'!$Q$2:$S$8,2,FALSE),VLOOKUP(B467,'Werte >15°C'!$Q$2:$S$8,2,FALSE)))","v":""},{"$f":"IF(Stammdaten!A470=\"\",\"\",IF(D467<=15,VLOOKUP(B467,'Werte =<15°C'!$Q$2:$S$8,3,FALSE),VLOOKUP(B467,'Werte >15°C'!$Q$2:$S$8,3,FALSE)))","v":""},{"$f":"IF(Stammdaten!A470=\"\",\"\",U467*(E469-D467)+V467)","v":""},{"$f":"IF(Stammdaten!A470=\"\",\"\",C467+W467)","v":""}]
[{"$f":"Analysedaten!A465","v":""},{"$f":"IF(Stammdaten!A468=\"\",\"\",WEEKDAY(A468,2))","v":""},{"$f":"IF(Stammdaten!A468=\"\",\"\",Analysedaten!C465)","v":""},{"$f":"Analysedaten!D465","v":""},{"$f":"Analysedaten!E465","v":""},"","","","","","","","","","","","","","",null,{"$f":"IF(Stammdaten!A471=\"\",\"\",IF(D468<=15,VLOOKUP(B468,'Werte =<15°C'!$Q$2:$S$8,2,FALSE),VLOOKUP(B468,'Werte >15°C'!$Q$2:$S$8,2,FALSE)))","v":""},{"$f":"IF(Stammdaten!A471=\"\",\"\",IF(D468<=15,VLOOKUP(B468,'Werte =<15°C'!$Q$2:$S$8,3,FALSE),VLOOKUP(B468,'Werte >15°C'!$Q$2:$S$8,3,FALSE)))","v":""},{"$f":"IF(Stammdaten!A471=\"\",\"\",U468*(E470-D468)+V468)","v":""},{"$f":"IF(Stammdaten!A471=\"\",\"\",C468+W468)","v":""}]
[{"$f":"Analysedaten!A466","v":""},{"$f":"IF(Stammdaten!A469=\"\",\"\",WEEKDAY(A469,2))","v":""},{"$f":"IF(Stammdaten!A469=\"\",\"\",Analysedaten!C466)","v":""},{"$f":"Analysedaten!D466","v":""},{"$f":"Analysedaten!E466","v":""},"","","","","","","","","","","","","","",null,{"$f":"IF(Stammdaten!A472=\"\",\"\",IF(D469<=15,VLOOKUP(B469,'Werte =<15°C'!$Q$2:$S$8,2,FALSE),VLOOKUP(B469,'Werte >15°C'!$Q$2:$S$8,2,FALSE)))","v":""},{"$f":"IF(Stammdaten!A472=\"\",\"\",IF(D469<=15,VLOOKUP(B469,'Werte =<15°C'!$Q$2:$S$8,3,FALSE),VLOOKUP(B469,'Werte >15°C'!$Q$2:$S$8,3,FALSE)))","v":""},{"$f":"IF(Stammdaten!A472=\"\",\"\",U469*(E471-D469)+V469)","v":""},{"$f":"IF(Stammdaten!A472=\"\",\"\",C469+W469)","v":""}]
[{"$f":"Analysedaten!A467","v":""},{"$f":"IF(Stammdaten!A470=\"\",\"\",WEEKDAY(A470,2))","v":""},{"$f":"IF(Stammdaten!A470=\"\",\"\",Analysedaten!C467)","v":""},{"$f":"Analysedaten!D467","v":""},{"$f":"Analysedaten!E467","v":""},"","","","","","","","","","","","","","",null,{"$f":"IF(Stammdaten!A473=\"\",\"\",IF(D470<=15,VLOOKUP(B470,'Werte =<15°C'!$Q$2:$S$8,2,FALSE),VLOOKUP(B470,'Werte >15°C'!$Q$2:$S$8,2,FALSE)))","v":""},{"$f":"IF(Stammdaten!A473=\"\",\"\",IF(D470<=15,VLOOKUP(B470,'Werte =<15°C'!$Q$2:$S$8,3,FALSE),VLOOKUP(B470,'Werte >15°C'!$Q$2:$S$8,3,FALSE)))","v":""},{"$f":"IF(Stammdaten!A473=\"\",\"\",U470*(E472-D470)+V470)","v":""},{"$f":"IF(Stammdaten!A473=\"\",\"\",C470+W470)","v":""}]
[{"$f":"Analysedaten!A468","v":""},{"$f":"IF(Stammdaten!A471=\"\",\"\",WEEKDAY(A471,2))","v":""},{"$f":"IF(Stammdaten!A471=\"\",\"\",Analysedaten!C468)","v":""},{"$f":"Analysedaten!D468","v":""},{"$f":"Analysedaten!E468","v":""},"","","","","","","","","","","","","","",null,{"$f":"IF(Stammdaten!A474=\"\",\"\",IF(D471<=15,VLOOKUP(B471,'Werte =<15°C'!$Q$2:$S$8,2,FALSE),VLOOKUP(B471,'Werte >15°C'!$Q$2:$S$8,2,FALSE)))","v":""},{"$f":"IF(Stammdaten!A474=\"\",\"\",IF(D471<=15,VLOOKUP(B471,'Werte =<15°C'!$Q$2:$S$8,3,FALSE),VLOOKUP(B471,'Werte >15°C'!$Q$2:$S$8,3,FALSE)))","v":""},{"$f":"IF(Stammdaten!A474=\"\",\"\",U471*(E473-D471)+V471)","v":""},{"$f":"IF(Stammdaten!A474=\"\",\"\",C471+W471)","v":""}]
[{"$f":"Analysedaten!A469","v":""},{"$f":"IF(Stammdaten!A472=\"\",\"\",WEEKDAY(A472,2))","v":""},{"$f":"IF(Stammdaten!A472=\"\",\"\",Analysedaten!C469)","v":""},{"$f":"Analysedaten!D469","v":""},{"$f":"Analysedaten!E469","v":""},"","","","","","","","","","","","","","",null,{"$f":"IF(Stammdaten!A475=\"\",\"\",IF(D472<=15,VLOOKUP(B472,'Werte =<15°C'!$Q$2:$S$8,2,FALSE),VLOOKUP(B472,'Werte >15°C'!$Q$2:$S$8,2,FALSE)))","v":""},{"$f":"IF(Stammdaten!A475=\"\",\"\",IF(D472<=15,VLOOKUP(B472,'Werte =<15°C'!$Q$2:$S$8,3,FALSE),VLOOKUP(B472,'Werte >15°C'!$Q$2:$S$8,3,FALSE)))","v":""},{"$f":"IF(Stammdaten!A475=\"\",\"\",U472*(E474-D472)+V472)","v":""},{"$f":"IF(Stammdaten!A475=\"\",\"\",C472+W472)","v":""}]
[{"$f":"Analysedaten!A470","v":""},{"$f":"IF(Stammdaten!A473=\"\",\"\",WEEKDAY(A473,2))","v":""},{"$f":"IF(Stammdaten!A473=\"\",\"\",Analysedaten!C470)","v":""},{"$f":"Analysedaten!D470","v":""},{"$f":"Analysedaten!E470","v":""},"","","","","","","","","","","","","","",null,{"$f":"IF(Stammdaten!A476=\"\",\"\",IF(D473<=15,VLOOKUP(B473,'Werte =<15°C'!$Q$2:$S$8,2,FALSE),VLOOKUP(B473,'Werte >15°C'!$Q$2:$S$8,2,FALSE)))","v":""},{"$f":"IF(Stammdaten!A476=\"\",\"\",IF(D473<=15,VLOOKUP(B473,'Werte =<15°C'!$Q$2:$S$8,3,FALSE),VLOOKUP(B473,'Werte >15°C'!$Q$2:$S$8,3,FALSE)))","v":""},{"$f":"IF(Stammdaten!A476=\"\",\"\",U473*(E475-D473)+V473)","v":""},{"$f":"IF(Stammdaten!A476=\"\",\"\",C473+W473)","v":""}]
[{"$f":"Analysedaten!A471","v":""},{"$f":"IF(Stammdaten!A474=\"\",\"\",WEEKDAY(A474,2))","v":""},{"$f":"IF(Stammdaten!A474=\"\",\"\",Analysedaten!C471)","v":""},{"$f":"Analysedaten!D471","v":""},{"$f":"Analysedaten!E471","v":""},"","","","","","","","","","","","","","",null,{"$f":"IF(Stammdaten!A477=\"\",\"\",IF(D474<=15,VLOOKUP(B474,'Werte =<15°C'!$Q$2:$S$8,2,FALSE),VLOOKUP(B474,'Werte >15°C'!$Q$2:$S$8,2,FALSE)))","v":""},{"$f":"IF(Stammdaten!A477=\"\",\"\",IF(D474<=15,VLOOKUP(B474,'Werte =<15°C'!$Q$2:$S$8,3,FALSE),VLOOKUP(B474,'Werte >15°C'!$Q$2:$S$8,3,FALSE)))","v":""},{"$f":"IF(Stammdaten!A477=\"\",\"\",U474*(E476-D474)+V474)","v":""},{"$f":"IF(Stammdaten!A477=\"\",\"\",C474+W474)","v":""}]
[{"$f":"Analysedaten!A472","v":""},{"$f":"IF(Stammdaten!A475=\"\",\"\",WEEKDAY(A475,2))","v":""},{"$f":"IF(Stammdaten!A475=\"\",\"\",Analysedaten!C472)","v":""},{"$f":"Analysedaten!D472","v":""},{"$f":"Analysedaten!E472","v":""},"","","","","","","","","","","","","","",null,{"$f":"IF(Stammdaten!A478=\"\",\"\",IF(D475<=15,VLOOKUP(B475,'Werte =<15°C'!$Q$2:$S$8,2,FALSE),VLOOKUP(B475,'Werte >15°C'!$Q$2:$S$8,2,FALSE)))","v":""},{"$f":"IF(Stammdaten!A478=\"\",\"\",IF(D475<=15,VLOOKUP(B475,'Werte =<15°C'!$Q$2:$S$8,3,FALSE),VLOOKUP(B475,'Werte >15°C'!$Q$2:$S$8,3,FALSE)))","v":""},{"$f":"IF(Stammdaten!A478=\"\",\"\",U475*(E477-D475)+V475)","v":""},{"$f":"IF(Stammdaten!A478=\"\",\"\",C475+W475)","v":""}]
[{"$f":"Analysedaten!A473","v":""},{"$f":"IF(Stammdaten!A476=\"\",\"\",WEEKDAY(A476,2))","v":""},{"$f":"IF(Stammdaten!A476=\"\",\"\",Analysedaten!C473)","v":""},{"$f":"Analysedaten!D473","v":""},{"$f":"Analysedaten!E473","v":""},"","","","","","","","","","","","","","",null,{"$f":"IF(Stammdaten!A479=\"\",\"\",IF(D476<=15,VLOOKUP(B476,'Werte =<15°C'!$Q$2:$S$8,2,FALSE),VLOOKUP(B476,'Werte >15°C'!$Q$2:$S$8,2,FALSE)))","v":""},{"$f":"IF(Stammdaten!A479=\"\",\"\",IF(D476<=15,VLOOKUP(B476,'Werte =<15°C'!$Q$2:$S$8,3,FALSE),VLOOKUP(B476,'Werte >15°C'!$Q$2:$S$8,3,FALSE)))","v":""},{"$f":"IF(Stammdaten!A479=\"\",\"\",U476*(E478-D476)+V476)","v":""},{"$f":"IF(Stammdaten!A479=\"\",\"\",C476+W476)","v":""}]
[{"$f":"Analysedaten!A474","v":""},{"$f":"IF(Stammdaten!A477=\"\",\"\",WEEKDAY(A477,2))","v":""},{"$f":"IF(Stammdaten!A477=\"\",\"\",Analysedaten!C474)","v":""},{"$f":"Analysedaten!D474","v":""},{"$f":"Analysedaten!E474","v":""},"","","","","","","","","","","","","","",null,{"$f":"IF(Stammdaten!A480=\"\",\"\",IF(D477<=15,VLOOKUP(B477,'Werte =<15°C'!$Q$2:$S$8,2,FALSE),VLOOKUP(B477,'Werte >15°C'!$Q$2:$S$8,2,FALSE)))","v":""},{"$f":"IF(Stammdaten!A480=\"\",\"\",IF(D477<=15,VLOOKUP(B477,'Werte =<15°C'!$Q$2:$S$8,3,FALSE),VLOOKUP(B477,'Werte >15°C'!$Q$2:$S$8,3,FALSE)))","v":""},{"$f":"IF(Stammdaten!A480=\"\",\"\",U477*(E479-D477)+V477)","v":""},{"$f":"IF(Stammdaten!A480=\"\",\"\",C477+W477)","v":""}]
[{"$f":"Analysedaten!A475","v":""},{"$f":"IF(Stammdaten!A478=\"\",\"\",WEEKDAY(A478,2))","v":""},{"$f":"IF(Stammdaten!A478=\"\",\"\",Analysedaten!C475)","v":""},{"$f":"Analysedaten!D475","v":""},{"$f":"Analysedaten!E475","v":""},"","","","","","","","","","","","","","",null,{"$f":"IF(Stammdaten!A481=\"\",\"\",IF(D478<=15,VLOOKUP(B478,'Werte =<15°C'!$Q$2:$S$8,2,FALSE),VLOOKUP(B478,'Werte >15°C'!$Q$2:$S$8,2,FALSE)))","v":""},{"$f":"IF(Stammdaten!A481=\"\",\"\",IF(D478<=15,VLOOKUP(B478,'Werte =<15°C'!$Q$2:$S$8,3,FALSE),VLOOKUP(B478,'Werte >15°C'!$Q$2:$S$8,3,FALSE)))","v":""},{"$f":"IF(Stammdaten!A481=\"\",\"\",U478*(E480-D478)+V478)","v":""},{"$f":"IF(Stammdaten!A481=\"\",\"\",C478+W478)","v":""}]
[{"$f":"Analysedaten!A476","v":""},{"$f":"IF(Stammdaten!A479=\"\",\"\",WEEKDAY(A479,2))","v":""},{"$f":"IF(Stammdaten!A479=\"\",\"\",Analysedaten!C476)","v":""},{"$f":"Analysedaten!D476","v":""},{"$f":"Analysedaten!E476","v":""},"","","","","","","","","","","","","","",null,{"$f":"IF(Stammdaten!A482=\"\",\"\",IF(D479<=15,VLOOKUP(B479,'Werte =<15°C'!$Q$2:$S$8,2,FALSE),VLOOKUP(B479,'Werte >15°C'!$Q$2:$S$8,2,FALSE)))","v":""},{"$f":"IF(Stammdaten!A482=\"\",\"\",IF(D479<=15,VLOOKUP(B479,'Werte =<15°C'!$Q$2:$S$8,3,FALSE),VLOOKUP(B479,'Werte >15°C'!$Q$2:$S$8,3,FALSE)))","v":""},{"$f":"IF(Stammdaten!A482=\"\",\"\",U479*(E481-D479)+V479)","v":""},{"$f":"IF(Stammdaten!A482=\"\",\"\",C479+W479)","v":""}]
[{"$f":"Analysedaten!A477","v":""},{"$f":"IF(Stammdaten!A480=\"\",\"\",WEEKDAY(A480,2))","v":""},{"$f":"IF(Stammdaten!A480=\"\",\"\",Analysedaten!C477)","v":""},{"$f":"Analysedaten!D477","v":""},{"$f":"Analysedaten!E477","v":""},"","","","","","","","","","","","","","",null,{"$f":"IF(Stammdaten!A483=\"\",\"\",IF(D480<=15,VLOOKUP(B480,'Werte =<15°C'!$Q$2:$S$8,2,FALSE),VLOOKUP(B480,'Werte >15°C'!$Q$2:$S$8,2,FALSE)))","v":""},{"$f":"IF(Stammdaten!A483=\"\",\"\",IF(D480<=15,VLOOKUP(B480,'Werte =<15°C'!$Q$2:$S$8,3,FALSE),VLOOKUP(B480,'Werte >15°C'!$Q$2:$S$8,3,FALSE)))","v":""},{"$f":"IF(Stammdaten!A483=\"\",\"\",U480*(E482-D480)+V480)","v":""},{"$f":"IF(Stammdaten!A483=\"\",\"\",C480+W480)","v":""}]
[{"$f":"Analysedaten!A478","v":""},{"$f":"IF(Stammdaten!A481=\"\",\"\",WEEKDAY(A481,2))","v":""},{"$f":"IF(Stammdaten!A481=\"\",\"\",Analysedaten!C478)","v":""},{"$f":"Analysedaten!D478","v":""},{"$f":"Analysedaten!E478","v":""},"","","","","","","","","","","","","","",null,{"$f":"IF(Stammdaten!A484=\"\",\"\",IF(D481<=15,VLOOKUP(B481,'Werte =<15°C'!$Q$2:$S$8,2,FALSE),VLOOKUP(B481,'Werte >15°C'!$Q$2:$S$8,2,FALSE)))","v":""},{"$f":"IF(Stammdaten!A484=\"\",\"\",IF(D481<=15,VLOOKUP(B481,'Werte =<15°C'!$Q$2:$S$8,3,FALSE),VLOOKUP(B481,'Werte >15°C'!$Q$2:$S$8,3,FALSE)))","v":""},{"$f":"IF(Stammdaten!A484=\"\",\"\",U481*(E483-D481)+V481)","v":""},{"$f":"IF(Stammdaten!A484=\"\",\"\",C481+W481)","v":""}]
[{"$f":"Analysedaten!A479","v":""},{"$f":"IF(Stammdaten!A482=\"\",\"\",WEEKDAY(A482,2))","v":""},{"$f":"IF(Stammdaten!A482=\"\",\"\",Analysedaten!C479)","v":""},{"$f":"Analysedaten!D479","v":""},{"$f":"Analysedaten!E479","v":""},"","","","","","","","","","","","","","",null,{"$f":"IF(Stammdaten!A485=\"\",\"\",IF(D482<=15,VLOOKUP(B482,'Werte =<15°C'!$Q$2:$S$8,2,FALSE),VLOOKUP(B482,'Werte >15°C'!$Q$2:$S$8,2,FALSE)))","v":""},{"$f":"IF(Stammdaten!A485=\"\",\"\",IF(D482<=15,VLOOKUP(B482,'Werte =<15°C'!$Q$2:$S$8,3,FALSE),VLOOKUP(B482,'Werte >15°C'!$Q$2:$S$8,3,FALSE)))","v":""},{"$f":"IF(Stammdaten!A485=\"\",\"\",U482*(E484-D482)+V482)","v":""},{"$f":"IF(Stammdaten!A485=\"\",\"\",C482+W482)","v":""}]
[{"$f":"Analysedaten!A480","v":""},{"$f":"IF(Stammdaten!A483=\"\",\"\",WEEKDAY(A483,2))","v":""},{"$f":"IF(Stammdaten!A483=\"\",\"\",Analysedaten!C480)","v":""},{"$f":"Analysedaten!D480","v":""},{"$f":"Analysedaten!E480","v":""},"","","","","","","","","","","","","","",null,{"$f":"IF(Stammdaten!A486=\"\",\"\",IF(D483<=15,VLOOKUP(B483,'Werte =<15°C'!$Q$2:$S$8,2,FALSE),VLOOKUP(B483,'Werte >15°C'!$Q$2:$S$8,2,FALSE)))","v":""},{"$f":"IF(Stammdaten!A486=\"\",\"\",IF(D483<=15,VLOOKUP(B483,'Werte =<15°C'!$Q$2:$S$8,3,FALSE),VLOOKUP(B483,'Werte >15°C'!$Q$2:$S$8,3,FALSE)))","v":""},{"$f":"IF(Stammdaten!A486=\"\",\"\",U483*(E485-D483)+V483)","v":""},{"$f":"IF(Stammdaten!A486=\"\",\"\",C483+W483)","v":""}]
[{"$f":"Analysedaten!A481","v":""},{"$f":"IF(Stammdaten!A484=\"\",\"\",WEEKDAY(A484,2))","v":""},{"$f":"IF(Stammdaten!A484=\"\",\"\",Analysedaten!C481)","v":""},{"$f":"Analysedaten!D481","v":""},{"$f":"Analysedaten!E481","v":""},"","","","","","","","","","","","","","",null,{"$f":"IF(Stammdaten!A487=\"\",\"\",IF(D484<=15,VLOOKUP(B484,'Werte =<15°C'!$Q$2:$S$8,2,FALSE),VLOOKUP(B484,'Werte >15°C'!$Q$2:$S$8,2,FALSE)))","v":""},{"$f":"IF(Stammdaten!A487=\"\",\"\",IF(D484<=15,VLOOKUP(B484,'Werte =<15°C'!$Q$2:$S$8,3,FALSE),VLOOKUP(B484,'Werte >15°C'!$Q$2:$S$8,3,FALSE)))","v":""},{"$f":"IF(Stammdaten!A487=\"\",\"\",U484*(E486-D484)+V484)","v":""},{"$f":"IF(Stammdaten!A487=\"\",\"\",C484+W484)","v":""}]
[{"$f":"Analysedaten!A482","v":""},{"$f":"IF(Stammdaten!A485=\"\",\"\",WEEKDAY(A485,2))","v":""},{"$f":"IF(Stammdaten!A485=\"\",\"\",Analysedaten!C482)","v":""},{"$f":"Analysedaten!D482","v":""},{"$f":"Analysedaten!E482","v":""},"","","","","","","","","","","","","","",null,{"$f":"IF(Stammdaten!A488=\"\",\"\",IF(D485<=15,VLOOKUP(B485,'Werte =<15°C'!$Q$2:$S$8,2,FALSE),VLOOKUP(B485,'Werte >15°C'!$Q$2:$S$8,2,FALSE)))","v":""},{"$f":"IF(Stammdaten!A488=\"\",\"\",IF(D485<=15,VLOOKUP(B485,'Werte =<15°C'!$Q$2:$S$8,3,FALSE),VLOOKUP(B485,'Werte >15°C'!$Q$2:$S$8,3,FALSE)))","v":""},{"$f":"IF(Stammdaten!A488=\"\",\"\",U485*(E487-D485)+V485)","v":""},{"$f":"IF(Stammdaten!A488=\"\",\"\",C485+W485)","v":""}]
[{"$f":"Analysedaten!A483","v":""},{"$f":"IF(Stammdaten!A486=\"\",\"\",WEEKDAY(A486,2))","v":""},{"$f":"IF(Stammdaten!A486=\"\",\"\",Analysedaten!C483)","v":""},{"$f":"Analysedaten!D483","v":""},{"$f":"Analysedaten!E483","v":""},"","","","","","","","","","","","","","",null,{"$f":"IF(Stammdaten!A489=\"\",\"\",IF(D486<=15,VLOOKUP(B486,'Werte =<15°C'!$Q$2:$S$8,2,FALSE),VLOOKUP(B486,'Werte >15°C'!$Q$2:$S$8,2,FALSE)))","v":""},{"$f":"IF(Stammdaten!A489=\"\",\"\",IF(D486<=15,VLOOKUP(B486,'Werte =<15°C'!$Q$2:$S$8,3,FALSE),VLOOKUP(B486,'Werte >15°C'!$Q$2:$S$8,3,FALSE)))","v":""},{"$f":"IF(Stammdaten!A489=\"\",\"\",U486*(E488-D486)+V486)","v":""},{"$f":"IF(Stammdaten!A489=\"\",\"\",C486+W486)","v":""}]
[{"$f":"Analysedaten!A484","v":""},{"$f":"IF(Stammdaten!A487=\"\",\"\",WEEKDAY(A487,2))","v":""},{"$f":"IF(Stammdaten!A487=\"\",\"\",Analysedaten!C484)","v":""},{"$f":"Analysedaten!D484","v":""},{"$f":"Analysedaten!E484","v":""},"","","","","","","","","","","","","","",null,{"$f":"IF(Stammdaten!A490=\"\",\"\",IF(D487<=15,VLOOKUP(B487,'Werte =<15°C'!$Q$2:$S$8,2,FALSE),VLOOKUP(B487,'Werte >15°C'!$Q$2:$S$8,2,FALSE)))","v":""},{"$f":"IF(Stammdaten!A490=\"\",\"\",IF(D487<=15,VLOOKUP(B487,'Werte =<15°C'!$Q$2:$S$8,3,FALSE),VLOOKUP(B487,'Werte >15°C'!$Q$2:$S$8,3,FALSE)))","v":""},{"$f":"IF(Stammdaten!A490=\"\",\"\",U487*(E489-D487)+V487)","v":""},{"$f":"IF(Stammdaten!A490=\"\",\"\",C487+W487)","v":""}]
[{"$f":"Analysedaten!A485","v":""},{"$f":"IF(Stammdaten!A488=\"\",\"\",WEEKDAY(A488,2))","v":""},{"$f":"IF(Stammdaten!A488=\"\",\"\",Analysedaten!C485)","v":""},{"$f":"Analysedaten!D485","v":""},{"$f":"Analysedaten!E485","v":""},"","","","","","","","","","","","","","",null,{"$f":"IF(Stammdaten!A491=\"\",\"\",IF(D488<=15,VLOOKUP(B488,'Werte =<15°C'!$Q$2:$S$8,2,FALSE),VLOOKUP(B488,'Werte >15°C'!$Q$2:$S$8,2,FALSE)))","v":""},{"$f":"IF(Stammdaten!A491=\"\",\"\",IF(D488<=15,VLOOKUP(B488,'Werte =<15°C'!$Q$2:$S$8,3,FALSE),VLOOKUP(B488,'Werte >15°C'!$Q$2:$S$8,3,FALSE)))","v":""},{"$f":"IF(Stammdaten!A491=\"\",\"\",U488*(E490-D488)+V488)","v":""},{"$f":"IF(Stammdaten!A491=\"\",\"\",C488+W488)","v":""}]
[{"$f":"Analysedaten!A486","v":""},{"$f":"IF(Stammdaten!A489=\"\",\"\",WEEKDAY(A489,2))","v":""},{"$f":"IF(Stammdaten!A489=\"\",\"\",Analysedaten!C486)","v":""},{"$f":"Analysedaten!D486","v":""},{"$f":"Analysedaten!E486","v":""},"","","","","","","","","","","","","","",null,{"$f":"IF(Stammdaten!A492=\"\",\"\",IF(D489<=15,VLOOKUP(B489,'Werte =<15°C'!$Q$2:$S$8,2,FALSE),VLOOKUP(B489,'Werte >15°C'!$Q$2:$S$8,2,FALSE)))","v":""},{"$f":"IF(Stammdaten!A492=\"\",\"\",IF(D489<=15,VLOOKUP(B489,'Werte =<15°C'!$Q$2:$S$8,3,FALSE),VLOOKUP(B489,'Werte >15°C'!$Q$2:$S$8,3,FALSE)))","v":""},{"$f":"IF(Stammdaten!A492=\"\",\"\",U489*(E491-D489)+V489)","v":""},{"$f":"IF(Stammdaten!A492=\"\",\"\",C489+W489)","v":""}]
[{"$f":"Analysedaten!A487","v":""},{"$f":"IF(Stammdaten!A490=\"\",\"\",WEEKDAY(A490,2))","v":""},{"$f":"IF(Stammdaten!A490=\"\",\"\",Analysedaten!C487)","v":""},{"$f":"Analysedaten!D487","v":""},{"$f":"Analysedaten!E487","v":""},"","","","","","","","","","","","","","",null,{"$f":"IF(Stammdaten!A493=\"\",\"\",IF(D490<=15,VLOOKUP(B490,'Werte =<15°C'!$Q$2:$S$8,2,FALSE),VLOOKUP(B490,'Werte >15°C'!$Q$2:$S$8,2,FALSE)))","v":""},{"$f":"IF(Stammdaten!A493=\"\",\"\",IF(D490<=15,VLOOKUP(B490,'Werte =<15°C'!$Q$2:$S$8,3,FALSE),VLOOKUP(B490,'Werte >15°C'!$Q$2:$S$8,3,FALSE)))","v":""},{"$f":"IF(Stammdaten!A493=\"\",\"\",U490*(E492-D490)+V490)","v":""},{"$f":"IF(Stammdaten!A493=\"\",\"\",C490+W490)","v":""}]
[{"$f":"Analysedaten!A488","v":""},{"$f":"IF(Stammdaten!A491=\"\",\"\",WEEKDAY(A491,2))","v":""},{"$f":"IF(Stammdaten!A491=\"\",\"\",Analysedaten!C488)","v":""},{"$f":"Analysedaten!D488","v":""},{"$f":"Analysedaten!E488","v":""},"","","","","","","","","","","","","","",null,{"$f":"IF(Stammdaten!A494=\"\",\"\",IF(D491<=15,VLOOKUP(B491,'Werte =<15°C'!$Q$2:$S$8,2,FALSE),VLOOKUP(B491,'Werte >15°C'!$Q$2:$S$8,2,FALSE)))","v":""},{"$f":"IF(Stammdaten!A494=\"\",\"\",IF(D491<=15,VLOOKUP(B491,'Werte =<15°C'!$Q$2:$S$8,3,FALSE),VLOOKUP(B491,'Werte >15°C'!$Q$2:$S$8,3,FALSE)))","v":""},{"$f":"IF(Stammdaten!A494=\"\",\"\",U491*(E493-D491)+V491)","v":""},{"$f":"IF(Stammdaten!A494=\"\",\"\",C491+W491)","v":""}]
[{"$f":"Analysedaten!A489","v":""},{"$f":"IF(Stammdaten!A492=\"\",\"\",WEEKDAY(A492,2))","v":""},{"$f":"IF(Stammdaten!A492=\"\",\"\",Analysedaten!C489)","v":""},{"$f":"Analysedaten!D489","v":""},{"$f":"Analysedaten!E489","v":""},"","","","","","","","","","","","","","",null,{"$f":"IF(Stammdaten!A495=\"\",\"\",IF(D492<=15,VLOOKUP(B492,'Werte =<15°C'!$Q$2:$S$8,2,FALSE),VLOOKUP(B492,'Werte >15°C'!$Q$2:$S$8,2,FALSE)))","v":""},{"$f":"IF(Stammdaten!A495=\"\",\"\",IF(D492<=15,VLOOKUP(B492,'Werte =<15°C'!$Q$2:$S$8,3,FALSE),VLOOKUP(B492,'Werte >15°C'!$Q$2:$S$8,3,FALSE)))","v":""},{"$f":"IF(Stammdaten!A495=\"\",\"\",U492*(E494-D492)+V492)","v":""},{"$f":"IF(Stammdaten!A495=\"\",\"\",C492+W492)","v":""}]
[{"$f":"Analysedaten!A490","v":""},{"$f":"IF(Stammdaten!A493=\"\",\"\",WEEKDAY(A493,2))","v":""},{"$f":"IF(Stammdaten!A493=\"\",\"\",Analysedaten!C490)","v":""},{"$f":"Analysedaten!D490","v":""},{"$f":"Analysedaten!E490","v":""},"","","","","","","","","","","","","","",null,{"$f":"IF(Stammdaten!A496=\"\",\"\",IF(D493<=15,VLOOKUP(B493,'Werte =<15°C'!$Q$2:$S$8,2,FALSE),VLOOKUP(B493,'Werte >15°C'!$Q$2:$S$8,2,FALSE)))","v":""},{"$f":"IF(Stammdaten!A496=\"\",\"\",IF(D493<=15,VLOOKUP(B493,'Werte =<15°C'!$Q$2:$S$8,3,FALSE),VLOOKUP(B493,'Werte >15°C'!$Q$2:$S$8,3,FALSE)))","v":""},{"$f":"IF(Stammdaten!A496=\"\",\"\",U493*(E495-D493)+V493)","v":""},{"$f":"IF(Stammdaten!A496=\"\",\"\",C493+W493)","v":""}]
[{"$f":"Analysedaten!A491","v":""},{"$f":"IF(Stammdaten!A494=\"\",\"\",WEEKDAY(A494,2))","v":""},{"$f":"IF(Stammdaten!A494=\"\",\"\",Analysedaten!C491)","v":""},{"$f":"Analysedaten!D491","v":""},{"$f":"Analysedaten!E491","v":""},"","","","","","","","","","","","","","",null,{"$f":"IF(Stammdaten!A497=\"\",\"\",IF(D494<=15,VLOOKUP(B494,'Werte =<15°C'!$Q$2:$S$8,2,FALSE),VLOOKUP(B494,'Werte >15°C'!$Q$2:$S$8,2,FALSE)))","v":""},{"$f":"IF(Stammdaten!A497=\"\",\"\",IF(D494<=15,VLOOKUP(B494,'Werte =<15°C'!$Q$2:$S$8,3,FALSE),VLOOKUP(B494,'Werte >15°C'!$Q$2:$S$8,3,FALSE)))","v":""},{"$f":"IF(Stammdaten!A497=\"\",\"\",U494*(E496-D494)+V494)","v":""},{"$f":"IF(Stammdaten!A497=\"\",\"\",C494+W494)","v":""}]
[{"$f":"Analysedaten!A492","v":""},{"$f":"IF(Stammdaten!A495=\"\",\"\",WEEKDAY(A495,2))","v":""},{"$f":"IF(Stammdaten!A495=\"\",\"\",Analysedaten!C492)","v":""},{"$f":"Analysedaten!D492","v":""},{"$f":"Analysedaten!E492","v":""},"","","","","","","","","","","","","","",null,{"$f":"IF(Stammdaten!A498=\"\",\"\",IF(D495<=15,VLOOKUP(B495,'Werte =<15°C'!$Q$2:$S$8,2,FALSE),VLOOKUP(B495,'Werte >15°C'!$Q$2:$S$8,2,FALSE)))","v":""},{"$f":"IF(Stammdaten!A498=\"\",\"\",IF(D495<=15,VLOOKUP(B495,'Werte =<15°C'!$Q$2:$S$8,3,FALSE),VLOOKUP(B495,'Werte >15°C'!$Q$2:$S$8,3,FALSE)))","v":""},{"$f":"IF(Stammdaten!A498=\"\",\"\",U495*(E497-D495)+V495)","v":""},{"$f":"IF(Stammdaten!A498=\"\",\"\",C495+W495)","v":""}]
[{"$f":"Analysedaten!A493","v":""},{"$f":"IF(Stammdaten!A496=\"\",\"\",WEEKDAY(A496,2))","v":""},{"$f":"IF(Stammdaten!A496=\"\",\"\",Analysedaten!C493)","v":""},{"$f":"Analysedaten!D493","v":""},{"$f":"Analysedaten!E493","v":""},"","","","","","","","","","","","","","",null,{"$f":"IF(Stammdaten!A499=\"\",\"\",IF(D496<=15,VLOOKUP(B496,'Werte =<15°C'!$Q$2:$S$8,2,FALSE),VLOOKUP(B496,'Werte >15°C'!$Q$2:$S$8,2,FALSE)))","v":""},{"$f":"IF(Stammdaten!A499=\"\",\"\",IF(D496<=15,VLOOKUP(B496,'Werte =<15°C'!$Q$2:$S$8,3,FALSE),VLOOKUP(B496,'Werte >15°C'!$Q$2:$S$8,3,FALSE)))","v":""},{"$f":"IF(Stammdaten!A499=\"\",\"\",U496*(E498-D496)+V496)","v":""},{"$f":"IF(Stammdaten!A499=\"\",\"\",C496+W496)","v":""}]
[{"$f":"Analysedaten!A494","v":""},{"$f":"IF(Stammdaten!A497=\"\",\"\",WEEKDAY(A497,2))","v":""},{"$f":"IF(Stammdaten!A497=\"\",\"\",Analysedaten!C494)","v":""},{"$f":"Analysedaten!D494","v":""},{"$f":"Analysedaten!E494","v":""},"","","","","","","","","","","","","","",null,{"$f":"IF(Stammdaten!A500=\"\",\"\",IF(D497<=15,VLOOKUP(B497,'Werte =<15°C'!$Q$2:$S$8,2,FALSE),VLOOKUP(B497,'Werte >15°C'!$Q$2:$S$8,2,FALSE)))","v":""},{"$f":"IF(Stammdaten!A500=\"\",\"\",IF(D497<=15,VLOOKUP(B497,'Werte =<15°C'!$Q$2:$S$8,3,FALSE),VLOOKUP(B497,'Werte >15°C'!$Q$2:$S$8,3,FALSE)))","v":""},{"$f":"IF(Stammdaten!A500=\"\",\"\",U497*(E499-D497)+V497)","v":""},{"$f":"IF(Stammdaten!A500=\"\",\"\",C497+W497)","v":""}]
[{"$f":"Analysedaten!A495","v":""},{"$f":"IF(Stammdaten!A498=\"\",\"\",WEEKDAY(A498,2))","v":""},{"$f":"IF(Stammdaten!A498=\"\",\"\",Analysedaten!C495)","v":""},{"$f":"Analysedaten!D495","v":""},{"$f":"Analysedaten!E495","v":""},"","","","","","","","","","","","","","",null,{"$f":"IF(Stammdaten!A501=\"\",\"\",IF(D498<=15,VLOOKUP(B498,'Werte =<15°C'!$Q$2:$S$8,2,FALSE),VLOOKUP(B498,'Werte >15°C'!$Q$2:$S$8,2,FALSE)))","v":""},{"$f":"IF(Stammdaten!A501=\"\",\"\",IF(D498<=15,VLOOKUP(B498,'Werte =<15°C'!$Q$2:$S$8,3,FALSE),VLOOKUP(B498,'Werte >15°C'!$Q$2:$S$8,3,FALSE)))","v":""},{"$f":"IF(Stammdaten!A501=\"\",\"\",U498*(E500-D498)+V498)","v":""},{"$f":"IF(Stammdaten!A501=\"\",\"\",C498+W498)","v":""}]
[{"$f":"Analysedaten!A496","v":""},{"$f":"IF(Stammdaten!A499=\"\",\"\",WEEKDAY(A499,2))","v":""},{"$f":"IF(Stammdaten!A499=\"\",\"\",Analysedaten!C496)","v":""},{"$f":"Analysedaten!D496","v":""},{"$f":"Analysedaten!E496","v":""},"","","","","","","","","","","","","","",null,{"$f":"IF(Stammdaten!A502=\"\",\"\",IF(D499<=15,VLOOKUP(B499,'Werte =<15°C'!$Q$2:$S$8,2,FALSE),VLOOKUP(B499,'Werte >15°C'!$Q$2:$S$8,2,FALSE)))","v":""},{"$f":"IF(Stammdaten!A502=\"\",\"\",IF(D499<=15,VLOOKUP(B499,'Werte =<15°C'!$Q$2:$S$8,3,FALSE),VLOOKUP(B499,'Werte >15°C'!$Q$2:$S$8,3,FALSE)))","v":""},{"$f":"IF(Stammdaten!A502=\"\",\"\",U499*(E501-D499)+V499)","v":""},{"$f":"IF(Stammdaten!A502=\"\",\"\",C499+W499)","v":""}]
[{"$f":"Analysedaten!A497","v":""},{"$f":"IF(Stammdaten!A500=\"\",\"\",WEEKDAY(A500,2))","v":""},{"$f":"IF(Stammdaten!A500=\"\",\"\",Analysedaten!C497)","v":""},{"$f":"Analysedaten!D497","v":""},{"$f":"Analysedaten!E497","v":""},"","","","","","","","","","","","","","",null,{"$f":"IF(Stammdaten!A503=\"\",\"\",IF(D500<=15,VLOOKUP(B500,'Werte =<15°C'!$Q$2:$S$8,2,FALSE),VLOOKUP(B500,'Werte >15°C'!$Q$2:$S$8,2,FALSE)))","v":""},{"$f":"IF(Stammdaten!A503=\"\",\"\",IF(D500<=15,VLOOKUP(B500,'Werte =<15°C'!$Q$2:$S$8,3,FALSE),VLOOKUP(B500,'Werte >15°C'!$Q$2:$S$8,3,FALSE)))","v":""},{"$f":"IF(Stammdaten!A503=\"\",\"\",U500*(E502-D500)+V500)","v":""},{"$f":"IF(Stammdaten!A503=\"\",\"\",C500+W500)","v":""}]
[{"$f":"Analysedaten!A498","v":""},{"$f":"IF(Stammdaten!A501=\"\",\"\",WEEKDAY(A501,2))","v":""},{"$f":"IF(Stammdaten!A501=\"\",\"\",Analysedaten!C498)","v":""},{"$f":"Analysedaten!D498","v":""},{"$f":"Analysedaten!E498","v":""},"","","","","","","","","","","","","","",null,{"$f":"IF(Stammdaten!A504=\"\",\"\",IF(D501<=15,VLOOKUP(B501,'Werte =<15°C'!$Q$2:$S$8,2,FALSE),VLOOKUP(B501,'Werte >15°C'!$Q$2:$S$8,2,FALSE)))","v":""},{"$f":"IF(Stammdaten!A504=\"\",\"\",IF(D501<=15,VLOOKUP(B501,'Werte =<15°C'!$Q$2:$S$8,3,FALSE),VLOOKUP(B501,'Werte >15°C'!$Q$2:$S$8,3,FALSE)))","v":""},{"$f":"IF(Stammdaten!A504=\"\",\"\",U501*(E503-D501)+V501)","v":""},{"$f":"IF(Stammdaten!A504=\"\",\"\",C501+W501)","v":""}]
[{"$f":"Analysedaten!A499","v":""},{"$f":"IF(Stammdaten!A502=\"\",\"\",WEEKDAY(A502,2))","v":""},{"$f":"IF(Stammdaten!A502=\"\",\"\",Analysedaten!C499)","v":""},{"$f":"Analysedaten!D499","v":""},{"$f":"Analysedaten!E499","v":""},"","","","","","","","","","","","","","",null,{"$f":"IF(Stammdaten!A505=\"\",\"\",IF(D502<=15,VLOOKUP(B502,'Werte =<15°C'!$Q$2:$S$8,2,FALSE),VLOOKUP(B502,'Werte >15°C'!$Q$2:$S$8,2,FALSE)))","v":""},{"$f":"IF(Stammdaten!A505=\"\",\"\",IF(D502<=15,VLOOKUP(B502,'Werte =<15°C'!$Q$2:$S$8,3,FALSE),VLOOKUP(B502,'Werte >15°C'!$Q$2:$S$8,3,FALSE)))","v":""},{"$f":"IF(Stammdaten!A505=\"\",\"\",U502*(E504-D502)+V502)","v":""},{"$f":"IF(Stammdaten!A505=\"\",\"\",C502+W502)","v":""}]
[{"$f":"Analysedaten!A500","v":""},{"$f":"IF(Stammdaten!A503=\"\",\"\",WEEKDAY(A503,2))","v":""},{"$f":"IF(Stammdaten!A503=\"\",\"\",Analysedaten!C500)","v":""},{"$f":"Analysedaten!D500","v":""},{"$f":"Analysedaten!E500","v":""},"","","","","","","","","","","","","","",null,{"$f":"IF(Stammdaten!A506=\"\",\"\",IF(D503<=15,VLOOKUP(B503,'Werte =<15°C'!$Q$2:$S$8,2,FALSE),VLOOKUP(B503,'Werte >15°C'!$Q$2:$S$8,2,FALSE)))","v":""},{"$f":"IF(Stammdaten!A506=\"\",\"\",IF(D503<=15,VLOOKUP(B503,'Werte =<15°C'!$Q$2:$S$8,3,FALSE),VLOOKUP(B503,'Werte >15°C'!$Q$2:$S$8,3,FALSE)))","v":""},{"$f":"IF(Stammdaten!A506=\"\",\"\",U503*(E505-D503)+V503)","v":""},{"$f":"IF(Stammdaten!A506=\"\",\"\",C503+W503)","v":""}]
[{"$f":"Analysedaten!A501","v":""},{"$f":"IF(Stammdaten!A504=\"\",\"\",WEEKDAY(A504,2))","v":""},{"$f":"IF(Stammdaten!A504=\"\",\"\",Analysedaten!C501)","v":""},{"$f":"Analysedaten!D501","v":""},{"$f":"Analysedaten!E501","v":""},"","","","","","","","","","","","","","",null,{"$f":"IF(Stammdaten!A507=\"\",\"\",IF(D504<=15,VLOOKUP(B504,'Werte =<15°C'!$Q$2:$S$8,2,FALSE),VLOOKUP(B504,'Werte >15°C'!$Q$2:$S$8,2,FALSE)))","v":""},{"$f":"IF(Stammdaten!A507=\"\",\"\",IF(D504<=15,VLOOKUP(B504,'Werte =<15°C'!$Q$2:$S$8,3,FALSE),VLOOKUP(B504,'Werte >15°C'!$Q$2:$S$8,3,FALSE)))","v":""},{"$f":"IF(Stammdaten!A507=\"\",\"\",U504*(E506-D504)+V504)","v":""},{"$f":"IF(Stammdaten!A507=\"\",\"\",C504+W504)","v":""}]
[{"$f":"Analysedaten!A502","v":""},{"$f":"IF(Stammdaten!A505=\"\",\"\",WEEKDAY(A505,2))","v":""},{"$f":"IF(Stammdaten!A505=\"\",\"\",Analysedaten!C502)","v":""},{"$f":"Analysedaten!D502","v":""},{"$f":"Analysedaten!E502","v":""},"","","","","","","","","","","","","","",null,{"$f":"IF(Stammdaten!A508=\"\",\"\",IF(D505<=15,VLOOKUP(B505,'Werte =<15°C'!$Q$2:$S$8,2,FALSE),VLOOKUP(B505,'Werte >15°C'!$Q$2:$S$8,2,FALSE)))","v":""},{"$f":"IF(Stammdaten!A508=\"\",\"\",IF(D505<=15,VLOOKUP(B505,'Werte =<15°C'!$Q$2:$S$8,3,FALSE),VLOOKUP(B505,'Werte >15°C'!$Q$2:$S$8,3,FALSE)))","v":""},{"$f":"IF(Stammdaten!A508=\"\",\"\",U505*(E507-D505)+V505)","v":""},{"$f":"IF(Stammdaten!A508=\"\",\"\",C505+W505)","v":""}]
[{"$f":"Analysedaten!A503","v":""},{"$f":"IF(Stammdaten!A506=\"\",\"\",WEEKDAY(A506,2))","v":""},{"$f":"IF(Stammdaten!A506=\"\",\"\",Analysedaten!C503)","v":""},{"$f":"Analysedaten!D503","v":""},{"$f":"Analysedaten!E503","v":""},"","","","","","","","","","","","","","",null,{"$f":"IF(Stammdaten!A509=\"\",\"\",IF(D506<=15,VLOOKUP(B506,'Werte =<15°C'!$Q$2:$S$8,2,FALSE),VLOOKUP(B506,'Werte >15°C'!$Q$2:$S$8,2,FALSE)))","v":""},{"$f":"IF(Stammdaten!A509=\"\",\"\",IF(D506<=15,VLOOKUP(B506,'Werte =<15°C'!$Q$2:$S$8,3,FALSE),VLOOKUP(B506,'Werte >15°C'!$Q$2:$S$8,3,FALSE)))","v":""},{"$f":"IF(Stammdaten!A509=\"\",\"\",U506*(E508-D506)+V506)","v":""},{"$f":"IF(Stammdaten!A509=\"\",\"\",C506+W506)","v":""}]
[{"$f":"Analysedaten!A504","v":""},{"$f":"IF(Stammdaten!A507=\"\",\"\",WEEKDAY(A507,2))","v":""},{"$f":"IF(Stammdaten!A507=\"\",\"\",Analysedaten!C504)","v":""},{"$f":"Analysedaten!D504","v":""},{"$f":"Analysedaten!E504","v":""},"","","","","","","","","","","","","","",null,{"$f":"IF(Stammdaten!A510=\"\",\"\",IF(D507<=15,VLOOKUP(B507,'Werte =<15°C'!$Q$2:$S$8,2,FALSE),VLOOKUP(B507,'Werte >15°C'!$Q$2:$S$8,2,FALSE)))","v":""},{"$f":"IF(Stammdaten!A510=\"\",\"\",IF(D507<=15,VLOOKUP(B507,'Werte =<15°C'!$Q$2:$S$8,3,FALSE),VLOOKUP(B507,'Werte >15°C'!$Q$2:$S$8,3,FALSE)))","v":""},{"$f":"IF(Stammdaten!A510=\"\",\"\",U507*(E509-D507)+V507)","v":""},{"$f":"IF(Stammdaten!A510=\"\",\"\",C507+W507)","v":""}]
[{"$f":"Analysedaten!A505","v":""},{"$f":"IF(Stammdaten!A508=\"\",\"\",WEEKDAY(A508,2))","v":""},{"$f":"IF(Stammdaten!A508=\"\",\"\",Analysedaten!C505)","v":""},{"$f":"Analysedaten!D505","v":""},{"$f":"Analysedaten!E505","v":""},"","","","","","","","","","","","","","",null,{"$f":"IF(Stammdaten!A511=\"\",\"\",IF(D508<=15,VLOOKUP(B508,'Werte =<15°C'!$Q$2:$S$8,2,FALSE),VLOOKUP(B508,'Werte >15°C'!$Q$2:$S$8,2,FALSE)))","v":""},{"$f":"IF(Stammdaten!A511=\"\",\"\",IF(D508<=15,VLOOKUP(B508,'Werte =<15°C'!$Q$2:$S$8,3,FALSE),VLOOKUP(B508,'Werte >15°C'!$Q$2:$S$8,3,FALSE)))","v":""},{"$f":"IF(Stammdaten!A511=\"\",\"\",U508*(E510-D508)+V508)","v":""},{"$f":"IF(Stammdaten!A511=\"\",\"\",C508+W508)","v":""}]
[{"$f":"Analysedaten!A506","v":""},{"$f":"IF(Stammdaten!A509=\"\",\"\",WEEKDAY(A509,2))","v":""},{"$f":"IF(Stammdaten!A509=\"\",\"\",Analysedaten!C506)","v":""},{"$f":"Analysedaten!D506","v":""},{"$f":"Analysedaten!E506","v":""},"","","","","","","","","","","","","","",null,{"$f":"IF(Stammdaten!A512=\"\",\"\",IF(D509<=15,VLOOKUP(B509,'Werte =<15°C'!$Q$2:$S$8,2,FALSE),VLOOKUP(B509,'Werte >15°C'!$Q$2:$S$8,2,FALSE)))","v":""},{"$f":"IF(Stammdaten!A512=\"\",\"\",IF(D509<=15,VLOOKUP(B509,'Werte =<15°C'!$Q$2:$S$8,3,FALSE),VLOOKUP(B509,'Werte >15°C'!$Q$2:$S$8,3,FALSE)))","v":""},{"$f":"IF(Stammdaten!A512=\"\",\"\",U509*(E511-D509)+V509)","v":""},{"$f":"IF(Stammdaten!A512=\"\",\"\",C509+W509)","v":""}]
[{"$f":"Analysedaten!A507","v":""},{"$f":"IF(Stammdaten!A510=\"\",\"\",WEEKDAY(A510,2))","v":""},{"$f":"IF(Stammdaten!A510=\"\",\"\",Analysedaten!C507)","v":""},{"$f":"Analysedaten!D507","v":""},{"$f":"Analysedaten!E507","v":""},"","","","","","","","","","","","","","",null,{"$f":"IF(Stammdaten!A513=\"\",\"\",IF(D510<=15,VLOOKUP(B510,'Werte =<15°C'!$Q$2:$S$8,2,FALSE),VLOOKUP(B510,'Werte >15°C'!$Q$2:$S$8,2,FALSE)))","v":""},{"$f":"IF(Stammdaten!A513=\"\",\"\",IF(D510<=15,VLOOKUP(B510,'Werte =<15°C'!$Q$2:$S$8,3,FALSE),VLOOKUP(B510,'Werte >15°C'!$Q$2:$S$8,3,FALSE)))","v":""},{"$f":"IF(Stammdaten!A513=\"\",\"\",U510*(E512-D510)+V510)","v":""},{"$f":"IF(Stammdaten!A513=\"\",\"\",C510+W510)","v":""}]
[{"$f":"Analysedaten!A508","v":""},{"$f":"IF(Stammdaten!A511=\"\",\"\",WEEKDAY(A511,2))","v":""},{"$f":"IF(Stammdaten!A511=\"\",\"\",Analysedaten!C508)","v":""},{"$f":"Analysedaten!D508","v":""},{"$f":"Analysedaten!E508","v":""},"","","","","","","","","","","","","","",null,{"$f":"IF(Stammdaten!A514=\"\",\"\",IF(D511<=15,VLOOKUP(B511,'Werte =<15°C'!$Q$2:$S$8,2,FALSE),VLOOKUP(B511,'Werte >15°C'!$Q$2:$S$8,2,FALSE)))","v":""},{"$f":"IF(Stammdaten!A514=\"\",\"\",IF(D511<=15,VLOOKUP(B511,'Werte =<15°C'!$Q$2:$S$8,3,FALSE),VLOOKUP(B511,'Werte >15°C'!$Q$2:$S$8,3,FALSE)))","v":""},{"$f":"IF(Stammdaten!A514=\"\",\"\",U511*(E513-D511)+V511)","v":""},{"$f":"IF(Stammdaten!A514=\"\",\"\",C511+W511)","v":""}]
[{"$f":"Analysedaten!A509","v":""},{"$f":"IF(Stammdaten!A512=\"\",\"\",WEEKDAY(A512,2))","v":""},{"$f":"IF(Stammdaten!A512=\"\",\"\",Analysedaten!C509)","v":""},{"$f":"Analysedaten!D509","v":""},{"$f":"Analysedaten!E509","v":""},"","","","","","","","","","","","","","",null,{"$f":"IF(Stammdaten!A515=\"\",\"\",IF(D512<=15,VLOOKUP(B512,'Werte =<15°C'!$Q$2:$S$8,2,FALSE),VLOOKUP(B512,'Werte >15°C'!$Q$2:$S$8,2,FALSE)))","v":""},{"$f":"IF(Stammdaten!A515=\"\",\"\",IF(D512<=15,VLOOKUP(B512,'Werte =<15°C'!$Q$2:$S$8,3,FALSE),VLOOKUP(B512,'Werte >15°C'!$Q$2:$S$8,3,FALSE)))","v":""},{"$f":"IF(Stammdaten!A515=\"\",\"\",U512*(E514-D512)+V512)","v":""},{"$f":"IF(Stammdaten!A515=\"\",\"\",C512+W512)","v":""}]
[{"$f":"Analysedaten!A510","v":""},{"$f":"IF(Stammdaten!A513=\"\",\"\",WEEKDAY(A513,2))","v":""},{"$f":"IF(Stammdaten!A513=\"\",\"\",Analysedaten!C510)","v":""},{"$f":"Analysedaten!D510","v":""},{"$f":"Analysedaten!E510","v":""},"","","","","","","","","","","","","","",null,{"$f":"IF(Stammdaten!A516=\"\",\"\",IF(D513<=15,VLOOKUP(B513,'Werte =<15°C'!$Q$2:$S$8,2,FALSE),VLOOKUP(B513,'Werte >15°C'!$Q$2:$S$8,2,FALSE)))","v":""},{"$f":"IF(Stammdaten!A516=\"\",\"\",IF(D513<=15,VLOOKUP(B513,'Werte =<15°C'!$Q$2:$S$8,3,FALSE),VLOOKUP(B513,'Werte >15°C'!$Q$2:$S$8,3,FALSE)))","v":""},{"$f":"IF(Stammdaten!A516=\"\",\"\",U513*(E515-D513)+V513)","v":""},{"$f":"IF(Stammdaten!A516=\"\",\"\",C513+W513)","v":""}]
[{"$f":"Analysedaten!A511","v":""},{"$f":"IF(Stammdaten!A514=\"\",\"\",WEEKDAY(A514,2))","v":""},{"$f":"IF(Stammdaten!A514=\"\",\"\",Analysedaten!C511)","v":""},{"$f":"Analysedaten!D511","v":""},{"$f":"Analysedaten!E511","v":""},"","","","","","","","","","","","","","",null,{"$f":"IF(Stammdaten!A517=\"\",\"\",IF(D514<=15,VLOOKUP(B514,'Werte =<15°C'!$Q$2:$S$8,2,FALSE),VLOOKUP(B514,'Werte >15°C'!$Q$2:$S$8,2,FALSE)))","v":""},{"$f":"IF(Stammdaten!A517=\"\",\"\",IF(D514<=15,VLOOKUP(B514,'Werte =<15°C'!$Q$2:$S$8,3,FALSE),VLOOKUP(B514,'Werte >15°C'!$Q$2:$S$8,3,FALSE)))","v":""},{"$f":"IF(Stammdaten!A517=\"\",\"\",U514*(E516-D514)+V514)","v":""},{"$f":"IF(Stammdaten!A517=\"\",\"\",C514+W514)","v":""}]
[{"$f":"Analysedaten!A512","v":""},{"$f":"IF(Stammdaten!A515=\"\",\"\",WEEKDAY(A515,2))","v":""},{"$f":"IF(Stammdaten!A515=\"\",\"\",Analysedaten!C512)","v":""},{"$f":"Analysedaten!D512","v":""},{"$f":"Analysedaten!E512","v":""},"","","","","","","","","","","","","","",null,{"$f":"IF(Stammdaten!A518=\"\",\"\",IF(D515<=15,VLOOKUP(B515,'Werte =<15°C'!$Q$2:$S$8,2,FALSE),VLOOKUP(B515,'Werte >15°C'!$Q$2:$S$8,2,FALSE)))","v":""},{"$f":"IF(Stammdaten!A518=\"\",\"\",IF(D515<=15,VLOOKUP(B515,'Werte =<15°C'!$Q$2:$S$8,3,FALSE),VLOOKUP(B515,'Werte >15°C'!$Q$2:$S$8,3,FALSE)))","v":""},{"$f":"IF(Stammdaten!A518=\"\",\"\",U515*(E517-D515)+V515)","v":""},{"$f":"IF(Stammdaten!A518=\"\",\"\",C515+W515)","v":""}]
[{"$f":"Analysedaten!A513","v":""},{"$f":"IF(Stammdaten!A516=\"\",\"\",WEEKDAY(A516,2))","v":""},{"$f":"IF(Stammdaten!A516=\"\",\"\",Analysedaten!C513)","v":""},{"$f":"Analysedaten!D513","v":""},{"$f":"Analysedaten!E513","v":""},"","","","","","","","","","","","","","",null,{"$f":"IF(Stammdaten!A519=\"\",\"\",IF(D516<=15,VLOOKUP(B516,'Werte =<15°C'!$Q$2:$S$8,2,FALSE),VLOOKUP(B516,'Werte >15°C'!$Q$2:$S$8,2,FALSE)))","v":""},{"$f":"IF(Stammdaten!A519=\"\",\"\",IF(D516<=15,VLOOKUP(B516,'Werte =<15°C'!$Q$2:$S$8,3,FALSE),VLOOKUP(B516,'Werte >15°C'!$Q$2:$S$8,3,FALSE)))","v":""},{"$f":"IF(Stammdaten!A519=\"\",\"\",U516*(E518-D516)+V516)","v":""},{"$f":"IF(Stammdaten!A519=\"\",\"\",C516+W516)","v":""}]
[{"$f":"Analysedaten!A514","v":""},{"$f":"IF(Stammdaten!A517=\"\",\"\",WEEKDAY(A517,2))","v":""},{"$f":"IF(Stammdaten!A517=\"\",\"\",Analysedaten!C514)","v":""},{"$f":"Analysedaten!D514","v":""},{"$f":"Analysedaten!E514","v":""},{"$f":"IF(B519=1,(E519-D517),\"\")","v":""},{"$f":"IF(B519=1,(C519-C517),\"\")","v":""},{"$f":"IF(B519=2,(E519-D517),\"\")","v":""},{"$f":"IF(B519=2,(C519-C517),\"\")","v":""},{"$f":"IF(B519=3,(E519-D517),\"\")","v":""},{"$f":"IF(B519=3,(C519-C517),\"\")","v":""},{"$f":"IF(B519=4,(E519-D517),\"\")","v":""},{"$f":"IF(B519=4,(C519-C517),\"\")","v":""},{"$f":"IF(B519=5,(E519-D517),\"\")","v":""},{"$f":"IF(B519=5,(C519-C517),\"\")","v":""},{"$f":"IF(B519=6,(E519-D517),\"\")","v":""},{"$f":"IF(B519=6,(C519-C517),\"\")","v":""},{"$f":"IF(B519=7,(E519-D517),\"\")","v":""},{"$f":"IF(B519=7,(C519-C517),\"\")","v":""},null,{"$f":"IF(Stammdaten!A520=\"\",\"\",IF(D517<=15,VLOOKUP(B517,'Werte =<15°C'!$Q$2:$S$8,2,FALSE),VLOOKUP(B517,'Werte >15°C'!$Q$2:$S$8,2,FALSE)))","v":""},{"$f":"IF(Stammdaten!A520=\"\",\"\",IF(D517<=15,VLOOKUP(B517,'Werte =<15°C'!$Q$2:$S$8,3,FALSE),VLOOKUP(B517,'Werte >15°C'!$Q$2:$S$8,3,FALSE)))","v":""},{"$f":"IF(Stammdaten!A520=\"\",\"\",U517*(E519-D517)+V517)","v":""},{"$f":"IF(Stammdaten!A520=\"\",\"\",C517+W517)","v":""}]
[{"$f":"Analysedaten!A515","v":""},{"$f":"IF(Stammdaten!A518=\"\",\"\",WEEKDAY(A518,2))","v":""},{"$f":"IF(Stammdaten!A518=\"\",\"\",Analysedaten!C515)","v":""},{"$f":"Analysedaten!D515","v":""},{"$f":"Analysedaten!E515","v":""},"","","","","","","","","","","","","","",null,{"$f":"IF(Stammdaten!A521=\"\",\"\",IF(D518<=15,VLOOKUP(B518,'Werte =<15°C'!$Q$2:$S$8,2,FALSE),VLOOKUP(B518,'Werte >15°C'!$Q$2:$S$8,2,FALSE)))","v":""},{"$f":"IF(Stammdaten!A521=\"\",\"\",IF(D518<=15,VLOOKUP(B518,'Werte =<15°C'!$Q$2:$S$8,3,FALSE),VLOOKUP(B518,'Werte >15°C'!$Q$2:$S$8,3,FALSE)))","v":""},{"$f":"IF(Stammdaten!A521=\"\",\"\",U518*(E520-D518)+V518)","v":""},{"$f":"IF(Stammdaten!A521=\"\",\"\",C518+W518)","v":""}]
[{"$f":"Analysedaten!A516","v":""},{"$f":"IF(Stammdaten!A519=\"\",\"\",WEEKDAY(A519,2))","v":""},{"$f":"IF(Stammdaten!A519=\"\",\"\",Analysedaten!C516)","v":""},{"$f":"Analysedaten!D516","v":""},{"$f":"Analysedaten!E516","v":""},"","","","","","","","","","","","","","",null,{"$f":"IF(Stammdaten!A522=\"\",\"\",IF(D519<=15,VLOOKUP(B519,'Werte =<15°C'!$Q$2:$S$8,2,FALSE),VLOOKUP(B519,'Werte >15°C'!$Q$2:$S$8,2,FALSE)))","v":""},{"$f":"IF(Stammdaten!A522=\"\",\"\",IF(D519<=15,VLOOKUP(B519,'Werte =<15°C'!$Q$2:$S$8,3,FALSE),VLOOKUP(B519,'Werte >15°C'!$Q$2:$S$8,3,FALSE)))","v":""},{"$f":"IF(Stammdaten!A522=\"\",\"\",U519*(E521-D519)+V519)","v":""},{"$f":"IF(Stammdaten!A522=\"\",\"\",C519+W519)","v":""}]
[{"$f":"Analysedaten!A517","v":""},{"$f":"IF(Stammdaten!A520=\"\",\"\",WEEKDAY(A520,2))","v":""},{"$f":"IF(Stammdaten!A520=\"\",\"\",Analysedaten!C517)","v":""},{"$f":"Analysedaten!D517","v":""},{"$f":"Analysedaten!E517","v":""},"","","","","","","","","","","","","","",null,{"$f":"IF(Stammdaten!A523=\"\",\"\",IF(D520<=15,VLOOKUP(B520,'Werte =<15°C'!$Q$2:$S$8,2,FALSE),VLOOKUP(B520,'Werte >15°C'!$Q$2:$S$8,2,FALSE)))","v":""},{"$f":"IF(Stammdaten!A523=\"\",\"\",IF(D520<=15,VLOOKUP(B520,'Werte =<15°C'!$Q$2:$S$8,3,FALSE),VLOOKUP(B520,'Werte >15°C'!$Q$2:$S$8,3,FALSE)))","v":""},{"$f":"IF(Stammdaten!A523=\"\",\"\",U520*(E522-D520)+V520)","v":""},{"$f":"IF(Stammdaten!A523=\"\",\"\",C520+W520)","v":""}]
[{"$f":"Analysedaten!A518","v":""},{"$f":"IF(Stammdaten!A521=\"\",\"\",WEEKDAY(A521,2))","v":""},{"$f":"IF(Stammdaten!A521=\"\",\"\",Analysedaten!C518)","v":""},{"$f":"Analysedaten!D518","v":""},{"$f":"Analysedaten!E518","v":""},"","","","","","","","","","","","","","",null,{"$f":"IF(Stammdaten!A524=\"\",\"\",IF(D521<=15,VLOOKUP(B521,'Werte =<15°C'!$Q$2:$S$8,2,FALSE),VLOOKUP(B521,'Werte >15°C'!$Q$2:$S$8,2,FALSE)))","v":""},{"$f":"IF(Stammdaten!A524=\"\",\"\",IF(D521<=15,VLOOKUP(B521,'Werte =<15°C'!$Q$2:$S$8,3,FALSE),VLOOKUP(B521,'Werte >15°C'!$Q$2:$S$8,3,FALSE)))","v":""},{"$f":"IF(Stammdaten!A524=\"\",\"\",U521*(E523-D521)+V521)","v":""},{"$f":"IF(Stammdaten!A524=\"\",\"\",C521+W521)","v":""}]
[{"$f":"Analysedaten!A519","v":""},{"$f":"IF(Stammdaten!A522=\"\",\"\",WEEKDAY(A522,2))","v":""},{"$f":"IF(Stammdaten!A522=\"\",\"\",Analysedaten!C519)","v":""},{"$f":"Analysedaten!D519","v":""},{"$f":"Analysedaten!E519","v":""},"","","","","","","","","","","","","","",null,{"$f":"IF(Stammdaten!A525=\"\",\"\",IF(D522<=15,VLOOKUP(B522,'Werte =<15°C'!$Q$2:$S$8,2,FALSE),VLOOKUP(B522,'Werte >15°C'!$Q$2:$S$8,2,FALSE)))","v":""},{"$f":"IF(Stammdaten!A525=\"\",\"\",IF(D522<=15,VLOOKUP(B522,'Werte =<15°C'!$Q$2:$S$8,3,FALSE),VLOOKUP(B522,'Werte >15°C'!$Q$2:$S$8,3,FALSE)))","v":""},{"$f":"IF(Stammdaten!A525=\"\",\"\",U522*(E524-D522)+V522)","v":""},{"$f":"IF(Stammdaten!A525=\"\",\"\",C522+W522)","v":""}]
[{"$f":"Analysedaten!A520","v":""},{"$f":"IF(Stammdaten!A523=\"\",\"\",WEEKDAY(A523,2))","v":""},{"$f":"IF(Stammdaten!A523=\"\",\"\",Analysedaten!C520)","v":""},{"$f":"Analysedaten!D520","v":""},{"$f":"Analysedaten!E520","v":""},"","","","","","","","","","","","","","",null,{"$f":"IF(Stammdaten!A526=\"\",\"\",IF(D523<=15,VLOOKUP(B523,'Werte =<15°C'!$Q$2:$S$8,2,FALSE),VLOOKUP(B523,'Werte >15°C'!$Q$2:$S$8,2,FALSE)))","v":""},{"$f":"IF(Stammdaten!A526=\"\",\"\",IF(D523<=15,VLOOKUP(B523,'Werte =<15°C'!$Q$2:$S$8,3,FALSE),VLOOKUP(B523,'Werte >15°C'!$Q$2:$S$8,3,FALSE)))","v":""},{"$f":"IF(Stammdaten!A526=\"\",\"\",U523*(E525-D523)+V523)","v":""},{"$f":"IF(Stammdaten!A526=\"\",\"\",C523+W523)","v":""}]
[{"$f":"Analysedaten!A521","v":""},{"$f":"IF(Stammdaten!A524=\"\",\"\",WEEKDAY(A524,2))","v":""},{"$f":"IF(Stammdaten!A524=\"\",\"\",Analysedaten!C521)","v":""},{"$f":"Analysedaten!D521","v":""},{"$f":"Analysedaten!E521","v":""},"","","","","","","","","","","","","","",null,{"$f":"IF(Stammdaten!A527=\"\",\"\",IF(D524<=15,VLOOKUP(B524,'Werte =<15°C'!$Q$2:$S$8,2,FALSE),VLOOKUP(B524,'Werte >15°C'!$Q$2:$S$8,2,FALSE)))","v":""},{"$f":"IF(Stammdaten!A527=\"\",\"\",IF(D524<=15,VLOOKUP(B524,'Werte =<15°C'!$Q$2:$S$8,3,FALSE),VLOOKUP(B524,'Werte >15°C'!$Q$2:$S$8,3,FALSE)))","v":""},{"$f":"IF(Stammdaten!A527=\"\",\"\",U524*(E526-D524)+V524)","v":""},{"$f":"IF(Stammdaten!A527=\"\",\"\",C524+W524)","v":""}]
[{"$f":"Analysedaten!A522","v":""},{"$f":"IF(Stammdaten!A525=\"\",\"\",WEEKDAY(A525,2))","v":""},{"$f":"IF(Stammdaten!A525=\"\",\"\",Analysedaten!C522)","v":""},{"$f":"Analysedaten!D522","v":""},{"$f":"Analysedaten!E522","v":""},"","","","","","","","","","","","","","",null,{"$f":"IF(Stammdaten!A528=\"\",\"\",IF(D525<=15,VLOOKUP(B525,'Werte =<15°C'!$Q$2:$S$8,2,FALSE),VLOOKUP(B525,'Werte >15°C'!$Q$2:$S$8,2,FALSE)))","v":""},{"$f":"IF(Stammdaten!A528=\"\",\"\",IF(D525<=15,VLOOKUP(B525,'Werte =<15°C'!$Q$2:$S$8,3,FALSE),VLOOKUP(B525,'Werte >15°C'!$Q$2:$S$8,3,FALSE)))","v":""},{"$f":"IF(Stammdaten!A528=\"\",\"\",U525*(E527-D525)+V525)","v":""},{"$f":"IF(Stammdaten!A528=\"\",\"\",C525+W525)","v":""}]
[{"$f":"Analysedaten!A523","v":""},{"$f":"IF(Stammdaten!A526=\"\",\"\",WEEKDAY(A526,2))","v":""},{"$f":"IF(Stammdaten!A526=\"\",\"\",Analysedaten!C523)","v":""},{"$f":"Analysedaten!D523","v":""},{"$f":"Analysedaten!E523","v":""},"","","","","","","","","","","","","","",null,{"$f":"IF(Stammdaten!A529=\"\",\"\",IF(D526<=15,VLOOKUP(B526,'Werte =<15°C'!$Q$2:$S$8,2,FALSE),VLOOKUP(B526,'Werte >15°C'!$Q$2:$S$8,2,FALSE)))","v":""},{"$f":"IF(Stammdaten!A529=\"\",\"\",IF(D526<=15,VLOOKUP(B526,'Werte =<15°C'!$Q$2:$S$8,3,FALSE),VLOOKUP(B526,'Werte >15°C'!$Q$2:$S$8,3,FALSE)))","v":""},{"$f":"IF(Stammdaten!A529=\"\",\"\",U526*(E528-D526)+V526)","v":""},{"$f":"IF(Stammdaten!A529=\"\",\"\",C526+W526)","v":""}]
[{"$f":"Analysedaten!A524","v":""},{"$f":"IF(Stammdaten!A527=\"\",\"\",WEEKDAY(A527,2))","v":""},{"$f":"IF(Stammdaten!A527=\"\",\"\",Analysedaten!C524)","v":""},{"$f":"Analysedaten!D524","v":""},{"$f":"Analysedaten!E524","v":""},"","","","","","","","","","","","","","",null,{"$f":"IF(Stammdaten!A530=\"\",\"\",IF(D527<=15,VLOOKUP(B527,'Werte =<15°C'!$Q$2:$S$8,2,FALSE),VLOOKUP(B527,'Werte >15°C'!$Q$2:$S$8,2,FALSE)))","v":""},{"$f":"IF(Stammdaten!A530=\"\",\"\",IF(D527<=15,VLOOKUP(B527,'Werte =<15°C'!$Q$2:$S$8,3,FALSE),VLOOKUP(B527,'Werte >15°C'!$Q$2:$S$8,3,FALSE)))","v":""},{"$f":"IF(Stammdaten!A530=\"\",\"\",U527*(E529-D527)+V527)","v":""},{"$f":"IF(Stammdaten!A530=\"\",\"\",C527+W527)","v":""}]
[{"$f":"Analysedaten!A525","v":""},{"$f":"IF(Stammdaten!A528=\"\",\"\",WEEKDAY(A528,2))","v":""},{"$f":"IF(Stammdaten!A528=\"\",\"\",Analysedaten!C525)","v":""},{"$f":"Analysedaten!D525","v":""},{"$f":"Analysedaten!E525","v":""},"","","","","","","","","","","","","","",null,{"$f":"IF(Stammdaten!A531=\"\",\"\",IF(D528<=15,VLOOKUP(B528,'Werte =<15°C'!$Q$2:$S$8,2,FALSE),VLOOKUP(B528,'Werte >15°C'!$Q$2:$S$8,2,FALSE)))","v":""},{"$f":"IF(Stammdaten!A531=\"\",\"\",IF(D528<=15,VLOOKUP(B528,'Werte =<15°C'!$Q$2:$S$8,3,FALSE),VLOOKUP(B528,'Werte >15°C'!$Q$2:$S$8,3,FALSE)))","v":""},{"$f":"IF(Stammdaten!A531=\"\",\"\",U528*(E530-D528)+V528)","v":""},{"$f":"IF(Stammdaten!A531=\"\",\"\",C528+W528)","v":""}]
[{"$f":"Analysedaten!A526","v":""},{"$f":"IF(Stammdaten!A529=\"\",\"\",WEEKDAY(A529,2))","v":""},{"$f":"IF(Stammdaten!A529=\"\",\"\",Analysedaten!C526)","v":""},{"$f":"Analysedaten!D526","v":""},{"$f":"Analysedaten!E526","v":""},"","","","","","","","","","","","","","",null,{"$f":"IF(Stammdaten!A532=\"\",\"\",IF(D529<=15,VLOOKUP(B529,'Werte =<15°C'!$Q$2:$S$8,2,FALSE),VLOOKUP(B529,'Werte >15°C'!$Q$2:$S$8,2,FALSE)))","v":""},{"$f":"IF(Stammdaten!A532=\"\",\"\",IF(D529<=15,VLOOKUP(B529,'Werte =<15°C'!$Q$2:$S$8,3,FALSE),VLOOKUP(B529,'Werte >15°C'!$Q$2:$S$8,3,FALSE)))","v":""},{"$f":"IF(Stammdaten!A532=\"\",\"\",U529*(E531-D529)+V529)","v":""},{"$f":"IF(Stammdaten!A532=\"\",\"\",C529+W529)","v":""}]
[{"$f":"Analysedaten!A527","v":""},{"$f":"IF(Stammdaten!A530=\"\",\"\",WEEKDAY(A530,2))","v":""},{"$f":"IF(Stammdaten!A530=\"\",\"\",Analysedaten!C527)","v":""},{"$f":"Analysedaten!D527","v":""},{"$f":"Analysedaten!E527","v":""},"","","","","","","","","","","","","","",null,{"$f":"IF(Stammdaten!A533=\"\",\"\",IF(D530<=15,VLOOKUP(B530,'Werte =<15°C'!$Q$2:$S$8,2,FALSE),VLOOKUP(B530,'Werte >15°C'!$Q$2:$S$8,2,FALSE)))","v":""},{"$f":"IF(Stammdaten!A533=\"\",\"\",IF(D530<=15,VLOOKUP(B530,'Werte =<15°C'!$Q$2:$S$8,3,FALSE),VLOOKUP(B530,'Werte >15°C'!$Q$2:$S$8,3,FALSE)))","v":""},{"$f":"IF(Stammdaten!A533=\"\",\"\",U530*(E532-D530)+V530)","v":""},{"$f":"IF(Stammdaten!A533=\"\",\"\",C530+W530)","v":""}]
[{"$f":"Analysedaten!A528","v":""},{"$f":"IF(Stammdaten!A531=\"\",\"\",WEEKDAY(A531,2))","v":""},{"$f":"IF(Stammdaten!A531=\"\",\"\",Analysedaten!C528)","v":""},{"$f":"Analysedaten!D528","v":""},{"$f":"Analysedaten!E528","v":""},"","","","","","","","","","","","","","",null,{"$f":"IF(Stammdaten!A534=\"\",\"\",IF(D531<=15,VLOOKUP(B531,'Werte =<15°C'!$Q$2:$S$8,2,FALSE),VLOOKUP(B531,'Werte >15°C'!$Q$2:$S$8,2,FALSE)))","v":""},{"$f":"IF(Stammdaten!A534=\"\",\"\",IF(D531<=15,VLOOKUP(B531,'Werte =<15°C'!$Q$2:$S$8,3,FALSE),VLOOKUP(B531,'Werte >15°C'!$Q$2:$S$8,3,FALSE)))","v":""},{"$f":"IF(Stammdaten!A534=\"\",\"\",U531*(E533-D531)+V531)","v":""},{"$f":"IF(Stammdaten!A534=\"\",\"\",C531+W531)","v":""}]
[{"$f":"Analysedaten!A529","v":""},{"$f":"IF(Stammdaten!A532=\"\",\"\",WEEKDAY(A532,2))","v":""},{"$f":"IF(Stammdaten!A532=\"\",\"\",Analysedaten!C529)","v":""},{"$f":"Analysedaten!D529","v":""},{"$f":"Analysedaten!E529","v":""},"","","","","","","","","","","","","","",null,{"$f":"IF(Stammdaten!A535=\"\",\"\",IF(D532<=15,VLOOKUP(B532,'Werte =<15°C'!$Q$2:$S$8,2,FALSE),VLOOKUP(B532,'Werte >15°C'!$Q$2:$S$8,2,FALSE)))","v":""},{"$f":"IF(Stammdaten!A535=\"\",\"\",IF(D532<=15,VLOOKUP(B532,'Werte =<15°C'!$Q$2:$S$8,3,FALSE),VLOOKUP(B532,'Werte >15°C'!$Q$2:$S$8,3,FALSE)))","v":""},{"$f":"IF(Stammdaten!A535=\"\",\"\",U532*(E534-D532)+V532)","v":""},{"$f":"IF(Stammdaten!A535=\"\",\"\",C532+W532)","v":""}]
[{"$f":"Analysedaten!A530","v":""},{"$f":"IF(Stammdaten!A533=\"\",\"\",WEEKDAY(A533,2))","v":""},{"$f":"IF(Stammdaten!A533=\"\",\"\",Analysedaten!C530)","v":""},{"$f":"Analysedaten!D530","v":""},{"$f":"Analysedaten!E530","v":""},"","","","","","","","","","","","","","",null,{"$f":"IF(Stammdaten!A536=\"\",\"\",IF(D533<=15,VLOOKUP(B533,'Werte =<15°C'!$Q$2:$S$8,2,FALSE),VLOOKUP(B533,'Werte >15°C'!$Q$2:$S$8,2,FALSE)))","v":""},{"$f":"IF(Stammdaten!A536=\"\",\"\",IF(D533<=15,VLOOKUP(B533,'Werte =<15°C'!$Q$2:$S$8,3,FALSE),VLOOKUP(B533,'Werte >15°C'!$Q$2:$S$8,3,FALSE)))","v":""},{"$f":"IF(Stammdaten!A536=\"\",\"\",U533*(E535-D533)+V533)","v":""},{"$f":"IF(Stammdaten!A536=\"\",\"\",C533+W533)","v":""}]
[{"$f":"Analysedaten!A531","v":""},{"$f":"IF(Stammdaten!A534=\"\",\"\",WEEKDAY(A534,2))","v":""},{"$f":"IF(Stammdaten!A534=\"\",\"\",Analysedaten!C531)","v":""},{"$f":"Analysedaten!D531","v":""},{"$f":"Analysedaten!E531","v":""},"","","","","","","","","","","","","","",null,{"$f":"IF(Stammdaten!A537=\"\",\"\",IF(D534<=15,VLOOKUP(B534,'Werte =<15°C'!$Q$2:$S$8,2,FALSE),VLOOKUP(B534,'Werte >15°C'!$Q$2:$S$8,2,FALSE)))","v":""},{"$f":"IF(Stammdaten!A537=\"\",\"\",IF(D534<=15,VLOOKUP(B534,'Werte =<15°C'!$Q$2:$S$8,3,FALSE),VLOOKUP(B534,'Werte >15°C'!$Q$2:$S$8,3,FALSE)))","v":""},{"$f":"IF(Stammdaten!A537=\"\",\"\",U534*(E536-D534)+V534)","v":""},{"$f":"IF(Stammdaten!A537=\"\",\"\",C534+W534)","v":""}]
[{"$f":"Analysedaten!A532","v":""},{"$f":"IF(Stammdaten!A535=\"\",\"\",WEEKDAY(A535,2))","v":""},{"$f":"IF(Stammdaten!A535=\"\",\"\",Analysedaten!C532)","v":""},{"$f":"Analysedaten!D532","v":""},{"$f":"Analysedaten!E532","v":""},"","","","","","","","","","","","","","",null,{"$f":"IF(Stammdaten!A538=\"\",\"\",IF(D535<=15,VLOOKUP(B535,'Werte =<15°C'!$Q$2:$S$8,2,FALSE),VLOOKUP(B535,'Werte >15°C'!$Q$2:$S$8,2,FALSE)))","v":""},{"$f":"IF(Stammdaten!A538=\"\",\"\",IF(D535<=15,VLOOKUP(B535,'Werte =<15°C'!$Q$2:$S$8,3,FALSE),VLOOKUP(B535,'Werte >15°C'!$Q$2:$S$8,3,FALSE)))","v":""},{"$f":"IF(Stammdaten!A538=\"\",\"\",U535*(E537-D535)+V535)","v":""},{"$f":"IF(Stammdaten!A538=\"\",\"\",C535+W535)","v":""}]
[{"$f":"Analysedaten!A533","v":""},{"$f":"IF(Stammdaten!A536=\"\",\"\",WEEKDAY(A536,2))","v":""},{"$f":"IF(Stammdaten!A536=\"\",\"\",Analysedaten!C533)","v":""},{"$f":"Analysedaten!D533","v":""},{"$f":"Analysedaten!E533","v":""},"","","","","","","","","","","","","","",null,{"$f":"IF(Stammdaten!A539=\"\",\"\",IF(D536<=15,VLOOKUP(B536,'Werte =<15°C'!$Q$2:$S$8,2,FALSE),VLOOKUP(B536,'Werte >15°C'!$Q$2:$S$8,2,FALSE)))","v":""},{"$f":"IF(Stammdaten!A539=\"\",\"\",IF(D536<=15,VLOOKUP(B536,'Werte =<15°C'!$Q$2:$S$8,3,FALSE),VLOOKUP(B536,'Werte >15°C'!$Q$2:$S$8,3,FALSE)))","v":""},{"$f":"IF(Stammdaten!A539=\"\",\"\",U536*(E538-D536)+V536)","v":""},{"$f":"IF(Stammdaten!A539=\"\",\"\",C536+W536)","v":""}]
[{"$f":"Analysedaten!A534","v":""},{"$f":"IF(Stammdaten!A537=\"\",\"\",WEEKDAY(A537,2))","v":""},{"$f":"IF(Stammdaten!A537=\"\",\"\",Analysedaten!C534)","v":""},{"$f":"Analysedaten!D534","v":""},{"$f":"Analysedaten!E534","v":""},"","","","","","","","","","","","","","",null,{"$f":"IF(Stammdaten!A540=\"\",\"\",IF(D537<=15,VLOOKUP(B537,'Werte =<15°C'!$Q$2:$S$8,2,FALSE),VLOOKUP(B537,'Werte >15°C'!$Q$2:$S$8,2,FALSE)))","v":""},{"$f":"IF(Stammdaten!A540=\"\",\"\",IF(D537<=15,VLOOKUP(B537,'Werte =<15°C'!$Q$2:$S$8,3,FALSE),VLOOKUP(B537,'Werte >15°C'!$Q$2:$S$8,3,FALSE)))","v":""},{"$f":"IF(Stammdaten!A540=\"\",\"\",U537*(E539-D537)+V537)","v":""},{"$f":"IF(Stammdaten!A540=\"\",\"\",C537+W537)","v":""}]
[{"$f":"Analysedaten!A535","v":""},{"$f":"IF(Stammdaten!A538=\"\",\"\",WEEKDAY(A538,2))","v":""},{"$f":"IF(Stammdaten!A538=\"\",\"\",Analysedaten!C535)","v":""},{"$f":"Analysedaten!D535","v":""},{"$f":"Analysedaten!E535","v":""},"","","","","","","","","","","","","","",null,{"$f":"IF(Stammdaten!A541=\"\",\"\",IF(D538<=15,VLOOKUP(B538,'Werte =<15°C'!$Q$2:$S$8,2,FALSE),VLOOKUP(B538,'Werte >15°C'!$Q$2:$S$8,2,FALSE)))","v":""},{"$f":"IF(Stammdaten!A541=\"\",\"\",IF(D538<=15,VLOOKUP(B538,'Werte =<15°C'!$Q$2:$S$8,3,FALSE),VLOOKUP(B538,'Werte >15°C'!$Q$2:$S$8,3,FALSE)))","v":""},{"$f":"IF(Stammdaten!A541=\"\",\"\",U538*(E540-D538)+V538)","v":""},{"$f":"IF(Stammdaten!A541=\"\",\"\",C538+W538)","v":""}]
[{"$f":"Analysedaten!A536","v":""},{"$f":"IF(Stammdaten!A539=\"\",\"\",WEEKDAY(A539,2))","v":""},{"$f":"IF(Stammdaten!A539=\"\",\"\",Analysedaten!C536)","v":""},{"$f":"Analysedaten!D536","v":""},{"$f":"Analysedaten!E536","v":""},"","","","","","","","","","","","","","",null,{"$f":"IF(Stammdaten!A542=\"\",\"\",IF(D539<=15,VLOOKUP(B539,'Werte =<15°C'!$Q$2:$S$8,2,FALSE),VLOOKUP(B539,'Werte >15°C'!$Q$2:$S$8,2,FALSE)))","v":""},{"$f":"IF(Stammdaten!A542=\"\",\"\",IF(D539<=15,VLOOKUP(B539,'Werte =<15°C'!$Q$2:$S$8,3,FALSE),VLOOKUP(B539,'Werte >15°C'!$Q$2:$S$8,3,FALSE)))","v":""},{"$f":"IF(Stammdaten!A542=\"\",\"\",U539*(E541-D539)+V539)","v":""},{"$f":"IF(Stammdaten!A542=\"\",\"\",C539+W539)","v":""}]
[{"$f":"Analysedaten!A537","v":""},{"$f":"IF(Stammdaten!A540=\"\",\"\",WEEKDAY(A540,2))","v":""},{"$f":"IF(Stammdaten!A540=\"\",\"\",Analysedaten!C537)","v":""},{"$f":"Analysedaten!D537","v":""},{"$f":"Analysedaten!E537","v":""},"","","","","","","","","","","","","","",null,{"$f":"IF(Stammdaten!A543=\"\",\"\",IF(D540<=15,VLOOKUP(B540,'Werte =<15°C'!$Q$2:$S$8,2,FALSE),VLOOKUP(B540,'Werte >15°C'!$Q$2:$S$8,2,FALSE)))","v":""},{"$f":"IF(Stammdaten!A543=\"\",\"\",IF(D540<=15,VLOOKUP(B540,'Werte =<15°C'!$Q$2:$S$8,3,FALSE),VLOOKUP(B540,'Werte >15°C'!$Q$2:$S$8,3,FALSE)))","v":""},{"$f":"IF(Stammdaten!A543=\"\",\"\",U540*(E542-D540)+V540)","v":""},{"$f":"IF(Stammdaten!A543=\"\",\"\",C540+W540)","v":""}]
[{"$f":"Analysedaten!A538","v":""},{"$f":"IF(Stammdaten!A541=\"\",\"\",WEEKDAY(A541,2))","v":""},{"$f":"IF(Stammdaten!A541=\"\",\"\",Analysedaten!C538)","v":""},{"$f":"Analysedaten!D538","v":""},{"$f":"Analysedaten!E538","v":""},"","","","","","","","","","","","","","",null,{"$f":"IF(Stammdaten!A544=\"\",\"\",IF(D541<=15,VLOOKUP(B541,'Werte =<15°C'!$Q$2:$S$8,2,FALSE),VLOOKUP(B541,'Werte >15°C'!$Q$2:$S$8,2,FALSE)))","v":""},{"$f":"IF(Stammdaten!A544=\"\",\"\",IF(D541<=15,VLOOKUP(B541,'Werte =<15°C'!$Q$2:$S$8,3,FALSE),VLOOKUP(B541,'Werte >15°C'!$Q$2:$S$8,3,FALSE)))","v":""},{"$f":"IF(Stammdaten!A544=\"\",\"\",U541*(E543-D541)+V541)","v":""},{"$f":"IF(Stammdaten!A544=\"\",\"\",C541+W541)","v":""}]
[{"$f":"Analysedaten!A539","v":""},{"$f":"IF(Stammdaten!A542=\"\",\"\",WEEKDAY(A542,2))","v":""},{"$f":"IF(Stammdaten!A542=\"\",\"\",Analysedaten!C539)","v":""},{"$f":"Analysedaten!D539","v":""},{"$f":"Analysedaten!E539","v":""},"","","","","","","","","","","","","","",null,{"$f":"IF(Stammdaten!A545=\"\",\"\",IF(D542<=15,VLOOKUP(B542,'Werte =<15°C'!$Q$2:$S$8,2,FALSE),VLOOKUP(B542,'Werte >15°C'!$Q$2:$S$8,2,FALSE)))","v":""},{"$f":"IF(Stammdaten!A545=\"\",\"\",IF(D542<=15,VLOOKUP(B542,'Werte =<15°C'!$Q$2:$S$8,3,FALSE),VLOOKUP(B542,'Werte >15°C'!$Q$2:$S$8,3,FALSE)))","v":""},{"$f":"IF(Stammdaten!A545=\"\",\"\",U542*(E544-D542)+V542)","v":""},{"$f":"IF(Stammdaten!A545=\"\",\"\",C542+W542)","v":""}]
[{"$f":"Analysedaten!A540","v":""},{"$f":"IF(Stammdaten!A543=\"\",\"\",WEEKDAY(A543,2))","v":""},{"$f":"IF(Stammdaten!A543=\"\",\"\",Analysedaten!C540)","v":""},{"$f":"Analysedaten!D540","v":""},{"$f":"Analysedaten!E540","v":""},"","","","","","","","","","","","","","",null,{"$f":"IF(Stammdaten!A546=\"\",\"\",IF(D543<=15,VLOOKUP(B543,'Werte =<15°C'!$Q$2:$S$8,2,FALSE),VLOOKUP(B543,'Werte >15°C'!$Q$2:$S$8,2,FALSE)))","v":""},{"$f":"IF(Stammdaten!A546=\"\",\"\",IF(D543<=15,VLOOKUP(B543,'Werte =<15°C'!$Q$2:$S$8,3,FALSE),VLOOKUP(B543,'Werte >15°C'!$Q$2:$S$8,3,FALSE)))","v":""},{"$f":"IF(Stammdaten!A546=\"\",\"\",U543*(E545-D543)+V543)","v":""},{"$f":"IF(Stammdaten!A546=\"\",\"\",C543+W543)","v":""}]
[{"$f":"Analysedaten!A541","v":""},{"$f":"IF(Stammdaten!A544=\"\",\"\",WEEKDAY(A544,2))","v":""},{"$f":"IF(Stammdaten!A544=\"\",\"\",Analysedaten!C541)","v":""},{"$f":"Analysedaten!D541","v":""},{"$f":"Analysedaten!E541","v":""},"","","","","","","","","","","","","","",null,{"$f":"IF(Stammdaten!A547=\"\",\"\",IF(D544<=15,VLOOKUP(B544,'Werte =<15°C'!$Q$2:$S$8,2,FALSE),VLOOKUP(B544,'Werte >15°C'!$Q$2:$S$8,2,FALSE)))","v":""},{"$f":"IF(Stammdaten!A547=\"\",\"\",IF(D544<=15,VLOOKUP(B544,'Werte =<15°C'!$Q$2:$S$8,3,FALSE),VLOOKUP(B544,'Werte >15°C'!$Q$2:$S$8,3,FALSE)))","v":""},{"$f":"IF(Stammdaten!A547=\"\",\"\",U544*(E546-D544)+V544)","v":""},{"$f":"IF(Stammdaten!A547=\"\",\"\",C544+W544)","v":""}]
[{"$f":"Analysedaten!A542","v":""},{"$f":"IF(Stammdaten!A545=\"\",\"\",WEEKDAY(A545,2))","v":""},{"$f":"IF(Stammdaten!A545=\"\",\"\",Analysedaten!C542)","v":""},{"$f":"Analysedaten!D542","v":""},{"$f":"Analysedaten!E542","v":""},"","","","","","","","","","","","","","",null,{"$f":"IF(Stammdaten!A548=\"\",\"\",IF(D545<=15,VLOOKUP(B545,'Werte =<15°C'!$Q$2:$S$8,2,FALSE),VLOOKUP(B545,'Werte >15°C'!$Q$2:$S$8,2,FALSE)))","v":""},{"$f":"IF(Stammdaten!A548=\"\",\"\",IF(D545<=15,VLOOKUP(B545,'Werte =<15°C'!$Q$2:$S$8,3,FALSE),VLOOKUP(B545,'Werte >15°C'!$Q$2:$S$8,3,FALSE)))","v":""},{"$f":"IF(Stammdaten!A548=\"\",\"\",U545*(E547-D545)+V545)","v":""},{"$f":"IF(Stammdaten!A548=\"\",\"\",C545+W545)","v":""}]
[{"$f":"Analysedaten!A543","v":""},{"$f":"IF(Stammdaten!A546=\"\",\"\",WEEKDAY(A546,2))","v":""},{"$f":"IF(Stammdaten!A546=\"\",\"\",Analysedaten!C543)","v":""},{"$f":"Analysedaten!D543","v":""},{"$f":"Analysedaten!E543","v":""},"","","","","","","","","","","","","","",null,{"$f":"IF(Stammdaten!A549=\"\",\"\",IF(D546<=15,VLOOKUP(B546,'Werte =<15°C'!$Q$2:$S$8,2,FALSE),VLOOKUP(B546,'Werte >15°C'!$Q$2:$S$8,2,FALSE)))","v":""},{"$f":"IF(Stammdaten!A549=\"\",\"\",IF(D546<=15,VLOOKUP(B546,'Werte =<15°C'!$Q$2:$S$8,3,FALSE),VLOOKUP(B546,'Werte >15°C'!$Q$2:$S$8,3,FALSE)))","v":""},{"$f":"IF(Stammdaten!A549=\"\",\"\",U546*(E548-D546)+V546)","v":""},{"$f":"IF(Stammdaten!A549=\"\",\"\",C546+W546)","v":""}]
[{"$f":"Analysedaten!A544","v":""},{"$f":"IF(Stammdaten!A547=\"\",\"\",WEEKDAY(A547,2))","v":""},{"$f":"IF(Stammdaten!A547=\"\",\"\",Analysedaten!C544)","v":""},{"$f":"Analysedaten!D544","v":""},{"$f":"Analysedaten!E544","v":""},"","","","","","","","","","","","","","",null,{"$f":"IF(Stammdaten!A550=\"\",\"\",IF(D547<=15,VLOOKUP(B547,'Werte =<15°C'!$Q$2:$S$8,2,FALSE),VLOOKUP(B547,'Werte >15°C'!$Q$2:$S$8,2,FALSE)))","v":""},{"$f":"IF(Stammdaten!A550=\"\",\"\",IF(D547<=15,VLOOKUP(B547,'Werte =<15°C'!$Q$2:$S$8,3,FALSE),VLOOKUP(B547,'Werte >15°C'!$Q$2:$S$8,3,FALSE)))","v":""},{"$f":"IF(Stammdaten!A550=\"\",\"\",U547*(E549-D547)+V547)","v":""},{"$f":"IF(Stammdaten!A550=\"\",\"\",C547+W547)","v":""}]
[{"$f":"Analysedaten!A545","v":""},{"$f":"IF(Stammdaten!A548=\"\",\"\",WEEKDAY(A548,2))","v":""},{"$f":"IF(Stammdaten!A548=\"\",\"\",Analysedaten!C545)","v":""},{"$f":"Analysedaten!D545","v":""},{"$f":"Analysedaten!E545","v":""},"","","","","","","","","","","","","","",null,{"$f":"IF(Stammdaten!A551=\"\",\"\",IF(D548<=15,VLOOKUP(B548,'Werte =<15°C'!$Q$2:$S$8,2,FALSE),VLOOKUP(B548,'Werte >15°C'!$Q$2:$S$8,2,FALSE)))","v":""},{"$f":"IF(Stammdaten!A551=\"\",\"\",IF(D548<=15,VLOOKUP(B548,'Werte =<15°C'!$Q$2:$S$8,3,FALSE),VLOOKUP(B548,'Werte >15°C'!$Q$2:$S$8,3,FALSE)))","v":""},{"$f":"IF(Stammdaten!A551=\"\",\"\",U548*(E550-D548)+V548)","v":""},{"$f":"IF(Stammdaten!A551=\"\",\"\",C548+W548)","v":""}]
[{"$f":"Analysedaten!A546","v":""},{"$f":"IF(Stammdaten!A549=\"\",\"\",WEEKDAY(A549,2))","v":""},{"$f":"IF(Stammdaten!A549=\"\",\"\",Analysedaten!C546)","v":""},{"$f":"Analysedaten!D546","v":""},{"$f":"Analysedaten!E546","v":""},"","","","","","","","","","","","","","",null,{"$f":"IF(Stammdaten!A552=\"\",\"\",IF(D549<=15,VLOOKUP(B549,'Werte =<15°C'!$Q$2:$S$8,2,FALSE),VLOOKUP(B549,'Werte >15°C'!$Q$2:$S$8,2,FALSE)))","v":""},{"$f":"IF(Stammdaten!A552=\"\",\"\",IF(D549<=15,VLOOKUP(B549,'Werte =<15°C'!$Q$2:$S$8,3,FALSE),VLOOKUP(B549,'Werte >15°C'!$Q$2:$S$8,3,FALSE)))","v":""},{"$f":"IF(Stammdaten!A552=\"\",\"\",U549*(E551-D549)+V549)","v":""},{"$f":"IF(Stammdaten!A552=\"\",\"\",C549+W549)","v":""}]
[{"$f":"Analysedaten!A547","v":""},{"$f":"IF(Stammdaten!A550=\"\",\"\",WEEKDAY(A550,2))","v":""},{"$f":"IF(Stammdaten!A550=\"\",\"\",Analysedaten!C547)","v":""},{"$f":"Analysedaten!D547","v":""},{"$f":"Analysedaten!E547","v":""},"","","","","","","","","","","","","","",null,{"$f":"IF(Stammdaten!A553=\"\",\"\",IF(D550<=15,VLOOKUP(B550,'Werte =<15°C'!$Q$2:$S$8,2,FALSE),VLOOKUP(B550,'Werte >15°C'!$Q$2:$S$8,2,FALSE)))","v":""},{"$f":"IF(Stammdaten!A553=\"\",\"\",IF(D550<=15,VLOOKUP(B550,'Werte =<15°C'!$Q$2:$S$8,3,FALSE),VLOOKUP(B550,'Werte >15°C'!$Q$2:$S$8,3,FALSE)))","v":""},{"$f":"IF(Stammdaten!A553=\"\",\"\",U550*(E552-D550)+V550)","v":""},{"$f":"IF(Stammdaten!A553=\"\",\"\",C550+W550)","v":""}]
[{"$f":"Analysedaten!A548","v":""},{"$f":"IF(Stammdaten!A551=\"\",\"\",WEEKDAY(A551,2))","v":""},{"$f":"IF(Stammdaten!A551=\"\",\"\",Analysedaten!C548)","v":""},{"$f":"Analysedaten!D548","v":""},{"$f":"Analysedaten!E548","v":""},"","","","","","","","","","","","","","",null,{"$f":"IF(Stammdaten!A554=\"\",\"\",IF(D551<=15,VLOOKUP(B551,'Werte =<15°C'!$Q$2:$S$8,2,FALSE),VLOOKUP(B551,'Werte >15°C'!$Q$2:$S$8,2,FALSE)))","v":""},{"$f":"IF(Stammdaten!A554=\"\",\"\",IF(D551<=15,VLOOKUP(B551,'Werte =<15°C'!$Q$2:$S$8,3,FALSE),VLOOKUP(B551,'Werte >15°C'!$Q$2:$S$8,3,FALSE)))","v":""},{"$f":"IF(Stammdaten!A554=\"\",\"\",U551*(E553-D551)+V551)","v":""},{"$f":"IF(Stammdaten!A554=\"\",\"\",C551+W551)","v":""}]
[{"$f":"Analysedaten!A549","v":""},{"$f":"IF(Stammdaten!A552=\"\",\"\",WEEKDAY(A552,2))","v":""},{"$f":"IF(Stammdaten!A552=\"\",\"\",Analysedaten!C549)","v":""},{"$f":"Analysedaten!D549","v":""},{"$f":"Analysedaten!E549","v":""},"","","","","","","","","","","","","","",null,{"$f":"IF(Stammdaten!A555=\"\",\"\",IF(D552<=15,VLOOKUP(B552,'Werte =<15°C'!$Q$2:$S$8,2,FALSE),VLOOKUP(B552,'Werte >15°C'!$Q$2:$S$8,2,FALSE)))","v":""},{"$f":"IF(Stammdaten!A555=\"\",\"\",IF(D552<=15,VLOOKUP(B552,'Werte =<15°C'!$Q$2:$S$8,3,FALSE),VLOOKUP(B552,'Werte >15°C'!$Q$2:$S$8,3,FALSE)))","v":""},{"$f":"IF(Stammdaten!A555=\"\",\"\",U552*(E554-D552)+V552)","v":""},{"$f":"IF(Stammdaten!A555=\"\",\"\",C552+W552)","v":""}]
[{"$f":"Analysedaten!A550","v":""},{"$f":"IF(Stammdaten!A553=\"\",\"\",WEEKDAY(A553,2))","v":""},{"$f":"IF(Stammdaten!A553=\"\",\"\",Analysedaten!C550)","v":""},{"$f":"Analysedaten!D550","v":""},{"$f":"Analysedaten!E550","v":""},"","","","","","","","","","","","","","",null,{"$f":"IF(Stammdaten!A556=\"\",\"\",IF(D553<=15,VLOOKUP(B553,'Werte =<15°C'!$Q$2:$S$8,2,FALSE),VLOOKUP(B553,'Werte >15°C'!$Q$2:$S$8,2,FALSE)))","v":""},{"$f":"IF(Stammdaten!A556=\"\",\"\",IF(D553<=15,VLOOKUP(B553,'Werte =<15°C'!$Q$2:$S$8,3,FALSE),VLOOKUP(B553,'Werte >15°C'!$Q$2:$S$8,3,FALSE)))","v":""},{"$f":"IF(Stammdaten!A556=\"\",\"\",U553*(E555-D553)+V553)","v":""},{"$f":"IF(Stammdaten!A556=\"\",\"\",C553+W553)","v":""}]
[{"$f":"Analysedaten!A551","v":""},{"$f":"IF(Stammdaten!A554=\"\",\"\",WEEKDAY(A554,2))","v":""},{"$f":"IF(Stammdaten!A554=\"\",\"\",Analysedaten!C551)","v":""},{"$f":"Analysedaten!D551","v":""},{"$f":"Analysedaten!E551","v":""},"","","","","","","","","","","","","","",null,{"$f":"IF(Stammdaten!A557=\"\",\"\",IF(D554<=15,VLOOKUP(B554,'Werte =<15°C'!$Q$2:$S$8,2,FALSE),VLOOKUP(B554,'Werte >15°C'!$Q$2:$S$8,2,FALSE)))","v":""},{"$f":"IF(Stammdaten!A557=\"\",\"\",IF(D554<=15,VLOOKUP(B554,'Werte =<15°C'!$Q$2:$S$8,3,FALSE),VLOOKUP(B554,'Werte >15°C'!$Q$2:$S$8,3,FALSE)))","v":""},{"$f":"IF(Stammdaten!A557=\"\",\"\",U554*(E556-D554)+V554)","v":""},{"$f":"IF(Stammdaten!A557=\"\",\"\",C554+W554)","v":""}]
[{"$f":"Analysedaten!A552","v":""},{"$f":"IF(Stammdaten!A555=\"\",\"\",WEEKDAY(A555,2))","v":""},{"$f":"IF(Stammdaten!A555=\"\",\"\",Analysedaten!C552)","v":""},{"$f":"Analysedaten!D552","v":""},{"$f":"Analysedaten!E552","v":""},"","","","","","","","","","","","","","",null,{"$f":"IF(Stammdaten!A558=\"\",\"\",IF(D555<=15,VLOOKUP(B555,'Werte =<15°C'!$Q$2:$S$8,2,FALSE),VLOOKUP(B555,'Werte >15°C'!$Q$2:$S$8,2,FALSE)))","v":""},{"$f":"IF(Stammdaten!A558=\"\",\"\",IF(D555<=15,VLOOKUP(B555,'Werte =<15°C'!$Q$2:$S$8,3,FALSE),VLOOKUP(B555,'Werte >15°C'!$Q$2:$S$8,3,FALSE)))","v":""},{"$f":"IF(Stammdaten!A558=\"\",\"\",U555*(E557-D555)+V555)","v":""},{"$f":"IF(Stammdaten!A558=\"\",\"\",C555+W555)","v":""}]
[{"$f":"Analysedaten!A553","v":""},{"$f":"IF(Stammdaten!A556=\"\",\"\",WEEKDAY(A556,2))","v":""},{"$f":"IF(Stammdaten!A556=\"\",\"\",Analysedaten!C553)","v":""},{"$f":"Analysedaten!D553","v":""},{"$f":"Analysedaten!E553","v":""},"","","","","","","","","","","","","","",null,{"$f":"IF(Stammdaten!A559=\"\",\"\",IF(D556<=15,VLOOKUP(B556,'Werte =<15°C'!$Q$2:$S$8,2,FALSE),VLOOKUP(B556,'Werte >15°C'!$Q$2:$S$8,2,FALSE)))","v":""},{"$f":"IF(Stammdaten!A559=\"\",\"\",IF(D556<=15,VLOOKUP(B556,'Werte =<15°C'!$Q$2:$S$8,3,FALSE),VLOOKUP(B556,'Werte >15°C'!$Q$2:$S$8,3,FALSE)))","v":""},{"$f":"IF(Stammdaten!A559=\"\",\"\",U556*(E558-D556)+V556)","v":""},{"$f":"IF(Stammdaten!A559=\"\",\"\",C556+W556)","v":""}]
[{"$f":"Analysedaten!A554","v":""},{"$f":"IF(Stammdaten!A557=\"\",\"\",WEEKDAY(A557,2))","v":""},{"$f":"IF(Stammdaten!A557=\"\",\"\",Analysedaten!C554)","v":""},{"$f":"Analysedaten!D554","v":""},{"$f":"Analysedaten!E554","v":""},"","","","","","","","","","","","","","",null,{"$f":"IF(Stammdaten!A560=\"\",\"\",IF(D557<=15,VLOOKUP(B557,'Werte =<15°C'!$Q$2:$S$8,2,FALSE),VLOOKUP(B557,'Werte >15°C'!$Q$2:$S$8,2,FALSE)))","v":""},{"$f":"IF(Stammdaten!A560=\"\",\"\",IF(D557<=15,VLOOKUP(B557,'Werte =<15°C'!$Q$2:$S$8,3,FALSE),VLOOKUP(B557,'Werte >15°C'!$Q$2:$S$8,3,FALSE)))","v":""},{"$f":"IF(Stammdaten!A560=\"\",\"\",U557*(E559-D557)+V557)","v":""},{"$f":"IF(Stammdaten!A560=\"\",\"\",C557+W557)","v":""}]
[{"$f":"Analysedaten!A555","v":""},{"$f":"IF(Stammdaten!A558=\"\",\"\",WEEKDAY(A558,2))","v":""},{"$f":"IF(Stammdaten!A558=\"\",\"\",Analysedaten!C555)","v":""},{"$f":"Analysedaten!D555","v":""},{"$f":"Analysedaten!E555","v":""},"","","","","","","","","","","","","","",null,{"$f":"IF(Stammdaten!A561=\"\",\"\",IF(D558<=15,VLOOKUP(B558,'Werte =<15°C'!$Q$2:$S$8,2,FALSE),VLOOKUP(B558,'Werte >15°C'!$Q$2:$S$8,2,FALSE)))","v":""},{"$f":"IF(Stammdaten!A561=\"\",\"\",IF(D558<=15,VLOOKUP(B558,'Werte =<15°C'!$Q$2:$S$8,3,FALSE),VLOOKUP(B558,'Werte >15°C'!$Q$2:$S$8,3,FALSE)))","v":""},{"$f":"IF(Stammdaten!A561=\"\",\"\",U558*(E560-D558)+V558)","v":""},{"$f":"IF(Stammdaten!A561=\"\",\"\",C558+W558)","v":""}]
[{"$f":"Analysedaten!A556","v":""},{"$f":"IF(Stammdaten!A559=\"\",\"\",WEEKDAY(A559,2))","v":""},{"$f":"IF(Stammdaten!A559=\"\",\"\",Analysedaten!C556)","v":""},{"$f":"Analysedaten!D556","v":""},{"$f":"Analysedaten!E556","v":""},"","","","","","","","","","","","","","",null,{"$f":"IF(Stammdaten!A562=\"\",\"\",IF(D559<=15,VLOOKUP(B559,'Werte =<15°C'!$Q$2:$S$8,2,FALSE),VLOOKUP(B559,'Werte >15°C'!$Q$2:$S$8,2,FALSE)))","v":""},{"$f":"IF(Stammdaten!A562=\"\",\"\",IF(D559<=15,VLOOKUP(B559,'Werte =<15°C'!$Q$2:$S$8,3,FALSE),VLOOKUP(B559,'Werte >15°C'!$Q$2:$S$8,3,FALSE)))","v":""},{"$f":"IF(Stammdaten!A562=\"\",\"\",U559*(E561-D559)+V559)","v":""},{"$f":"IF(Stammdaten!A562=\"\",\"\",C559+W559)","v":""}]
[{"$f":"Analysedaten!A557","v":""},{"$f":"IF(Stammdaten!A560=\"\",\"\",WEEKDAY(A560,2))","v":""},{"$f":"IF(Stammdaten!A560=\"\",\"\",Analysedaten!C557)","v":""},{"$f":"Analysedaten!D557","v":""},{"$f":"Analysedaten!E557","v":""},"","","","","","","","","","","","","","",null,{"$f":"IF(Stammdaten!A563=\"\",\"\",IF(D560<=15,VLOOKUP(B560,'Werte =<15°C'!$Q$2:$S$8,2,FALSE),VLOOKUP(B560,'Werte >15°C'!$Q$2:$S$8,2,FALSE)))","v":""},{"$f":"IF(Stammdaten!A563=\"\",\"\",IF(D560<=15,VLOOKUP(B560,'Werte =<15°C'!$Q$2:$S$8,3,FALSE),VLOOKUP(B560,'Werte >15°C'!$Q$2:$S$8,3,FALSE)))","v":""},{"$f":"IF(Stammdaten!A563=\"\",\"\",U560*(E562-D560)+V560)","v":""},{"$f":"IF(Stammdaten!A563=\"\",\"\",C560+W560)","v":""}]
[{"$f":"Analysedaten!A558","v":""},{"$f":"IF(Stammdaten!A561=\"\",\"\",WEEKDAY(A561,2))","v":""},{"$f":"IF(Stammdaten!A561=\"\",\"\",Analysedaten!C558)","v":""},{"$f":"Analysedaten!D558","v":""},{"$f":"Analysedaten!E558","v":""},"","","","","","","","","","","","","","",null,{"$f":"IF(Stammdaten!A564=\"\",\"\",IF(D561<=15,VLOOKUP(B561,'Werte =<15°C'!$Q$2:$S$8,2,FALSE),VLOOKUP(B561,'Werte >15°C'!$Q$2:$S$8,2,FALSE)))","v":""},{"$f":"IF(Stammdaten!A564=\"\",\"\",IF(D561<=15,VLOOKUP(B561,'Werte =<15°C'!$Q$2:$S$8,3,FALSE),VLOOKUP(B561,'Werte >15°C'!$Q$2:$S$8,3,FALSE)))","v":""},{"$f":"IF(Stammdaten!A564=\"\",\"\",U561*(E563-D561)+V561)","v":""},{"$f":"IF(Stammdaten!A564=\"\",\"\",C561+W561)","v":""}]
[{"$f":"Analysedaten!A559","v":""},{"$f":"IF(Stammdaten!A562=\"\",\"\",WEEKDAY(A562,2))","v":""},{"$f":"IF(Stammdaten!A562=\"\",\"\",Analysedaten!C559)","v":""},{"$f":"Analysedaten!D559","v":""},{"$f":"Analysedaten!E559","v":""},"","","","","","","","","","","","","","",null,{"$f":"IF(Stammdaten!A565=\"\",\"\",IF(D562<=15,VLOOKUP(B562,'Werte =<15°C'!$Q$2:$S$8,2,FALSE),VLOOKUP(B562,'Werte >15°C'!$Q$2:$S$8,2,FALSE)))","v":""},{"$f":"IF(Stammdaten!A565=\"\",\"\",IF(D562<=15,VLOOKUP(B562,'Werte =<15°C'!$Q$2:$S$8,3,FALSE),VLOOKUP(B562,'Werte >15°C'!$Q$2:$S$8,3,FALSE)))","v":""},{"$f":"IF(Stammdaten!A565=\"\",\"\",U562*(E564-D562)+V562)","v":""},{"$f":"IF(Stammdaten!A565=\"\",\"\",C562+W562)","v":""}]
[{"$f":"Analysedaten!A560","v":""},{"$f":"IF(Stammdaten!A563=\"\",\"\",WEEKDAY(A563,2))","v":""},{"$f":"IF(Stammdaten!A563=\"\",\"\",Analysedaten!C560)","v":""},{"$f":"Analysedaten!D560","v":""},{"$f":"Analysedaten!E560","v":""},"","","","","","","","","","","","","","",null,{"$f":"IF(Stammdaten!A566=\"\",\"\",IF(D563<=15,VLOOKUP(B563,'Werte =<15°C'!$Q$2:$S$8,2,FALSE),VLOOKUP(B563,'Werte >15°C'!$Q$2:$S$8,2,FALSE)))","v":""},{"$f":"IF(Stammdaten!A566=\"\",\"\",IF(D563<=15,VLOOKUP(B563,'Werte =<15°C'!$Q$2:$S$8,3,FALSE),VLOOKUP(B563,'Werte >15°C'!$Q$2:$S$8,3,FALSE)))","v":""},{"$f":"IF(Stammdaten!A566=\"\",\"\",U563*(E565-D563)+V563)","v":""},{"$f":"IF(Stammdaten!A566=\"\",\"\",C563+W563)","v":""}]
[{"$f":"Analysedaten!A561","v":""},{"$f":"IF(Stammdaten!A564=\"\",\"\",WEEKDAY(A564,2))","v":""},{"$f":"IF(Stammdaten!A564=\"\",\"\",Analysedaten!C561)","v":""},{"$f":"Analysedaten!D561","v":""},{"$f":"Analysedaten!E561","v":""},"","","","","","","","","","","","","","",null,{"$f":"IF(Stammdaten!A567=\"\",\"\",IF(D564<=15,VLOOKUP(B564,'Werte =<15°C'!$Q$2:$S$8,2,FALSE),VLOOKUP(B564,'Werte >15°C'!$Q$2:$S$8,2,FALSE)))","v":""},{"$f":"IF(Stammdaten!A567=\"\",\"\",IF(D564<=15,VLOOKUP(B564,'Werte =<15°C'!$Q$2:$S$8,3,FALSE),VLOOKUP(B564,'Werte >15°C'!$Q$2:$S$8,3,FALSE)))","v":""},{"$f":"IF(Stammdaten!A567=\"\",\"\",U564*(E566-D564)+V564)","v":""},{"$f":"IF(Stammdaten!A567=\"\",\"\",C564+W564)","v":""}]
[{"$f":"Analysedaten!A562","v":""},{"$f":"IF(Stammdaten!A565=\"\",\"\",WEEKDAY(A565,2))","v":""},{"$f":"IF(Stammdaten!A565=\"\",\"\",Analysedaten!C562)","v":""},{"$f":"Analysedaten!D562","v":""},{"$f":"Analysedaten!E562","v":""},"","","","","","","","","","","","","","",null,{"$f":"IF(Stammdaten!A568=\"\",\"\",IF(D565<=15,VLOOKUP(B565,'Werte =<15°C'!$Q$2:$S$8,2,FALSE),VLOOKUP(B565,'Werte >15°C'!$Q$2:$S$8,2,FALSE)))","v":""},{"$f":"IF(Stammdaten!A568=\"\",\"\",IF(D565<=15,VLOOKUP(B565,'Werte =<15°C'!$Q$2:$S$8,3,FALSE),VLOOKUP(B565,'Werte >15°C'!$Q$2:$S$8,3,FALSE)))","v":""},{"$f":"IF(Stammdaten!A568=\"\",\"\",U565*(E567-D565)+V565)","v":""},{"$f":"IF(Stammdaten!A568=\"\",\"\",C565+W565)","v":""}]
[{"$f":"Analysedaten!A563","v":""},{"$f":"IF(Stammdaten!A566=\"\",\"\",WEEKDAY(A566,2))","v":""},{"$f":"IF(Stammdaten!A566=\"\",\"\",Analysedaten!C563)","v":""},{"$f":"Analysedaten!D563","v":""},{"$f":"Analysedaten!E563","v":""},"","","","","","","","","","","","","","",null,{"$f":"IF(Stammdaten!A569=\"\",\"\",IF(D566<=15,VLOOKUP(B566,'Werte =<15°C'!$Q$2:$S$8,2,FALSE),VLOOKUP(B566,'Werte >15°C'!$Q$2:$S$8,2,FALSE)))","v":""},{"$f":"IF(Stammdaten!A569=\"\",\"\",IF(D566<=15,VLOOKUP(B566,'Werte =<15°C'!$Q$2:$S$8,3,FALSE),VLOOKUP(B566,'Werte >15°C'!$Q$2:$S$8,3,FALSE)))","v":""},{"$f":"IF(Stammdaten!A569=\"\",\"\",U566*(E568-D566)+V566)","v":""},{"$f":"IF(Stammdaten!A569=\"\",\"\",C566+W566)","v":""}]
[{"$f":"Analysedaten!A564","v":""},{"$f":"IF(Stammdaten!A567=\"\",\"\",WEEKDAY(A567,2))","v":""},{"$f":"IF(Stammdaten!A567=\"\",\"\",Analysedaten!C564)","v":""},{"$f":"Analysedaten!D564","v":""},{"$f":"Analysedaten!E564","v":""},"","","","","","","","","","","","","","",null,{"$f":"IF(Stammdaten!A570=\"\",\"\",IF(D567<=15,VLOOKUP(B567,'Werte =<15°C'!$Q$2:$S$8,2,FALSE),VLOOKUP(B567,'Werte >15°C'!$Q$2:$S$8,2,FALSE)))","v":""},{"$f":"IF(Stammdaten!A570=\"\",\"\",IF(D567<=15,VLOOKUP(B567,'Werte =<15°C'!$Q$2:$S$8,3,FALSE),VLOOKUP(B567,'Werte >15°C'!$Q$2:$S$8,3,FALSE)))","v":""},{"$f":"IF(Stammdaten!A570=\"\",\"\",U567*(E569-D567)+V567)","v":""},{"$f":"IF(Stammdaten!A570=\"\",\"\",C567+W567)","v":""}]
[{"$f":"Analysedaten!A565","v":""},{"$f":"IF(Stammdaten!A568=\"\",\"\",WEEKDAY(A568,2))","v":""},{"$f":"IF(Stammdaten!A568=\"\",\"\",Analysedaten!C565)","v":""},{"$f":"Analysedaten!D565","v":""},{"$f":"Analysedaten!E565","v":""},"","","","","","","","","","","","","","",null,{"$f":"IF(Stammdaten!A571=\"\",\"\",IF(D568<=15,VLOOKUP(B568,'Werte =<15°C'!$Q$2:$S$8,2,FALSE),VLOOKUP(B568,'Werte >15°C'!$Q$2:$S$8,2,FALSE)))","v":""},{"$f":"IF(Stammdaten!A571=\"\",\"\",IF(D568<=15,VLOOKUP(B568,'Werte =<15°C'!$Q$2:$S$8,3,FALSE),VLOOKUP(B568,'Werte >15°C'!$Q$2:$S$8,3,FALSE)))","v":""},{"$f":"IF(Stammdaten!A571=\"\",\"\",U568*(E570-D568)+V568)","v":""},{"$f":"IF(Stammdaten!A571=\"\",\"\",C568+W568)","v":""}]
[{"$f":"Analysedaten!A566","v":""},{"$f":"IF(Stammdaten!A569=\"\",\"\",WEEKDAY(A569,2))","v":""},{"$f":"IF(Stammdaten!A569=\"\",\"\",Analysedaten!C566)","v":""},{"$f":"Analysedaten!D566","v":""},{"$f":"Analysedaten!E566","v":""},"","","","","","","","","","","","","","",null,{"$f":"IF(Stammdaten!A572=\"\",\"\",IF(D569<=15,VLOOKUP(B569,'Werte =<15°C'!$Q$2:$S$8,2,FALSE),VLOOKUP(B569,'Werte >15°C'!$Q$2:$S$8,2,FALSE)))","v":""},{"$f":"IF(Stammdaten!A572=\"\",\"\",IF(D569<=15,VLOOKUP(B569,'Werte =<15°C'!$Q$2:$S$8,3,FALSE),VLOOKUP(B569,'Werte >15°C'!$Q$2:$S$8,3,FALSE)))","v":""},{"$f":"IF(Stammdaten!A572=\"\",\"\",U569*(E571-D569)+V569)","v":""},{"$f":"IF(Stammdaten!A572=\"\",\"\",C569+W569)","v":""}]
[{"$f":"Analysedaten!A567","v":""},{"$f":"IF(Stammdaten!A570=\"\",\"\",WEEKDAY(A570,2))","v":""},{"$f":"IF(Stammdaten!A570=\"\",\"\",Analysedaten!C567)","v":""},{"$f":"Analysedaten!D567","v":""},{"$f":"Analysedaten!E567","v":""},"","","","","","","","","","","","","","",null,{"$f":"IF(Stammdaten!A573=\"\",\"\",IF(D570<=15,VLOOKUP(B570,'Werte =<15°C'!$Q$2:$S$8,2,FALSE),VLOOKUP(B570,'Werte >15°C'!$Q$2:$S$8,2,FALSE)))","v":""},{"$f":"IF(Stammdaten!A573=\"\",\"\",IF(D570<=15,VLOOKUP(B570,'Werte =<15°C'!$Q$2:$S$8,3,FALSE),VLOOKUP(B570,'Werte >15°C'!$Q$2:$S$8,3,FALSE)))","v":""},{"$f":"IF(Stammdaten!A573=\"\",\"\",U570*(E572-D570)+V570)","v":""},{"$f":"IF(Stammdaten!A573=\"\",\"\",C570+W570)","v":""}]
[{"$f":"Analysedaten!A568","v":""},{"$f":"IF(Stammdaten!A571=\"\",\"\",WEEKDAY(A571,2))","v":""},{"$f":"IF(Stammdaten!A571=\"\",\"\",Analysedaten!C568)","v":""},{"$f":"Analysedaten!D568","v":""},{"$f":"Analysedaten!E568","v":""},"","","","","","","","","","","","","","",null,{"$f":"IF(Stammdaten!A574=\"\",\"\",IF(D571<=15,VLOOKUP(B571,'Werte =<15°C'!$Q$2:$S$8,2,FALSE),VLOOKUP(B571,'Werte >15°C'!$Q$2:$S$8,2,FALSE)))","v":""},{"$f":"IF(Stammdaten!A574=\"\",\"\",IF(D571<=15,VLOOKUP(B571,'Werte =<15°C'!$Q$2:$S$8,3,FALSE),VLOOKUP(B571,'Werte >15°C'!$Q$2:$S$8,3,FALSE)))","v":""},{"$f":"IF(Stammdaten!A574=\"\",\"\",U571*(E573-D571)+V571)","v":""},{"$f":"IF(Stammdaten!A574=\"\",\"\",C571+W571)","v":""}]
[{"$f":"Analysedaten!A569","v":""},{"$f":"IF(Stammdaten!A572=\"\",\"\",WEEKDAY(A572,2))","v":""},{"$f":"IF(Stammdaten!A572=\"\",\"\",Analysedaten!C569)","v":""},{"$f":"Analysedaten!D569","v":""},{"$f":"Analysedaten!E569","v":""},"","","","","","","","","","","","","","",null,{"$f":"IF(Stammdaten!A575=\"\",\"\",IF(D572<=15,VLOOKUP(B572,'Werte =<15°C'!$Q$2:$S$8,2,FALSE),VLOOKUP(B572,'Werte >15°C'!$Q$2:$S$8,2,FALSE)))","v":""},{"$f":"IF(Stammdaten!A575=\"\",\"\",IF(D572<=15,VLOOKUP(B572,'Werte =<15°C'!$Q$2:$S$8,3,FALSE),VLOOKUP(B572,'Werte >15°C'!$Q$2:$S$8,3,FALSE)))","v":""},{"$f":"IF(Stammdaten!A575=\"\",\"\",U572*(E574-D572)+V572)","v":""},{"$f":"IF(Stammdaten!A575=\"\",\"\",C572+W572)","v":""}]
[{"$f":"Analysedaten!A570","v":""},{"$f":"IF(Stammdaten!A573=\"\",\"\",WEEKDAY(A573,2))","v":""},{"$f":"IF(Stammdaten!A573=\"\",\"\",Analysedaten!C570)","v":""},{"$f":"Analysedaten!D570","v":""},{"$f":"Analysedaten!E570","v":""},"","","","","","","","","","","","","","",null,{"$f":"IF(Stammdaten!A576=\"\",\"\",IF(D573<=15,VLOOKUP(B573,'Werte =<15°C'!$Q$2:$S$8,2,FALSE),VLOOKUP(B573,'Werte >15°C'!$Q$2:$S$8,2,FALSE)))","v":""},{"$f":"IF(Stammdaten!A576=\"\",\"\",IF(D573<=15,VLOOKUP(B573,'Werte =<15°C'!$Q$2:$S$8,3,FALSE),VLOOKUP(B573,'Werte >15°C'!$Q$2:$S$8,3,FALSE)))","v":""},{"$f":"IF(Stammdaten!A576=\"\",\"\",U573*(E575-D573)+V573)","v":""},{"$f":"IF(Stammdaten!A576=\"\",\"\",C573+W573)","v":""}]
[{"$f":"Analysedaten!A571","v":""},{"$f":"IF(Stammdaten!A574=\"\",\"\",WEEKDAY(A574,2))","v":""},{"$f":"IF(Stammdaten!A574=\"\",\"\",Analysedaten!C571)","v":""},{"$f":"Analysedaten!D571","v":""},{"$f":"Analysedaten!E571","v":""},"","","","","","","","","","","","","","",null,{"$f":"IF(Stammdaten!A577=\"\",\"\",IF(D574<=15,VLOOKUP(B574,'Werte =<15°C'!$Q$2:$S$8,2,FALSE),VLOOKUP(B574,'Werte >15°C'!$Q$2:$S$8,2,FALSE)))","v":""},{"$f":"IF(Stammdaten!A577=\"\",\"\",IF(D574<=15,VLOOKUP(B574,'Werte =<15°C'!$Q$2:$S$8,3,FALSE),VLOOKUP(B574,'Werte >15°C'!$Q$2:$S$8,3,FALSE)))","v":""},{"$f":"IF(Stammdaten!A577=\"\",\"\",U574*(E576-D574)+V574)","v":""},{"$f":"IF(Stammdaten!A577=\"\",\"\",C574+W574)","v":""}]
[{"$f":"Analysedaten!A572","v":""},{"$f":"IF(Stammdaten!A575=\"\",\"\",WEEKDAY(A575,2))","v":""},{"$f":"IF(Stammdaten!A575=\"\",\"\",Analysedaten!C572)","v":""},{"$f":"Analysedaten!D572","v":""},{"$f":"Analysedaten!E572","v":""},"","","","","","","","","","","","","","",null,{"$f":"IF(Stammdaten!A578=\"\",\"\",IF(D575<=15,VLOOKUP(B575,'Werte =<15°C'!$Q$2:$S$8,2,FALSE),VLOOKUP(B575,'Werte >15°C'!$Q$2:$S$8,2,FALSE)))","v":""},{"$f":"IF(Stammdaten!A578=\"\",\"\",IF(D575<=15,VLOOKUP(B575,'Werte =<15°C'!$Q$2:$S$8,3,FALSE),VLOOKUP(B575,'Werte >15°C'!$Q$2:$S$8,3,FALSE)))","v":""},{"$f":"IF(Stammdaten!A578=\"\",\"\",U575*(E577-D575)+V575)","v":""},{"$f":"IF(Stammdaten!A578=\"\",\"\",C575+W575)","v":""}]
[{"$f":"Analysedaten!A573","v":""},{"$f":"IF(Stammdaten!A576=\"\",\"\",WEEKDAY(A576,2))","v":""},{"$f":"IF(Stammdaten!A576=\"\",\"\",Analysedaten!C573)","v":""},{"$f":"Analysedaten!D573","v":""},{"$f":"Analysedaten!E573","v":""},"","","","","","","","","","","","","","",null,{"$f":"IF(Stammdaten!A579=\"\",\"\",IF(D576<=15,VLOOKUP(B576,'Werte =<15°C'!$Q$2:$S$8,2,FALSE),VLOOKUP(B576,'Werte >15°C'!$Q$2:$S$8,2,FALSE)))","v":""},{"$f":"IF(Stammdaten!A579=\"\",\"\",IF(D576<=15,VLOOKUP(B576,'Werte =<15°C'!$Q$2:$S$8,3,FALSE),VLOOKUP(B576,'Werte >15°C'!$Q$2:$S$8,3,FALSE)))","v":""},{"$f":"IF(Stammdaten!A579=\"\",\"\",U576*(E578-D576)+V576)","v":""},{"$f":"IF(Stammdaten!A579=\"\",\"\",C576+W576)","v":""}]
[{"$f":"Analysedaten!A574","v":""},{"$f":"IF(Stammdaten!A577=\"\",\"\",WEEKDAY(A577,2))","v":""},{"$f":"IF(Stammdaten!A577=\"\",\"\",Analysedaten!C574)","v":""},{"$f":"Analysedaten!D574","v":""},{"$f":"Analysedaten!E574","v":""},"","","","","","","","","","","","","","",null,{"$f":"IF(Stammdaten!A580=\"\",\"\",IF(D577<=15,VLOOKUP(B577,'Werte =<15°C'!$Q$2:$S$8,2,FALSE),VLOOKUP(B577,'Werte >15°C'!$Q$2:$S$8,2,FALSE)))","v":""},{"$f":"IF(Stammdaten!A580=\"\",\"\",IF(D577<=15,VLOOKUP(B577,'Werte =<15°C'!$Q$2:$S$8,3,FALSE),VLOOKUP(B577,'Werte >15°C'!$Q$2:$S$8,3,FALSE)))","v":""},{"$f":"IF(Stammdaten!A580=\"\",\"\",U577*(E579-D577)+V577)","v":""},{"$f":"IF(Stammdaten!A580=\"\",\"\",C577+W577)","v":""}]
[{"$f":"Analysedaten!A575","v":""},{"$f":"IF(Stammdaten!A578=\"\",\"\",WEEKDAY(A578,2))","v":""},{"$f":"IF(Stammdaten!A578=\"\",\"\",Analysedaten!C575)","v":""},{"$f":"Analysedaten!D575","v":""},{"$f":"Analysedaten!E575","v":""},"","","","","","","","","","","","","","",null,{"$f":"IF(Stammdaten!A581=\"\",\"\",IF(D578<=15,VLOOKUP(B578,'Werte =<15°C'!$Q$2:$S$8,2,FALSE),VLOOKUP(B578,'Werte >15°C'!$Q$2:$S$8,2,FALSE)))","v":""},{"$f":"IF(Stammdaten!A581=\"\",\"\",IF(D578<=15,VLOOKUP(B578,'Werte =<15°C'!$Q$2:$S$8,3,FALSE),VLOOKUP(B578,'Werte >15°C'!$Q$2:$S$8,3,FALSE)))","v":""},{"$f":"IF(Stammdaten!A581=\"\",\"\",U578*(E580-D578)+V578)","v":""},{"$f":"IF(Stammdaten!A581=\"\",\"\",C578+W578)","v":""}]
[{"$f":"Analysedaten!A576","v":""},{"$f":"IF(Stammdaten!A579=\"\",\"\",WEEKDAY(A579,2))","v":""},{"$f":"IF(Stammdaten!A579=\"\",\"\",Analysedaten!C576)","v":""},{"$f":"Analysedaten!D576","v":""},{"$f":"Analysedaten!E576","v":""},"","","","","","","","","","","","","","",null,{"$f":"IF(Stammdaten!A582=\"\",\"\",IF(D579<=15,VLOOKUP(B579,'Werte =<15°C'!$Q$2:$S$8,2,FALSE),VLOOKUP(B579,'Werte >15°C'!$Q$2:$S$8,2,FALSE)))","v":""},{"$f":"IF(Stammdaten!A582=\"\",\"\",IF(D579<=15,VLOOKUP(B579,'Werte =<15°C'!$Q$2:$S$8,3,FALSE),VLOOKUP(B579,'Werte >15°C'!$Q$2:$S$8,3,FALSE)))","v":""},{"$f":"IF(Stammdaten!A582=\"\",\"\",U579*(E581-D579)+V579)","v":""},{"$f":"IF(Stammdaten!A582=\"\",\"\",C579+W579)","v":""}]
[{"$f":"Analysedaten!A577","v":""},{"$f":"IF(Stammdaten!A580=\"\",\"\",WEEKDAY(A580,2))","v":""},{"$f":"IF(Stammdaten!A580=\"\",\"\",Analysedaten!C577)","v":""},{"$f":"Analysedaten!D577","v":""},{"$f":"Analysedaten!E577","v":""},"","","","","","","","","","","","","","",null,{"$f":"IF(Stammdaten!A583=\"\",\"\",IF(D580<=15,VLOOKUP(B580,'Werte =<15°C'!$Q$2:$S$8,2,FALSE),VLOOKUP(B580,'Werte >15°C'!$Q$2:$S$8,2,FALSE)))","v":""},{"$f":"IF(Stammdaten!A583=\"\",\"\",IF(D580<=15,VLOOKUP(B580,'Werte =<15°C'!$Q$2:$S$8,3,FALSE),VLOOKUP(B580,'Werte >15°C'!$Q$2:$S$8,3,FALSE)))","v":""},{"$f":"IF(Stammdaten!A583=\"\",\"\",U580*(E582-D580)+V580)","v":""},{"$f":"IF(Stammdaten!A583=\"\",\"\",C580+W580)","v":""}]
[{"$f":"Analysedaten!A578","v":""},{"$f":"IF(Stammdaten!A581=\"\",\"\",WEEKDAY(A581,2))","v":""},{"$f":"IF(Stammdaten!A581=\"\",\"\",Analysedaten!C578)","v":""},{"$f":"Analysedaten!D578","v":""},{"$f":"Analysedaten!E578","v":""},{"$f":"IF(B583=1,(E583-D581),\"\")","v":""},{"$f":"IF(B583=1,(C583-C581),\"\")","v":""},{"$f":"IF(B583=2,(E583-D581),\"\")","v":""},{"$f":"IF(B583=2,(C583-C581),\"\")","v":""},{"$f":"IF(B583=3,(E583-D581),\"\")","v":""},{"$f":"IF(B583=3,(C583-C581),\"\")","v":""},{"$f":"IF(B583=4,(E583-D581),\"\")","v":""},{"$f":"IF(B583=4,(C583-C581),\"\")","v":""},{"$f":"IF(B583=5,(E583-D581),\"\")","v":""},{"$f":"IF(B583=5,(C583-C581),\"\")","v":""},{"$f":"IF(B583=6,(E583-D581),\"\")","v":""},{"$f":"IF(B583=6,(C583-C581),\"\")","v":""},{"$f":"IF(B583=7,(E583-D581),\"\")","v":""},{"$f":"IF(B583=7,(C583-C581),\"\")","v":""},null,{"$f":"IF(Stammdaten!A584=\"\",\"\",IF(D581<=15,VLOOKUP(B581,'Werte =<15°C'!$Q$2:$S$8,2,FALSE),VLOOKUP(B581,'Werte >15°C'!$Q$2:$S$8,2,FALSE)))","v":""},{"$f":"IF(Stammdaten!A584=\"\",\"\",IF(D581<=15,VLOOKUP(B581,'Werte =<15°C'!$Q$2:$S$8,3,FALSE),VLOOKUP(B581,'Werte >15°C'!$Q$2:$S$8,3,FALSE)))","v":""},{"$f":"IF(Stammdaten!A584=\"\",\"\",U581*(E583-D581)+V581)","v":""},{"$f":"IF(Stammdaten!A584=\"\",\"\",C581+W581)","v":""}]
[{"$f":"Analysedaten!A579","v":""},{"$f":"IF(Stammdaten!A582=\"\",\"\",WEEKDAY(A582,2))","v":""},{"$f":"IF(Stammdaten!A582=\"\",\"\",Analysedaten!C579)","v":""},{"$f":"Analysedaten!D579","v":""},{"$f":"Analysedaten!E579","v":""},"","","","","","","","","","","","","","",null,{"$f":"IF(Stammdaten!A585=\"\",\"\",IF(D582<=15,VLOOKUP(B582,'Werte =<15°C'!$Q$2:$S$8,2,FALSE),VLOOKUP(B582,'Werte >15°C'!$Q$2:$S$8,2,FALSE)))","v":""},{"$f":"IF(Stammdaten!A585=\"\",\"\",IF(D582<=15,VLOOKUP(B582,'Werte =<15°C'!$Q$2:$S$8,3,FALSE),VLOOKUP(B582,'Werte >15°C'!$Q$2:$S$8,3,FALSE)))","v":""},{"$f":"IF(Stammdaten!A585=\"\",\"\",U582*(E584-D582)+V582)","v":""},{"$f":"IF(Stammdaten!A585=\"\",\"\",C582+W582)","v":""}]
[{"$f":"Analysedaten!A580","v":""},{"$f":"IF(Stammdaten!A583=\"\",\"\",WEEKDAY(A583,2))","v":""},{"$f":"IF(Stammdaten!A583=\"\",\"\",Analysedaten!C580)","v":""},{"$f":"Analysedaten!D580","v":""},{"$f":"Analysedaten!E580","v":""},"","","","","","","","","","","","","","",null,{"$f":"IF(Stammdaten!A586=\"\",\"\",IF(D583<=15,VLOOKUP(B583,'Werte =<15°C'!$Q$2:$S$8,2,FALSE),VLOOKUP(B583,'Werte >15°C'!$Q$2:$S$8,2,FALSE)))","v":""},{"$f":"IF(Stammdaten!A586=\"\",\"\",IF(D583<=15,VLOOKUP(B583,'Werte =<15°C'!$Q$2:$S$8,3,FALSE),VLOOKUP(B583,'Werte >15°C'!$Q$2:$S$8,3,FALSE)))","v":""},{"$f":"IF(Stammdaten!A586=\"\",\"\",U583*(E585-D583)+V583)","v":""},{"$f":"IF(Stammdaten!A586=\"\",\"\",C583+W583)","v":""}]
[{"$f":"Analysedaten!A581","v":""},{"$f":"IF(Stammdaten!A584=\"\",\"\",WEEKDAY(A584,2))","v":""},{"$f":"IF(Stammdaten!A584=\"\",\"\",Analysedaten!C581)","v":""},{"$f":"Analysedaten!D581","v":""},{"$f":"Analysedaten!E581","v":""},"","","","","","","","","","","","","","",null,{"$f":"IF(Stammdaten!A587=\"\",\"\",IF(D584<=15,VLOOKUP(B584,'Werte =<15°C'!$Q$2:$S$8,2,FALSE),VLOOKUP(B584,'Werte >15°C'!$Q$2:$S$8,2,FALSE)))","v":""},{"$f":"IF(Stammdaten!A587=\"\",\"\",IF(D584<=15,VLOOKUP(B584,'Werte =<15°C'!$Q$2:$S$8,3,FALSE),VLOOKUP(B584,'Werte >15°C'!$Q$2:$S$8,3,FALSE)))","v":""},{"$f":"IF(Stammdaten!A587=\"\",\"\",U584*(E586-D584)+V584)","v":""},{"$f":"IF(Stammdaten!A587=\"\",\"\",C584+W584)","v":""}]
[{"$f":"Analysedaten!A582","v":""},{"$f":"IF(Stammdaten!A585=\"\",\"\",WEEKDAY(A585,2))","v":""},{"$f":"IF(Stammdaten!A585=\"\",\"\",Analysedaten!C582)","v":""},{"$f":"Analysedaten!D582","v":""},{"$f":"Analysedaten!E582","v":""},"","","","","","","","","","","","","","",null,{"$f":"IF(Stammdaten!A588=\"\",\"\",IF(D585<=15,VLOOKUP(B585,'Werte =<15°C'!$Q$2:$S$8,2,FALSE),VLOOKUP(B585,'Werte >15°C'!$Q$2:$S$8,2,FALSE)))","v":""},{"$f":"IF(Stammdaten!A588=\"\",\"\",IF(D585<=15,VLOOKUP(B585,'Werte =<15°C'!$Q$2:$S$8,3,FALSE),VLOOKUP(B585,'Werte >15°C'!$Q$2:$S$8,3,FALSE)))","v":""},{"$f":"IF(Stammdaten!A588=\"\",\"\",U585*(E587-D585)+V585)","v":""},{"$f":"IF(Stammdaten!A588=\"\",\"\",C585+W585)","v":""}]
[{"$f":"Analysedaten!A583","v":""},{"$f":"IF(Stammdaten!A586=\"\",\"\",WEEKDAY(A586,2))","v":""},{"$f":"IF(Stammdaten!A586=\"\",\"\",Analysedaten!C583)","v":""},{"$f":"Analysedaten!D583","v":""},{"$f":"Analysedaten!E583","v":""},"","","","","","","","","","","","","","",null,{"$f":"IF(Stammdaten!A589=\"\",\"\",IF(D586<=15,VLOOKUP(B586,'Werte =<15°C'!$Q$2:$S$8,2,FALSE),VLOOKUP(B586,'Werte >15°C'!$Q$2:$S$8,2,FALSE)))","v":""},{"$f":"IF(Stammdaten!A589=\"\",\"\",IF(D586<=15,VLOOKUP(B586,'Werte =<15°C'!$Q$2:$S$8,3,FALSE),VLOOKUP(B586,'Werte >15°C'!$Q$2:$S$8,3,FALSE)))","v":""},{"$f":"IF(Stammdaten!A589=\"\",\"\",U586*(E588-D586)+V586)","v":""},{"$f":"IF(Stammdaten!A589=\"\",\"\",C586+W586)","v":""}]
[{"$f":"Analysedaten!A584","v":""},{"$f":"IF(Stammdaten!A587=\"\",\"\",WEEKDAY(A587,2))","v":""},{"$f":"IF(Stammdaten!A587=\"\",\"\",Analysedaten!C584)","v":""},{"$f":"Analysedaten!D584","v":""},{"$f":"Analysedaten!E584","v":""},"","","","","","","","","","","","","","",null,{"$f":"IF(Stammdaten!A590=\"\",\"\",IF(D587<=15,VLOOKUP(B587,'Werte =<15°C'!$Q$2:$S$8,2,FALSE),VLOOKUP(B587,'Werte >15°C'!$Q$2:$S$8,2,FALSE)))","v":""},{"$f":"IF(Stammdaten!A590=\"\",\"\",IF(D587<=15,VLOOKUP(B587,'Werte =<15°C'!$Q$2:$S$8,3,FALSE),VLOOKUP(B587,'Werte >15°C'!$Q$2:$S$8,3,FALSE)))","v":""},{"$f":"IF(Stammdaten!A590=\"\",\"\",U587*(E589-D587)+V587)","v":""},{"$f":"IF(Stammdaten!A590=\"\",\"\",C587+W587)","v":""}]
[{"$f":"Analysedaten!A585","v":""},{"$f":"IF(Stammdaten!A588=\"\",\"\",WEEKDAY(A588,2))","v":""},{"$f":"IF(Stammdaten!A588=\"\",\"\",Analysedaten!C585)","v":""},{"$f":"Analysedaten!D585","v":""},{"$f":"Analysedaten!E585","v":""},"","","","","","","","","","","","","","",null,{"$f":"IF(Stammdaten!A591=\"\",\"\",IF(D588<=15,VLOOKUP(B588,'Werte =<15°C'!$Q$2:$S$8,2,FALSE),VLOOKUP(B588,'Werte >15°C'!$Q$2:$S$8,2,FALSE)))","v":""},{"$f":"IF(Stammdaten!A591=\"\",\"\",IF(D588<=15,VLOOKUP(B588,'Werte =<15°C'!$Q$2:$S$8,3,FALSE),VLOOKUP(B588,'Werte >15°C'!$Q$2:$S$8,3,FALSE)))","v":""},{"$f":"IF(Stammdaten!A591=\"\",\"\",U588*(E590-D588)+V588)","v":""},{"$f":"IF(Stammdaten!A591=\"\",\"\",C588+W588)","v":""}]
[{"$f":"Analysedaten!A586","v":""},{"$f":"IF(Stammdaten!A589=\"\",\"\",WEEKDAY(A589,2))","v":""},{"$f":"IF(Stammdaten!A589=\"\",\"\",Analysedaten!C586)","v":""},{"$f":"Analysedaten!D586","v":""},{"$f":"Analysedaten!E586","v":""},"","","","","","","","","","","","","","",null,{"$f":"IF(Stammdaten!A592=\"\",\"\",IF(D589<=15,VLOOKUP(B589,'Werte =<15°C'!$Q$2:$S$8,2,FALSE),VLOOKUP(B589,'Werte >15°C'!$Q$2:$S$8,2,FALSE)))","v":""},{"$f":"IF(Stammdaten!A592=\"\",\"\",IF(D589<=15,VLOOKUP(B589,'Werte =<15°C'!$Q$2:$S$8,3,FALSE),VLOOKUP(B589,'Werte >15°C'!$Q$2:$S$8,3,FALSE)))","v":""},{"$f":"IF(Stammdaten!A592=\"\",\"\",U589*(E591-D589)+V589)","v":""},{"$f":"IF(Stammdaten!A592=\"\",\"\",C589+W589)","v":""}]
[{"$f":"Analysedaten!A587","v":""},{"$f":"IF(Stammdaten!A590=\"\",\"\",WEEKDAY(A590,2))","v":""},{"$f":"IF(Stammdaten!A590=\"\",\"\",Analysedaten!C587)","v":""},{"$f":"Analysedaten!D587","v":""},{"$f":"Analysedaten!E587","v":""},"","","","","","","","","","","","","","",null,{"$f":"IF(Stammdaten!A593=\"\",\"\",IF(D590<=15,VLOOKUP(B590,'Werte =<15°C'!$Q$2:$S$8,2,FALSE),VLOOKUP(B590,'Werte >15°C'!$Q$2:$S$8,2,FALSE)))","v":""},{"$f":"IF(Stammdaten!A593=\"\",\"\",IF(D590<=15,VLOOKUP(B590,'Werte =<15°C'!$Q$2:$S$8,3,FALSE),VLOOKUP(B590,'Werte >15°C'!$Q$2:$S$8,3,FALSE)))","v":""},{"$f":"IF(Stammdaten!A593=\"\",\"\",U590*(E592-D590)+V590)","v":""},{"$f":"IF(Stammdaten!A593=\"\",\"\",C590+W590)","v":""}]
[{"$f":"Analysedaten!A588","v":""},{"$f":"IF(Stammdaten!A591=\"\",\"\",WEEKDAY(A591,2))","v":""},{"$f":"IF(Stammdaten!A591=\"\",\"\",Analysedaten!C588)","v":""},{"$f":"Analysedaten!D588","v":""},{"$f":"Analysedaten!E588","v":""},"","","","","","","","","","","","","","",null,{"$f":"IF(Stammdaten!A594=\"\",\"\",IF(D591<=15,VLOOKUP(B591,'Werte =<15°C'!$Q$2:$S$8,2,FALSE),VLOOKUP(B591,'Werte >15°C'!$Q$2:$S$8,2,FALSE)))","v":""},{"$f":"IF(Stammdaten!A594=\"\",\"\",IF(D591<=15,VLOOKUP(B591,'Werte =<15°C'!$Q$2:$S$8,3,FALSE),VLOOKUP(B591,'Werte >15°C'!$Q$2:$S$8,3,FALSE)))","v":""},{"$f":"IF(Stammdaten!A594=\"\",\"\",U591*(E593-D591)+V591)","v":""},{"$f":"IF(Stammdaten!A594=\"\",\"\",C591+W591)","v":""}]
[{"$f":"Analysedaten!A589","v":""},{"$f":"IF(Stammdaten!A592=\"\",\"\",WEEKDAY(A592,2))","v":""},{"$f":"IF(Stammdaten!A592=\"\",\"\",Analysedaten!C589)","v":""},{"$f":"Analysedaten!D589","v":""},{"$f":"Analysedaten!E589","v":""},"","","","","","","","","","","","","","",null,{"$f":"IF(Stammdaten!A595=\"\",\"\",IF(D592<=15,VLOOKUP(B592,'Werte =<15°C'!$Q$2:$S$8,2,FALSE),VLOOKUP(B592,'Werte >15°C'!$Q$2:$S$8,2,FALSE)))","v":""},{"$f":"IF(Stammdaten!A595=\"\",\"\",IF(D592<=15,VLOOKUP(B592,'Werte =<15°C'!$Q$2:$S$8,3,FALSE),VLOOKUP(B592,'Werte >15°C'!$Q$2:$S$8,3,FALSE)))","v":""},{"$f":"IF(Stammdaten!A595=\"\",\"\",U592*(E594-D592)+V592)","v":""},{"$f":"IF(Stammdaten!A595=\"\",\"\",C592+W592)","v":""}]
[{"$f":"Analysedaten!A590","v":""},{"$f":"IF(Stammdaten!A593=\"\",\"\",WEEKDAY(A593,2))","v":""},{"$f":"IF(Stammdaten!A593=\"\",\"\",Analysedaten!C590)","v":""},{"$f":"Analysedaten!D590","v":""},{"$f":"Analysedaten!E590","v":""},"","","","","","","","","","","","","","",null,{"$f":"IF(Stammdaten!A596=\"\",\"\",IF(D593<=15,VLOOKUP(B593,'Werte =<15°C'!$Q$2:$S$8,2,FALSE),VLOOKUP(B593,'Werte >15°C'!$Q$2:$S$8,2,FALSE)))","v":""},{"$f":"IF(Stammdaten!A596=\"\",\"\",IF(D593<=15,VLOOKUP(B593,'Werte =<15°C'!$Q$2:$S$8,3,FALSE),VLOOKUP(B593,'Werte >15°C'!$Q$2:$S$8,3,FALSE)))","v":""},{"$f":"IF(Stammdaten!A596=\"\",\"\",U593*(E595-D593)+V593)","v":""},{"$f":"IF(Stammdaten!A596=\"\",\"\",C593+W593)","v":""}]
[{"$f":"Analysedaten!A591","v":""},{"$f":"IF(Stammdaten!A594=\"\",\"\",WEEKDAY(A594,2))","v":""},{"$f":"IF(Stammdaten!A594=\"\",\"\",Analysedaten!C591)","v":""},{"$f":"Analysedaten!D591","v":""},{"$f":"Analysedaten!E591","v":""},"","","","","","","","","","","","","","",null,{"$f":"IF(Stammdaten!A597=\"\",\"\",IF(D594<=15,VLOOKUP(B594,'Werte =<15°C'!$Q$2:$S$8,2,FALSE),VLOOKUP(B594,'Werte >15°C'!$Q$2:$S$8,2,FALSE)))","v":""},{"$f":"IF(Stammdaten!A597=\"\",\"\",IF(D594<=15,VLOOKUP(B594,'Werte =<15°C'!$Q$2:$S$8,3,FALSE),VLOOKUP(B594,'Werte >15°C'!$Q$2:$S$8,3,FALSE)))","v":""},{"$f":"IF(Stammdaten!A597=\"\",\"\",U594*(E596-D594)+V594)","v":""},{"$f":"IF(Stammdaten!A597=\"\",\"\",C594+W594)","v":""}]
[{"$f":"Analysedaten!A592","v":""},{"$f":"IF(Stammdaten!A595=\"\",\"\",WEEKDAY(A595,2))","v":""},{"$f":"IF(Stammdaten!A595=\"\",\"\",Analysedaten!C592)","v":""},{"$f":"Analysedaten!D592","v":""},{"$f":"Analysedaten!E592","v":""},"","","","","","","","","","","","","","",null,{"$f":"IF(Stammdaten!A598=\"\",\"\",IF(D595<=15,VLOOKUP(B595,'Werte =<15°C'!$Q$2:$S$8,2,FALSE),VLOOKUP(B595,'Werte >15°C'!$Q$2:$S$8,2,FALSE)))","v":""},{"$f":"IF(Stammdaten!A598=\"\",\"\",IF(D595<=15,VLOOKUP(B595,'Werte =<15°C'!$Q$2:$S$8,3,FALSE),VLOOKUP(B595,'Werte >15°C'!$Q$2:$S$8,3,FALSE)))","v":""},{"$f":"IF(Stammdaten!A598=\"\",\"\",U595*(E597-D595)+V595)","v":""},{"$f":"IF(Stammdaten!A598=\"\",\"\",C595+W595)","v":""}]
[{"$f":"Analysedaten!A593","v":""},{"$f":"IF(Stammdaten!A596=\"\",\"\",WEEKDAY(A596,2))","v":""},{"$f":"IF(Stammdaten!A596=\"\",\"\",Analysedaten!C593)","v":""},{"$f":"Analysedaten!D593","v":""},{"$f":"Analysedaten!E593","v":""},"","","","","","","","","","","","","","",null,{"$f":"IF(Stammdaten!A599=\"\",\"\",IF(D596<=15,VLOOKUP(B596,'Werte =<15°C'!$Q$2:$S$8,2,FALSE),VLOOKUP(B596,'Werte >15°C'!$Q$2:$S$8,2,FALSE)))","v":""},{"$f":"IF(Stammdaten!A599=\"\",\"\",IF(D596<=15,VLOOKUP(B596,'Werte =<15°C'!$Q$2:$S$8,3,FALSE),VLOOKUP(B596,'Werte >15°C'!$Q$2:$S$8,3,FALSE)))","v":""},{"$f":"IF(Stammdaten!A599=\"\",\"\",U596*(E598-D596)+V596)","v":""},{"$f":"IF(Stammdaten!A599=\"\",\"\",C596+W596)","v":""}]
[{"$f":"Analysedaten!A594","v":""},{"$f":"IF(Stammdaten!A597=\"\",\"\",WEEKDAY(A597,2))","v":""},{"$f":"IF(Stammdaten!A597=\"\",\"\",Analysedaten!C594)","v":""},{"$f":"Analysedaten!D594","v":""},{"$f":"Analysedaten!E594","v":""},"","","","","","","","","","","","","","",null,{"$f":"IF(Stammdaten!A600=\"\",\"\",IF(D597<=15,VLOOKUP(B597,'Werte =<15°C'!$Q$2:$S$8,2,FALSE),VLOOKUP(B597,'Werte >15°C'!$Q$2:$S$8,2,FALSE)))","v":""},{"$f":"IF(Stammdaten!A600=\"\",\"\",IF(D597<=15,VLOOKUP(B597,'Werte =<15°C'!$Q$2:$S$8,3,FALSE),VLOOKUP(B597,'Werte >15°C'!$Q$2:$S$8,3,FALSE)))","v":""},{"$f":"IF(Stammdaten!A600=\"\",\"\",U597*(E599-D597)+V597)","v":""},{"$f":"IF(Stammdaten!A600=\"\",\"\",C597+W597)","v":""}]
[{"$f":"Analysedaten!A595","v":""},{"$f":"IF(Stammdaten!A598=\"\",\"\",WEEKDAY(A598,2))","v":""},{"$f":"IF(Stammdaten!A598=\"\",\"\",Analysedaten!C595)","v":""},{"$f":"Analysedaten!D595","v":""},{"$f":"Analysedaten!E595","v":""},"","","","","","","","","","","","","","",null,{"$f":"IF(Stammdaten!A601=\"\",\"\",IF(D598<=15,VLOOKUP(B598,'Werte =<15°C'!$Q$2:$S$8,2,FALSE),VLOOKUP(B598,'Werte >15°C'!$Q$2:$S$8,2,FALSE)))","v":""},{"$f":"IF(Stammdaten!A601=\"\",\"\",IF(D598<=15,VLOOKUP(B598,'Werte =<15°C'!$Q$2:$S$8,3,FALSE),VLOOKUP(B598,'Werte >15°C'!$Q$2:$S$8,3,FALSE)))","v":""},{"$f":"IF(Stammdaten!A601=\"\",\"\",U598*(E600-D598)+V598)","v":""},{"$f":"IF(Stammdaten!A601=\"\",\"\",C598+W598)","v":""}]
[{"$f":"Analysedaten!A596","v":""},{"$f":"IF(Stammdaten!A599=\"\",\"\",WEEKDAY(A599,2))","v":""},{"$f":"IF(Stammdaten!A599=\"\",\"\",Analysedaten!C596)","v":""},{"$f":"Analysedaten!D596","v":""},{"$f":"Analysedaten!E596","v":""},"","","","","","","","","","","","","","",null,{"$f":"IF(Stammdaten!A602=\"\",\"\",IF(D599<=15,VLOOKUP(B599,'Werte =<15°C'!$Q$2:$S$8,2,FALSE),VLOOKUP(B599,'Werte >15°C'!$Q$2:$S$8,2,FALSE)))","v":""},{"$f":"IF(Stammdaten!A602=\"\",\"\",IF(D599<=15,VLOOKUP(B599,'Werte =<15°C'!$Q$2:$S$8,3,FALSE),VLOOKUP(B599,'Werte >15°C'!$Q$2:$S$8,3,FALSE)))","v":""},{"$f":"IF(Stammdaten!A602=\"\",\"\",U599*(E601-D599)+V599)","v":""},{"$f":"IF(Stammdaten!A602=\"\",\"\",C599+W599)","v":""}]
[{"$f":"Analysedaten!A597","v":""},{"$f":"IF(Stammdaten!A600=\"\",\"\",WEEKDAY(A600,2))","v":""},{"$f":"IF(Stammdaten!A600=\"\",\"\",Analysedaten!C597)","v":""},{"$f":"Analysedaten!D597","v":""},{"$f":"Analysedaten!E597","v":""},"","","","","","","","","","","","","","",null,{"$f":"IF(Stammdaten!A603=\"\",\"\",IF(D600<=15,VLOOKUP(B600,'Werte =<15°C'!$Q$2:$S$8,2,FALSE),VLOOKUP(B600,'Werte >15°C'!$Q$2:$S$8,2,FALSE)))","v":""},{"$f":"IF(Stammdaten!A603=\"\",\"\",IF(D600<=15,VLOOKUP(B600,'Werte =<15°C'!$Q$2:$S$8,3,FALSE),VLOOKUP(B600,'Werte >15°C'!$Q$2:$S$8,3,FALSE)))","v":""},{"$f":"IF(Stammdaten!A603=\"\",\"\",U600*(E602-D600)+V600)","v":""},{"$f":"IF(Stammdaten!A603=\"\",\"\",C600+W600)","v":""}]
[{"$f":"Analysedaten!A598","v":""},{"$f":"IF(Stammdaten!A601=\"\",\"\",WEEKDAY(A601,2))","v":""},{"$f":"IF(Stammdaten!A601=\"\",\"\",Analysedaten!C598)","v":""},{"$f":"Analysedaten!D598","v":""},{"$f":"Analysedaten!E598","v":""},"","","","","","","","","","","","","","",null,{"$f":"IF(Stammdaten!A604=\"\",\"\",IF(D601<=15,VLOOKUP(B601,'Werte =<15°C'!$Q$2:$S$8,2,FALSE),VLOOKUP(B601,'Werte >15°C'!$Q$2:$S$8,2,FALSE)))","v":""},{"$f":"IF(Stammdaten!A604=\"\",\"\",IF(D601<=15,VLOOKUP(B601,'Werte =<15°C'!$Q$2:$S$8,3,FALSE),VLOOKUP(B601,'Werte >15°C'!$Q$2:$S$8,3,FALSE)))","v":""},{"$f":"IF(Stammdaten!A604=\"\",\"\",U601*(E603-D601)+V601)","v":""},{"$f":"IF(Stammdaten!A604=\"\",\"\",C601+W601)","v":""}]
[{"$f":"Analysedaten!A599","v":""},{"$f":"IF(Stammdaten!A602=\"\",\"\",WEEKDAY(A602,2))","v":""},{"$f":"IF(Stammdaten!A602=\"\",\"\",Analysedaten!C599)","v":""},{"$f":"Analysedaten!D599","v":""},{"$f":"Analysedaten!E599","v":""},"","","","","","","","","","","","","","",null,{"$f":"IF(Stammdaten!A605=\"\",\"\",IF(D602<=15,VLOOKUP(B602,'Werte =<15°C'!$Q$2:$S$8,2,FALSE),VLOOKUP(B602,'Werte >15°C'!$Q$2:$S$8,2,FALSE)))","v":""},{"$f":"IF(Stammdaten!A605=\"\",\"\",IF(D602<=15,VLOOKUP(B602,'Werte =<15°C'!$Q$2:$S$8,3,FALSE),VLOOKUP(B602,'Werte >15°C'!$Q$2:$S$8,3,FALSE)))","v":""},{"$f":"IF(Stammdaten!A605=\"\",\"\",U602*(E604-D602)+V602)","v":""},{"$f":"IF(Stammdaten!A605=\"\",\"\",C602+W602)","v":""}]
[{"$f":"Analysedaten!A600","v":""},{"$f":"IF(Stammdaten!A603=\"\",\"\",WEEKDAY(A603,2))","v":""},{"$f":"IF(Stammdaten!A603=\"\",\"\",Analysedaten!C600)","v":""},{"$f":"Analysedaten!D600","v":""},{"$f":"Analysedaten!E600","v":""},"","","","","","","","","","","","","","",null,{"$f":"IF(Stammdaten!A606=\"\",\"\",IF(D603<=15,VLOOKUP(B603,'Werte =<15°C'!$Q$2:$S$8,2,FALSE),VLOOKUP(B603,'Werte >15°C'!$Q$2:$S$8,2,FALSE)))","v":""},{"$f":"IF(Stammdaten!A606=\"\",\"\",IF(D603<=15,VLOOKUP(B603,'Werte =<15°C'!$Q$2:$S$8,3,FALSE),VLOOKUP(B603,'Werte >15°C'!$Q$2:$S$8,3,FALSE)))","v":""},{"$f":"IF(Stammdaten!A606=\"\",\"\",U603*(E605-D603)+V603)","v":""},{"$f":"IF(Stammdaten!A606=\"\",\"\",C603+W603)","v":""}]
[{"$f":"Analysedaten!A601","v":""},{"$f":"IF(Stammdaten!A604=\"\",\"\",WEEKDAY(A604,2))","v":""},{"$f":"IF(Stammdaten!A604=\"\",\"\",Analysedaten!C601)","v":""},{"$f":"Analysedaten!D601","v":""},{"$f":"Analysedaten!E601","v":""},"","","","","","","","","","","","","","",null,{"$f":"IF(Stammdaten!A607=\"\",\"\",IF(D604<=15,VLOOKUP(B604,'Werte =<15°C'!$Q$2:$S$8,2,FALSE),VLOOKUP(B604,'Werte >15°C'!$Q$2:$S$8,2,FALSE)))","v":""},{"$f":"IF(Stammdaten!A607=\"\",\"\",IF(D604<=15,VLOOKUP(B604,'Werte =<15°C'!$Q$2:$S$8,3,FALSE),VLOOKUP(B604,'Werte >15°C'!$Q$2:$S$8,3,FALSE)))","v":""},{"$f":"IF(Stammdaten!A607=\"\",\"\",U604*(E606-D604)+V604)","v":""},{"$f":"IF(Stammdaten!A607=\"\",\"\",C604+W604)","v":""}]
[{"$f":"Analysedaten!A602","v":""},{"$f":"IF(Stammdaten!A605=\"\",\"\",WEEKDAY(A605,2))","v":""},{"$f":"IF(Stammdaten!A605=\"\",\"\",Analysedaten!C602)","v":""},{"$f":"Analysedaten!D602","v":""},{"$f":"Analysedaten!E602","v":""},"","","","","","","","","","","","","","",null,{"$f":"IF(Stammdaten!A608=\"\",\"\",IF(D605<=15,VLOOKUP(B605,'Werte =<15°C'!$Q$2:$S$8,2,FALSE),VLOOKUP(B605,'Werte >15°C'!$Q$2:$S$8,2,FALSE)))","v":""},{"$f":"IF(Stammdaten!A608=\"\",\"\",IF(D605<=15,VLOOKUP(B605,'Werte =<15°C'!$Q$2:$S$8,3,FALSE),VLOOKUP(B605,'Werte >15°C'!$Q$2:$S$8,3,FALSE)))","v":""},{"$f":"IF(Stammdaten!A608=\"\",\"\",U605*(E607-D605)+V605)","v":""},{"$f":"IF(Stammdaten!A608=\"\",\"\",C605+W605)","v":""}]
[{"$f":"Analysedaten!A603","v":""},{"$f":"IF(Stammdaten!A606=\"\",\"\",WEEKDAY(A606,2))","v":""},{"$f":"IF(Stammdaten!A606=\"\",\"\",Analysedaten!C603)","v":""},{"$f":"Analysedaten!D603","v":""},{"$f":"Analysedaten!E603","v":""},"","","","","","","","","","","","","","",null,{"$f":"IF(Stammdaten!A609=\"\",\"\",IF(D606<=15,VLOOKUP(B606,'Werte =<15°C'!$Q$2:$S$8,2,FALSE),VLOOKUP(B606,'Werte >15°C'!$Q$2:$S$8,2,FALSE)))","v":""},{"$f":"IF(Stammdaten!A609=\"\",\"\",IF(D606<=15,VLOOKUP(B606,'Werte =<15°C'!$Q$2:$S$8,3,FALSE),VLOOKUP(B606,'Werte >15°C'!$Q$2:$S$8,3,FALSE)))","v":""},{"$f":"IF(Stammdaten!A609=\"\",\"\",U606*(E608-D606)+V606)","v":""},{"$f":"IF(Stammdaten!A609=\"\",\"\",C606+W606)","v":""}]
[{"$f":"Analysedaten!A604","v":""},{"$f":"IF(Stammdaten!A607=\"\",\"\",WEEKDAY(A607,2))","v":""},{"$f":"IF(Stammdaten!A607=\"\",\"\",Analysedaten!C604)","v":""},{"$f":"Analysedaten!D604","v":""},{"$f":"Analysedaten!E604","v":""},"","","","","","","","","","","","","","",null,{"$f":"IF(Stammdaten!A610=\"\",\"\",IF(D607<=15,VLOOKUP(B607,'Werte =<15°C'!$Q$2:$S$8,2,FALSE),VLOOKUP(B607,'Werte >15°C'!$Q$2:$S$8,2,FALSE)))","v":""},{"$f":"IF(Stammdaten!A610=\"\",\"\",IF(D607<=15,VLOOKUP(B607,'Werte =<15°C'!$Q$2:$S$8,3,FALSE),VLOOKUP(B607,'Werte >15°C'!$Q$2:$S$8,3,FALSE)))","v":""},{"$f":"IF(Stammdaten!A610=\"\",\"\",U607*(E609-D607)+V607)","v":""},{"$f":"IF(Stammdaten!A610=\"\",\"\",C607+W607)","v":""}]
[{"$f":"Analysedaten!A605","v":""},{"$f":"IF(Stammdaten!A608=\"\",\"\",WEEKDAY(A608,2))","v":""},{"$f":"IF(Stammdaten!A608=\"\",\"\",Analysedaten!C605)","v":""},{"$f":"Analysedaten!D605","v":""},{"$f":"Analysedaten!E605","v":""},"","","","","","","","","","","","","","",null,{"$f":"IF(Stammdaten!A611=\"\",\"\",IF(D608<=15,VLOOKUP(B608,'Werte =<15°C'!$Q$2:$S$8,2,FALSE),VLOOKUP(B608,'Werte >15°C'!$Q$2:$S$8,2,FALSE)))","v":""},{"$f":"IF(Stammdaten!A611=\"\",\"\",IF(D608<=15,VLOOKUP(B608,'Werte =<15°C'!$Q$2:$S$8,3,FALSE),VLOOKUP(B608,'Werte >15°C'!$Q$2:$S$8,3,FALSE)))","v":""},{"$f":"IF(Stammdaten!A611=\"\",\"\",U608*(E610-D608)+V608)","v":""},{"$f":"IF(Stammdaten!A611=\"\",\"\",C608+W608)","v":""}]
[{"$f":"Analysedaten!A606","v":""},{"$f":"IF(Stammdaten!A609=\"\",\"\",WEEKDAY(A609,2))","v":""},{"$f":"IF(Stammdaten!A609=\"\",\"\",Analysedaten!C606)","v":""},{"$f":"Analysedaten!D606","v":""},{"$f":"Analysedaten!E606","v":""},"","","","","","","","","","","","","","",null,{"$f":"IF(Stammdaten!A612=\"\",\"\",IF(D609<=15,VLOOKUP(B609,'Werte =<15°C'!$Q$2:$S$8,2,FALSE),VLOOKUP(B609,'Werte >15°C'!$Q$2:$S$8,2,FALSE)))","v":""},{"$f":"IF(Stammdaten!A612=\"\",\"\",IF(D609<=15,VLOOKUP(B609,'Werte =<15°C'!$Q$2:$S$8,3,FALSE),VLOOKUP(B609,'Werte >15°C'!$Q$2:$S$8,3,FALSE)))","v":""},{"$f":"IF(Stammdaten!A612=\"\",\"\",U609*(E611-D609)+V609)","v":""},{"$f":"IF(Stammdaten!A612=\"\",\"\",C609+W609)","v":""}]
[{"$f":"Analysedaten!A607","v":""},{"$f":"IF(Stammdaten!A610=\"\",\"\",WEEKDAY(A610,2))","v":""},{"$f":"IF(Stammdaten!A610=\"\",\"\",Analysedaten!C607)","v":""},{"$f":"Analysedaten!D607","v":""},{"$f":"Analysedaten!E607","v":""},"","","","","","","","","","","","","","",null,{"$f":"IF(Stammdaten!A613=\"\",\"\",IF(D610<=15,VLOOKUP(B610,'Werte =<15°C'!$Q$2:$S$8,2,FALSE),VLOOKUP(B610,'Werte >15°C'!$Q$2:$S$8,2,FALSE)))","v":""},{"$f":"IF(Stammdaten!A613=\"\",\"\",IF(D610<=15,VLOOKUP(B610,'Werte =<15°C'!$Q$2:$S$8,3,FALSE),VLOOKUP(B610,'Werte >15°C'!$Q$2:$S$8,3,FALSE)))","v":""},{"$f":"IF(Stammdaten!A613=\"\",\"\",U610*(E612-D610)+V610)","v":""},{"$f":"IF(Stammdaten!A613=\"\",\"\",C610+W610)","v":""}]
[{"$f":"Analysedaten!A608","v":""},{"$f":"IF(Stammdaten!A611=\"\",\"\",WEEKDAY(A611,2))","v":""},{"$f":"IF(Stammdaten!A611=\"\",\"\",Analysedaten!C608)","v":""},{"$f":"Analysedaten!D608","v":""},{"$f":"Analysedaten!E608","v":""},"","","","","","","","","","","","","","",null,{"$f":"IF(Stammdaten!A614=\"\",\"\",IF(D611<=15,VLOOKUP(B611,'Werte =<15°C'!$Q$2:$S$8,2,FALSE),VLOOKUP(B611,'Werte >15°C'!$Q$2:$S$8,2,FALSE)))","v":""},{"$f":"IF(Stammdaten!A614=\"\",\"\",IF(D611<=15,VLOOKUP(B611,'Werte =<15°C'!$Q$2:$S$8,3,FALSE),VLOOKUP(B611,'Werte >15°C'!$Q$2:$S$8,3,FALSE)))","v":""},{"$f":"IF(Stammdaten!A614=\"\",\"\",U611*(E613-D611)+V611)","v":""},{"$f":"IF(Stammdaten!A614=\"\",\"\",C611+W611)","v":""}]
[{"$f":"Analysedaten!A609","v":""},{"$f":"IF(Stammdaten!A612=\"\",\"\",WEEKDAY(A612,2))","v":""},{"$f":"IF(Stammdaten!A612=\"\",\"\",Analysedaten!C609)","v":""},{"$f":"Analysedaten!D609","v":""},{"$f":"Analysedaten!E609","v":""},"","","","","","","","","","","","","","",null,{"$f":"IF(Stammdaten!A615=\"\",\"\",IF(D612<=15,VLOOKUP(B612,'Werte =<15°C'!$Q$2:$S$8,2,FALSE),VLOOKUP(B612,'Werte >15°C'!$Q$2:$S$8,2,FALSE)))","v":""},{"$f":"IF(Stammdaten!A615=\"\",\"\",IF(D612<=15,VLOOKUP(B612,'Werte =<15°C'!$Q$2:$S$8,3,FALSE),VLOOKUP(B612,'Werte >15°C'!$Q$2:$S$8,3,FALSE)))","v":""},{"$f":"IF(Stammdaten!A615=\"\",\"\",U612*(E614-D612)+V612)","v":""},{"$f":"IF(Stammdaten!A615=\"\",\"\",C612+W612)","v":""}]
[{"$f":"Analysedaten!A610","v":""},{"$f":"IF(Stammdaten!A613=\"\",\"\",WEEKDAY(A613,2))","v":""},{"$f":"IF(Stammdaten!A613=\"\",\"\",Analysedaten!C610)","v":""},{"$f":"Analysedaten!D610","v":""},{"$f":"Analysedaten!E610","v":""},"","","","","","","","","","","","","","",null,{"$f":"IF(Stammdaten!A616=\"\",\"\",IF(D613<=15,VLOOKUP(B613,'Werte =<15°C'!$Q$2:$S$8,2,FALSE),VLOOKUP(B613,'Werte >15°C'!$Q$2:$S$8,2,FALSE)))","v":""},{"$f":"IF(Stammdaten!A616=\"\",\"\",IF(D613<=15,VLOOKUP(B613,'Werte =<15°C'!$Q$2:$S$8,3,FALSE),VLOOKUP(B613,'Werte >15°C'!$Q$2:$S$8,3,FALSE)))","v":""},{"$f":"IF(Stammdaten!A616=\"\",\"\",U613*(E615-D613)+V613)","v":""},{"$f":"IF(Stammdaten!A616=\"\",\"\",C613+W613)","v":""}]
[{"$f":"Analysedaten!A611","v":""},{"$f":"IF(Stammdaten!A614=\"\",\"\",WEEKDAY(A614,2))","v":""},{"$f":"IF(Stammdaten!A614=\"\",\"\",Analysedaten!C611)","v":""},{"$f":"Analysedaten!D611","v":""},{"$f":"Analysedaten!E611","v":""},"","","","","","","","","","","","","","",null,{"$f":"IF(Stammdaten!A617=\"\",\"\",IF(D614<=15,VLOOKUP(B614,'Werte =<15°C'!$Q$2:$S$8,2,FALSE),VLOOKUP(B614,'Werte >15°C'!$Q$2:$S$8,2,FALSE)))","v":""},{"$f":"IF(Stammdaten!A617=\"\",\"\",IF(D614<=15,VLOOKUP(B614,'Werte =<15°C'!$Q$2:$S$8,3,FALSE),VLOOKUP(B614,'Werte >15°C'!$Q$2:$S$8,3,FALSE)))","v":""},{"$f":"IF(Stammdaten!A617=\"\",\"\",U614*(E616-D614)+V614)","v":""},{"$f":"IF(Stammdaten!A617=\"\",\"\",C614+W614)","v":""}]
[{"$f":"Analysedaten!A612","v":""},{"$f":"IF(Stammdaten!A615=\"\",\"\",WEEKDAY(A615,2))","v":""},{"$f":"IF(Stammdaten!A615=\"\",\"\",Analysedaten!C612)","v":""},{"$f":"Analysedaten!D612","v":""},{"$f":"Analysedaten!E612","v":""},"","","","","","","","","","","","","","",null,{"$f":"IF(Stammdaten!A618=\"\",\"\",IF(D615<=15,VLOOKUP(B615,'Werte =<15°C'!$Q$2:$S$8,2,FALSE),VLOOKUP(B615,'Werte >15°C'!$Q$2:$S$8,2,FALSE)))","v":""},{"$f":"IF(Stammdaten!A618=\"\",\"\",IF(D615<=15,VLOOKUP(B615,'Werte =<15°C'!$Q$2:$S$8,3,FALSE),VLOOKUP(B615,'Werte >15°C'!$Q$2:$S$8,3,FALSE)))","v":""},{"$f":"IF(Stammdaten!A618=\"\",\"\",U615*(E617-D615)+V615)","v":""},{"$f":"IF(Stammdaten!A618=\"\",\"\",C615+W615)","v":""}]
[{"$f":"Analysedaten!A613","v":""},{"$f":"IF(Stammdaten!A616=\"\",\"\",WEEKDAY(A616,2))","v":""},{"$f":"IF(Stammdaten!A616=\"\",\"\",Analysedaten!C613)","v":""},{"$f":"Analysedaten!D613","v":""},{"$f":"Analysedaten!E613","v":""},"","","","","","","","","","","","","","",null,{"$f":"IF(Stammdaten!A619=\"\",\"\",IF(D616<=15,VLOOKUP(B616,'Werte =<15°C'!$Q$2:$S$8,2,FALSE),VLOOKUP(B616,'Werte >15°C'!$Q$2:$S$8,2,FALSE)))","v":""},{"$f":"IF(Stammdaten!A619=\"\",\"\",IF(D616<=15,VLOOKUP(B616,'Werte =<15°C'!$Q$2:$S$8,3,FALSE),VLOOKUP(B616,'Werte >15°C'!$Q$2:$S$8,3,FALSE)))","v":""},{"$f":"IF(Stammdaten!A619=\"\",\"\",U616*(E618-D616)+V616)","v":""},{"$f":"IF(Stammdaten!A619=\"\",\"\",C616+W616)","v":""}]
[{"$f":"Analysedaten!A614","v":""},{"$f":"IF(Stammdaten!A617=\"\",\"\",WEEKDAY(A617,2))","v":""},{"$f":"IF(Stammdaten!A617=\"\",\"\",Analysedaten!C614)","v":""},{"$f":"Analysedaten!D614","v":""},{"$f":"Analysedaten!E614","v":""},"","","","","","","","","","","","","","",null,{"$f":"IF(Stammdaten!A620=\"\",\"\",IF(D617<=15,VLOOKUP(B617,'Werte =<15°C'!$Q$2:$S$8,2,FALSE),VLOOKUP(B617,'Werte >15°C'!$Q$2:$S$8,2,FALSE)))","v":""},{"$f":"IF(Stammdaten!A620=\"\",\"\",IF(D617<=15,VLOOKUP(B617,'Werte =<15°C'!$Q$2:$S$8,3,FALSE),VLOOKUP(B617,'Werte >15°C'!$Q$2:$S$8,3,FALSE)))","v":""},{"$f":"IF(Stammdaten!A620=\"\",\"\",U617*(E619-D617)+V617)","v":""},{"$f":"IF(Stammdaten!A620=\"\",\"\",C617+W617)","v":""}]
[{"$f":"Analysedaten!A615","v":""},{"$f":"IF(Stammdaten!A618=\"\",\"\",WEEKDAY(A618,2))","v":""},{"$f":"IF(Stammdaten!A618=\"\",\"\",Analysedaten!C615)","v":""},{"$f":"Analysedaten!D615","v":""},{"$f":"Analysedaten!E615","v":""},"","","","","","","","","","","","","","",null,{"$f":"IF(Stammdaten!A621=\"\",\"\",IF(D618<=15,VLOOKUP(B618,'Werte =<15°C'!$Q$2:$S$8,2,FALSE),VLOOKUP(B618,'Werte >15°C'!$Q$2:$S$8,2,FALSE)))","v":""},{"$f":"IF(Stammdaten!A621=\"\",\"\",IF(D618<=15,VLOOKUP(B618,'Werte =<15°C'!$Q$2:$S$8,3,FALSE),VLOOKUP(B618,'Werte >15°C'!$Q$2:$S$8,3,FALSE)))","v":""},{"$f":"IF(Stammdaten!A621=\"\",\"\",U618*(E620-D618)+V618)","v":""},{"$f":"IF(Stammdaten!A621=\"\",\"\",C618+W618)","v":""}]
[{"$f":"Analysedaten!A616","v":""},{"$f":"IF(Stammdaten!A619=\"\",\"\",WEEKDAY(A619,2))","v":""},{"$f":"IF(Stammdaten!A619=\"\",\"\",Analysedaten!C616)","v":""},{"$f":"Analysedaten!D616","v":""},{"$f":"Analysedaten!E616","v":""},"","","","","","","","","","","","","","",null,{"$f":"IF(Stammdaten!A622=\"\",\"\",IF(D619<=15,VLOOKUP(B619,'Werte =<15°C'!$Q$2:$S$8,2,FALSE),VLOOKUP(B619,'Werte >15°C'!$Q$2:$S$8,2,FALSE)))","v":""},{"$f":"IF(Stammdaten!A622=\"\",\"\",IF(D619<=15,VLOOKUP(B619,'Werte =<15°C'!$Q$2:$S$8,3,FALSE),VLOOKUP(B619,'Werte >15°C'!$Q$2:$S$8,3,FALSE)))","v":""},{"$f":"IF(Stammdaten!A622=\"\",\"\",U619*(E621-D619)+V619)","v":""},{"$f":"IF(Stammdaten!A622=\"\",\"\",C619+W619)","v":""}]
[{"$f":"Analysedaten!A617","v":""},{"$f":"IF(Stammdaten!A620=\"\",\"\",WEEKDAY(A620,2))","v":""},{"$f":"IF(Stammdaten!A620=\"\",\"\",Analysedaten!C617)","v":""},{"$f":"Analysedaten!D617","v":""},{"$f":"Analysedaten!E617","v":""},"","","","","","","","","","","","","","",null,{"$f":"IF(Stammdaten!A623=\"\",\"\",IF(D620<=15,VLOOKUP(B620,'Werte =<15°C'!$Q$2:$S$8,2,FALSE),VLOOKUP(B620,'Werte >15°C'!$Q$2:$S$8,2,FALSE)))","v":""},{"$f":"IF(Stammdaten!A623=\"\",\"\",IF(D620<=15,VLOOKUP(B620,'Werte =<15°C'!$Q$2:$S$8,3,FALSE),VLOOKUP(B620,'Werte >15°C'!$Q$2:$S$8,3,FALSE)))","v":""},{"$f":"IF(Stammdaten!A623=\"\",\"\",U620*(E622-D620)+V620)","v":""},{"$f":"IF(Stammdaten!A623=\"\",\"\",C620+W620)","v":""}]
[{"$f":"Analysedaten!A618","v":""},{"$f":"IF(Stammdaten!A621=\"\",\"\",WEEKDAY(A621,2))","v":""},{"$f":"IF(Stammdaten!A621=\"\",\"\",Analysedaten!C618)","v":""},{"$f":"Analysedaten!D618","v":""},{"$f":"Analysedaten!E618","v":""},"","","","","","","","","","","","","","",null,{"$f":"IF(Stammdaten!A624=\"\",\"\",IF(D621<=15,VLOOKUP(B621,'Werte =<15°C'!$Q$2:$S$8,2,FALSE),VLOOKUP(B621,'Werte >15°C'!$Q$2:$S$8,2,FALSE)))","v":""},{"$f":"IF(Stammdaten!A624=\"\",\"\",IF(D621<=15,VLOOKUP(B621,'Werte =<15°C'!$Q$2:$S$8,3,FALSE),VLOOKUP(B621,'Werte >15°C'!$Q$2:$S$8,3,FALSE)))","v":""},{"$f":"IF(Stammdaten!A624=\"\",\"\",U621*(E623-D621)+V621)","v":""},{"$f":"IF(Stammdaten!A624=\"\",\"\",C621+W621)","v":""}]
[{"$f":"Analysedaten!A619","v":""},{"$f":"IF(Stammdaten!A622=\"\",\"\",WEEKDAY(A622,2))","v":""},{"$f":"IF(Stammdaten!A622=\"\",\"\",Analysedaten!C619)","v":""},{"$f":"Analysedaten!D619","v":""},{"$f":"Analysedaten!E619","v":""},"","","","","","","","","","","","","","",null,{"$f":"IF(Stammdaten!A625=\"\",\"\",IF(D622<=15,VLOOKUP(B622,'Werte =<15°C'!$Q$2:$S$8,2,FALSE),VLOOKUP(B622,'Werte >15°C'!$Q$2:$S$8,2,FALSE)))","v":""},{"$f":"IF(Stammdaten!A625=\"\",\"\",IF(D622<=15,VLOOKUP(B622,'Werte =<15°C'!$Q$2:$S$8,3,FALSE),VLOOKUP(B622,'Werte >15°C'!$Q$2:$S$8,3,FALSE)))","v":""},{"$f":"IF(Stammdaten!A625=\"\",\"\",U622*(E624-D622)+V622)","v":""},{"$f":"IF(Stammdaten!A625=\"\",\"\",C622+W622)","v":""}]
[{"$f":"Analysedaten!A620","v":""},{"$f":"IF(Stammdaten!A623=\"\",\"\",WEEKDAY(A623,2))","v":""},{"$f":"IF(Stammdaten!A623=\"\",\"\",Analysedaten!C620)","v":""},{"$f":"Analysedaten!D620","v":""},{"$f":"Analysedaten!E620","v":""},"","","","","","","","","","","","","","",null,{"$f":"IF(Stammdaten!A626=\"\",\"\",IF(D623<=15,VLOOKUP(B623,'Werte =<15°C'!$Q$2:$S$8,2,FALSE),VLOOKUP(B623,'Werte >15°C'!$Q$2:$S$8,2,FALSE)))","v":""},{"$f":"IF(Stammdaten!A626=\"\",\"\",IF(D623<=15,VLOOKUP(B623,'Werte =<15°C'!$Q$2:$S$8,3,FALSE),VLOOKUP(B623,'Werte >15°C'!$Q$2:$S$8,3,FALSE)))","v":""},{"$f":"IF(Stammdaten!A626=\"\",\"\",U623*(E625-D623)+V623)","v":""},{"$f":"IF(Stammdaten!A626=\"\",\"\",C623+W623)","v":""}]
[{"$f":"Analysedaten!A621","v":""},{"$f":"IF(Stammdaten!A624=\"\",\"\",WEEKDAY(A624,2))","v":""},{"$f":"IF(Stammdaten!A624=\"\",\"\",Analysedaten!C621)","v":""},{"$f":"Analysedaten!D621","v":""},{"$f":"Analysedaten!E621","v":""},"","","","","","","","","","","","","","",null,{"$f":"IF(Stammdaten!A627=\"\",\"\",IF(D624<=15,VLOOKUP(B624,'Werte =<15°C'!$Q$2:$S$8,2,FALSE),VLOOKUP(B624,'Werte >15°C'!$Q$2:$S$8,2,FALSE)))","v":""},{"$f":"IF(Stammdaten!A627=\"\",\"\",IF(D624<=15,VLOOKUP(B624,'Werte =<15°C'!$Q$2:$S$8,3,FALSE),VLOOKUP(B624,'Werte >15°C'!$Q$2:$S$8,3,FALSE)))","v":""},{"$f":"IF(Stammdaten!A627=\"\",\"\",U624*(E626-D624)+V624)","v":""},{"$f":"IF(Stammdaten!A627=\"\",\"\",C624+W624)","v":""}]
[{"$f":"Analysedaten!A622","v":""},{"$f":"IF(Stammdaten!A625=\"\",\"\",WEEKDAY(A625,2))","v":""},{"$f":"IF(Stammdaten!A625=\"\",\"\",Analysedaten!C622)","v":""},{"$f":"Analysedaten!D622","v":""},{"$f":"Analysedaten!E622","v":""},"","","","","","","","","","","","","","",null,{"$f":"IF(Stammdaten!A628=\"\",\"\",IF(D625<=15,VLOOKUP(B625,'Werte =<15°C'!$Q$2:$S$8,2,FALSE),VLOOKUP(B625,'Werte >15°C'!$Q$2:$S$8,2,FALSE)))","v":""},{"$f":"IF(Stammdaten!A628=\"\",\"\",IF(D625<=15,VLOOKUP(B625,'Werte =<15°C'!$Q$2:$S$8,3,FALSE),VLOOKUP(B625,'Werte >15°C'!$Q$2:$S$8,3,FALSE)))","v":""},{"$f":"IF(Stammdaten!A628=\"\",\"\",U625*(E627-D625)+V625)","v":""},{"$f":"IF(Stammdaten!A628=\"\",\"\",C625+W625)","v":""}]
[{"$f":"Analysedaten!A623","v":""},{"$f":"IF(Stammdaten!A626=\"\",\"\",WEEKDAY(A626,2))","v":""},{"$f":"IF(Stammdaten!A626=\"\",\"\",Analysedaten!C623)","v":""},{"$f":"Analysedaten!D623","v":""},{"$f":"Analysedaten!E623","v":""},"","","","","","","","","","","","","","",null,{"$f":"IF(Stammdaten!A629=\"\",\"\",IF(D626<=15,VLOOKUP(B626,'Werte =<15°C'!$Q$2:$S$8,2,FALSE),VLOOKUP(B626,'Werte >15°C'!$Q$2:$S$8,2,FALSE)))","v":""},{"$f":"IF(Stammdaten!A629=\"\",\"\",IF(D626<=15,VLOOKUP(B626,'Werte =<15°C'!$Q$2:$S$8,3,FALSE),VLOOKUP(B626,'Werte >15°C'!$Q$2:$S$8,3,FALSE)))","v":""},{"$f":"IF(Stammdaten!A629=\"\",\"\",U626*(E628-D626)+V626)","v":""},{"$f":"IF(Stammdaten!A629=\"\",\"\",C626+W626)","v":""}]
[{"$f":"Analysedaten!A624","v":""},{"$f":"IF(Stammdaten!A627=\"\",\"\",WEEKDAY(A627,2))","v":""},{"$f":"IF(Stammdaten!A627=\"\",\"\",Analysedaten!C624)","v":""},{"$f":"Analysedaten!D624","v":""},{"$f":"Analysedaten!E624","v":""},"","","","","","","","","","","","","","",null,{"$f":"IF(Stammdaten!A630=\"\",\"\",IF(D627<=15,VLOOKUP(B627,'Werte =<15°C'!$Q$2:$S$8,2,FALSE),VLOOKUP(B627,'Werte >15°C'!$Q$2:$S$8,2,FALSE)))","v":""},{"$f":"IF(Stammdaten!A630=\"\",\"\",IF(D627<=15,VLOOKUP(B627,'Werte =<15°C'!$Q$2:$S$8,3,FALSE),VLOOKUP(B627,'Werte >15°C'!$Q$2:$S$8,3,FALSE)))","v":""},{"$f":"IF(Stammdaten!A630=\"\",\"\",U627*(E629-D627)+V627)","v":""},{"$f":"IF(Stammdaten!A630=\"\",\"\",C627+W627)","v":""}]
[{"$f":"Analysedaten!A625","v":""},{"$f":"IF(Stammdaten!A628=\"\",\"\",WEEKDAY(A628,2))","v":""},{"$f":"IF(Stammdaten!A628=\"\",\"\",Analysedaten!C625)","v":""},{"$f":"Analysedaten!D625","v":""},{"$f":"Analysedaten!E625","v":""},"","","","","","","","","","","","","","",null,{"$f":"IF(Stammdaten!A631=\"\",\"\",IF(D628<=15,VLOOKUP(B628,'Werte =<15°C'!$Q$2:$S$8,2,FALSE),VLOOKUP(B628,'Werte >15°C'!$Q$2:$S$8,2,FALSE)))","v":""},{"$f":"IF(Stammdaten!A631=\"\",\"\",IF(D628<=15,VLOOKUP(B628,'Werte =<15°C'!$Q$2:$S$8,3,FALSE),VLOOKUP(B628,'Werte >15°C'!$Q$2:$S$8,3,FALSE)))","v":""},{"$f":"IF(Stammdaten!A631=\"\",\"\",U628*(E630-D628)+V628)","v":""},{"$f":"IF(Stammdaten!A631=\"\",\"\",C628+W628)","v":""}]
[{"$f":"Analysedaten!A626","v":""},{"$f":"IF(Stammdaten!A629=\"\",\"\",WEEKDAY(A629,2))","v":""},{"$f":"IF(Stammdaten!A629=\"\",\"\",Analysedaten!C626)","v":""},{"$f":"Analysedaten!D626","v":""},{"$f":"Analysedaten!E626","v":""},"","","","","","","","","","","","","","",null,{"$f":"IF(Stammdaten!A632=\"\",\"\",IF(D629<=15,VLOOKUP(B629,'Werte =<15°C'!$Q$2:$S$8,2,FALSE),VLOOKUP(B629,'Werte >15°C'!$Q$2:$S$8,2,FALSE)))","v":""},{"$f":"IF(Stammdaten!A632=\"\",\"\",IF(D629<=15,VLOOKUP(B629,'Werte =<15°C'!$Q$2:$S$8,3,FALSE),VLOOKUP(B629,'Werte >15°C'!$Q$2:$S$8,3,FALSE)))","v":""},{"$f":"IF(Stammdaten!A632=\"\",\"\",U629*(E631-D629)+V629)","v":""},{"$f":"IF(Stammdaten!A632=\"\",\"\",C629+W629)","v":""}]
[{"$f":"Analysedaten!A627","v":""},{"$f":"IF(Stammdaten!A630=\"\",\"\",WEEKDAY(A630,2))","v":""},{"$f":"IF(Stammdaten!A630=\"\",\"\",Analysedaten!C627)","v":""},{"$f":"Analysedaten!D627","v":""},{"$f":"Analysedaten!E627","v":""},"","","","","","","","","","","","","","",null,{"$f":"IF(Stammdaten!A633=\"\",\"\",IF(D630<=15,VLOOKUP(B630,'Werte =<15°C'!$Q$2:$S$8,2,FALSE),VLOOKUP(B630,'Werte >15°C'!$Q$2:$S$8,2,FALSE)))","v":""},{"$f":"IF(Stammdaten!A633=\"\",\"\",IF(D630<=15,VLOOKUP(B630,'Werte =<15°C'!$Q$2:$S$8,3,FALSE),VLOOKUP(B630,'Werte >15°C'!$Q$2:$S$8,3,FALSE)))","v":""},{"$f":"IF(Stammdaten!A633=\"\",\"\",U630*(E632-D630)+V630)","v":""},{"$f":"IF(Stammdaten!A633=\"\",\"\",C630+W630)","v":""}]
[{"$f":"Analysedaten!A628","v":""},{"$f":"IF(Stammdaten!A631=\"\",\"\",WEEKDAY(A631,2))","v":""},{"$f":"IF(Stammdaten!A631=\"\",\"\",Analysedaten!C628)","v":""},{"$f":"Analysedaten!D628","v":""},{"$f":"Analysedaten!E628","v":""},"","","","","","","","","","","","","","",null,{"$f":"IF(Stammdaten!A634=\"\",\"\",IF(D631<=15,VLOOKUP(B631,'Werte =<15°C'!$Q$2:$S$8,2,FALSE),VLOOKUP(B631,'Werte >15°C'!$Q$2:$S$8,2,FALSE)))","v":""},{"$f":"IF(Stammdaten!A634=\"\",\"\",IF(D631<=15,VLOOKUP(B631,'Werte =<15°C'!$Q$2:$S$8,3,FALSE),VLOOKUP(B631,'Werte >15°C'!$Q$2:$S$8,3,FALSE)))","v":""},{"$f":"IF(Stammdaten!A634=\"\",\"\",U631*(E633-D631)+V631)","v":""},{"$f":"IF(Stammdaten!A634=\"\",\"\",C631+W631)","v":""}]
[{"$f":"Analysedaten!A629","v":""},{"$f":"IF(Stammdaten!A632=\"\",\"\",WEEKDAY(A632,2))","v":""},{"$f":"IF(Stammdaten!A632=\"\",\"\",Analysedaten!C629)","v":""},{"$f":"Analysedaten!D629","v":""},{"$f":"Analysedaten!E629","v":""},"","","","","","","","","","","","","","",null,{"$f":"IF(Stammdaten!A635=\"\",\"\",IF(D632<=15,VLOOKUP(B632,'Werte =<15°C'!$Q$2:$S$8,2,FALSE),VLOOKUP(B632,'Werte >15°C'!$Q$2:$S$8,2,FALSE)))","v":""},{"$f":"IF(Stammdaten!A635=\"\",\"\",IF(D632<=15,VLOOKUP(B632,'Werte =<15°C'!$Q$2:$S$8,3,FALSE),VLOOKUP(B632,'Werte >15°C'!$Q$2:$S$8,3,FALSE)))","v":""},{"$f":"IF(Stammdaten!A635=\"\",\"\",U632*(E634-D632)+V632)","v":""},{"$f":"IF(Stammdaten!A635=\"\",\"\",C632+W632)","v":""}]
[{"$f":"Analysedaten!A630","v":""},{"$f":"IF(Stammdaten!A633=\"\",\"\",WEEKDAY(A633,2))","v":""},{"$f":"IF(Stammdaten!A633=\"\",\"\",Analysedaten!C630)","v":""},{"$f":"Analysedaten!D630","v":""},{"$f":"Analysedaten!E630","v":""},"","","","","","","","","","","","","","",null,{"$f":"IF(Stammdaten!A636=\"\",\"\",IF(D633<=15,VLOOKUP(B633,'Werte =<15°C'!$Q$2:$S$8,2,FALSE),VLOOKUP(B633,'Werte >15°C'!$Q$2:$S$8,2,FALSE)))","v":""},{"$f":"IF(Stammdaten!A636=\"\",\"\",IF(D633<=15,VLOOKUP(B633,'Werte =<15°C'!$Q$2:$S$8,3,FALSE),VLOOKUP(B633,'Werte >15°C'!$Q$2:$S$8,3,FALSE)))","v":""},{"$f":"IF(Stammdaten!A636=\"\",\"\",U633*(E635-D633)+V633)","v":""},{"$f":"IF(Stammdaten!A636=\"\",\"\",C633+W633)","v":""}]
[{"$f":"Analysedaten!A631","v":""},{"$f":"IF(Stammdaten!A634=\"\",\"\",WEEKDAY(A634,2))","v":""},{"$f":"IF(Stammdaten!A634=\"\",\"\",Analysedaten!C631)","v":""},{"$f":"Analysedaten!D631","v":""},{"$f":"Analysedaten!E631","v":""},"","","","","","","","","","","","","","",null,{"$f":"IF(Stammdaten!A637=\"\",\"\",IF(D634<=15,VLOOKUP(B634,'Werte =<15°C'!$Q$2:$S$8,2,FALSE),VLOOKUP(B634,'Werte >15°C'!$Q$2:$S$8,2,FALSE)))","v":""},{"$f":"IF(Stammdaten!A637=\"\",\"\",IF(D634<=15,VLOOKUP(B634,'Werte =<15°C'!$Q$2:$S$8,3,FALSE),VLOOKUP(B634,'Werte >15°C'!$Q$2:$S$8,3,FALSE)))","v":""},{"$f":"IF(Stammdaten!A637=\"\",\"\",U634*(E636-D634)+V634)","v":""},{"$f":"IF(Stammdaten!A637=\"\",\"\",C634+W634)","v":""}]
[{"$f":"Analysedaten!A632","v":""},{"$f":"IF(Stammdaten!A635=\"\",\"\",WEEKDAY(A635,2))","v":""},{"$f":"IF(Stammdaten!A635=\"\",\"\",Analysedaten!C632)","v":""},{"$f":"Analysedaten!D632","v":""},{"$f":"Analysedaten!E632","v":""},"","","","","","","","","","","","","","",null,{"$f":"IF(Stammdaten!A638=\"\",\"\",IF(D635<=15,VLOOKUP(B635,'Werte =<15°C'!$Q$2:$S$8,2,FALSE),VLOOKUP(B635,'Werte >15°C'!$Q$2:$S$8,2,FALSE)))","v":""},{"$f":"IF(Stammdaten!A638=\"\",\"\",IF(D635<=15,VLOOKUP(B635,'Werte =<15°C'!$Q$2:$S$8,3,FALSE),VLOOKUP(B635,'Werte >15°C'!$Q$2:$S$8,3,FALSE)))","v":""},{"$f":"IF(Stammdaten!A638=\"\",\"\",U635*(E637-D635)+V635)","v":""},{"$f":"IF(Stammdaten!A638=\"\",\"\",C635+W635)","v":""}]
[{"$f":"Analysedaten!A633","v":""},{"$f":"IF(Stammdaten!A636=\"\",\"\",WEEKDAY(A636,2))","v":""},{"$f":"IF(Stammdaten!A636=\"\",\"\",Analysedaten!C633)","v":""},{"$f":"Analysedaten!D633","v":""},{"$f":"Analysedaten!E633","v":""},"","","","","","","","","","","","","","",null,{"$f":"IF(Stammdaten!A639=\"\",\"\",IF(D636<=15,VLOOKUP(B636,'Werte =<15°C'!$Q$2:$S$8,2,FALSE),VLOOKUP(B636,'Werte >15°C'!$Q$2:$S$8,2,FALSE)))","v":""},{"$f":"IF(Stammdaten!A639=\"\",\"\",IF(D636<=15,VLOOKUP(B636,'Werte =<15°C'!$Q$2:$S$8,3,FALSE),VLOOKUP(B636,'Werte >15°C'!$Q$2:$S$8,3,FALSE)))","v":""},{"$f":"IF(Stammdaten!A639=\"\",\"\",U636*(E638-D636)+V636)","v":""},{"$f":"IF(Stammdaten!A639=\"\",\"\",C636+W636)","v":""}]
[{"$f":"Analysedaten!A634","v":""},{"$f":"IF(Stammdaten!A637=\"\",\"\",WEEKDAY(A637,2))","v":""},{"$f":"IF(Stammdaten!A637=\"\",\"\",Analysedaten!C634)","v":""},{"$f":"Analysedaten!D634","v":""},{"$f":"Analysedaten!E634","v":""},"","","","","","","","","","","","","","",null,{"$f":"IF(Stammdaten!A640=\"\",\"\",IF(D637<=15,VLOOKUP(B637,'Werte =<15°C'!$Q$2:$S$8,2,FALSE),VLOOKUP(B637,'Werte >15°C'!$Q$2:$S$8,2,FALSE)))","v":""},{"$f":"IF(Stammdaten!A640=\"\",\"\",IF(D637<=15,VLOOKUP(B637,'Werte =<15°C'!$Q$2:$S$8,3,FALSE),VLOOKUP(B637,'Werte >15°C'!$Q$2:$S$8,3,FALSE)))","v":""},{"$f":"IF(Stammdaten!A640=\"\",\"\",U637*(E639-D637)+V637)","v":""},{"$f":"IF(Stammdaten!A640=\"\",\"\",C637+W637)","v":""}]
[{"$f":"Analysedaten!A635","v":""},{"$f":"IF(Stammdaten!A638=\"\",\"\",WEEKDAY(A638,2))","v":""},{"$f":"IF(Stammdaten!A638=\"\",\"\",Analysedaten!C635)","v":""},{"$f":"Analysedaten!D635","v":""},{"$f":"Analysedaten!E635","v":""},"","","","","","","","","","","","","","",null,{"$f":"IF(Stammdaten!A641=\"\",\"\",IF(D638<=15,VLOOKUP(B638,'Werte =<15°C'!$Q$2:$S$8,2,FALSE),VLOOKUP(B638,'Werte >15°C'!$Q$2:$S$8,2,FALSE)))","v":""},{"$f":"IF(Stammdaten!A641=\"\",\"\",IF(D638<=15,VLOOKUP(B638,'Werte =<15°C'!$Q$2:$S$8,3,FALSE),VLOOKUP(B638,'Werte >15°C'!$Q$2:$S$8,3,FALSE)))","v":""},{"$f":"IF(Stammdaten!A641=\"\",\"\",U638*(E640-D638)+V638)","v":""},{"$f":"IF(Stammdaten!A641=\"\",\"\",C638+W638)","v":""}]
[{"$f":"Analysedaten!A636","v":""},{"$f":"IF(Stammdaten!A639=\"\",\"\",WEEKDAY(A639,2))","v":""},{"$f":"IF(Stammdaten!A639=\"\",\"\",Analysedaten!C636)","v":""},{"$f":"Analysedaten!D636","v":""},{"$f":"Analysedaten!E636","v":""},"","","","","","","","","","","","","","",null,{"$f":"IF(Stammdaten!A642=\"\",\"\",IF(D639<=15,VLOOKUP(B639,'Werte =<15°C'!$Q$2:$S$8,2,FALSE),VLOOKUP(B639,'Werte >15°C'!$Q$2:$S$8,2,FALSE)))","v":""},{"$f":"IF(Stammdaten!A642=\"\",\"\",IF(D639<=15,VLOOKUP(B639,'Werte =<15°C'!$Q$2:$S$8,3,FALSE),VLOOKUP(B639,'Werte >15°C'!$Q$2:$S$8,3,FALSE)))","v":""},{"$f":"IF(Stammdaten!A642=\"\",\"\",U639*(E641-D639)+V639)","v":""},{"$f":"IF(Stammdaten!A642=\"\",\"\",C639+W639)","v":""}]
[{"$f":"Analysedaten!A637","v":""},{"$f":"IF(Stammdaten!A640=\"\",\"\",WEEKDAY(A640,2))","v":""},{"$f":"IF(Stammdaten!A640=\"\",\"\",Analysedaten!C637)","v":""},{"$f":"Analysedaten!D637","v":""},{"$f":"Analysedaten!E637","v":""},"","","","","","","","","","","","","","",null,{"$f":"IF(Stammdaten!A643=\"\",\"\",IF(D640<=15,VLOOKUP(B640,'Werte =<15°C'!$Q$2:$S$8,2,FALSE),VLOOKUP(B640,'Werte >15°C'!$Q$2:$S$8,2,FALSE)))","v":""},{"$f":"IF(Stammdaten!A643=\"\",\"\",IF(D640<=15,VLOOKUP(B640,'Werte =<15°C'!$Q$2:$S$8,3,FALSE),VLOOKUP(B640,'Werte >15°C'!$Q$2:$S$8,3,FALSE)))","v":""},{"$f":"IF(Stammdaten!A643=\"\",\"\",U640*(E642-D640)+V640)","v":""},{"$f":"IF(Stammdaten!A643=\"\",\"\",C640+W640)","v":""}]
[{"$f":"Analysedaten!A638","v":""},{"$f":"IF(Stammdaten!A641=\"\",\"\",WEEKDAY(A641,2))","v":""},{"$f":"IF(Stammdaten!A641=\"\",\"\",Analysedaten!C638)","v":""},{"$f":"Analysedaten!D638","v":""},{"$f":"Analysedaten!E638","v":""},"","","","","","","","","","","","","","",null,{"$f":"IF(Stammdaten!A644=\"\",\"\",IF(D641<=15,VLOOKUP(B641,'Werte =<15°C'!$Q$2:$S$8,2,FALSE),VLOOKUP(B641,'Werte >15°C'!$Q$2:$S$8,2,FALSE)))","v":""},{"$f":"IF(Stammdaten!A644=\"\",\"\",IF(D641<=15,VLOOKUP(B641,'Werte =<15°C'!$Q$2:$S$8,3,FALSE),VLOOKUP(B641,'Werte >15°C'!$Q$2:$S$8,3,FALSE)))","v":""},{"$f":"IF(Stammdaten!A644=\"\",\"\",U641*(E643-D641)+V641)","v":""},{"$f":"IF(Stammdaten!A644=\"\",\"\",C641+W641)","v":""}]
[{"$f":"Analysedaten!A639","v":""},{"$f":"IF(Stammdaten!A642=\"\",\"\",WEEKDAY(A642,2))","v":""},{"$f":"IF(Stammdaten!A642=\"\",\"\",Analysedaten!C639)","v":""},{"$f":"Analysedaten!D639","v":""},{"$f":"Analysedaten!E639","v":""},"","","","","","","","","","","","","","",null,{"$f":"IF(Stammdaten!A645=\"\",\"\",IF(D642<=15,VLOOKUP(B642,'Werte =<15°C'!$Q$2:$S$8,2,FALSE),VLOOKUP(B642,'Werte >15°C'!$Q$2:$S$8,2,FALSE)))","v":""},{"$f":"IF(Stammdaten!A645=\"\",\"\",IF(D642<=15,VLOOKUP(B642,'Werte =<15°C'!$Q$2:$S$8,3,FALSE),VLOOKUP(B642,'Werte >15°C'!$Q$2:$S$8,3,FALSE)))","v":""},{"$f":"IF(Stammdaten!A645=\"\",\"\",U642*(E644-D642)+V642)","v":""},{"$f":"IF(Stammdaten!A645=\"\",\"\",C642+W642)","v":""}]
[{"$f":"Analysedaten!A640","v":""},{"$f":"IF(Stammdaten!A643=\"\",\"\",WEEKDAY(A643,2))","v":""},{"$f":"IF(Stammdaten!A643=\"\",\"\",Analysedaten!C640)","v":""},{"$f":"Analysedaten!D640","v":""},{"$f":"Analysedaten!E640","v":""},"","","","","","","","","","","","","","",null,{"$f":"IF(Stammdaten!A646=\"\",\"\",IF(D643<=15,VLOOKUP(B643,'Werte =<15°C'!$Q$2:$S$8,2,FALSE),VLOOKUP(B643,'Werte >15°C'!$Q$2:$S$8,2,FALSE)))","v":""},{"$f":"IF(Stammdaten!A646=\"\",\"\",IF(D643<=15,VLOOKUP(B643,'Werte =<15°C'!$Q$2:$S$8,3,FALSE),VLOOKUP(B643,'Werte >15°C'!$Q$2:$S$8,3,FALSE)))","v":""},{"$f":"IF(Stammdaten!A646=\"\",\"\",U643*(E645-D643)+V643)","v":""},{"$f":"IF(Stammdaten!A646=\"\",\"\",C643+W643)","v":""}]
[{"$f":"Analysedaten!A641","v":""},{"$f":"IF(Stammdaten!A644=\"\",\"\",WEEKDAY(A644,2))","v":""},{"$f":"IF(Stammdaten!A644=\"\",\"\",Analysedaten!C641)","v":""},{"$f":"Analysedaten!D641","v":""},{"$f":"Analysedaten!E641","v":""},"","","","","","","","","","","","","","",null,{"$f":"IF(Stammdaten!A647=\"\",\"\",IF(D644<=15,VLOOKUP(B644,'Werte =<15°C'!$Q$2:$S$8,2,FALSE),VLOOKUP(B644,'Werte >15°C'!$Q$2:$S$8,2,FALSE)))","v":""},{"$f":"IF(Stammdaten!A647=\"\",\"\",IF(D644<=15,VLOOKUP(B644,'Werte =<15°C'!$Q$2:$S$8,3,FALSE),VLOOKUP(B644,'Werte >15°C'!$Q$2:$S$8,3,FALSE)))","v":""},{"$f":"IF(Stammdaten!A647=\"\",\"\",U644*(E646-D644)+V644)","v":""},{"$f":"IF(Stammdaten!A647=\"\",\"\",C644+W644)","v":""}]
[{"$f":"Analysedaten!A642","v":""},{"$f":"IF(Stammdaten!A645=\"\",\"\",WEEKDAY(A645,2))","v":""},{"$f":"IF(Stammdaten!A645=\"\",\"\",Analysedaten!C642)","v":""},{"$f":"Analysedaten!D642","v":""},{"$f":"Analysedaten!E642","v":""},{"$f":"IF(B647=1,(E647-D645),\"\")","v":""},{"$f":"IF(B647=1,(C647-C645),\"\")","v":""},{"$f":"IF(B647=2,(E647-D645),\"\")","v":""},{"$f":"IF(B647=2,(C647-C645),\"\")","v":""},{"$f":"IF(B647=3,(E647-D645),\"\")","v":""},{"$f":"IF(B647=3,(C647-C645),\"\")","v":""},{"$f":"IF(B647=4,(E647-D645),\"\")","v":""},{"$f":"IF(B647=4,(C647-C645),\"\")","v":""},{"$f":"IF(B647=5,(E647-D645),\"\")","v":""},{"$f":"IF(B647=5,(C647-C645),\"\")","v":""},{"$f":"IF(B647=6,(E647-D645),\"\")","v":""},{"$f":"IF(B647=6,(C647-C645),\"\")","v":""},{"$f":"IF(B647=7,(E647-D645),\"\")","v":""},{"$f":"IF(B647=7,(C647-C645),\"\")","v":""},null,{"$f":"IF(Stammdaten!A648=\"\",\"\",IF(D645<=15,VLOOKUP(B645,'Werte =<15°C'!$Q$2:$S$8,2,FALSE),VLOOKUP(B645,'Werte >15°C'!$Q$2:$S$8,2,FALSE)))","v":""},{"$f":"IF(Stammdaten!A648=\"\",\"\",IF(D645<=15,VLOOKUP(B645,'Werte =<15°C'!$Q$2:$S$8,3,FALSE),VLOOKUP(B645,'Werte >15°C'!$Q$2:$S$8,3,FALSE)))","v":""},{"$f":"IF(Stammdaten!A648=\"\",\"\",U645*(E647-D645)+V645)","v":""},{"$f":"IF(Stammdaten!A648=\"\",\"\",C645+W645)","v":""}]
[{"$f":"Analysedaten!A643","v":""},{"$f":"IF(Stammdaten!A646=\"\",\"\",WEEKDAY(A646,2))","v":""},{"$f":"IF(Stammdaten!A646=\"\",\"\",Analysedaten!C643)","v":""},{"$f":"Analysedaten!D643","v":""},{"$f":"Analysedaten!E643","v":""},"","","","","","","","","","","","","","",null,{"$f":"IF(Stammdaten!A649=\"\",\"\",IF(D646<=15,VLOOKUP(B646,'Werte =<15°C'!$Q$2:$S$8,2,FALSE),VLOOKUP(B646,'Werte >15°C'!$Q$2:$S$8,2,FALSE)))","v":""},{"$f":"IF(Stammdaten!A649=\"\",\"\",IF(D646<=15,VLOOKUP(B646,'Werte =<15°C'!$Q$2:$S$8,3,FALSE),VLOOKUP(B646,'Werte >15°C'!$Q$2:$S$8,3,FALSE)))","v":""},{"$f":"IF(Stammdaten!A649=\"\",\"\",U646*(E648-D646)+V646)","v":""},{"$f":"IF(Stammdaten!A649=\"\",\"\",C646+W646)","v":""}]
[{"$f":"Analysedaten!A644","v":""},{"$f":"IF(Stammdaten!A647=\"\",\"\",WEEKDAY(A647,2))","v":""},{"$f":"IF(Stammdaten!A647=\"\",\"\",Analysedaten!C644)","v":""},{"$f":"Analysedaten!D644","v":""},{"$f":"Analysedaten!E644","v":""},"","","","","","","","","","","","","","",null,{"$f":"IF(Stammdaten!A650=\"\",\"\",IF(D647<=15,VLOOKUP(B647,'Werte =<15°C'!$Q$2:$S$8,2,FALSE),VLOOKUP(B647,'Werte >15°C'!$Q$2:$S$8,2,FALSE)))","v":""},{"$f":"IF(Stammdaten!A650=\"\",\"\",IF(D647<=15,VLOOKUP(B647,'Werte =<15°C'!$Q$2:$S$8,3,FALSE),VLOOKUP(B647,'Werte >15°C'!$Q$2:$S$8,3,FALSE)))","v":""},{"$f":"IF(Stammdaten!A650=\"\",\"\",U647*(E649-D647)+V647)","v":""},{"$f":"IF(Stammdaten!A650=\"\",\"\",C647+W647)","v":""}]
[{"$f":"Analysedaten!A645","v":""},{"$f":"IF(Stammdaten!A648=\"\",\"\",WEEKDAY(A648,2))","v":""},{"$f":"IF(Stammdaten!A648=\"\",\"\",Analysedaten!C645)","v":""},{"$f":"Analysedaten!D645","v":""},{"$f":"Analysedaten!E645","v":""},"","","","","","","","","","","","","","",null,{"$f":"IF(Stammdaten!A651=\"\",\"\",IF(D648<=15,VLOOKUP(B648,'Werte =<15°C'!$Q$2:$S$8,2,FALSE),VLOOKUP(B648,'Werte >15°C'!$Q$2:$S$8,2,FALSE)))","v":""},{"$f":"IF(Stammdaten!A651=\"\",\"\",IF(D648<=15,VLOOKUP(B648,'Werte =<15°C'!$Q$2:$S$8,3,FALSE),VLOOKUP(B648,'Werte >15°C'!$Q$2:$S$8,3,FALSE)))","v":""},{"$f":"IF(Stammdaten!A651=\"\",\"\",U648*(E650-D648)+V648)","v":""},{"$f":"IF(Stammdaten!A651=\"\",\"\",C648+W648)","v":""}]
[{"$f":"Analysedaten!A646","v":""},{"$f":"IF(Stammdaten!A649=\"\",\"\",WEEKDAY(A649,2))","v":""},{"$f":"IF(Stammdaten!A649=\"\",\"\",Analysedaten!C646)","v":""},{"$f":"Analysedaten!D646","v":""},{"$f":"Analysedaten!E646","v":""},"","","","","","","","","","","","","","",null,{"$f":"IF(Stammdaten!A652=\"\",\"\",IF(D649<=15,VLOOKUP(B649,'Werte =<15°C'!$Q$2:$S$8,2,FALSE),VLOOKUP(B649,'Werte >15°C'!$Q$2:$S$8,2,FALSE)))","v":""},{"$f":"IF(Stammdaten!A652=\"\",\"\",IF(D649<=15,VLOOKUP(B649,'Werte =<15°C'!$Q$2:$S$8,3,FALSE),VLOOKUP(B649,'Werte >15°C'!$Q$2:$S$8,3,FALSE)))","v":""},{"$f":"IF(Stammdaten!A652=\"\",\"\",U649*(E651-D649)+V649)","v":""},{"$f":"IF(Stammdaten!A652=\"\",\"\",C649+W649)","v":""}]
[{"$f":"Analysedaten!A647","v":""},{"$f":"IF(Stammdaten!A650=\"\",\"\",WEEKDAY(A650,2))","v":""},{"$f":"IF(Stammdaten!A650=\"\",\"\",Analysedaten!C647)","v":""},{"$f":"Analysedaten!D647","v":""},{"$f":"Analysedaten!E647","v":""},"","","","","","","","","","","","","","",null,{"$f":"IF(Stammdaten!A653=\"\",\"\",IF(D650<=15,VLOOKUP(B650,'Werte =<15°C'!$Q$2:$S$8,2,FALSE),VLOOKUP(B650,'Werte >15°C'!$Q$2:$S$8,2,FALSE)))","v":""},{"$f":"IF(Stammdaten!A653=\"\",\"\",IF(D650<=15,VLOOKUP(B650,'Werte =<15°C'!$Q$2:$S$8,3,FALSE),VLOOKUP(B650,'Werte >15°C'!$Q$2:$S$8,3,FALSE)))","v":""},{"$f":"IF(Stammdaten!A653=\"\",\"\",U650*(E652-D650)+V650)","v":""},{"$f":"IF(Stammdaten!A653=\"\",\"\",C650+W650)","v":""}]
[{"$f":"Analysedaten!A648","v":""},{"$f":"IF(Stammdaten!A651=\"\",\"\",WEEKDAY(A651,2))","v":""},{"$f":"IF(Stammdaten!A651=\"\",\"\",Analysedaten!C648)","v":""},{"$f":"Analysedaten!D648","v":""},{"$f":"Analysedaten!E648","v":""},"","","","","","","","","","","","","","",null,{"$f":"IF(Stammdaten!A654=\"\",\"\",IF(D651<=15,VLOOKUP(B651,'Werte =<15°C'!$Q$2:$S$8,2,FALSE),VLOOKUP(B651,'Werte >15°C'!$Q$2:$S$8,2,FALSE)))","v":""},{"$f":"IF(Stammdaten!A654=\"\",\"\",IF(D651<=15,VLOOKUP(B651,'Werte =<15°C'!$Q$2:$S$8,3,FALSE),VLOOKUP(B651,'Werte >15°C'!$Q$2:$S$8,3,FALSE)))","v":""},{"$f":"IF(Stammdaten!A654=\"\",\"\",U651*(E653-D651)+V651)","v":""},{"$f":"IF(Stammdaten!A654=\"\",\"\",C651+W651)","v":""}]
[{"$f":"Analysedaten!A649","v":""},{"$f":"IF(Stammdaten!A652=\"\",\"\",WEEKDAY(A652,2))","v":""},{"$f":"IF(Stammdaten!A652=\"\",\"\",Analysedaten!C649)","v":""},{"$f":"Analysedaten!D649","v":""},{"$f":"Analysedaten!E649","v":""},"","","","","","","","","","","","","","",null,{"$f":"IF(Stammdaten!A655=\"\",\"\",IF(D652<=15,VLOOKUP(B652,'Werte =<15°C'!$Q$2:$S$8,2,FALSE),VLOOKUP(B652,'Werte >15°C'!$Q$2:$S$8,2,FALSE)))","v":""},{"$f":"IF(Stammdaten!A655=\"\",\"\",IF(D652<=15,VLOOKUP(B652,'Werte =<15°C'!$Q$2:$S$8,3,FALSE),VLOOKUP(B652,'Werte >15°C'!$Q$2:$S$8,3,FALSE)))","v":""},{"$f":"IF(Stammdaten!A655=\"\",\"\",U652*(E654-D652)+V652)","v":""},{"$f":"IF(Stammdaten!A655=\"\",\"\",C652+W652)","v":""}]
[{"$f":"Analysedaten!A650","v":""},{"$f":"IF(Stammdaten!A653=\"\",\"\",WEEKDAY(A653,2))","v":""},{"$f":"IF(Stammdaten!A653=\"\",\"\",Analysedaten!C650)","v":""},{"$f":"Analysedaten!D650","v":""},{"$f":"Analysedaten!E650","v":""},"","","","","","","","","","","","","","",null,{"$f":"IF(Stammdaten!A656=\"\",\"\",IF(D653<=15,VLOOKUP(B653,'Werte =<15°C'!$Q$2:$S$8,2,FALSE),VLOOKUP(B653,'Werte >15°C'!$Q$2:$S$8,2,FALSE)))","v":""},{"$f":"IF(Stammdaten!A656=\"\",\"\",IF(D653<=15,VLOOKUP(B653,'Werte =<15°C'!$Q$2:$S$8,3,FALSE),VLOOKUP(B653,'Werte >15°C'!$Q$2:$S$8,3,FALSE)))","v":""},{"$f":"IF(Stammdaten!A656=\"\",\"\",U653*(E655-D653)+V653)","v":""},{"$f":"IF(Stammdaten!A656=\"\",\"\",C653+W653)","v":""}]
[{"$f":"Analysedaten!A651","v":""},{"$f":"IF(Stammdaten!A654=\"\",\"\",WEEKDAY(A654,2))","v":""},{"$f":"IF(Stammdaten!A654=\"\",\"\",Analysedaten!C651)","v":""},{"$f":"Analysedaten!D651","v":""},{"$f":"Analysedaten!E651","v":""},"","","","","","","","","","","","","","",null,{"$f":"IF(Stammdaten!A657=\"\",\"\",IF(D654<=15,VLOOKUP(B654,'Werte =<15°C'!$Q$2:$S$8,2,FALSE),VLOOKUP(B654,'Werte >15°C'!$Q$2:$S$8,2,FALSE)))","v":""},{"$f":"IF(Stammdaten!A657=\"\",\"\",IF(D654<=15,VLOOKUP(B654,'Werte =<15°C'!$Q$2:$S$8,3,FALSE),VLOOKUP(B654,'Werte >15°C'!$Q$2:$S$8,3,FALSE)))","v":""},{"$f":"IF(Stammdaten!A657=\"\",\"\",U654*(E656-D654)+V654)","v":""},{"$f":"IF(Stammdaten!A657=\"\",\"\",C654+W654)","v":""}]
[{"$f":"Analysedaten!A652","v":""},{"$f":"IF(Stammdaten!A655=\"\",\"\",WEEKDAY(A655,2))","v":""},{"$f":"IF(Stammdaten!A655=\"\",\"\",Analysedaten!C652)","v":""},{"$f":"Analysedaten!D652","v":""},{"$f":"Analysedaten!E652","v":""},"","","","","","","","","","","","","","",null,{"$f":"IF(Stammdaten!A658=\"\",\"\",IF(D655<=15,VLOOKUP(B655,'Werte =<15°C'!$Q$2:$S$8,2,FALSE),VLOOKUP(B655,'Werte >15°C'!$Q$2:$S$8,2,FALSE)))","v":""},{"$f":"IF(Stammdaten!A658=\"\",\"\",IF(D655<=15,VLOOKUP(B655,'Werte =<15°C'!$Q$2:$S$8,3,FALSE),VLOOKUP(B655,'Werte >15°C'!$Q$2:$S$8,3,FALSE)))","v":""},{"$f":"IF(Stammdaten!A658=\"\",\"\",U655*(E657-D655)+V655)","v":""},{"$f":"IF(Stammdaten!A658=\"\",\"\",C655+W655)","v":""}]
[{"$f":"Analysedaten!A653","v":""},{"$f":"IF(Stammdaten!A656=\"\",\"\",WEEKDAY(A656,2))","v":""},{"$f":"IF(Stammdaten!A656=\"\",\"\",Analysedaten!C653)","v":""},{"$f":"Analysedaten!D653","v":""},{"$f":"Analysedaten!E653","v":""},"","","","","","","","","","","","","","",null,{"$f":"IF(Stammdaten!A659=\"\",\"\",IF(D656<=15,VLOOKUP(B656,'Werte =<15°C'!$Q$2:$S$8,2,FALSE),VLOOKUP(B656,'Werte >15°C'!$Q$2:$S$8,2,FALSE)))","v":""},{"$f":"IF(Stammdaten!A659=\"\",\"\",IF(D656<=15,VLOOKUP(B656,'Werte =<15°C'!$Q$2:$S$8,3,FALSE),VLOOKUP(B656,'Werte >15°C'!$Q$2:$S$8,3,FALSE)))","v":""},{"$f":"IF(Stammdaten!A659=\"\",\"\",U656*(E658-D656)+V656)","v":""},{"$f":"IF(Stammdaten!A659=\"\",\"\",C656+W656)","v":""}]
[{"$f":"Analysedaten!A654","v":""},{"$f":"IF(Stammdaten!A657=\"\",\"\",WEEKDAY(A657,2))","v":""},{"$f":"IF(Stammdaten!A657=\"\",\"\",Analysedaten!C654)","v":""},{"$f":"Analysedaten!D654","v":""},{"$f":"Analysedaten!E654","v":""},"","","","","","","","","","","","","","",null,{"$f":"IF(Stammdaten!A660=\"\",\"\",IF(D657<=15,VLOOKUP(B657,'Werte =<15°C'!$Q$2:$S$8,2,FALSE),VLOOKUP(B657,'Werte >15°C'!$Q$2:$S$8,2,FALSE)))","v":""},{"$f":"IF(Stammdaten!A660=\"\",\"\",IF(D657<=15,VLOOKUP(B657,'Werte =<15°C'!$Q$2:$S$8,3,FALSE),VLOOKUP(B657,'Werte >15°C'!$Q$2:$S$8,3,FALSE)))","v":""},{"$f":"IF(Stammdaten!A660=\"\",\"\",U657*(E659-D657)+V657)","v":""},{"$f":"IF(Stammdaten!A660=\"\",\"\",C657+W657)","v":""}]
[{"$f":"Analysedaten!A655","v":""},{"$f":"IF(Stammdaten!A658=\"\",\"\",WEEKDAY(A658,2))","v":""},{"$f":"IF(Stammdaten!A658=\"\",\"\",Analysedaten!C655)","v":""},{"$f":"Analysedaten!D655","v":""},{"$f":"Analysedaten!E655","v":""},"","","","","","","","","","","","","","",null,{"$f":"IF(Stammdaten!A661=\"\",\"\",IF(D658<=15,VLOOKUP(B658,'Werte =<15°C'!$Q$2:$S$8,2,FALSE),VLOOKUP(B658,'Werte >15°C'!$Q$2:$S$8,2,FALSE)))","v":""},{"$f":"IF(Stammdaten!A661=\"\",\"\",IF(D658<=15,VLOOKUP(B658,'Werte =<15°C'!$Q$2:$S$8,3,FALSE),VLOOKUP(B658,'Werte >15°C'!$Q$2:$S$8,3,FALSE)))","v":""},{"$f":"IF(Stammdaten!A661=\"\",\"\",U658*(E660-D658)+V658)","v":""},{"$f":"IF(Stammdaten!A661=\"\",\"\",C658+W658)","v":""}]
[{"$f":"Analysedaten!A656","v":""},{"$f":"IF(Stammdaten!A659=\"\",\"\",WEEKDAY(A659,2))","v":""},{"$f":"IF(Stammdaten!A659=\"\",\"\",Analysedaten!C656)","v":""},{"$f":"Analysedaten!D656","v":""},{"$f":"Analysedaten!E656","v":""},"","","","","","","","","","","","","","",null,{"$f":"IF(Stammdaten!A662=\"\",\"\",IF(D659<=15,VLOOKUP(B659,'Werte =<15°C'!$Q$2:$S$8,2,FALSE),VLOOKUP(B659,'Werte >15°C'!$Q$2:$S$8,2,FALSE)))","v":""},{"$f":"IF(Stammdaten!A662=\"\",\"\",IF(D659<=15,VLOOKUP(B659,'Werte =<15°C'!$Q$2:$S$8,3,FALSE),VLOOKUP(B659,'Werte >15°C'!$Q$2:$S$8,3,FALSE)))","v":""},{"$f":"IF(Stammdaten!A662=\"\",\"\",U659*(E661-D659)+V659)","v":""},{"$f":"IF(Stammdaten!A662=\"\",\"\",C659+W659)","v":""}]
[{"$f":"Analysedaten!A657","v":""},{"$f":"IF(Stammdaten!A660=\"\",\"\",WEEKDAY(A660,2))","v":""},{"$f":"IF(Stammdaten!A660=\"\",\"\",Analysedaten!C657)","v":""},{"$f":"Analysedaten!D657","v":""},{"$f":"Analysedaten!E657","v":""},"","","","","","","","","","","","","","",null,{"$f":"IF(Stammdaten!A663=\"\",\"\",IF(D660<=15,VLOOKUP(B660,'Werte =<15°C'!$Q$2:$S$8,2,FALSE),VLOOKUP(B660,'Werte >15°C'!$Q$2:$S$8,2,FALSE)))","v":""},{"$f":"IF(Stammdaten!A663=\"\",\"\",IF(D660<=15,VLOOKUP(B660,'Werte =<15°C'!$Q$2:$S$8,3,FALSE),VLOOKUP(B660,'Werte >15°C'!$Q$2:$S$8,3,FALSE)))","v":""},{"$f":"IF(Stammdaten!A663=\"\",\"\",U660*(E662-D660)+V660)","v":""},{"$f":"IF(Stammdaten!A663=\"\",\"\",C660+W660)","v":""}]
[{"$f":"Analysedaten!A658","v":""},{"$f":"IF(Stammdaten!A661=\"\",\"\",WEEKDAY(A661,2))","v":""},{"$f":"IF(Stammdaten!A661=\"\",\"\",Analysedaten!C658)","v":""},{"$f":"Analysedaten!D658","v":""},{"$f":"Analysedaten!E658","v":""},"","","","","","","","","","","","","","",null,{"$f":"IF(Stammdaten!A664=\"\",\"\",IF(D661<=15,VLOOKUP(B661,'Werte =<15°C'!$Q$2:$S$8,2,FALSE),VLOOKUP(B661,'Werte >15°C'!$Q$2:$S$8,2,FALSE)))","v":""},{"$f":"IF(Stammdaten!A664=\"\",\"\",IF(D661<=15,VLOOKUP(B661,'Werte =<15°C'!$Q$2:$S$8,3,FALSE),VLOOKUP(B661,'Werte >15°C'!$Q$2:$S$8,3,FALSE)))","v":""},{"$f":"IF(Stammdaten!A664=\"\",\"\",U661*(E663-D661)+V661)","v":""},{"$f":"IF(Stammdaten!A664=\"\",\"\",C661+W661)","v":""}]
[{"$f":"Analysedaten!A659","v":""},{"$f":"IF(Stammdaten!A662=\"\",\"\",WEEKDAY(A662,2))","v":""},{"$f":"IF(Stammdaten!A662=\"\",\"\",Analysedaten!C659)","v":""},{"$f":"Analysedaten!D659","v":""},{"$f":"Analysedaten!E659","v":""},"","","","","","","","","","","","","","",null,{"$f":"IF(Stammdaten!A665=\"\",\"\",IF(D662<=15,VLOOKUP(B662,'Werte =<15°C'!$Q$2:$S$8,2,FALSE),VLOOKUP(B662,'Werte >15°C'!$Q$2:$S$8,2,FALSE)))","v":""},{"$f":"IF(Stammdaten!A665=\"\",\"\",IF(D662<=15,VLOOKUP(B662,'Werte =<15°C'!$Q$2:$S$8,3,FALSE),VLOOKUP(B662,'Werte >15°C'!$Q$2:$S$8,3,FALSE)))","v":""},{"$f":"IF(Stammdaten!A665=\"\",\"\",U662*(E664-D662)+V662)","v":""},{"$f":"IF(Stammdaten!A665=\"\",\"\",C662+W662)","v":""}]
[{"$f":"Analysedaten!A660","v":""},{"$f":"IF(Stammdaten!A663=\"\",\"\",WEEKDAY(A663,2))","v":""},{"$f":"IF(Stammdaten!A663=\"\",\"\",Analysedaten!C660)","v":""},{"$f":"Analysedaten!D660","v":""},{"$f":"Analysedaten!E660","v":""},"","","","","","","","","","","","","","",null,{"$f":"IF(Stammdaten!A666=\"\",\"\",IF(D663<=15,VLOOKUP(B663,'Werte =<15°C'!$Q$2:$S$8,2,FALSE),VLOOKUP(B663,'Werte >15°C'!$Q$2:$S$8,2,FALSE)))","v":""},{"$f":"IF(Stammdaten!A666=\"\",\"\",IF(D663<=15,VLOOKUP(B663,'Werte =<15°C'!$Q$2:$S$8,3,FALSE),VLOOKUP(B663,'Werte >15°C'!$Q$2:$S$8,3,FALSE)))","v":""},{"$f":"IF(Stammdaten!A666=\"\",\"\",U663*(E665-D663)+V663)","v":""},{"$f":"IF(Stammdaten!A666=\"\",\"\",C663+W663)","v":""}]
[{"$f":"Analysedaten!A661","v":""},{"$f":"IF(Stammdaten!A664=\"\",\"\",WEEKDAY(A664,2))","v":""},{"$f":"IF(Stammdaten!A664=\"\",\"\",Analysedaten!C661)","v":""},{"$f":"Analysedaten!D661","v":""},{"$f":"Analysedaten!E661","v":""},"","","","","","","","","","","","","","",null,{"$f":"IF(Stammdaten!A667=\"\",\"\",IF(D664<=15,VLOOKUP(B664,'Werte =<15°C'!$Q$2:$S$8,2,FALSE),VLOOKUP(B664,'Werte >15°C'!$Q$2:$S$8,2,FALSE)))","v":""},{"$f":"IF(Stammdaten!A667=\"\",\"\",IF(D664<=15,VLOOKUP(B664,'Werte =<15°C'!$Q$2:$S$8,3,FALSE),VLOOKUP(B664,'Werte >15°C'!$Q$2:$S$8,3,FALSE)))","v":""},{"$f":"IF(Stammdaten!A667=\"\",\"\",U664*(E666-D664)+V664)","v":""},{"$f":"IF(Stammdaten!A667=\"\",\"\",C664+W664)","v":""}]
[{"$f":"Analysedaten!A662","v":""},{"$f":"IF(Stammdaten!A665=\"\",\"\",WEEKDAY(A665,2))","v":""},{"$f":"IF(Stammdaten!A665=\"\",\"\",Analysedaten!C662)","v":""},{"$f":"Analysedaten!D662","v":""},{"$f":"Analysedaten!E662","v":""},"","","","","","","","","","","","","","",null,{"$f":"IF(Stammdaten!A668=\"\",\"\",IF(D665<=15,VLOOKUP(B665,'Werte =<15°C'!$Q$2:$S$8,2,FALSE),VLOOKUP(B665,'Werte >15°C'!$Q$2:$S$8,2,FALSE)))","v":""},{"$f":"IF(Stammdaten!A668=\"\",\"\",IF(D665<=15,VLOOKUP(B665,'Werte =<15°C'!$Q$2:$S$8,3,FALSE),VLOOKUP(B665,'Werte >15°C'!$Q$2:$S$8,3,FALSE)))","v":""},{"$f":"IF(Stammdaten!A668=\"\",\"\",U665*(E667-D665)+V665)","v":""},{"$f":"IF(Stammdaten!A668=\"\",\"\",C665+W665)","v":""}]
[{"$f":"Analysedaten!A663","v":""},{"$f":"IF(Stammdaten!A666=\"\",\"\",WEEKDAY(A666,2))","v":""},{"$f":"IF(Stammdaten!A666=\"\",\"\",Analysedaten!C663)","v":""},{"$f":"Analysedaten!D663","v":""},{"$f":"Analysedaten!E663","v":""},"","","","","","","","","","","","","","",null,{"$f":"IF(Stammdaten!A669=\"\",\"\",IF(D666<=15,VLOOKUP(B666,'Werte =<15°C'!$Q$2:$S$8,2,FALSE),VLOOKUP(B666,'Werte >15°C'!$Q$2:$S$8,2,FALSE)))","v":""},{"$f":"IF(Stammdaten!A669=\"\",\"\",IF(D666<=15,VLOOKUP(B666,'Werte =<15°C'!$Q$2:$S$8,3,FALSE),VLOOKUP(B666,'Werte >15°C'!$Q$2:$S$8,3,FALSE)))","v":""},{"$f":"IF(Stammdaten!A669=\"\",\"\",U666*(E668-D666)+V666)","v":""},{"$f":"IF(Stammdaten!A669=\"\",\"\",C666+W666)","v":""}]
[{"$f":"Analysedaten!A664","v":""},{"$f":"IF(Stammdaten!A667=\"\",\"\",WEEKDAY(A667,2))","v":""},{"$f":"IF(Stammdaten!A667=\"\",\"\",Analysedaten!C664)","v":""},{"$f":"Analysedaten!D664","v":""},{"$f":"Analysedaten!E664","v":""},"","","","","","","","","","","","","","",null,{"$f":"IF(Stammdaten!A670=\"\",\"\",IF(D667<=15,VLOOKUP(B667,'Werte =<15°C'!$Q$2:$S$8,2,FALSE),VLOOKUP(B667,'Werte >15°C'!$Q$2:$S$8,2,FALSE)))","v":""},{"$f":"IF(Stammdaten!A670=\"\",\"\",IF(D667<=15,VLOOKUP(B667,'Werte =<15°C'!$Q$2:$S$8,3,FALSE),VLOOKUP(B667,'Werte >15°C'!$Q$2:$S$8,3,FALSE)))","v":""},{"$f":"IF(Stammdaten!A670=\"\",\"\",U667*(E669-D667)+V667)","v":""},{"$f":"IF(Stammdaten!A670=\"\",\"\",C667+W667)","v":""}]
[{"$f":"Analysedaten!A665","v":""},{"$f":"IF(Stammdaten!A668=\"\",\"\",WEEKDAY(A668,2))","v":""},{"$f":"IF(Stammdaten!A668=\"\",\"\",Analysedaten!C665)","v":""},{"$f":"Analysedaten!D665","v":""},{"$f":"Analysedaten!E665","v":""},"","","","","","","","","","","","","","",null,{"$f":"IF(Stammdaten!A671=\"\",\"\",IF(D668<=15,VLOOKUP(B668,'Werte =<15°C'!$Q$2:$S$8,2,FALSE),VLOOKUP(B668,'Werte >15°C'!$Q$2:$S$8,2,FALSE)))","v":""},{"$f":"IF(Stammdaten!A671=\"\",\"\",IF(D668<=15,VLOOKUP(B668,'Werte =<15°C'!$Q$2:$S$8,3,FALSE),VLOOKUP(B668,'Werte >15°C'!$Q$2:$S$8,3,FALSE)))","v":""},{"$f":"IF(Stammdaten!A671=\"\",\"\",U668*(E670-D668)+V668)","v":""},{"$f":"IF(Stammdaten!A671=\"\",\"\",C668+W668)","v":""}]
[{"$f":"Analysedaten!A666","v":""},{"$f":"IF(Stammdaten!A669=\"\",\"\",WEEKDAY(A669,2))","v":""},{"$f":"IF(Stammdaten!A669=\"\",\"\",Analysedaten!C666)","v":""},{"$f":"Analysedaten!D666","v":""},{"$f":"Analysedaten!E666","v":""},"","","","","","","","","","","","","","",null,{"$f":"IF(Stammdaten!A672=\"\",\"\",IF(D669<=15,VLOOKUP(B669,'Werte =<15°C'!$Q$2:$S$8,2,FALSE),VLOOKUP(B669,'Werte >15°C'!$Q$2:$S$8,2,FALSE)))","v":""},{"$f":"IF(Stammdaten!A672=\"\",\"\",IF(D669<=15,VLOOKUP(B669,'Werte =<15°C'!$Q$2:$S$8,3,FALSE),VLOOKUP(B669,'Werte >15°C'!$Q$2:$S$8,3,FALSE)))","v":""},{"$f":"IF(Stammdaten!A672=\"\",\"\",U669*(E671-D669)+V669)","v":""},{"$f":"IF(Stammdaten!A672=\"\",\"\",C669+W669)","v":""}]
[{"$f":"Analysedaten!A667","v":""},{"$f":"IF(Stammdaten!A670=\"\",\"\",WEEKDAY(A670,2))","v":""},{"$f":"IF(Stammdaten!A670=\"\",\"\",Analysedaten!C667)","v":""},{"$f":"Analysedaten!D667","v":""},{"$f":"Analysedaten!E667","v":""},"","","","","","","","","","","","","","",null,{"$f":"IF(Stammdaten!A673=\"\",\"\",IF(D670<=15,VLOOKUP(B670,'Werte =<15°C'!$Q$2:$S$8,2,FALSE),VLOOKUP(B670,'Werte >15°C'!$Q$2:$S$8,2,FALSE)))","v":""},{"$f":"IF(Stammdaten!A673=\"\",\"\",IF(D670<=15,VLOOKUP(B670,'Werte =<15°C'!$Q$2:$S$8,3,FALSE),VLOOKUP(B670,'Werte >15°C'!$Q$2:$S$8,3,FALSE)))","v":""},{"$f":"IF(Stammdaten!A673=\"\",\"\",U670*(E672-D670)+V670)","v":""},{"$f":"IF(Stammdaten!A673=\"\",\"\",C670+W670)","v":""}]
[{"$f":"Analysedaten!A668","v":""},{"$f":"IF(Stammdaten!A671=\"\",\"\",WEEKDAY(A671,2))","v":""},{"$f":"IF(Stammdaten!A671=\"\",\"\",Analysedaten!C668)","v":""},{"$f":"Analysedaten!D668","v":""},{"$f":"Analysedaten!E668","v":""},"","","","","","","","","","","","","","",null,{"$f":"IF(Stammdaten!A674=\"\",\"\",IF(D671<=15,VLOOKUP(B671,'Werte =<15°C'!$Q$2:$S$8,2,FALSE),VLOOKUP(B671,'Werte >15°C'!$Q$2:$S$8,2,FALSE)))","v":""},{"$f":"IF(Stammdaten!A674=\"\",\"\",IF(D671<=15,VLOOKUP(B671,'Werte =<15°C'!$Q$2:$S$8,3,FALSE),VLOOKUP(B671,'Werte >15°C'!$Q$2:$S$8,3,FALSE)))","v":""},{"$f":"IF(Stammdaten!A674=\"\",\"\",U671*(E673-D671)+V671)","v":""},{"$f":"IF(Stammdaten!A674=\"\",\"\",C671+W671)","v":""}]
[{"$f":"Analysedaten!A669","v":""},{"$f":"IF(Stammdaten!A672=\"\",\"\",WEEKDAY(A672,2))","v":""},{"$f":"IF(Stammdaten!A672=\"\",\"\",Analysedaten!C669)","v":""},{"$f":"Analysedaten!D669","v":""},{"$f":"Analysedaten!E669","v":""},"","","","","","","","","","","","","","",null,{"$f":"IF(Stammdaten!A675=\"\",\"\",IF(D672<=15,VLOOKUP(B672,'Werte =<15°C'!$Q$2:$S$8,2,FALSE),VLOOKUP(B672,'Werte >15°C'!$Q$2:$S$8,2,FALSE)))","v":""},{"$f":"IF(Stammdaten!A675=\"\",\"\",IF(D672<=15,VLOOKUP(B672,'Werte =<15°C'!$Q$2:$S$8,3,FALSE),VLOOKUP(B672,'Werte >15°C'!$Q$2:$S$8,3,FALSE)))","v":""},{"$f":"IF(Stammdaten!A675=\"\",\"\",U672*(E674-D672)+V672)","v":""},{"$f":"IF(Stammdaten!A675=\"\",\"\",C672+W672)","v":""}]
[{"$f":"Analysedaten!A670","v":""},{"$f":"IF(Stammdaten!A673=\"\",\"\",WEEKDAY(A673,2))","v":""},{"$f":"IF(Stammdaten!A673=\"\",\"\",Analysedaten!C670)","v":""},{"$f":"Analysedaten!D670","v":""},{"$f":"Analysedaten!E670","v":""},"","","","","","","","","","","","","","",null,{"$f":"IF(Stammdaten!A676=\"\",\"\",IF(D673<=15,VLOOKUP(B673,'Werte =<15°C'!$Q$2:$S$8,2,FALSE),VLOOKUP(B673,'Werte >15°C'!$Q$2:$S$8,2,FALSE)))","v":""},{"$f":"IF(Stammdaten!A676=\"\",\"\",IF(D673<=15,VLOOKUP(B673,'Werte =<15°C'!$Q$2:$S$8,3,FALSE),VLOOKUP(B673,'Werte >15°C'!$Q$2:$S$8,3,FALSE)))","v":""},{"$f":"IF(Stammdaten!A676=\"\",\"\",U673*(E675-D673)+V673)","v":""},{"$f":"IF(Stammdaten!A676=\"\",\"\",C673+W673)","v":""}]
[{"$f":"Analysedaten!A671","v":""},{"$f":"IF(Stammdaten!A674=\"\",\"\",WEEKDAY(A674,2))","v":""},{"$f":"IF(Stammdaten!A674=\"\",\"\",Analysedaten!C671)","v":""},{"$f":"Analysedaten!D671","v":""},{"$f":"Analysedaten!E671","v":""},"","","","","","","","","","","","","","",null,{"$f":"IF(Stammdaten!A677=\"\",\"\",IF(D674<=15,VLOOKUP(B674,'Werte =<15°C'!$Q$2:$S$8,2,FALSE),VLOOKUP(B674,'Werte >15°C'!$Q$2:$S$8,2,FALSE)))","v":""},{"$f":"IF(Stammdaten!A677=\"\",\"\",IF(D674<=15,VLOOKUP(B674,'Werte =<15°C'!$Q$2:$S$8,3,FALSE),VLOOKUP(B674,'Werte >15°C'!$Q$2:$S$8,3,FALSE)))","v":""},{"$f":"IF(Stammdaten!A677=\"\",\"\",U674*(E676-D674)+V674)","v":""},{"$f":"IF(Stammdaten!A677=\"\",\"\",C674+W674)","v":""}]
[{"$f":"Analysedaten!A672","v":""},{"$f":"IF(Stammdaten!A675=\"\",\"\",WEEKDAY(A675,2))","v":""},{"$f":"IF(Stammdaten!A675=\"\",\"\",Analysedaten!C672)","v":""},{"$f":"Analysedaten!D672","v":""},{"$f":"Analysedaten!E672","v":""},"","","","","","","","","","","","","","",null,{"$f":"IF(Stammdaten!A678=\"\",\"\",IF(D675<=15,VLOOKUP(B675,'Werte =<15°C'!$Q$2:$S$8,2,FALSE),VLOOKUP(B675,'Werte >15°C'!$Q$2:$S$8,2,FALSE)))","v":""},{"$f":"IF(Stammdaten!A678=\"\",\"\",IF(D675<=15,VLOOKUP(B675,'Werte =<15°C'!$Q$2:$S$8,3,FALSE),VLOOKUP(B675,'Werte >15°C'!$Q$2:$S$8,3,FALSE)))","v":""},{"$f":"IF(Stammdaten!A678=\"\",\"\",U675*(E677-D675)+V675)","v":""},{"$f":"IF(Stammdaten!A678=\"\",\"\",C675+W675)","v":""}]
[{"$f":"Analysedaten!A673","v":""},{"$f":"IF(Stammdaten!A676=\"\",\"\",WEEKDAY(A676,2))","v":""},{"$f":"IF(Stammdaten!A676=\"\",\"\",Analysedaten!C673)","v":""},{"$f":"Analysedaten!D673","v":""},{"$f":"Analysedaten!E673","v":""},"","","","","","","","","","","","","","",null,{"$f":"IF(Stammdaten!A679=\"\",\"\",IF(D676<=15,VLOOKUP(B676,'Werte =<15°C'!$Q$2:$S$8,2,FALSE),VLOOKUP(B676,'Werte >15°C'!$Q$2:$S$8,2,FALSE)))","v":""},{"$f":"IF(Stammdaten!A679=\"\",\"\",IF(D676<=15,VLOOKUP(B676,'Werte =<15°C'!$Q$2:$S$8,3,FALSE),VLOOKUP(B676,'Werte >15°C'!$Q$2:$S$8,3,FALSE)))","v":""},{"$f":"IF(Stammdaten!A679=\"\",\"\",U676*(E678-D676)+V676)","v":""},{"$f":"IF(Stammdaten!A679=\"\",\"\",C676+W676)","v":""}]
[{"$f":"Analysedaten!A674","v":""},{"$f":"IF(Stammdaten!A677=\"\",\"\",WEEKDAY(A677,2))","v":""},{"$f":"IF(Stammdaten!A677=\"\",\"\",Analysedaten!C674)","v":""},{"$f":"Analysedaten!D674","v":""},{"$f":"Analysedaten!E674","v":""},"","","","","","","","","","","","","","",null,{"$f":"IF(Stammdaten!A680=\"\",\"\",IF(D677<=15,VLOOKUP(B677,'Werte =<15°C'!$Q$2:$S$8,2,FALSE),VLOOKUP(B677,'Werte >15°C'!$Q$2:$S$8,2,FALSE)))","v":""},{"$f":"IF(Stammdaten!A680=\"\",\"\",IF(D677<=15,VLOOKUP(B677,'Werte =<15°C'!$Q$2:$S$8,3,FALSE),VLOOKUP(B677,'Werte >15°C'!$Q$2:$S$8,3,FALSE)))","v":""},{"$f":"IF(Stammdaten!A680=\"\",\"\",U677*(E679-D677)+V677)","v":""},{"$f":"IF(Stammdaten!A680=\"\",\"\",C677+W677)","v":""}]
[{"$f":"Analysedaten!A675","v":""},{"$f":"IF(Stammdaten!A678=\"\",\"\",WEEKDAY(A678,2))","v":""},{"$f":"IF(Stammdaten!A678=\"\",\"\",Analysedaten!C675)","v":""},{"$f":"Analysedaten!D675","v":""},{"$f":"Analysedaten!E675","v":""},"","","","","","","","","","","","","","",null,{"$f":"IF(Stammdaten!A681=\"\",\"\",IF(D678<=15,VLOOKUP(B678,'Werte =<15°C'!$Q$2:$S$8,2,FALSE),VLOOKUP(B678,'Werte >15°C'!$Q$2:$S$8,2,FALSE)))","v":""},{"$f":"IF(Stammdaten!A681=\"\",\"\",IF(D678<=15,VLOOKUP(B678,'Werte =<15°C'!$Q$2:$S$8,3,FALSE),VLOOKUP(B678,'Werte >15°C'!$Q$2:$S$8,3,FALSE)))","v":""},{"$f":"IF(Stammdaten!A681=\"\",\"\",U678*(E680-D678)+V678)","v":""},{"$f":"IF(Stammdaten!A681=\"\",\"\",C678+W678)","v":""}]
[{"$f":"Analysedaten!A676","v":""},{"$f":"IF(Stammdaten!A679=\"\",\"\",WEEKDAY(A679,2))","v":""},{"$f":"IF(Stammdaten!A679=\"\",\"\",Analysedaten!C676)","v":""},{"$f":"Analysedaten!D676","v":""},{"$f":"Analysedaten!E676","v":""},"","","","","","","","","","","","","","",null,{"$f":"IF(Stammdaten!A682=\"\",\"\",IF(D679<=15,VLOOKUP(B679,'Werte =<15°C'!$Q$2:$S$8,2,FALSE),VLOOKUP(B679,'Werte >15°C'!$Q$2:$S$8,2,FALSE)))","v":""},{"$f":"IF(Stammdaten!A682=\"\",\"\",IF(D679<=15,VLOOKUP(B679,'Werte =<15°C'!$Q$2:$S$8,3,FALSE),VLOOKUP(B679,'Werte >15°C'!$Q$2:$S$8,3,FALSE)))","v":""},{"$f":"IF(Stammdaten!A682=\"\",\"\",U679*(E681-D679)+V679)","v":""},{"$f":"IF(Stammdaten!A682=\"\",\"\",C679+W679)","v":""}]
[{"$f":"Analysedaten!A677","v":""},{"$f":"IF(Stammdaten!A680=\"\",\"\",WEEKDAY(A680,2))","v":""},{"$f":"IF(Stammdaten!A680=\"\",\"\",Analysedaten!C677)","v":""},{"$f":"Analysedaten!D677","v":""},{"$f":"Analysedaten!E677","v":""},"","","","","","","","","","","","","","",null,{"$f":"IF(Stammdaten!A683=\"\",\"\",IF(D680<=15,VLOOKUP(B680,'Werte =<15°C'!$Q$2:$S$8,2,FALSE),VLOOKUP(B680,'Werte >15°C'!$Q$2:$S$8,2,FALSE)))","v":""},{"$f":"IF(Stammdaten!A683=\"\",\"\",IF(D680<=15,VLOOKUP(B680,'Werte =<15°C'!$Q$2:$S$8,3,FALSE),VLOOKUP(B680,'Werte >15°C'!$Q$2:$S$8,3,FALSE)))","v":""},{"$f":"IF(Stammdaten!A683=\"\",\"\",U680*(E682-D680)+V680)","v":""},{"$f":"IF(Stammdaten!A683=\"\",\"\",C680+W680)","v":""}]
[{"$f":"Analysedaten!A678","v":""},{"$f":"IF(Stammdaten!A681=\"\",\"\",WEEKDAY(A681,2))","v":""},{"$f":"IF(Stammdaten!A681=\"\",\"\",Analysedaten!C678)","v":""},{"$f":"Analysedaten!D678","v":""},{"$f":"Analysedaten!E678","v":""},"","","","","","","","","","","","","","",null,{"$f":"IF(Stammdaten!A684=\"\",\"\",IF(D681<=15,VLOOKUP(B681,'Werte =<15°C'!$Q$2:$S$8,2,FALSE),VLOOKUP(B681,'Werte >15°C'!$Q$2:$S$8,2,FALSE)))","v":""},{"$f":"IF(Stammdaten!A684=\"\",\"\",IF(D681<=15,VLOOKUP(B681,'Werte =<15°C'!$Q$2:$S$8,3,FALSE),VLOOKUP(B681,'Werte >15°C'!$Q$2:$S$8,3,FALSE)))","v":""},{"$f":"IF(Stammdaten!A684=\"\",\"\",U681*(E683-D681)+V681)","v":""},{"$f":"IF(Stammdaten!A684=\"\",\"\",C681+W681)","v":""}]
[{"$f":"Analysedaten!A679","v":""},{"$f":"IF(Stammdaten!A682=\"\",\"\",WEEKDAY(A682,2))","v":""},{"$f":"IF(Stammdaten!A682=\"\",\"\",Analysedaten!C679)","v":""},{"$f":"Analysedaten!D679","v":""},{"$f":"Analysedaten!E679","v":""},"","","","","","","","","","","","","","",null,{"$f":"IF(Stammdaten!A685=\"\",\"\",IF(D682<=15,VLOOKUP(B682,'Werte =<15°C'!$Q$2:$S$8,2,FALSE),VLOOKUP(B682,'Werte >15°C'!$Q$2:$S$8,2,FALSE)))","v":""},{"$f":"IF(Stammdaten!A685=\"\",\"\",IF(D682<=15,VLOOKUP(B682,'Werte =<15°C'!$Q$2:$S$8,3,FALSE),VLOOKUP(B682,'Werte >15°C'!$Q$2:$S$8,3,FALSE)))","v":""},{"$f":"IF(Stammdaten!A685=\"\",\"\",U682*(E684-D682)+V682)","v":""},{"$f":"IF(Stammdaten!A685=\"\",\"\",C682+W682)","v":""}]
[{"$f":"Analysedaten!A680","v":""},{"$f":"IF(Stammdaten!A683=\"\",\"\",WEEKDAY(A683,2))","v":""},{"$f":"IF(Stammdaten!A683=\"\",\"\",Analysedaten!C680)","v":""},{"$f":"Analysedaten!D680","v":""},{"$f":"Analysedaten!E680","v":""},"","","","","","","","","","","","","","",null,{"$f":"IF(Stammdaten!A686=\"\",\"\",IF(D683<=15,VLOOKUP(B683,'Werte =<15°C'!$Q$2:$S$8,2,FALSE),VLOOKUP(B683,'Werte >15°C'!$Q$2:$S$8,2,FALSE)))","v":""},{"$f":"IF(Stammdaten!A686=\"\",\"\",IF(D683<=15,VLOOKUP(B683,'Werte =<15°C'!$Q$2:$S$8,3,FALSE),VLOOKUP(B683,'Werte >15°C'!$Q$2:$S$8,3,FALSE)))","v":""},{"$f":"IF(Stammdaten!A686=\"\",\"\",U683*(E685-D683)+V683)","v":""},{"$f":"IF(Stammdaten!A686=\"\",\"\",C683+W683)","v":""}]
[{"$f":"Analysedaten!A681","v":""},{"$f":"IF(Stammdaten!A684=\"\",\"\",WEEKDAY(A684,2))","v":""},{"$f":"IF(Stammdaten!A684=\"\",\"\",Analysedaten!C681)","v":""},{"$f":"Analysedaten!D681","v":""},{"$f":"Analysedaten!E681","v":""},"","","","","","","","","","","","","","",null,{"$f":"IF(Stammdaten!A687=\"\",\"\",IF(D684<=15,VLOOKUP(B684,'Werte =<15°C'!$Q$2:$S$8,2,FALSE),VLOOKUP(B684,'Werte >15°C'!$Q$2:$S$8,2,FALSE)))","v":""},{"$f":"IF(Stammdaten!A687=\"\",\"\",IF(D684<=15,VLOOKUP(B684,'Werte =<15°C'!$Q$2:$S$8,3,FALSE),VLOOKUP(B684,'Werte >15°C'!$Q$2:$S$8,3,FALSE)))","v":""},{"$f":"IF(Stammdaten!A687=\"\",\"\",U684*(E686-D684)+V684)","v":""},{"$f":"IF(Stammdaten!A687=\"\",\"\",C684+W684)","v":""}]
[{"$f":"Analysedaten!A682","v":""},{"$f":"IF(Stammdaten!A685=\"\",\"\",WEEKDAY(A685,2))","v":""},{"$f":"IF(Stammdaten!A685=\"\",\"\",Analysedaten!C682)","v":""},{"$f":"Analysedaten!D682","v":""},{"$f":"Analysedaten!E682","v":""},"","","","","","","","","","","","","","",null,{"$f":"IF(Stammdaten!A688=\"\",\"\",IF(D685<=15,VLOOKUP(B685,'Werte =<15°C'!$Q$2:$S$8,2,FALSE),VLOOKUP(B685,'Werte >15°C'!$Q$2:$S$8,2,FALSE)))","v":""},{"$f":"IF(Stammdaten!A688=\"\",\"\",IF(D685<=15,VLOOKUP(B685,'Werte =<15°C'!$Q$2:$S$8,3,FALSE),VLOOKUP(B685,'Werte >15°C'!$Q$2:$S$8,3,FALSE)))","v":""},{"$f":"IF(Stammdaten!A688=\"\",\"\",U685*(E687-D685)+V685)","v":""},{"$f":"IF(Stammdaten!A688=\"\",\"\",C685+W685)","v":""}]
[{"$f":"Analysedaten!A683","v":""},{"$f":"IF(Stammdaten!A686=\"\",\"\",WEEKDAY(A686,2))","v":""},{"$f":"IF(Stammdaten!A686=\"\",\"\",Analysedaten!C683)","v":""},{"$f":"Analysedaten!D683","v":""},{"$f":"Analysedaten!E683","v":""},"","","","","","","","","","","","","","",null,{"$f":"IF(Stammdaten!A689=\"\",\"\",IF(D686<=15,VLOOKUP(B686,'Werte =<15°C'!$Q$2:$S$8,2,FALSE),VLOOKUP(B686,'Werte >15°C'!$Q$2:$S$8,2,FALSE)))","v":""},{"$f":"IF(Stammdaten!A689=\"\",\"\",IF(D686<=15,VLOOKUP(B686,'Werte =<15°C'!$Q$2:$S$8,3,FALSE),VLOOKUP(B686,'Werte >15°C'!$Q$2:$S$8,3,FALSE)))","v":""},{"$f":"IF(Stammdaten!A689=\"\",\"\",U686*(E688-D686)+V686)","v":""},{"$f":"IF(Stammdaten!A689=\"\",\"\",C686+W686)","v":""}]
[{"$f":"Analysedaten!A684","v":""},{"$f":"IF(Stammdaten!A687=\"\",\"\",WEEKDAY(A687,2))","v":""},{"$f":"IF(Stammdaten!A687=\"\",\"\",Analysedaten!C684)","v":""},{"$f":"Analysedaten!D684","v":""},{"$f":"Analysedaten!E684","v":""},"","","","","","","","","","","","","","",null,{"$f":"IF(Stammdaten!A690=\"\",\"\",IF(D687<=15,VLOOKUP(B687,'Werte =<15°C'!$Q$2:$S$8,2,FALSE),VLOOKUP(B687,'Werte >15°C'!$Q$2:$S$8,2,FALSE)))","v":""},{"$f":"IF(Stammdaten!A690=\"\",\"\",IF(D687<=15,VLOOKUP(B687,'Werte =<15°C'!$Q$2:$S$8,3,FALSE),VLOOKUP(B687,'Werte >15°C'!$Q$2:$S$8,3,FALSE)))","v":""},{"$f":"IF(Stammdaten!A690=\"\",\"\",U687*(E689-D687)+V687)","v":""},{"$f":"IF(Stammdaten!A690=\"\",\"\",C687+W687)","v":""}]
[{"$f":"Analysedaten!A685","v":""},{"$f":"IF(Stammdaten!A688=\"\",\"\",WEEKDAY(A688,2))","v":""},{"$f":"IF(Stammdaten!A688=\"\",\"\",Analysedaten!C685)","v":""},{"$f":"Analysedaten!D685","v":""},{"$f":"Analysedaten!E685","v":""},"","","","","","","","","","","","","","",null,{"$f":"IF(Stammdaten!A691=\"\",\"\",IF(D688<=15,VLOOKUP(B688,'Werte =<15°C'!$Q$2:$S$8,2,FALSE),VLOOKUP(B688,'Werte >15°C'!$Q$2:$S$8,2,FALSE)))","v":""},{"$f":"IF(Stammdaten!A691=\"\",\"\",IF(D688<=15,VLOOKUP(B688,'Werte =<15°C'!$Q$2:$S$8,3,FALSE),VLOOKUP(B688,'Werte >15°C'!$Q$2:$S$8,3,FALSE)))","v":""},{"$f":"IF(Stammdaten!A691=\"\",\"\",U688*(E690-D688)+V688)","v":""},{"$f":"IF(Stammdaten!A691=\"\",\"\",C688+W688)","v":""}]
[{"$f":"Analysedaten!A686","v":""},{"$f":"IF(Stammdaten!A689=\"\",\"\",WEEKDAY(A689,2))","v":""},{"$f":"IF(Stammdaten!A689=\"\",\"\",Analysedaten!C686)","v":""},{"$f":"Analysedaten!D686","v":""},{"$f":"Analysedaten!E686","v":""},"","","","","","","","","","","","","","",null,{"$f":"IF(Stammdaten!A692=\"\",\"\",IF(D689<=15,VLOOKUP(B689,'Werte =<15°C'!$Q$2:$S$8,2,FALSE),VLOOKUP(B689,'Werte >15°C'!$Q$2:$S$8,2,FALSE)))","v":""},{"$f":"IF(Stammdaten!A692=\"\",\"\",IF(D689<=15,VLOOKUP(B689,'Werte =<15°C'!$Q$2:$S$8,3,FALSE),VLOOKUP(B689,'Werte >15°C'!$Q$2:$S$8,3,FALSE)))","v":""},{"$f":"IF(Stammdaten!A692=\"\",\"\",U689*(E691-D689)+V689)","v":""},{"$f":"IF(Stammdaten!A692=\"\",\"\",C689+W689)","v":""}]
[{"$f":"Analysedaten!A687","v":""},{"$f":"IF(Stammdaten!A690=\"\",\"\",WEEKDAY(A690,2))","v":""},{"$f":"IF(Stammdaten!A690=\"\",\"\",Analysedaten!C687)","v":""},{"$f":"Analysedaten!D687","v":""},{"$f":"Analysedaten!E687","v":""},"","","","","","","","","","","","","","",null,{"$f":"IF(Stammdaten!A693=\"\",\"\",IF(D690<=15,VLOOKUP(B690,'Werte =<15°C'!$Q$2:$S$8,2,FALSE),VLOOKUP(B690,'Werte >15°C'!$Q$2:$S$8,2,FALSE)))","v":""},{"$f":"IF(Stammdaten!A693=\"\",\"\",IF(D690<=15,VLOOKUP(B690,'Werte =<15°C'!$Q$2:$S$8,3,FALSE),VLOOKUP(B690,'Werte >15°C'!$Q$2:$S$8,3,FALSE)))","v":""},{"$f":"IF(Stammdaten!A693=\"\",\"\",U690*(E692-D690)+V690)","v":""},{"$f":"IF(Stammdaten!A693=\"\",\"\",C690+W690)","v":""}]
[{"$f":"Analysedaten!A688","v":""},{"$f":"IF(Stammdaten!A691=\"\",\"\",WEEKDAY(A691,2))","v":""},{"$f":"IF(Stammdaten!A691=\"\",\"\",Analysedaten!C688)","v":""},{"$f":"Analysedaten!D688","v":""},{"$f":"Analysedaten!E688","v":""},"","","","","","","","","","","","","","",null,{"$f":"IF(Stammdaten!A694=\"\",\"\",IF(D691<=15,VLOOKUP(B691,'Werte =<15°C'!$Q$2:$S$8,2,FALSE),VLOOKUP(B691,'Werte >15°C'!$Q$2:$S$8,2,FALSE)))","v":""},{"$f":"IF(Stammdaten!A694=\"\",\"\",IF(D691<=15,VLOOKUP(B691,'Werte =<15°C'!$Q$2:$S$8,3,FALSE),VLOOKUP(B691,'Werte >15°C'!$Q$2:$S$8,3,FALSE)))","v":""},{"$f":"IF(Stammdaten!A694=\"\",\"\",U691*(E693-D691)+V691)","v":""},{"$f":"IF(Stammdaten!A694=\"\",\"\",C691+W691)","v":""}]
[{"$f":"Analysedaten!A689","v":""},{"$f":"IF(Stammdaten!A692=\"\",\"\",WEEKDAY(A692,2))","v":""},{"$f":"IF(Stammdaten!A692=\"\",\"\",Analysedaten!C689)","v":""},{"$f":"Analysedaten!D689","v":""},{"$f":"Analysedaten!E689","v":""},"","","","","","","","","","","","","","",null,{"$f":"IF(Stammdaten!A695=\"\",\"\",IF(D692<=15,VLOOKUP(B692,'Werte =<15°C'!$Q$2:$S$8,2,FALSE),VLOOKUP(B692,'Werte >15°C'!$Q$2:$S$8,2,FALSE)))","v":""},{"$f":"IF(Stammdaten!A695=\"\",\"\",IF(D692<=15,VLOOKUP(B692,'Werte =<15°C'!$Q$2:$S$8,3,FALSE),VLOOKUP(B692,'Werte >15°C'!$Q$2:$S$8,3,FALSE)))","v":""},{"$f":"IF(Stammdaten!A695=\"\",\"\",U692*(E694-D692)+V692)","v":""},{"$f":"IF(Stammdaten!A695=\"\",\"\",C692+W692)","v":""}]
[{"$f":"Analysedaten!A690","v":""},{"$f":"IF(Stammdaten!A693=\"\",\"\",WEEKDAY(A693,2))","v":""},{"$f":"IF(Stammdaten!A693=\"\",\"\",Analysedaten!C690)","v":""},{"$f":"Analysedaten!D690","v":""},{"$f":"Analysedaten!E690","v":""},"","","","","","","","","","","","","","",null,{"$f":"IF(Stammdaten!A696=\"\",\"\",IF(D693<=15,VLOOKUP(B693,'Werte =<15°C'!$Q$2:$S$8,2,FALSE),VLOOKUP(B693,'Werte >15°C'!$Q$2:$S$8,2,FALSE)))","v":""},{"$f":"IF(Stammdaten!A696=\"\",\"\",IF(D693<=15,VLOOKUP(B693,'Werte =<15°C'!$Q$2:$S$8,3,FALSE),VLOOKUP(B693,'Werte >15°C'!$Q$2:$S$8,3,FALSE)))","v":""},{"$f":"IF(Stammdaten!A696=\"\",\"\",U693*(E695-D693)+V693)","v":""},{"$f":"IF(Stammdaten!A696=\"\",\"\",C693+W693)","v":""}]
[{"$f":"Analysedaten!A691","v":""},{"$f":"IF(Stammdaten!A694=\"\",\"\",WEEKDAY(A694,2))","v":""},{"$f":"IF(Stammdaten!A694=\"\",\"\",Analysedaten!C691)","v":""},{"$f":"Analysedaten!D691","v":""},{"$f":"Analysedaten!E691","v":""},"","","","","","","","","","","","","","",null,{"$f":"IF(Stammdaten!A697=\"\",\"\",IF(D694<=15,VLOOKUP(B694,'Werte =<15°C'!$Q$2:$S$8,2,FALSE),VLOOKUP(B694,'Werte >15°C'!$Q$2:$S$8,2,FALSE)))","v":""},{"$f":"IF(Stammdaten!A697=\"\",\"\",IF(D694<=15,VLOOKUP(B694,'Werte =<15°C'!$Q$2:$S$8,3,FALSE),VLOOKUP(B694,'Werte >15°C'!$Q$2:$S$8,3,FALSE)))","v":""},{"$f":"IF(Stammdaten!A697=\"\",\"\",U694*(E696-D694)+V694)","v":""},{"$f":"IF(Stammdaten!A697=\"\",\"\",C694+W694)","v":""}]
[{"$f":"Analysedaten!A692","v":""},{"$f":"IF(Stammdaten!A695=\"\",\"\",WEEKDAY(A695,2))","v":""},{"$f":"IF(Stammdaten!A695=\"\",\"\",Analysedaten!C692)","v":""},{"$f":"Analysedaten!D692","v":""},{"$f":"Analysedaten!E692","v":""},"","","","","","","","","","","","","","",null,{"$f":"IF(Stammdaten!A698=\"\",\"\",IF(D695<=15,VLOOKUP(B695,'Werte =<15°C'!$Q$2:$S$8,2,FALSE),VLOOKUP(B695,'Werte >15°C'!$Q$2:$S$8,2,FALSE)))","v":""},{"$f":"IF(Stammdaten!A698=\"\",\"\",IF(D695<=15,VLOOKUP(B695,'Werte =<15°C'!$Q$2:$S$8,3,FALSE),VLOOKUP(B695,'Werte >15°C'!$Q$2:$S$8,3,FALSE)))","v":""},{"$f":"IF(Stammdaten!A698=\"\",\"\",U695*(E697-D695)+V695)","v":""},{"$f":"IF(Stammdaten!A698=\"\",\"\",C695+W695)","v":""}]
[{"$f":"Analysedaten!A693","v":""},{"$f":"IF(Stammdaten!A696=\"\",\"\",WEEKDAY(A696,2))","v":""},{"$f":"IF(Stammdaten!A696=\"\",\"\",Analysedaten!C693)","v":""},{"$f":"Analysedaten!D693","v":""},{"$f":"Analysedaten!E693","v":""},"","","","","","","","","","","","","","",null,{"$f":"IF(Stammdaten!A699=\"\",\"\",IF(D696<=15,VLOOKUP(B696,'Werte =<15°C'!$Q$2:$S$8,2,FALSE),VLOOKUP(B696,'Werte >15°C'!$Q$2:$S$8,2,FALSE)))","v":""},{"$f":"IF(Stammdaten!A699=\"\",\"\",IF(D696<=15,VLOOKUP(B696,'Werte =<15°C'!$Q$2:$S$8,3,FALSE),VLOOKUP(B696,'Werte >15°C'!$Q$2:$S$8,3,FALSE)))","v":""},{"$f":"IF(Stammdaten!A699=\"\",\"\",U696*(E698-D696)+V696)","v":""},{"$f":"IF(Stammdaten!A699=\"\",\"\",C696+W696)","v":""}]
[{"$f":"Analysedaten!A694","v":""},{"$f":"IF(Stammdaten!A697=\"\",\"\",WEEKDAY(A697,2))","v":""},{"$f":"IF(Stammdaten!A697=\"\",\"\",Analysedaten!C694)","v":""},{"$f":"Analysedaten!D694","v":""},{"$f":"Analysedaten!E694","v":""},"","","","","","","","","","","","","","",null,{"$f":"IF(Stammdaten!A700=\"\",\"\",IF(D697<=15,VLOOKUP(B697,'Werte =<15°C'!$Q$2:$S$8,2,FALSE),VLOOKUP(B697,'Werte >15°C'!$Q$2:$S$8,2,FALSE)))","v":""},{"$f":"IF(Stammdaten!A700=\"\",\"\",IF(D697<=15,VLOOKUP(B697,'Werte =<15°C'!$Q$2:$S$8,3,FALSE),VLOOKUP(B697,'Werte >15°C'!$Q$2:$S$8,3,FALSE)))","v":""},{"$f":"IF(Stammdaten!A700=\"\",\"\",U697*(E699-D697)+V697)","v":""},{"$f":"IF(Stammdaten!A700=\"\",\"\",C697+W697)","v":""}]
[{"$f":"Analysedaten!A695","v":""},{"$f":"IF(Stammdaten!A698=\"\",\"\",WEEKDAY(A698,2))","v":""},{"$f":"IF(Stammdaten!A698=\"\",\"\",Analysedaten!C695)","v":""},{"$f":"Analysedaten!D695","v":""},{"$f":"Analysedaten!E695","v":""},"","","","","","","","","","","","","","",null,{"$f":"IF(Stammdaten!A701=\"\",\"\",IF(D698<=15,VLOOKUP(B698,'Werte =<15°C'!$Q$2:$S$8,2,FALSE),VLOOKUP(B698,'Werte >15°C'!$Q$2:$S$8,2,FALSE)))","v":""},{"$f":"IF(Stammdaten!A701=\"\",\"\",IF(D698<=15,VLOOKUP(B698,'Werte =<15°C'!$Q$2:$S$8,3,FALSE),VLOOKUP(B698,'Werte >15°C'!$Q$2:$S$8,3,FALSE)))","v":""},{"$f":"IF(Stammdaten!A701=\"\",\"\",U698*(E700-D698)+V698)","v":""},{"$f":"IF(Stammdaten!A701=\"\",\"\",C698+W698)","v":""}]
[{"$f":"Analysedaten!A696","v":""},{"$f":"IF(Stammdaten!A699=\"\",\"\",WEEKDAY(A699,2))","v":""},{"$f":"IF(Stammdaten!A699=\"\",\"\",Analysedaten!C696)","v":""},{"$f":"Analysedaten!D696","v":""},{"$f":"Analysedaten!E696","v":""},"","","","","","","","","","","","","","",null,{"$f":"IF(Stammdaten!A702=\"\",\"\",IF(D699<=15,VLOOKUP(B699,'Werte =<15°C'!$Q$2:$S$8,2,FALSE),VLOOKUP(B699,'Werte >15°C'!$Q$2:$S$8,2,FALSE)))","v":""},{"$f":"IF(Stammdaten!A702=\"\",\"\",IF(D699<=15,VLOOKUP(B699,'Werte =<15°C'!$Q$2:$S$8,3,FALSE),VLOOKUP(B699,'Werte >15°C'!$Q$2:$S$8,3,FALSE)))","v":""},{"$f":"IF(Stammdaten!A702=\"\",\"\",U699*(E701-D699)+V699)","v":""},{"$f":"IF(Stammdaten!A702=\"\",\"\",C699+W699)","v":""}]
[{"$f":"Analysedaten!A697","v":""},{"$f":"IF(Stammdaten!A700=\"\",\"\",WEEKDAY(A700,2))","v":""},{"$f":"IF(Stammdaten!A700=\"\",\"\",Analysedaten!C697)","v":""},{"$f":"Analysedaten!D697","v":""},{"$f":"Analysedaten!E697","v":""},"","","","","","","","","","","","","","",null,{"$f":"IF(Stammdaten!A703=\"\",\"\",IF(D700<=15,VLOOKUP(B700,'Werte =<15°C'!$Q$2:$S$8,2,FALSE),VLOOKUP(B700,'Werte >15°C'!$Q$2:$S$8,2,FALSE)))","v":""},{"$f":"IF(Stammdaten!A703=\"\",\"\",IF(D700<=15,VLOOKUP(B700,'Werte =<15°C'!$Q$2:$S$8,3,FALSE),VLOOKUP(B700,'Werte >15°C'!$Q$2:$S$8,3,FALSE)))","v":""},{"$f":"IF(Stammdaten!A703=\"\",\"\",U700*(E702-D700)+V700)","v":""},{"$f":"IF(Stammdaten!A703=\"\",\"\",C700+W700)","v":""}]
[{"$f":"Analysedaten!A698","v":""},{"$f":"IF(Stammdaten!A701=\"\",\"\",WEEKDAY(A701,2))","v":""},{"$f":"IF(Stammdaten!A701=\"\",\"\",Analysedaten!C698)","v":""},{"$f":"Analysedaten!D698","v":""},{"$f":"Analysedaten!E698","v":""},"","","","","","","","","","","","","","",null,{"$f":"IF(Stammdaten!A704=\"\",\"\",IF(D701<=15,VLOOKUP(B701,'Werte =<15°C'!$Q$2:$S$8,2,FALSE),VLOOKUP(B701,'Werte >15°C'!$Q$2:$S$8,2,FALSE)))","v":""},{"$f":"IF(Stammdaten!A704=\"\",\"\",IF(D701<=15,VLOOKUP(B701,'Werte =<15°C'!$Q$2:$S$8,3,FALSE),VLOOKUP(B701,'Werte >15°C'!$Q$2:$S$8,3,FALSE)))","v":""},{"$f":"IF(Stammdaten!A704=\"\",\"\",U701*(E703-D701)+V701)","v":""},{"$f":"IF(Stammdaten!A704=\"\",\"\",C701+W701)","v":""}]
[{"$f":"Analysedaten!A699","v":""},{"$f":"IF(Stammdaten!A702=\"\",\"\",WEEKDAY(A702,2))","v":""},{"$f":"IF(Stammdaten!A702=\"\",\"\",Analysedaten!C699)","v":""},{"$f":"Analysedaten!D699","v":""},{"$f":"Analysedaten!E699","v":""},"","","","","","","","","","","","","","",null,{"$f":"IF(Stammdaten!A705=\"\",\"\",IF(D702<=15,VLOOKUP(B702,'Werte =<15°C'!$Q$2:$S$8,2,FALSE),VLOOKUP(B702,'Werte >15°C'!$Q$2:$S$8,2,FALSE)))","v":""},{"$f":"IF(Stammdaten!A705=\"\",\"\",IF(D702<=15,VLOOKUP(B702,'Werte =<15°C'!$Q$2:$S$8,3,FALSE),VLOOKUP(B702,'Werte >15°C'!$Q$2:$S$8,3,FALSE)))","v":""},{"$f":"IF(Stammdaten!A705=\"\",\"\",U702*(E704-D702)+V702)","v":""},{"$f":"IF(Stammdaten!A705=\"\",\"\",C702+W702)","v":""}]
[{"$f":"Analysedaten!A700","v":""},{"$f":"IF(Stammdaten!A703=\"\",\"\",WEEKDAY(A703,2))","v":""},{"$f":"IF(Stammdaten!A703=\"\",\"\",Analysedaten!C700)","v":""},{"$f":"Analysedaten!D700","v":""},{"$f":"Analysedaten!E700","v":""},"","","","","","","","","","","","","","",null,{"$f":"IF(Stammdaten!A706=\"\",\"\",IF(D703<=15,VLOOKUP(B703,'Werte =<15°C'!$Q$2:$S$8,2,FALSE),VLOOKUP(B703,'Werte >15°C'!$Q$2:$S$8,2,FALSE)))","v":""},{"$f":"IF(Stammdaten!A706=\"\",\"\",IF(D703<=15,VLOOKUP(B703,'Werte =<15°C'!$Q$2:$S$8,3,FALSE),VLOOKUP(B703,'Werte >15°C'!$Q$2:$S$8,3,FALSE)))","v":""},{"$f":"IF(Stammdaten!A706=\"\",\"\",U703*(E705-D703)+V703)","v":""},{"$f":"IF(Stammdaten!A706=\"\",\"\",C703+W703)","v":""}]
[{"$f":"Analysedaten!A701","v":""},{"$f":"IF(Stammdaten!A704=\"\",\"\",WEEKDAY(A704,2))","v":""},{"$f":"IF(Stammdaten!A704=\"\",\"\",Analysedaten!C701)","v":""},{"$f":"Analysedaten!D701","v":""},{"$f":"Analysedaten!E701","v":""},"","","","","","","","","","","","","","",null,{"$f":"IF(Stammdaten!A707=\"\",\"\",IF(D704<=15,VLOOKUP(B704,'Werte =<15°C'!$Q$2:$S$8,2,FALSE),VLOOKUP(B704,'Werte >15°C'!$Q$2:$S$8,2,FALSE)))","v":""},{"$f":"IF(Stammdaten!A707=\"\",\"\",IF(D704<=15,VLOOKUP(B704,'Werte =<15°C'!$Q$2:$S$8,3,FALSE),VLOOKUP(B704,'Werte >15°C'!$Q$2:$S$8,3,FALSE)))","v":""},{"$f":"IF(Stammdaten!A707=\"\",\"\",U704*(E706-D704)+V704)","v":""},{"$f":"IF(Stammdaten!A707=\"\",\"\",C704+W704)","v":""}]
[{"$f":"Analysedaten!A702","v":""},{"$f":"IF(Stammdaten!A705=\"\",\"\",WEEKDAY(A705,2))","v":""},{"$f":"IF(Stammdaten!A705=\"\",\"\",Analysedaten!C702)","v":""},{"$f":"Analysedaten!D702","v":""},{"$f":"Analysedaten!E702","v":""},"","","","","","","","","","","","","","",null,{"$f":"IF(Stammdaten!A708=\"\",\"\",IF(D705<=15,VLOOKUP(B705,'Werte =<15°C'!$Q$2:$S$8,2,FALSE),VLOOKUP(B705,'Werte >15°C'!$Q$2:$S$8,2,FALSE)))","v":""},{"$f":"IF(Stammdaten!A708=\"\",\"\",IF(D705<=15,VLOOKUP(B705,'Werte =<15°C'!$Q$2:$S$8,3,FALSE),VLOOKUP(B705,'Werte >15°C'!$Q$2:$S$8,3,FALSE)))","v":""},{"$f":"IF(Stammdaten!A708=\"\",\"\",U705*(E707-D705)+V705)","v":""},{"$f":"IF(Stammdaten!A708=\"\",\"\",C705+W705)","v":""}]
[{"$f":"Analysedaten!A703","v":""},{"$f":"IF(Stammdaten!A706=\"\",\"\",WEEKDAY(A706,2))","v":""},{"$f":"IF(Stammdaten!A706=\"\",\"\",Analysedaten!C703)","v":""},{"$f":"Analysedaten!D703","v":""},{"$f":"Analysedaten!E703","v":""},"","","","","","","","","","","","","","",null,{"$f":"IF(Stammdaten!A709=\"\",\"\",IF(D706<=15,VLOOKUP(B706,'Werte =<15°C'!$Q$2:$S$8,2,FALSE),VLOOKUP(B706,'Werte >15°C'!$Q$2:$S$8,2,FALSE)))","v":""},{"$f":"IF(Stammdaten!A709=\"\",\"\",IF(D706<=15,VLOOKUP(B706,'Werte =<15°C'!$Q$2:$S$8,3,FALSE),VLOOKUP(B706,'Werte >15°C'!$Q$2:$S$8,3,FALSE)))","v":""},{"$f":"IF(Stammdaten!A709=\"\",\"\",U706*(E708-D706)+V706)","v":""},{"$f":"IF(Stammdaten!A709=\"\",\"\",C706+W706)","v":""}]
[{"$f":"Analysedaten!A704","v":""},{"$f":"IF(Stammdaten!A707=\"\",\"\",WEEKDAY(A707,2))","v":""},{"$f":"IF(Stammdaten!A707=\"\",\"\",Analysedaten!C704)","v":""},{"$f":"Analysedaten!D704","v":""},{"$f":"Analysedaten!E704","v":""},"","","","","","","","","","","","","","",null,{"$f":"IF(Stammdaten!A710=\"\",\"\",IF(D707<=15,VLOOKUP(B707,'Werte =<15°C'!$Q$2:$S$8,2,FALSE),VLOOKUP(B707,'Werte >15°C'!$Q$2:$S$8,2,FALSE)))","v":""},{"$f":"IF(Stammdaten!A710=\"\",\"\",IF(D707<=15,VLOOKUP(B707,'Werte =<15°C'!$Q$2:$S$8,3,FALSE),VLOOKUP(B707,'Werte >15°C'!$Q$2:$S$8,3,FALSE)))","v":""},{"$f":"IF(Stammdaten!A710=\"\",\"\",U707*(E709-D707)+V707)","v":""},{"$f":"IF(Stammdaten!A710=\"\",\"\",C707+W707)","v":""}]
[{"$f":"Analysedaten!A705","v":""},{"$f":"IF(Stammdaten!A708=\"\",\"\",WEEKDAY(A708,2))","v":""},{"$f":"IF(Stammdaten!A708=\"\",\"\",Analysedaten!C705)","v":""},{"$f":"Analysedaten!D705","v":""},{"$f":"Analysedaten!E705","v":""},"","","","","","","","","","","","","","",null,{"$f":"IF(Stammdaten!A711=\"\",\"\",IF(D708<=15,VLOOKUP(B708,'Werte =<15°C'!$Q$2:$S$8,2,FALSE),VLOOKUP(B708,'Werte >15°C'!$Q$2:$S$8,2,FALSE)))","v":""},{"$f":"IF(Stammdaten!A711=\"\",\"\",IF(D708<=15,VLOOKUP(B708,'Werte =<15°C'!$Q$2:$S$8,3,FALSE),VLOOKUP(B708,'Werte >15°C'!$Q$2:$S$8,3,FALSE)))","v":""},{"$f":"IF(Stammdaten!A711=\"\",\"\",U708*(E710-D708)+V708)","v":""},{"$f":"IF(Stammdaten!A711=\"\",\"\",C708+W708)","v":""}]
[{"$f":"Analysedaten!A706","v":""},{"$f":"IF(Stammdaten!A709=\"\",\"\",WEEKDAY(A709,2))","v":""},{"$f":"IF(Stammdaten!A709=\"\",\"\",Analysedaten!C706)","v":""},{"$f":"Analysedaten!D706","v":""},{"$f":"Analysedaten!E706","v":""},{"$f":"IF(B711=1,(E711-D709),\"\")","v":""},{"$f":"IF(B711=1,(C711-C709),\"\")","v":""},{"$f":"IF(B711=2,(E711-D709),\"\")","v":""},{"$f":"IF(B711=2,(C711-C709),\"\")","v":""},{"$f":"IF(B711=3,(E711-D709),\"\")","v":""},{"$f":"IF(B711=3,(C711-C709),\"\")","v":""},{"$f":"IF(B711=4,(E711-D709),\"\")","v":""},{"$f":"IF(B711=4,(C711-C709),\"\")","v":""},{"$f":"IF(B711=5,(E711-D709),\"\")","v":""},{"$f":"IF(B711=5,(C711-C709),\"\")","v":""},{"$f":"IF(B711=6,(E711-D709),\"\")","v":""},{"$f":"IF(B711=6,(C711-C709),\"\")","v":""},{"$f":"IF(B711=7,(E711-D709),\"\")","v":""},{"$f":"IF(B711=7,(C711-C709),\"\")","v":""},null,{"$f":"IF(Stammdaten!A712=\"\",\"\",IF(D709<=15,VLOOKUP(B709,'Werte =<15°C'!$Q$2:$S$8,2,FALSE),VLOOKUP(B709,'Werte >15°C'!$Q$2:$S$8,2,FALSE)))","v":""},{"$f":"IF(Stammdaten!A712=\"\",\"\",IF(D709<=15,VLOOKUP(B709,'Werte =<15°C'!$Q$2:$S$8,3,FALSE),VLOOKUP(B709,'Werte >15°C'!$Q$2:$S$8,3,FALSE)))","v":""},{"$f":"IF(Stammdaten!A712=\"\",\"\",U709*(E711-D709)+V709)","v":""},{"$f":"IF(Stammdaten!A712=\"\",\"\",C709+W709)","v":""}]
[{"$f":"Analysedaten!A707","v":""},{"$f":"IF(Stammdaten!A710=\"\",\"\",WEEKDAY(A710,2))","v":""},{"$f":"IF(Stammdaten!A710=\"\",\"\",Analysedaten!C707)","v":""},{"$f":"Analysedaten!D707","v":""},{"$f":"Analysedaten!E707","v":""},"","","","","","","","","","","","","","",null,{"$f":"IF(Stammdaten!A713=\"\",\"\",IF(D710<=15,VLOOKUP(B710,'Werte =<15°C'!$Q$2:$S$8,2,FALSE),VLOOKUP(B710,'Werte >15°C'!$Q$2:$S$8,2,FALSE)))","v":""},{"$f":"IF(Stammdaten!A713=\"\",\"\",IF(D710<=15,VLOOKUP(B710,'Werte =<15°C'!$Q$2:$S$8,3,FALSE),VLOOKUP(B710,'Werte >15°C'!$Q$2:$S$8,3,FALSE)))","v":""},{"$f":"IF(Stammdaten!A713=\"\",\"\",U710*(E712-D710)+V710)","v":""},{"$f":"IF(Stammdaten!A713=\"\",\"\",C710+W710)","v":""}]
[{"$f":"Analysedaten!A708","v":""},{"$f":"IF(Stammdaten!A711=\"\",\"\",WEEKDAY(A711,2))","v":""},{"$f":"IF(Stammdaten!A711=\"\",\"\",Analysedaten!C708)","v":""},{"$f":"Analysedaten!D708","v":""},{"$f":"Analysedaten!E708","v":""},"","","","","","","","","","","","","","",null,{"$f":"IF(Stammdaten!A714=\"\",\"\",IF(D711<=15,VLOOKUP(B711,'Werte =<15°C'!$Q$2:$S$8,2,FALSE),VLOOKUP(B711,'Werte >15°C'!$Q$2:$S$8,2,FALSE)))","v":""},{"$f":"IF(Stammdaten!A714=\"\",\"\",IF(D711<=15,VLOOKUP(B711,'Werte =<15°C'!$Q$2:$S$8,3,FALSE),VLOOKUP(B711,'Werte >15°C'!$Q$2:$S$8,3,FALSE)))","v":""},{"$f":"IF(Stammdaten!A714=\"\",\"\",U711*(E713-D711)+V711)","v":""},{"$f":"IF(Stammdaten!A714=\"\",\"\",C711+W711)","v":""}]
[{"$f":"Analysedaten!A709","v":""},{"$f":"IF(Stammdaten!A712=\"\",\"\",WEEKDAY(A712,2))","v":""},{"$f":"IF(Stammdaten!A712=\"\",\"\",Analysedaten!C709)","v":""},{"$f":"Analysedaten!D709","v":""},{"$f":"Analysedaten!E709","v":""},"","","","","","","","","","","","","","",null,{"$f":"IF(Stammdaten!A715=\"\",\"\",IF(D712<=15,VLOOKUP(B712,'Werte =<15°C'!$Q$2:$S$8,2,FALSE),VLOOKUP(B712,'Werte >15°C'!$Q$2:$S$8,2,FALSE)))","v":""},{"$f":"IF(Stammdaten!A715=\"\",\"\",IF(D712<=15,VLOOKUP(B712,'Werte =<15°C'!$Q$2:$S$8,3,FALSE),VLOOKUP(B712,'Werte >15°C'!$Q$2:$S$8,3,FALSE)))","v":""},{"$f":"IF(Stammdaten!A715=\"\",\"\",U712*(E714-D712)+V712)","v":""},{"$f":"IF(Stammdaten!A715=\"\",\"\",C712+W712)","v":""}]
[{"$f":"Analysedaten!A710","v":""},{"$f":"IF(Stammdaten!A713=\"\",\"\",WEEKDAY(A713,2))","v":""},{"$f":"IF(Stammdaten!A713=\"\",\"\",Analysedaten!C710)","v":""},{"$f":"Analysedaten!D710","v":""},{"$f":"Analysedaten!E710","v":""},"","","","","","","","","","","","","","",null,{"$f":"IF(Stammdaten!A716=\"\",\"\",IF(D713<=15,VLOOKUP(B713,'Werte =<15°C'!$Q$2:$S$8,2,FALSE),VLOOKUP(B713,'Werte >15°C'!$Q$2:$S$8,2,FALSE)))","v":""},{"$f":"IF(Stammdaten!A716=\"\",\"\",IF(D713<=15,VLOOKUP(B713,'Werte =<15°C'!$Q$2:$S$8,3,FALSE),VLOOKUP(B713,'Werte >15°C'!$Q$2:$S$8,3,FALSE)))","v":""},{"$f":"IF(Stammdaten!A716=\"\",\"\",U713*(E715-D713)+V713)","v":""},{"$f":"IF(Stammdaten!A716=\"\",\"\",C713+W713)","v":""}]
[{"$f":"Analysedaten!A711","v":""},{"$f":"IF(Stammdaten!A714=\"\",\"\",WEEKDAY(A714,2))","v":""},{"$f":"IF(Stammdaten!A714=\"\",\"\",Analysedaten!C711)","v":""},{"$f":"Analysedaten!D711","v":""},{"$f":"Analysedaten!E711","v":""},"","","","","","","","","","","","","","",null,{"$f":"IF(Stammdaten!A717=\"\",\"\",IF(D714<=15,VLOOKUP(B714,'Werte =<15°C'!$Q$2:$S$8,2,FALSE),VLOOKUP(B714,'Werte >15°C'!$Q$2:$S$8,2,FALSE)))","v":""},{"$f":"IF(Stammdaten!A717=\"\",\"\",IF(D714<=15,VLOOKUP(B714,'Werte =<15°C'!$Q$2:$S$8,3,FALSE),VLOOKUP(B714,'Werte >15°C'!$Q$2:$S$8,3,FALSE)))","v":""},{"$f":"IF(Stammdaten!A717=\"\",\"\",U714*(E716-D714)+V714)","v":""},{"$f":"IF(Stammdaten!A717=\"\",\"\",C714+W714)","v":""}]
[{"$f":"Analysedaten!A712","v":""},{"$f":"IF(Stammdaten!A715=\"\",\"\",WEEKDAY(A715,2))","v":""},{"$f":"IF(Stammdaten!A715=\"\",\"\",Analysedaten!C712)","v":""},{"$f":"Analysedaten!D712","v":""},{"$f":"Analysedaten!E712","v":""},"","","","","","","","","","","","","","",null,{"$f":"IF(Stammdaten!A718=\"\",\"\",IF(D715<=15,VLOOKUP(B715,'Werte =<15°C'!$Q$2:$S$8,2,FALSE),VLOOKUP(B715,'Werte >15°C'!$Q$2:$S$8,2,FALSE)))","v":""},{"$f":"IF(Stammdaten!A718=\"\",\"\",IF(D715<=15,VLOOKUP(B715,'Werte =<15°C'!$Q$2:$S$8,3,FALSE),VLOOKUP(B715,'Werte >15°C'!$Q$2:$S$8,3,FALSE)))","v":""},{"$f":"IF(Stammdaten!A718=\"\",\"\",U715*(E717-D715)+V715)","v":""},{"$f":"IF(Stammdaten!A718=\"\",\"\",C715+W715)","v":""}]
[{"$f":"Analysedaten!A713","v":""},{"$f":"IF(Stammdaten!A716=\"\",\"\",WEEKDAY(A716,2))","v":""},{"$f":"IF(Stammdaten!A716=\"\",\"\",Analysedaten!C713)","v":""},{"$f":"Analysedaten!D713","v":""},{"$f":"Analysedaten!E713","v":""},"","","","","","","","","","","","","","",null,{"$f":"IF(Stammdaten!A719=\"\",\"\",IF(D716<=15,VLOOKUP(B716,'Werte =<15°C'!$Q$2:$S$8,2,FALSE),VLOOKUP(B716,'Werte >15°C'!$Q$2:$S$8,2,FALSE)))","v":""},{"$f":"IF(Stammdaten!A719=\"\",\"\",IF(D716<=15,VLOOKUP(B716,'Werte =<15°C'!$Q$2:$S$8,3,FALSE),VLOOKUP(B716,'Werte >15°C'!$Q$2:$S$8,3,FALSE)))","v":""},{"$f":"IF(Stammdaten!A719=\"\",\"\",U716*(E718-D716)+V716)","v":""},{"$f":"IF(Stammdaten!A719=\"\",\"\",C716+W716)","v":""}]
[{"$f":"Analysedaten!A714","v":""},{"$f":"IF(Stammdaten!A717=\"\",\"\",WEEKDAY(A717,2))","v":""},{"$f":"IF(Stammdaten!A717=\"\",\"\",Analysedaten!C714)","v":""},{"$f":"Analysedaten!D714","v":""},{"$f":"Analysedaten!E714","v":""},"","","","","","","","","","","","","","",null,{"$f":"IF(Stammdaten!A720=\"\",\"\",IF(D717<=15,VLOOKUP(B717,'Werte =<15°C'!$Q$2:$S$8,2,FALSE),VLOOKUP(B717,'Werte >15°C'!$Q$2:$S$8,2,FALSE)))","v":""},{"$f":"IF(Stammdaten!A720=\"\",\"\",IF(D717<=15,VLOOKUP(B717,'Werte =<15°C'!$Q$2:$S$8,3,FALSE),VLOOKUP(B717,'Werte >15°C'!$Q$2:$S$8,3,FALSE)))","v":""},{"$f":"IF(Stammdaten!A720=\"\",\"\",U717*(E719-D717)+V717)","v":""},{"$f":"IF(Stammdaten!A720=\"\",\"\",C717+W717)","v":""}]
[{"$f":"Analysedaten!A715","v":""},{"$f":"IF(Stammdaten!A718=\"\",\"\",WEEKDAY(A718,2))","v":""},{"$f":"IF(Stammdaten!A718=\"\",\"\",Analysedaten!C715)","v":""},{"$f":"Analysedaten!D715","v":""},{"$f":"Analysedaten!E715","v":""},"","","","","","","","","","","","","","",null,{"$f":"IF(Stammdaten!A721=\"\",\"\",IF(D718<=15,VLOOKUP(B718,'Werte =<15°C'!$Q$2:$S$8,2,FALSE),VLOOKUP(B718,'Werte >15°C'!$Q$2:$S$8,2,FALSE)))","v":""},{"$f":"IF(Stammdaten!A721=\"\",\"\",IF(D718<=15,VLOOKUP(B718,'Werte =<15°C'!$Q$2:$S$8,3,FALSE),VLOOKUP(B718,'Werte >15°C'!$Q$2:$S$8,3,FALSE)))","v":""},{"$f":"IF(Stammdaten!A721=\"\",\"\",U718*(E720-D718)+V718)","v":""},{"$f":"IF(Stammdaten!A721=\"\",\"\",C718+W718)","v":""}]
[{"$f":"Analysedaten!A716","v":""},{"$f":"IF(Stammdaten!A719=\"\",\"\",WEEKDAY(A719,2))","v":""},{"$f":"IF(Stammdaten!A719=\"\",\"\",Analysedaten!C716)","v":""},{"$f":"Analysedaten!D716","v":""},{"$f":"Analysedaten!E716","v":""},"","","","","","","","","","","","","","",null,{"$f":"IF(Stammdaten!A722=\"\",\"\",IF(D719<=15,VLOOKUP(B719,'Werte =<15°C'!$Q$2:$S$8,2,FALSE),VLOOKUP(B719,'Werte >15°C'!$Q$2:$S$8,2,FALSE)))","v":""},{"$f":"IF(Stammdaten!A722=\"\",\"\",IF(D719<=15,VLOOKUP(B719,'Werte =<15°C'!$Q$2:$S$8,3,FALSE),VLOOKUP(B719,'Werte >15°C'!$Q$2:$S$8,3,FALSE)))","v":""},{"$f":"IF(Stammdaten!A722=\"\",\"\",U719*(E721-D719)+V719)","v":""},{"$f":"IF(Stammdaten!A722=\"\",\"\",C719+W719)","v":""}]
[{"$f":"Analysedaten!A717","v":""},{"$f":"IF(Stammdaten!A720=\"\",\"\",WEEKDAY(A720,2))","v":""},{"$f":"IF(Stammdaten!A720=\"\",\"\",Analysedaten!C717)","v":""},{"$f":"Analysedaten!D717","v":""},{"$f":"Analysedaten!E717","v":""},"","","","","","","","","","","","","","",null,{"$f":"IF(Stammdaten!A723=\"\",\"\",IF(D720<=15,VLOOKUP(B720,'Werte =<15°C'!$Q$2:$S$8,2,FALSE),VLOOKUP(B720,'Werte >15°C'!$Q$2:$S$8,2,FALSE)))","v":""},{"$f":"IF(Stammdaten!A723=\"\",\"\",IF(D720<=15,VLOOKUP(B720,'Werte =<15°C'!$Q$2:$S$8,3,FALSE),VLOOKUP(B720,'Werte >15°C'!$Q$2:$S$8,3,FALSE)))","v":""},{"$f":"IF(Stammdaten!A723=\"\",\"\",U720*(E722-D720)+V720)","v":""},{"$f":"IF(Stammdaten!A723=\"\",\"\",C720+W720)","v":""}]
[{"$f":"Analysedaten!A718","v":""},{"$f":"IF(Stammdaten!A721=\"\",\"\",WEEKDAY(A721,2))","v":""},{"$f":"IF(Stammdaten!A721=\"\",\"\",Analysedaten!C718)","v":""},{"$f":"Analysedaten!D718","v":""},{"$f":"Analysedaten!E718","v":""},"","","","","","","","","","","","","","",null,{"$f":"IF(Stammdaten!A724=\"\",\"\",IF(D721<=15,VLOOKUP(B721,'Werte =<15°C'!$Q$2:$S$8,2,FALSE),VLOOKUP(B721,'Werte >15°C'!$Q$2:$S$8,2,FALSE)))","v":""},{"$f":"IF(Stammdaten!A724=\"\",\"\",IF(D721<=15,VLOOKUP(B721,'Werte =<15°C'!$Q$2:$S$8,3,FALSE),VLOOKUP(B721,'Werte >15°C'!$Q$2:$S$8,3,FALSE)))","v":""},{"$f":"IF(Stammdaten!A724=\"\",\"\",U721*(E723-D721)+V721)","v":""},{"$f":"IF(Stammdaten!A724=\"\",\"\",C721+W721)","v":""}]
[{"$f":"Analysedaten!A719","v":""},{"$f":"IF(Stammdaten!A722=\"\",\"\",WEEKDAY(A722,2))","v":""},{"$f":"IF(Stammdaten!A722=\"\",\"\",Analysedaten!C719)","v":""},{"$f":"Analysedaten!D719","v":""},{"$f":"Analysedaten!E719","v":""},"","","","","","","","","","","","","","",null,{"$f":"IF(Stammdaten!A725=\"\",\"\",IF(D722<=15,VLOOKUP(B722,'Werte =<15°C'!$Q$2:$S$8,2,FALSE),VLOOKUP(B722,'Werte >15°C'!$Q$2:$S$8,2,FALSE)))","v":""},{"$f":"IF(Stammdaten!A725=\"\",\"\",IF(D722<=15,VLOOKUP(B722,'Werte =<15°C'!$Q$2:$S$8,3,FALSE),VLOOKUP(B722,'Werte >15°C'!$Q$2:$S$8,3,FALSE)))","v":""},{"$f":"IF(Stammdaten!A725=\"\",\"\",U722*(E724-D722)+V722)","v":""},{"$f":"IF(Stammdaten!A725=\"\",\"\",C722+W722)","v":""}]
[{"$f":"Analysedaten!A720","v":""},{"$f":"IF(Stammdaten!A723=\"\",\"\",WEEKDAY(A723,2))","v":""},{"$f":"IF(Stammdaten!A723=\"\",\"\",Analysedaten!C720)","v":""},{"$f":"Analysedaten!D720","v":""},{"$f":"Analysedaten!E720","v":""},"","","","","","","","","","","","","","",null,{"$f":"IF(Stammdaten!A726=\"\",\"\",IF(D723<=15,VLOOKUP(B723,'Werte =<15°C'!$Q$2:$S$8,2,FALSE),VLOOKUP(B723,'Werte >15°C'!$Q$2:$S$8,2,FALSE)))","v":""},{"$f":"IF(Stammdaten!A726=\"\",\"\",IF(D723<=15,VLOOKUP(B723,'Werte =<15°C'!$Q$2:$S$8,3,FALSE),VLOOKUP(B723,'Werte >15°C'!$Q$2:$S$8,3,FALSE)))","v":""},{"$f":"IF(Stammdaten!A726=\"\",\"\",U723*(E725-D723)+V723)","v":""},{"$f":"IF(Stammdaten!A726=\"\",\"\",C723+W723)","v":""}]
[{"$f":"Analysedaten!A721","v":""},{"$f":"IF(Stammdaten!A724=\"\",\"\",WEEKDAY(A724,2))","v":""},{"$f":"IF(Stammdaten!A724=\"\",\"\",Analysedaten!C721)","v":""},{"$f":"Analysedaten!D721","v":""},{"$f":"Analysedaten!E721","v":""},"","","","","","","","","","","","","","",null,{"$f":"IF(Stammdaten!A727=\"\",\"\",IF(D724<=15,VLOOKUP(B724,'Werte =<15°C'!$Q$2:$S$8,2,FALSE),VLOOKUP(B724,'Werte >15°C'!$Q$2:$S$8,2,FALSE)))","v":""},{"$f":"IF(Stammdaten!A727=\"\",\"\",IF(D724<=15,VLOOKUP(B724,'Werte =<15°C'!$Q$2:$S$8,3,FALSE),VLOOKUP(B724,'Werte >15°C'!$Q$2:$S$8,3,FALSE)))","v":""},{"$f":"IF(Stammdaten!A727=\"\",\"\",U724*(E726-D724)+V724)","v":""},{"$f":"IF(Stammdaten!A727=\"\",\"\",C724+W724)","v":""}]
[{"$f":"Analysedaten!A722","v":""},{"$f":"IF(Stammdaten!A725=\"\",\"\",WEEKDAY(A725,2))","v":""},{"$f":"IF(Stammdaten!A725=\"\",\"\",Analysedaten!C722)","v":""},{"$f":"Analysedaten!D722","v":""},{"$f":"Analysedaten!E722","v":""},"","","","","","","","","","","","","","",null,{"$f":"IF(Stammdaten!A728=\"\",\"\",IF(D725<=15,VLOOKUP(B725,'Werte =<15°C'!$Q$2:$S$8,2,FALSE),VLOOKUP(B725,'Werte >15°C'!$Q$2:$S$8,2,FALSE)))","v":""},{"$f":"IF(Stammdaten!A728=\"\",\"\",IF(D725<=15,VLOOKUP(B725,'Werte =<15°C'!$Q$2:$S$8,3,FALSE),VLOOKUP(B725,'Werte >15°C'!$Q$2:$S$8,3,FALSE)))","v":""},{"$f":"IF(Stammdaten!A728=\"\",\"\",U725*(E727-D725)+V725)","v":""},{"$f":"IF(Stammdaten!A728=\"\",\"\",C725+W725)","v":""}]
[{"$f":"Analysedaten!A723","v":""},{"$f":"IF(Stammdaten!A726=\"\",\"\",WEEKDAY(A726,2))","v":""},{"$f":"IF(Stammdaten!A726=\"\",\"\",Analysedaten!C723)","v":""},{"$f":"Analysedaten!D723","v":""},{"$f":"Analysedaten!E723","v":""},"","","","","","","","","","","","","","",null,{"$f":"IF(Stammdaten!A729=\"\",\"\",IF(D726<=15,VLOOKUP(B726,'Werte =<15°C'!$Q$2:$S$8,2,FALSE),VLOOKUP(B726,'Werte >15°C'!$Q$2:$S$8,2,FALSE)))","v":""},{"$f":"IF(Stammdaten!A729=\"\",\"\",IF(D726<=15,VLOOKUP(B726,'Werte =<15°C'!$Q$2:$S$8,3,FALSE),VLOOKUP(B726,'Werte >15°C'!$Q$2:$S$8,3,FALSE)))","v":""},{"$f":"IF(Stammdaten!A729=\"\",\"\",U726*(E728-D726)+V726)","v":""},{"$f":"IF(Stammdaten!A729=\"\",\"\",C726+W726)","v":""}]
[{"$f":"Analysedaten!A724","v":""},{"$f":"IF(Stammdaten!A727=\"\",\"\",WEEKDAY(A727,2))","v":""},{"$f":"IF(Stammdaten!A727=\"\",\"\",Analysedaten!C724)","v":""},{"$f":"Analysedaten!D724","v":""},{"$f":"Analysedaten!E724","v":""},"","","","","","","","","","","","","","",null,{"$f":"IF(Stammdaten!A730=\"\",\"\",IF(D727<=15,VLOOKUP(B727,'Werte =<15°C'!$Q$2:$S$8,2,FALSE),VLOOKUP(B727,'Werte >15°C'!$Q$2:$S$8,2,FALSE)))","v":""},{"$f":"IF(Stammdaten!A730=\"\",\"\",IF(D727<=15,VLOOKUP(B727,'Werte =<15°C'!$Q$2:$S$8,3,FALSE),VLOOKUP(B727,'Werte >15°C'!$Q$2:$S$8,3,FALSE)))","v":""},{"$f":"IF(Stammdaten!A730=\"\",\"\",U727*(E729-D727)+V727)","v":""},{"$f":"IF(Stammdaten!A730=\"\",\"\",C727+W727)","v":""}]
[{"$f":"Analysedaten!A725","v":""},{"$f":"IF(Stammdaten!A728=\"\",\"\",WEEKDAY(A728,2))","v":""},{"$f":"IF(Stammdaten!A728=\"\",\"\",Analysedaten!C725)","v":""},{"$f":"Analysedaten!D725","v":""},{"$f":"Analysedaten!E725","v":""},"","","","","","","","","","","","","","",null,{"$f":"IF(Stammdaten!A731=\"\",\"\",IF(D728<=15,VLOOKUP(B728,'Werte =<15°C'!$Q$2:$S$8,2,FALSE),VLOOKUP(B728,'Werte >15°C'!$Q$2:$S$8,2,FALSE)))","v":""},{"$f":"IF(Stammdaten!A731=\"\",\"\",IF(D728<=15,VLOOKUP(B728,'Werte =<15°C'!$Q$2:$S$8,3,FALSE),VLOOKUP(B728,'Werte >15°C'!$Q$2:$S$8,3,FALSE)))","v":""},{"$f":"IF(Stammdaten!A731=\"\",\"\",U728*(E730-D728)+V728)","v":""},{"$f":"IF(Stammdaten!A731=\"\",\"\",C728+W728)","v":""}]
[{"$f":"Analysedaten!A726","v":""},{"$f":"IF(Stammdaten!A729=\"\",\"\",WEEKDAY(A729,2))","v":""},{"$f":"IF(Stammdaten!A729=\"\",\"\",Analysedaten!C726)","v":""},{"$f":"Analysedaten!D726","v":""},{"$f":"Analysedaten!E726","v":""},"","","","","","","","","","","","","","",null,{"$f":"IF(Stammdaten!A730=\"\",\"\",IF(D729<=15,VLOOKUP(B729,'Werte =<15°C'!$Q$2:$S$8,2,FALSE),VLOOKUP(B729,'Werte >15°C'!$Q$2:$S$8,2,FALSE)))","v":""},{"$f":"IF(Stammdaten!A730=\"\",\"\",IF(D729<=15,VLOOKUP(B729,'Werte =<15°C'!$Q$2:$S$8,3,FALSE),VLOOKUP(B729,'Werte >15°C'!$Q$2:$S$8,3,FALSE)))","v":""},{"$f":"IF(Stammdaten!A732=\"\",\"\",U729*(E731-D729)+V729)","v":""},{"$f":"IF(Stammdaten!A730=\"\",\"\",C729+W729)","v":""}]
[{"$f":"Analysedaten!A727","v":""},{"$f":"IF(Stammdaten!A730=\"\",\"\",WEEKDAY(A730,2))","v":""},{"$f":"IF(Stammdaten!A730=\"\",\"\",Analysedaten!C727)","v":""},{"$f":"Analysedaten!D727","v":""},{"$f":"Analysedaten!E727","v":""},"","","","","","","","","","","","","","",null,{"$f":"IF(Stammdaten!A731=\"\",\"\",IF(D730<=15,VLOOKUP(B730,'Werte =<15°C'!$Q$2:$S$8,2,FALSE),VLOOKUP(B730,'Werte >15°C'!$Q$2:$S$8,2,FALSE)))","v":""},{"$f":"IF(Stammdaten!A731=\"\",\"\",IF(D730<=15,VLOOKUP(B730,'Werte =<15°C'!$Q$2:$S$8,3,FALSE),VLOOKUP(B730,'Werte >15°C'!$Q$2:$S$8,3,FALSE)))","v":""},{"$f":"IF(Stammdaten!A733=\"\",\"\",U730*(E732-D730)+V730)","v":""},{"$f":"IF(Stammdaten!A731=\"\",\"\",C730+W730)","v":""}]
[{"$f":"Analysedaten!A728","v":""},{"$f":"IF(Stammdaten!A731=\"\",\"\",WEEKDAY(A731,2))","v":""},{"$f":"IF(Stammdaten!A731=\"\",\"\",Analysedaten!C728)","v":""},{"$f":"Analysedaten!D728","v":""},{"$f":"Analysedaten!E728","v":""},"","","","","","","","","","","","","","",null,{"$f":"IF(Stammdaten!A732=\"\",\"\",IF(D731<=15,VLOOKUP(B731,'Werte =<15°C'!$Q$2:$S$8,2,FALSE),VLOOKUP(B731,'Werte >15°C'!$Q$2:$S$8,2,FALSE)))","v":""},{"$f":"IF(Stammdaten!A732=\"\",\"\",IF(D731<=15,VLOOKUP(B731,'Werte =<15°C'!$Q$2:$S$8,3,FALSE),VLOOKUP(B731,'Werte >15°C'!$Q$2:$S$8,3,FALSE)))","v":""},{"$f":"IF(Stammdaten!A734=\"\",\"\",U731*(E733-D731)+V731)","v":""},{"$f":"IF(Stammdaten!A732=\"\",\"\",C731+W731)","v":""}]
[{"$f":"Analysedaten!A729","v":""},{"$f":"IF(Stammdaten!A732=\"\",\"\",WEEKDAY(A732,2))","v":""},{"$f":"IF(Stammdaten!A732=\"\",\"\",Analysedaten!C729)","v":""},{"$f":"Analysedaten!D729","v":""},{"$f":"Analysedaten!E729","v":""},"","","","","","","","","","","","","","",null,{"$f":"IF(Stammdaten!A733=\"\",\"\",IF(D732<=15,VLOOKUP(B732,'Werte =<15°C'!$Q$2:$S$8,2,FALSE),VLOOKUP(B732,'Werte >15°C'!$Q$2:$S$8,2,FALSE)))","v":""},{"$f":"IF(Stammdaten!A733=\"\",\"\",IF(D732<=15,VLOOKUP(B732,'Werte =<15°C'!$Q$2:$S$8,3,FALSE),VLOOKUP(B732,'Werte >15°C'!$Q$2:$S$8,3,FALSE)))","v":""},{"$f":"IF(Stammdaten!A735=\"\",\"\",U732*(E734-D732)+V732)","v":""},{"$f":"IF(Stammdaten!A733=\"\",\"\",C732+W732)","v":""}]
[{"$f":"Analysedaten!A730","v":""},{"$f":"IF(Stammdaten!A733=\"\",\"\",WEEKDAY(A733,2))","v":""},{"$f":"IF(Stammdaten!A733=\"\",\"\",Analysedaten!C730)","v":""},{"$f":"Analysedaten!D730","v":""},{"$f":"Analysedaten!E730","v":""},"","","","","","","","","","","","","","",null,{"$f":"IF(Stammdaten!A734=\"\",\"\",IF(D733<=15,VLOOKUP(B733,'Werte =<15°C'!$Q$2:$S$8,2,FALSE),VLOOKUP(B733,'Werte >15°C'!$Q$2:$S$8,2,FALSE)))","v":""},{"$f":"IF(Stammdaten!A734=\"\",\"\",IF(D733<=15,VLOOKUP(B733,'Werte =<15°C'!$Q$2:$S$8,3,FALSE),VLOOKUP(B733,'Werte >15°C'!$Q$2:$S$8,3,FALSE)))","v":""},{"$f":"IF(Stammdaten!A736=\"\",\"\",U733*(E735-D733)+V733)","v":""},{"$f":"IF(Stammdaten!A734=\"\",\"\",C733+W733)","v":""}]
[{"$f":"Analysedaten!A731","v":""},{"$f":"IF(Stammdaten!A734=\"\",\"\",WEEKDAY(A734,2))","v":""},{"$f":"IF(Stammdaten!A734=\"\",\"\",Analysedaten!C731)","v":""},{"$f":"Analysedaten!D731","v":""},{"$f":"Analysedaten!E731","v":""},"","","","","","","","","","","","","","",null,{"$f":"IF(Stammdaten!A735=\"\",\"\",IF(D734<=15,VLOOKUP(B734,'Werte =<15°C'!$Q$2:$S$8,2,FALSE),VLOOKUP(B734,'Werte >15°C'!$Q$2:$S$8,2,FALSE)))","v":""},{"$f":"IF(Stammdaten!A735=\"\",\"\",IF(D734<=15,VLOOKUP(B734,'Werte =<15°C'!$Q$2:$S$8,3,FALSE),VLOOKUP(B734,'Werte >15°C'!$Q$2:$S$8,3,FALSE)))","v":""},{"$f":"IF(Stammdaten!A737=\"\",\"\",U734*(E736-D734)+V734)","v":""},{"$f":"IF(Stammdaten!A735=\"\",\"\",C734+W734)","v":""}]
[{"$f":"Analysedaten!A732","v":""},{"$f":"IF(Stammdaten!A735=\"\",\"\",WEEKDAY(A735,2))","v":""},{"$f":"IF(Stammdaten!A735=\"\",\"\",Analysedaten!C732)","v":""},{"$f":"Analysedaten!D732","v":""},{"$f":"Analysedaten!E732","v":""},"","","","","","","","","","","","","","",null,{"$f":"IF(Stammdaten!#REF!=\"\",\"\",IF(D735<=15,VLOOKUP(B735,'Werte =<15°C'!$Q$2:$S$8,2,FALSE),VLOOKUP(B735,'Werte >15°C'!$Q$2:$S$8,2,FALSE)))","v":{"$error":"#REF!"}},{"$f":"IF(Stammdaten!#REF!=\"\",\"\",IF(D735<=15,VLOOKUP(B735,'Werte =<15°C'!$Q$2:$S$8,3,FALSE),VLOOKUP(B735,'Werte >15°C'!$Q$2:$S$8,3,FALSE)))","v":{"$error":"#REF!"}},{"$f":"IF(Stammdaten!#REF!=\"\",\"\",U735*(E737-D735)+V735)","v":{"$error":"#REF!"}},{"$f":"IF(Stammdaten!#REF!=\"\",\"\",C735+W735)","v":{"$error":"#REF!"}}]
[]
[]
[]
[]
[]
[]
[]
[]
[]
[]
[]
[]
[]
[]
[]
[]
[]
[]
[]
[]
[]
[]
[]
[]
[]
[]
[]
[]
[]
[]
[]
[]
[]
[]
[]
[]
[]
[]
[]
[]
[]
[]
[]
[]
[]
[]
[]
[]
[]
[]
[]
[]
[]
[]
[]
[]
[]
[]
[]
[]
[]
[]
[]
[]
[]
[]
[]
[]
[]
[]
[]
[]
[]
[]
[]
[]
[]
[]
[]
[]
[]
[]
[]
[]
[]
[]
[]
[]
[]
[]
[]
[]
[]
[]
[]
[]
[]
[]
[]
[]
[]
[]
[]
[]
[]
[]
[]
[]
[]
[]
[]
[]
[]
[]
[]
[]
[]
[]
[]
[]
[]
[]
[]
[]
[]
[]
[]
[]
[]
[]
[]
[]
[]
[]
[]
[]
[]
[]
[]
[]
[]
[]
[]
[]
[]
[]
[]
[]
[]
[]
[]
[]
[]
[]
[]
[]
[]
[]
[]
[]
[]
[]
[]
[]
[]
[]
[]
[]
[]
[]
[]
[]
[]
[]
[]
[]
[]
[]
[]
[]
[]
[]
[]
[]
[]
[]
[]
[]
[]
[]
[]
[]
[]
[]
[]
[]
[]
[]
[]
[]
[]
[]
[]
[]
[]
[]
[]
[]
[]
[]
[]
[]
[]
[]
[]
[]
[]
[]
[]
[]
[]
[]
[]
[]
[]
[]
[]
[]
[]
[]
[]
[]
[]
[]
[]
[]
[]
[]
[]
[]
[]
[]
[]
[]
[]
[]
[]
[]
[]
[]
[]
[]
[]
[]
[]
[]
[]
[]
[]
[]
[]
[]
[]
[]
[]
[]
[]
[]
[]
[]
[]
[]
[]
[]
[]
[]
[]
[]
[]
[]
[]
[]
[]
[]
[]
[]
[]
[]
[]
[]
[]
[]
[]
[]
[]
[]
[]
[]
[]
[]
[]
[]
[]
[]
[]
[]
[]
[]
[]
[]
[]
[]
[]
[]
[]
[]
[]
[]
[]
[]
[]
[]
[]
[]
[]
[]
[]
[]
[]
[]
[]
[]
[]
[]
[]
[]
[]
[]
[]
[]
[]
[]
[]
[]
[]
[]
[]
[]
[]
[]
[]
[]
[]
[]
[]
[]
[]
[]
[]
[]
[]
[]
[]
[]
[]
[]
[]
[]
[]
[]
[]
[]
[]
[]
[]
[]
[]
[]
[]
[]
[]
[]
[]
[]
[]
[]
[]
[]
[]
[]
[]
[]
[]
[]
[]
[]
[]
[]
[]
[]
[]
[]
[]
[]
[]
[]
[]
[]
[]
[]
[]
[]
[]
[]
[]
[]
[]
[]
[]
[]
[]
[]
[]
[]
[]
[]
[]
[]
[]
[]
[]
[]
[]
[]
[]
[]
[]
[]
[]
[]
[]
[]
[]
[]
[]
[]
[]
[]
[]
[]
[]
[]
[]
[]
[]
[]
[]
[]
[]
[]
[]
[]
[]
[]
[]
[]
[]
[]
[]
[]
[]
[]
[]
[]
[]
[]
[]
[]
[]
[]
[]
[]
[]
[]
[]
[]
[]
[]
[]
[]
[]
[]
[]
[]
[]
[]
[]
[]
[]
[]
[]
[]
[]
[]
[]
[]
[]
[]
[]
[]
[]
[]
[]
[]
[]
[]
[]
[]
[]
[]
[]
[]
[]
[]
[]
[]
[]
[]
[]
[]
[]
[]
[]
[]
[]
[]
[]
[]
[]
[]
[]
[]
[]
[]
[]
[]
[]
[]
[]
[]
[]
[]
[]
[]
[]
[]
[]
[]
[]
[]
[]
[]
[]
[]
[]
[]
[]
[]
[]
[]
[]
[]
[]
[]
[]
[]
[]
[]
[]
[]
[]
[]
[]
[]
[]
[]
[]
[]
[]
[]
[]
[]
[]
[]
[]
[]
[]
[]
[]
[]
[]
[]
[]
[]
[]
[]
[]
[]
[]
[]
[]
[]
[]
[]
[]
[]
[]
[]
[]
[]
[]
[]
[]
[]
[]
[]
[]
[]
[]
[]
[]
[]
[]
[]
[]
[]
[]
[]
[]
[]
[]
[]
[]
[]
[]
[]
[]
[]
[]
[]
[]
[]
[]
[]
[]
[]
[]
[]
[]
[]
[]
[]
[]
[]
[]
[]
[]
[]
[]
[]
[]
[]
[]
[]
[]
[]
[]
[]
[]
[]
[]
[]
[]
[]
[]
[]
[]
[]
[]
[]
[]
[]
[]
[]
[]
[]
[]
[]
[]
[]
[]
[]
[]
[]
[]
[]
[]
[]
[]
[]
[]
[]
[]
[]
[]
[]
[]
[]
[]
[]
[]
[]
[]
[]
[]
[]
[]
[]
[]
[{"$f":"Analysedaten!A1462","v":"00:00:00"},{"$f":"WEEKDAY(A1465,2)","v":6},null,null,null,{"$f":"IF(B1467=1,(E1467-D1465),\"\")","v":""},{"$f":"IF(B1467=1,(C1467-C1465),\"\")","v":""},{"$f":"IF(B1467=2,(E1467-D1465),\"\")","v":""},{"$f":"IF(B1467=2,(C1467-C1465),\"\")","v":""},{"$f":"IF(B1467=3,(E1467-D1465),\"\")","v":""},{"$f":"IF(B1467=3,(C1467-C1465),\"\")","v":""},{"$f":"IF(B1467=4,(E1467-D1465),\"\")","v":""},{"$f":"IF(B1467=4,(C1467-C1465),\"\")","v":""},{"$f":"IF(B1467=5,(E1467-D1465),\"\")","v":""},{"$f":"IF(B1467=5,(C1467-C1465),\"\")","v":""},{"$f":"IF(B1467=6,(E1467-D1465),\"\")","v":""},{"$f":"IF(B1467=6,(C1467-C1465),\"\")","v":""},{"$f":"IF(B1467=7,(E1467-D1465),\"\")","v":""},{"$f":"IF(B1467=7,(C1467-C1465),\"\")","v":""}]

{"sheet":"Werte =<15°C","index":4,"n_rows":8,"n_cols":19,"rows_kept":8,"cut":false,"hidden":false,"merged":[]}
["Wochentag","Samstag auf Montag","Samstag auf Montag","Sonntag auf Dienstag","Sonntag auf Dienstag","Montag auf Mittwoch","Montag auf Mittwoch","Dienstag auf Donnerstag","Dienstag auf Donnerstag","Mittwoch auf Freitag","Mittwoch auf Freitag","Donnerstag auf Samstag","Donnerstag auf Samstag","Freitag auf Sonntag","Freitag auf Sonntag",null,null,"Steigung","Achsenabschnitt"]
[null,null,null,null,null,null,null,null,null,null,null,null,null,null,null,null,1,{"$f":"IF(Stammdaten!A2=\"\",\"\",SLOPE(G2:G198,F2:F198))","v":""},{"$f":"IF(Stammdaten!A2=\"\",\"\",INTERCEPT(G2:G196,F2:F196))","v":""}]
[null,null,null,null,null,null,null,null,null,null,null,null,null,null,null,null,2,{"$f":"IF(Stammdaten!A2=\"\",\"\",SLOPE(I2:I198,H2:H198))","v":""},{"$f":"IF(Stammdaten!A2=\"\",\"\",INTERCEPT(I2:I198,H2:H198))","v":""}]
[null,null,null,null,null,null,null,null,null,null,null,null,null,null,null,null,3,{"$f":"IF(Stammdaten!A2=\"\",\"\",SLOPE(K2:K199,J2:J199))","v":""},{"$f":"IF(Stammdaten!A2=\"\",\"\",INTERCEPT(K2:K199,J2:J199))","v":""}]
[null,null,null,null,null,null,null,null,null,null,null,null,null,null,null,null,4,{"$f":"IF(Stammdaten!A2=\"\",\"\",SLOPE(M2:M197,L2:L197))","v":""},{"$f":"IF(Stammdaten!A2=\"\",\"\",INTERCEPT(M2:M197,L2:L197))","v":""}]
[null,null,null,null,null,null,null,null,null,null,null,null,null,null,null,null,5,{"$f":"IF(Stammdaten!A2=\"\",\"\",SLOPE(O2:O198,N2:N198))","v":""},{"$f":"IF(Stammdaten!A2=\"\",\"\",INTERCEPT(O2:O198,N2:N198))","v":""}]
[null,null,null,null,null,null,null,null,null,null,null,null,null,null,null,null,6,{"$f":"IF(Stammdaten!A2=\"\",\"\",SLOPE(C2:C199,B2:B199))","v":""},{"$f":"IF(Stammdaten!A2=\"\",\"\",INTERCEPT(C2:C199,B2:B199))","v":""}]
[null,null,null,null,null,null,null,null,null,null,null,null,null,null,null,null,7,{"$f":"IF(Stammdaten!A2=\"\",\"\",SLOPE(E2:E198,D2:D198))","v":""},{"$f":"IF(Stammdaten!A2=\"\",\"\",INTERCEPT(E2:E198,D2:D198))","v":""}]

{"sheet":"Werte >15°C","index":5,"n_rows":8,"n_cols":19,"rows_kept":8,"cut":false,"hidden":false,"merged":[]}
["Wochentag","Samstag auf Montag","Samstag auf Montag","Sonntag auf Dienstag","Sonntag auf Dienstag","Montag auf Mittwoch","Montag auf Mittwoch","Dienstag auf Donnerstag","Dienstag auf Donnerstag","Mittwoch auf Freitag","Mittwoch auf Freitag","Donnerstag auf Samstag","Donnerstag auf Samstag","Freitag auf Sonntag","Freitag auf Sonntag",null,null,"Steigung","Achsenabschnitt"]
[null,null,null,null,null,null,null,null,null,null,null,null,null,null,null,null,1,{"$f":"IF(Stammdaten!A2=\"\",\"\",SLOPE(G2:G168,F2:F168))","v":""},{"$f":"IF(Stammdaten!A2=\"\",\"\",INTERCEPT(G2:G168,F2:F168))","v":""}]
[null,null,null,null,null,null,null,null,null,null,null,null,null,null,null,null,2,{"$f":"IF(Stammdaten!A2=\"\",\"\",SLOPE(I2:I168,H2:H168))","v":""},{"$f":"IF(Stammdaten!A2=\"\",\"\",INTERCEPT(I2:I168,H2:H168))","v":""}]
[null,null,null,null,null,null,null,null,null,null,null,null,null,null,null,null,3,{"$f":"IF(Stammdaten!A2=\"\",\"\",SLOPE(K2:K166,J2:J166))","v":""},{"$f":"IF(Stammdaten!A2=\"\",\"\",INTERCEPT(K2:K166,J2:J166))","v":""}]
[null,null,null,null,null,null,null,null,null,null,null,null,null,null,null,null,4,{"$f":"IF(Stammdaten!A2=\"\",\"\",SLOPE(M2:M165,L2:L165))","v":""},{"$f":"IF(Stammdaten!A2=\"\",\"\",INTERCEPT(M2:M165,L2:L165))","v":""}]
[null,null,null,null,null,null,null,null,null,null,null,null,null,null,null,null,5,{"$f":"IF(Stammdaten!A2=\"\",\"\",SLOPE(O2:O163,N2:N163))","v":""},{"$f":"IF(Stammdaten!A2=\"\",\"\",INTERCEPT(O2:O163,N2:N163))","v":""}]
[null,null,null,null,null,null,null,null,null,null,null,null,null,null,null,null,6,{"$f":"IF(Stammdaten!A2=\"\",\"\",SLOPE(C2:C168,B2:B168))","v":""},{"$f":"IF(Stammdaten!A2=\"\",\"\",INTERCEPT(C2:C168,B2:B168))","v":""}]
[null,null,null,null,null,null,null,null,null,null,null,null,null,null,null,null,7,{"$f":"IF(Stammdaten!A2=\"\",\"\",SLOPE(E2:E168,D2:D168))","v":""},{"$f":"IF(Stammdaten!A2=\"\",\"\",INTERCEPT(E2:E168,D2:D168))","v":""}]

{"sheet":"Tageswerte","index":6,"n_rows":734,"n_cols":18,"rows_kept":734,"cut":false,"hidden":false,"merged":[]}
["Datum","Allokationsmenge","Optimierte Allokationsmenge","Restlast","Delta 2- Tagesversatz","Delta 2- Tagesversatz [%]","Kum. sald. Netzkonto 2- Tagesversatz","Delta opt. 2- Tagesversatz"," Delta opt. 2- Tagesversatz [%]","Kum. Sald. Netzkonto  opt. 2- Tagesversatz","Anzahl Tage >35% 2- Tagesversatz","Anzahl Tage >35%  opt. 2- Tagesversatz","Monat","Jahr",null,null,"Auswahlfelder"]
[{"$f":"Analysedaten!A2","v":""},{"$f":"Berechnungsblatt!C3","v":"Vorvortageswert des Vorjahres eintragen"},{"$f":"Berechnungsblatt!X3","v":""},{"$f":"Berechnungsblatt!C5","v":""},{"$f":"IF(Stammdaten!$A$2=\"\",\"\",D2-B2)","v":""},{"$f":"IF(Stammdaten!$A$2=\"\",\"\",E2/B2)","v":""},{"$f":"IF(Stammdaten!$A$2=\"\",\"\",ABS(E2))","v":""},{"$f":"IF(Stammdaten!$A$2=\"\",\"\",D2-C2)","v":""},{"$f":"IF(Stammdaten!$A$2=\"\",\"\",H2/C2)","v":""},{"$f":"IF(Stammdaten!$A$2=\"\",\"\",ABS(H2))","v":""},{"$f":"IF(Stammdaten!$A$2=\"\",\"\",IF(F2>35%,1,\"\"))","v":""},{"$f":"IF(Stammdaten!$A$2=\"\",\"\",IF(I2>35%,1,\"\"))","v":""},{"$f":"IF(Stammdaten!$A$2=\"\",\"\",MONTH(A2))","v":""},{"$f":"IF(Stammdaten!$A$2=\"\",\"\",YEAR(A2))","v":""}]
[{"$f":"Analysedaten!A3","v":""},{"$f":"Berechnungsblatt!C4","v":"Vortageswert des Vorjahres eintragen"},{"$f":"Berechnungsblatt!X4","v":""},{"$f":"Berechnungsblatt!C6","v":""},{"$f":"IF(Stammdaten!$A$2=\"\",\"\",D3-B3)","v":""},{"$f":"IF(Stammdaten!$A$2=\"\",\"\",E3/B3)","v":""},{"$f":"IF(Stammdaten!$A$2=\"\",\"\",ABS(E3))","v":""},{"$f":"IF(Stammdaten!$A$2=\"\",\"\",D3-C3)","v":""},{"$f":"IF(Stammdaten!$A$2=\"\",\"\",H3/C3)","v":""},{"$f":"IF(Stammdaten!$A$2=\"\",\"\",ABS(H3))","v":""},{"$f":"IF(Stammdaten!$A$2=\"\",\"\",IF(F3>35%,1,\"\"))","v":""},{"$f":"IF(Stammdaten!$A$2=\"\",\"\",IF(I3>35%,1,\"\"))","v":""},{"$f":"IF(Stammdaten!$A$2=\"\",\"\",MONTH(A3))","v":""},{"$f":"IF(Stammdaten!$A$2=\"\",\"\",YEAR(A3))","v":""}]
[{"$f":"Analysedaten!A4","v":""},{"$f":"Berechnungsblatt!C5","v":""},{"$f":"Berechnungsblatt!X5","v":""},{"$f":"Berechnungsblatt!C7","v":""},{"$f":"IF(Stammdaten!$A$2=\"\",\"\",D4-B4)","v":""},{"$f":"IF(Stammdaten!$A$2=\"\",\"\",E4/B4)","v":""},{"$f":"IF(Stammdaten!$A$2=\"\",\"\",ABS(E4))","v":""},{"$f":"IF(Stammdaten!$A$2=\"\",\"\",D4-C4)","v":""},{"$f":"IF(Stammdaten!$A$2=\"\",\"\",H4/C4)","v":""},{"$f":"IF(Stammdaten!$A$2=\"\",\"\",ABS(H4))","v":""},{"$f":"IF(Stammdaten!$A$2=\"\",\"\",IF(F4>35%,1,\"\"))","v":""},{"$f":"IF(Stammdaten!$A$2=\"\",\"\",IF(I4>35%,1,\"\"))","v":""},{"$f":"IF(Stammdaten!$A$2=\"\",\"\",MONTH(A4))","v":""},{"$f":"IF(Stammdaten!$A$2=\"\",\"\",YEAR(A4))","v":""},null,null,"Eintagestemperatur",2]
[{"$f":"Analysedaten!A5","v":""},{"$f":"Berechnungsblatt!C6","v":""},{"$f":"Berechnungsblatt!X6","v":""},{"$f":"Berechnungsblatt!C8","v":""},{"$f":"IF(Stammdaten!$A$2=\"\",\"\",D5-B5)","v":""},{"$f":"IF(Stammdaten!$A$2=\"\",\"\",E5/B5)","v":""},{"$f":"IF(Stammdaten!$A$2=\"\",\"\",ABS(E5))","v":""},{"$f":"IF(Stammdaten!$A$2=\"\",\"\",D5-C5)","v":""},{"$f":"IF(Stammdaten!$A$2=\"\",\"\",H5/C5)","v":""},{"$f":"IF(Stammdaten!$A$2=\"\",\"\",ABS(H5))","v":""},{"$f":"IF(Stammdaten!$A$2=\"\",\"\",IF(F5>35%,1,\"\"))","v":""},{"$f":"IF(Stammdaten!$A$2=\"\",\"\",IF(I5>35%,1,\"\"))","v":""},{"$f":"IF(Stammdaten!$A$2=\"\",\"\",MONTH(A5))","v":""},{"$f":"IF(Stammdaten!$A$2=\"\",\"\",YEAR(A5))","v":""},null,null,"geometrische Reihe"]
[{"$f":"Analysedaten!A6","v":""},{"$f":"Berechnungsblatt!C7","v":""},{"$f":"Berechnungsblatt!X7","v":""},{"$f":"Berechnungsblatt!C9","v":""},{"$f":"IF(Stammdaten!$A$2=\"\",\"\",D6-B6)","v":""},{"$f":"IF(Stammdaten!$A$2=\"\",\"\",E6/B6)","v":""},{"$f":"IF(Stammdaten!$A$2=\"\",\"\",ABS(E6))","v":""},{"$f":"IF(Stammdaten!$A$2=\"\",\"\",D6-C6)","v":""},{"$f":"IF(Stammdaten!$A$2=\"\",\"\",H6/C6)","v":""},{"$f":"IF(Stammdaten!$A$2=\"\",\"\",ABS(H6))","v":""},{"$f":"IF(Stammdaten!$A$2=\"\",\"\",IF(F6>35%,1,\"\"))","v":""},{"$f":"IF(Stammdaten!$A$2=\"\",\"\",IF(I6>35%,1,\"\"))","v":""},{"$f":"IF(Stammdaten!$A$2=\"\",\"\",MONTH(A6))","v":""},{"$f":"IF(Stammdaten!$A$2=\"\",\"\",YEAR(A6))","v":""}]
[{"$f":"Analysedaten!A7","v":""},{"$f":"Berechnungsblatt!C8","v":""},{"$f":"Berechnungsblatt!X8","v":""},{"$f":"Berechnungsblatt!C10","v":""},{"$f":"IF(Stammdaten!$A$2=\"\",\"\",D7-B7)","v":""},{"$f":"IF(Stammdaten!$A$2=\"\",\"\",E7/B7)","v":""},{"$f":"IF(Stammdaten!$A$2=\"\",\"\",ABS(E7))","v":""},{"$f":"IF(Stammdaten!$A$2=\"\",\"\",D7-C7)","v":""},{"$f":"IF(Stammdaten!$A$2=\"\",\"\",H7/C7)","v":""},{"$f":"IF(Stammdaten!$A$2=\"\",\"\",ABS(H7))","v":""},{"$f":"IF(Stammdaten!$A$2=\"\",\"\",IF(F7>35%,1,\"\"))","v":""},{"$f":"IF(Stammdaten!$A$2=\"\",\"\",IF(I7>35%,1,\"\"))","v":""},{"$f":"IF(Stammdaten!$A$2=\"\",\"\",MONTH(A7))","v":""},{"$f":"IF(Stammdaten!$A$2=\"\",\"\",YEAR(A7))","v":""},null,null,"Prognosetemperatur (D)"]
[{"$f":"Analysedaten!A8","v":""},{"$f":"Berechnungsblatt!C9","v":""},{"$f":"Berechnungsblatt!X9","v":""},{"$f":"Berechnungsblatt!C11","v":""},{"$f":"IF(Stammdaten!$A$2=\"\",\"\",D8-B8)","v":""},{"$f":"IF(Stammdaten!$A$2=\"\",\"\",E8/B8)","v":""},{"$f":"IF(Stammdaten!$A$2=\"\",\"\",ABS(E8))","v":""},{"$f":"IF(Stammdaten!$A$2=\"\",\"\",D8-C8)","v":""},{"$f":"IF(Stammdaten!$A$2=\"\",\"\",H8/C8)","v":""},{"$f":"IF(Stammdaten!$A$2=\"\",\"\",ABS(H8))","v":""},{"$f":"IF(Stammdaten!$A$2=\"\",\"\",IF(F8>35%,1,\"\"))","v":""},{"$f":"IF(Stammdaten!$A$2=\"\",\"\",IF(I8>35%,1,\"\"))","v":""},{"$f":"IF(Stammdaten!$A$2=\"\",\"\",MONTH(A8))","v":""},{"$f":"IF(Stammdaten!$A$2=\"\",\"\",YEAR(A8))","v":""},null,null,"Vorhersagetemperatur (D) geometrische Reihe analog Leitfaden mit Ist und Prognosetemperaturen [°C]"]
[{"$f":"Analysedaten!A9","v":""},{"$f":"Berechnungsblatt!C10","v":""},{"$f":"Berechnungsblatt!X10","v":""},{"$f":"Berechnungsblatt!C12","v":""},{"$f":"IF(Stammdaten!$A$2=\"\",\"\",D9-B9)","v":""},{"$f":"IF(Stammdaten!$A$2=\"\",\"\",E9/B9)","v":""},{"$f":"IF(Stammdaten!$A$2=\"\",\"\",ABS(E9))","v":""},{"$f":"IF(Stammdaten!$A$2=\"\",\"\",D9-C9)","v":""},{"$f":"IF(Stammdaten!$A$2=\"\",\"\",H9/C9)","v":""},{"$f":"IF(Stammdaten!$A$2=\"\",\"\",ABS(H9))","v":""},{"$f":"IF(Stammdaten!$A$2=\"\",\"\",IF(F9>35%,1,\"\"))","v":""},{"$f":"IF(Stammdaten!$A$2=\"\",\"\",IF(I9>35%,1,\"\"))","v":""},{"$f":"IF(Stammdaten!$A$2=\"\",\"\",MONTH(A9))","v":""},{"$f":"IF(Stammdaten!$A$2=\"\",\"\",YEAR(A9))","v":""}]
[{"$f":"Analysedaten!A10","v":""},{"$f":"Berechnungsblatt!C11","v":""},{"$f":"Berechnungsblatt!X11","v":""},{"$f":"Berechnungsblatt!C13","v":""},{"$f":"IF(Stammdaten!$A$2=\"\",\"\",D10-B10)","v":""},{"$f":"IF(Stammdaten!$A$2=\"\",\"\",E10/B10)","v":""},{"$f":"IF(Stammdaten!$A$2=\"\",\"\",ABS(E10))","v":""},{"$f":"IF(Stammdaten!$A$2=\"\",\"\",D10-C10)","v":""},{"$f":"IF(Stammdaten!$A$2=\"\",\"\",H10/C10)","v":""},{"$f":"IF(Stammdaten!$A$2=\"\",\"\",ABS(H10))","v":""},{"$f":"IF(Stammdaten!$A$2=\"\",\"\",IF(F10>35%,1,\"\"))","v":""},{"$f":"IF(Stammdaten!$A$2=\"\",\"\",IF(I10>35%,1,\"\"))","v":""},{"$f":"IF(Stammdaten!$A$2=\"\",\"\",MONTH(A10))","v":""},{"$f":"IF(Stammdaten!$A$2=\"\",\"\",YEAR(A10))","v":""}]
[{"$f":"Analysedaten!A11","v":""},{"$f":"Berechnungsblatt!C12","v":""},{"$f":"Berechnungsblatt!X12","v":""},{"$f":"Berechnungsblatt!C14","v":""},{"$f":"IF(Stammdaten!$A$2=\"\",\"\",D11-B11)","v":""},{"$f":"IF(Stammdaten!$A$2=\"\",\"\",E11/B11)","v":""},{"$f":"IF(Stammdaten!$A$2=\"\",\"\",ABS(E11))","v":""},{"$f":"IF(Stammdaten!$A$2=\"\",\"\",D11-C11)","v":""},{"$f":"IF(Stammdaten!$A$2=\"\",\"\",H11/C11)","v":""},{"$f":"IF(Stammdaten!$A$2=\"\",\"\",ABS(H11))","v":""},{"$f":"IF(Stammdaten!$A$2=\"\",\"\",IF(F11>35%,1,\"\"))","v":""},{"$f":"IF(Stammdaten!$A$2=\"\",\"\",IF(I11>35%,1,\"\"))","v":""},{"$f":"IF(Stammdaten!$A$2=\"\",\"\",MONTH(A11))","v":""},{"$f":"IF(Stammdaten!$A$2=\"\",\"\",YEAR(A11))","v":""},null,null,"Ist- Temperatur (D-2) [°C]"]
[{"$f":"Analysedaten!A12","v":""},{"$f":"Berechnungsblatt!C13","v":""},{"$f":"Berechnungsblatt!X13","v":""},{"$f":"Berechnungsblatt!C15","v":""},{"$f":"IF(Stammdaten!$A$2=\"\",\"\",D12-B12)","v":""},{"$f":"IF(Stammdaten!$A$2=\"\",\"\",E12/B12)","v":""},{"$f":"IF(Stammdaten!$A$2=\"\",\"\",ABS(E12))","v":""},{"$f":"IF(Stammdaten!$A$2=\"\",\"\",D12-C12)","v":""},{"$f":"IF(Stammdaten!$A$2=\"\",\"\",H12/C12)","v":""},{"$f":"IF(Stammdaten!$A$2=\"\",\"\",ABS(H12))","v":""},{"$f":"IF(Stammdaten!$A$2=\"\",\"\",IF(F12>35%,1,\"\"))","v":""},{"$f":"IF(Stammdaten!$A$2=\"\",\"\",IF(I12>35%,1,\"\"))","v":""},{"$f":"IF(Stammdaten!$A$2=\"\",\"\",MONTH(A12))","v":""},{"$f":"IF(Stammdaten!$A$2=\"\",\"\",YEAR(A12))","v":""},null,null,"Ist- Temperatur (D) geometrische Reihe analog Leitfaden mit Ist- Temperaturen [°C]"]
[{"$f":"Analysedaten!A13","v":""},{"$f":"Berechnungsblatt!C14","v":""},{"$f":"Berechnungsblatt!X14","v":""},{"$f":"Berechnungsblatt!C16","v":""},{"$f":"IF(Stammdaten!$A$2=\"\",\"\",D13-B13)","v":""},{"$f":"IF(Stammdaten!$A$2=\"\",\"\",E13/B13)","v":""},{"$f":"IF(Stammdaten!$A$2=\"\",\"\",ABS(E13))","v":""},{"$f":"IF(Stammdaten!$A$2=\"\",\"\",D13-C13)","v":""},{"$f":"IF(Stammdaten!$A$2=\"\",\"\",H13/C13)","v":""},{"$f":"IF(Stammdaten!$A$2=\"\",\"\",ABS(H13))","v":""},{"$f":"IF(Stammdaten!$A$2=\"\",\"\",IF(F13>35%,1,\"\"))","v":""},{"$f":"IF(Stammdaten!$A$2=\"\",\"\",IF(I13>35%,1,\"\"))","v":""},{"$f":"IF(Stammdaten!$A$2=\"\",\"\",MONTH(A13))","v":""},{"$f":"IF(Stammdaten!$A$2=\"\",\"\",YEAR(A13))","v":""}]
[{"$f":"Analysedaten!A14","v":""},{"$f":"Berechnungsblatt!C15","v":""},{"$f":"Berechnungsblatt!X15","v":""},{"$f":"Berechnungsblatt!C17","v":""},{"$f":"IF(Stammdaten!$A$2=\"\",\"\",D14-B14)","v":""},{"$f":"IF(Stammdaten!$A$2=\"\",\"\",E14/B14)","v":""},{"$f":"IF(Stammdaten!$A$2=\"\",\"\",ABS(E14))","v":""},{"$f":"IF(Stammdaten!$A$2=\"\",\"\",D14-C14)","v":""},{"$f":"IF(Stammdaten!$A$2=\"\",\"\",H14/C14)","v":""},{"$f":"IF(Stammdaten!$A$2=\"\",\"\",ABS(H14))","v":""},{"$f":"IF(Stammdaten!$A$2=\"\",\"\",IF(F14>35%,1,\"\"))","v":""},{"$f":"IF(Stammdaten!$A$2=\"\",\"\",IF(I14>35%,1,\"\"))","v":""},{"$f":"IF(Stammdaten!$A$2=\"\",\"\",MONTH(A14))","v":""},{"$f":"IF(Stammdaten!$A$2=\"\",\"\",YEAR(A14))","v":""}]
[{"$f":"Analysedaten!A15","v":""},{"$f":"Berechnungsblatt!C16","v":""},{"$f":"Berechnungsblatt!X16","v":""},{"$f":"Berechnungsblatt!C18","v":""},{"$f":"IF(Stammdaten!$A$2=\"\",\"\",D15-B15)","v":""},{"$f":"IF(Stammdaten!$A$2=\"\",\"\",E15/B15)","v":""},{"$f":"IF(Stammdaten!$A$2=\"\",\"\",ABS(E15))","v":""},{"$f":"IF(Stammdaten!$A$2=\"\",\"\",D15-C15)","v":""},{"$f":"IF(Stammdaten!$A$2=\"\",\"\",H15/C15)","v":""},{"$f":"IF(Stammdaten!$A$2=\"\",\"\",ABS(H15))","v":""},{"$f":"IF(Stammdaten!$A$2=\"\",\"\",IF(F15>35%,1,\"\"))","v":""},{"$f":"IF(Stammdaten!$A$2=\"\",\"\",IF(I15>35%,1,\"\"))","v":""},{"$f":"IF(Stammdaten!$A$2=\"\",\"\",MONTH(A15))","v":""},{"$f":"IF(Stammdaten!$A$2=\"\",\"\",YEAR(A15))","v":""}]
[{"$f":"Analysedaten!A16","v":""},{"$f":"Berechnungsblatt!C17","v":""},{"$f":"Berechnungsblatt!X17","v":""},{"$f":"Berechnungsblatt!C19","v":""},{"$f":"IF(Stammdaten!$A$2=\"\",\"\",D16-B16)","v":""},{"$f":"IF(Stammdaten!$A$2=\"\",\"\",E16/B16)","v":""},{"$f":"IF(Stammdaten!$A$2=\"\",\"\",ABS(E16))","v":""},{"$f":"IF(Stammdaten!$A$2=\"\",\"\",D16-C16)","v":""},{"$f":"IF(Stammdaten!$A$2=\"\",\"\",H16/C16)","v":""},{"$f":"IF(Stammdaten!$A$2=\"\",\"\",ABS(H16))","v":""},{"$f":"IF(Stammdaten!$A$2=\"\",\"\",IF(F16>35%,1,\"\"))","v":""},{"$f":"IF(Stammdaten!$A$2=\"\",\"\",IF(I16>35%,1,\"\"))","v":""},{"$f":"IF(Stammdaten!$A$2=\"\",\"\",MONTH(A16))","v":""},{"$f":"IF(Stammdaten!$A$2=\"\",\"\",YEAR(A16))","v":""}]
[{"$f":"Analysedaten!A17","v":""},{"$f":"Berechnungsblatt!C18","v":""},{"$f":"Berechnungsblatt!X18","v":""},{"$f":"Berechnungsblatt!C20","v":""},{"$f":"IF(Stammdaten!$A$2=\"\",\"\",D17-B17)","v":""},{"$f":"IF(Stammdaten!$A$2=\"\",\"\",E17/B17)","v":""},{"$f":"IF(Stammdaten!$A$2=\"\",\"\",ABS(E17))","v":""},{"$f":"IF(Stammdaten!$A$2=\"\",\"\",D17-C17)","v":""},{"$f":"IF(Stammdaten!$A$2=\"\",\"\",H17/C17)","v":""},{"$f":"IF(Stammdaten!$A$2=\"\",\"\",ABS(H17))","v":""},{"$f":"IF(Stammdaten!$A$2=\"\",\"\",IF(F17>35%,1,\"\"))","v":""},{"$f":"IF(Stammdaten!$A$2=\"\",\"\",IF(I17>35%,1,\"\"))","v":""},{"$f":"IF(Stammdaten!$A$2=\"\",\"\",MONTH(A17))","v":""},{"$f":"IF(Stammdaten!$A$2=\"\",\"\",YEAR(A17))","v":""}]
[{"$f":"Analysedaten!A18","v":""},{"$f":"Berechnungsblatt!C19","v":""},{"$f":"Berechnungsblatt!X19","v":""},{"$f":"Berechnungsblatt!C21","v":""},{"$f":"IF(Stammdaten!$A$2=\"\",\"\",D18-B18)","v":""},{"$f":"IF(Stammdaten!$A$2=\"\",\"\",E18/B18)","v":""},{"$f":"IF(Stammdaten!$A$2=\"\",\"\",ABS(E18))","v":""},{"$f":"IF(Stammdaten!$A$2=\"\",\"\",D18-C18)","v":""},{"$f":"IF(Stammdaten!$A$2=\"\",\"\",H18/C18)","v":""},{"$f":"IF(Stammdaten!$A$2=\"\",\"\",ABS(H18))","v":""},{"$f":"IF(Stammdaten!$A$2=\"\",\"\",IF(F18>35%,1,\"\"))","v":""},{"$f":"IF(Stammdaten!$A$2=\"\",\"\",IF(I18>35%,1,\"\"))","v":""},{"$f":"IF(Stammdaten!$A$2=\"\",\"\",MONTH(A18))","v":""},{"$f":"IF(Stammdaten!$A$2=\"\",\"\",YEAR(A18))","v":""}]
[{"$f":"Analysedaten!A19","v":""},{"$f":"Berechnungsblatt!C20","v":""},{"$f":"Berechnungsblatt!X20","v":""},{"$f":"Berechnungsblatt!C22","v":""},{"$f":"IF(Stammdaten!$A$2=\"\",\"\",D19-B19)","v":""},{"$f":"IF(Stammdaten!$A$2=\"\",\"\",E19/B19)","v":""},{"$f":"IF(Stammdaten!$A$2=\"\",\"\",ABS(E19))","v":""},{"$f":"IF(Stammdaten!$A$2=\"\",\"\",D19-C19)","v":""},{"$f":"IF(Stammdaten!$A$2=\"\",\"\",H19/C19)","v":""},{"$f":"IF(Stammdaten!$A$2=\"\",\"\",ABS(H19))","v":""},{"$f":"IF(Stammdaten!$A$2=\"\",\"\",IF(F19>35%,1,\"\"))","v":""},{"$f":"IF(Stammdaten!$A$2=\"\",\"\",IF(I19>35%,1,\"\"))","v":""},{"$f":"IF(Stammdaten!$A$2=\"\",\"\",MONTH(A19))","v":""},{"$f":"IF(Stammdaten!$A$2=\"\",\"\",YEAR(A19))","v":""}]
[{"$f":"Analysedaten!A20","v":""},{"$f":"Berechnungsblatt!C21","v":""},{"$f":"Berechnungsblatt!X21","v":""},{"$f":"Berechnungsblatt!C23","v":""},{"$f":"IF(Stammdaten!$A$2=\"\",\"\",D20-B20)","v":""},{"$f":"IF(Stammdaten!$A$2=\"\",\"\",E20/B20)","v":""},{"$f":"IF(Stammdaten!$A$2=\"\",\"\",ABS(E20))","v":""},{"$f":"IF(Stammdaten!$A$2=\"\",\"\",D20-C20)","v":""},{"$f":"IF(Stammdaten!$A$2=\"\",\"\",H20/C20)","v":""},{"$f":"IF(Stammdaten!$A$2=\"\",\"\",ABS(H20))","v":""},{"$f":"IF(Stammdaten!$A$2=\"\",\"\",IF(F20>35%,1,\"\"))","v":""},{"$f":"IF(Stammdaten!$A$2=\"\",\"\",IF(I20>35%,1,\"\"))","v":""},{"$f":"IF(Stammdaten!$A$2=\"\",\"\",MONTH(A20))","v":""},{"$f":"IF(Stammdaten!$A$2=\"\",\"\",YEAR(A20))","v":""}]
[{"$f":"Analysedaten!A21","v":""},{"$f":"Berechnungsblatt!C22","v":""},{"$f":"Berechnungsblatt!X22","v":""},{"$f":"Berechnungsblatt!C24","v":""},{"$f":"IF(Stammdaten!$A$2=\"\",\"\",D21-B21)","v":""},{"$f":"IF(Stammdaten!$A$2=\"\",\"\",E21/B21)","v":""},{"$f":"IF(Stammdaten!$A$2=\"\",\"\",ABS(E21))","v":""},{"$f":"IF(Stammdaten!$A$2=\"\",\"\",D21-C21)","v":""},{"$f":"IF(Stammdaten!$A$2=\"\",\"\",H21/C21)","v":""},{"$f":"IF(Stammdaten!$A$2=\"\",\"\",ABS(H21))","v":""},{"$f":"IF(Stammdaten!$A$2=\"\",\"\",IF(F21>35%,1,\"\"))","v":""},{"$f":"IF(Stammdaten!$A$2=\"\",\"\",IF(I21>35%,1,\"\"))","v":""},{"$f":"IF(Stammdaten!$A$2=\"\",\"\",MONTH(A21))","v":""},{"$f":"IF(Stammdaten!$A$2=\"\",\"\",YEAR(A21))","v":""}]
[{"$f":"Analysedaten!A22","v":""},{"$f":"Berechnungsblatt!C23","v":""},{"$f":"Berechnungsblatt!X23","v":""},{"$f":"Berechnungsblatt!C25","v":""},{"$f":"IF(Stammdaten!$A$2=\"\",\"\",D22-B22)","v":""},{"$f":"IF(Stammdaten!$A$2=\"\",\"\",E22/B22)","v":""},{"$f":"IF(Stammdaten!$A$2=\"\",\"\",ABS(E22))","v":""},{"$f":"IF(Stammdaten!$A$2=\"\",\"\",D22-C22)","v":""},{"$f":"IF(Stammdaten!$A$2=\"\",\"\",H22/C22)","v":""},{"$f":"IF(Stammdaten!$A$2=\"\",\"\",ABS(H22))","v":""},{"$f":"IF(Stammdaten!$A$2=\"\",\"\",IF(F22>35%,1,\"\"))","v":""},{"$f":"IF(Stammdaten!$A$2=\"\",\"\",IF(I22>35%,1,\"\"))","v":""},{"$f":"IF(Stammdaten!$A$2=\"\",\"\",MONTH(A22))","v":""},{"$f":"IF(Stammdaten!$A$2=\"\",\"\",YEAR(A22))","v":""}]
[{"$f":"Analysedaten!A23","v":""},{"$f":"Berechnungsblatt!C24","v":""},{"$f":"Berechnungsblatt!X24","v":""},{"$f":"Berechnungsblatt!C26","v":""},{"$f":"IF(Stammdaten!$A$2=\"\",\"\",D23-B23)","v":""},{"$f":"IF(Stammdaten!$A$2=\"\",\"\",E23/B23)","v":""},{"$f":"IF(Stammdaten!$A$2=\"\",\"\",ABS(E23))","v":""},{"$f":"IF(Stammdaten!$A$2=\"\",\"\",D23-C23)","v":""},{"$f":"IF(Stammdaten!$A$2=\"\",\"\",H23/C23)","v":""},{"$f":"IF(Stammdaten!$A$2=\"\",\"\",ABS(H23))","v":""},{"$f":"IF(Stammdaten!$A$2=\"\",\"\",IF(F23>35%,1,\"\"))","v":""},{"$f":"IF(Stammdaten!$A$2=\"\",\"\",IF(I23>35%,1,\"\"))","v":""},{"$f":"IF(Stammdaten!$A$2=\"\",\"\",MONTH(A23))","v":""},{"$f":"IF(Stammdaten!$A$2=\"\",\"\",YEAR(A23))","v":""}]
[{"$f":"Analysedaten!A24","v":""},{"$f":"Berechnungsblatt!C25","v":""},{"$f":"Berechnungsblatt!X25","v":""},{"$f":"Berechnungsblatt!C27","v":""},{"$f":"IF(Stammdaten!$A$2=\"\",\"\",D24-B24)","v":""},{"$f":"IF(Stammdaten!$A$2=\"\",\"\",E24/B24)","v":""},{"$f":"IF(Stammdaten!$A$2=\"\",\"\",ABS(E24))","v":""},{"$f":"IF(Stammdaten!$A$2=\"\",\"\",D24-C24)","v":""},{"$f":"IF(Stammdaten!$A$2=\"\",\"\",H24/C24)","v":""},{"$f":"IF(Stammdaten!$A$2=\"\",\"\",ABS(H24))","v":""},{"$f":"IF(Stammdaten!$A$2=\"\",\"\",IF(F24>35%,1,\"\"))","v":""},{"$f":"IF(Stammdaten!$A$2=\"\",\"\",IF(I24>35%,1,\"\"))","v":""},{"$f":"IF(Stammdaten!$A$2=\"\",\"\",MONTH(A24))","v":""},{"$f":"IF(Stammdaten!$A$2=\"\",\"\",YEAR(A24))","v":""}]
[{"$f":"Analysedaten!A25","v":""},{"$f":"Berechnungsblatt!C26","v":""},{"$f":"Berechnungsblatt!X26","v":""},{"$f":"Berechnungsblatt!C28","v":""},{"$f":"IF(Stammdaten!$A$2=\"\",\"\",D25-B25)","v":""},{"$f":"IF(Stammdaten!$A$2=\"\",\"\",E25/B25)","v":""},{"$f":"IF(Stammdaten!$A$2=\"\",\"\",ABS(E25))","v":""},{"$f":"IF(Stammdaten!$A$2=\"\",\"\",D25-C25)","v":""},{"$f":"IF(Stammdaten!$A$2=\"\",\"\",H25/C25)","v":""},{"$f":"IF(Stammdaten!$A$2=\"\",\"\",ABS(H25))","v":""},{"$f":"IF(Stammdaten!$A$2=\"\",\"\",IF(F25>35%,1,\"\"))","v":""},{"$f":"IF(Stammdaten!$A$2=\"\",\"\",IF(I25>35%,1,\"\"))","v":""},{"$f":"IF(Stammdaten!$A$2=\"\",\"\",MONTH(A25))","v":""},{"$f":"IF(Stammdaten!$A$2=\"\",\"\",YEAR(A25))","v":""}]
[{"$f":"Analysedaten!A26","v":""},{"$f":"Berechnungsblatt!C27","v":""},{"$f":"Berechnungsblatt!X27","v":""},{"$f":"Berechnungsblatt!C29","v":""},{"$f":"IF(Stammdaten!$A$2=\"\",\"\",D26-B26)","v":""},{"$f":"IF(Stammdaten!$A$2=\"\",\"\",E26/B26)","v":""},{"$f":"IF(Stammdaten!$A$2=\"\",\"\",ABS(E26))","v":""},{"$f":"IF(Stammdaten!$A$2=\"\",\"\",D26-C26)","v":""},{"$f":"IF(Stammdaten!$A$2=\"\",\"\",H26/C26)","v":""},{"$f":"IF(Stammdaten!$A$2=\"\",\"\",ABS(H26))","v":""},{"$f":"IF(Stammdaten!$A$2=\"\",\"\",IF(F26>35%,1,\"\"))","v":""},{"$f":"IF(Stammdaten!$A$2=\"\",\"\",IF(I26>35%,1,\"\"))","v":""},{"$f":"IF(Stammdaten!$A$2=\"\",\"\",MONTH(A26))","v":""},{"$f":"IF(Stammdaten!$A$2=\"\",\"\",YEAR(A26))","v":""}]
[{"$f":"Analysedaten!A27","v":""},{"$f":"Berechnungsblatt!C28","v":""},{"$f":"Berechnungsblatt!X28","v":""},{"$f":"Berechnungsblatt!C30","v":""},{"$f":"IF(Stammdaten!$A$2=\"\",\"\",D27-B27)","v":""},{"$f":"IF(Stammdaten!$A$2=\"\",\"\",E27/B27)","v":""},{"$f":"IF(Stammdaten!$A$2=\"\",\"\",ABS(E27))","v":""},{"$f":"IF(Stammdaten!$A$2=\"\",\"\",D27-C27)","v":""},{"$f":"IF(Stammdaten!$A$2=\"\",\"\",H27/C27)","v":""},{"$f":"IF(Stammdaten!$A$2=\"\",\"\",ABS(H27))","v":""},{"$f":"IF(Stammdaten!$A$2=\"\",\"\",IF(F27>35%,1,\"\"))","v":""},{"$f":"IF(Stammdaten!$A$2=\"\",\"\",IF(I27>35%,1,\"\"))","v":""},{"$f":"IF(Stammdaten!$A$2=\"\",\"\",MONTH(A27))","v":""},{"$f":"IF(Stammdaten!$A$2=\"\",\"\",YEAR(A27))","v":""}]
[{"$f":"Analysedaten!A28","v":""},{"$f":"Berechnungsblatt!C29","v":""},{"$f":"Berechnungsblatt!X29","v":""},{"$f":"Berechnungsblatt!C31","v":""},{"$f":"IF(Stammdaten!$A$2=\"\",\"\",D28-B28)","v":""},{"$f":"IF(Stammdaten!$A$2=\"\",\"\",E28/B28)","v":""},{"$f":"IF(Stammdaten!$A$2=\"\",\"\",ABS(E28))","v":""},{"$f":"IF(Stammdaten!$A$2=\"\",\"\",D28-C28)","v":""},{"$f":"IF(Stammdaten!$A$2=\"\",\"\",H28/C28)","v":""},{"$f":"IF(Stammdaten!$A$2=\"\",\"\",ABS(H28))","v":""},{"$f":"IF(Stammdaten!$A$2=\"\",\"\",IF(F28>35%,1,\"\"))","v":""},{"$f":"IF(Stammdaten!$A$2=\"\",\"\",IF(I28>35%,1,\"\"))","v":""},{"$f":"IF(Stammdaten!$A$2=\"\",\"\",MONTH(A28))","v":""},{"$f":"IF(Stammdaten!$A$2=\"\",\"\",YEAR(A28))","v":""}]
[{"$f":"Analysedaten!A29","v":""},{"$f":"Berechnungsblatt!C30","v":""},{"$f":"Berechnungsblatt!X30","v":""},{"$f":"Berechnungsblatt!C32","v":""},{"$f":"IF(Stammdaten!$A$2=\"\",\"\",D29-B29)","v":""},{"$f":"IF(Stammdaten!$A$2=\"\",\"\",E29/B29)","v":""},{"$f":"IF(Stammdaten!$A$2=\"\",\"\",ABS(E29))","v":""},{"$f":"IF(Stammdaten!$A$2=\"\",\"\",D29-C29)","v":""},{"$f":"IF(Stammdaten!$A$2=\"\",\"\",H29/C29)","v":""},{"$f":"IF(Stammdaten!$A$2=\"\",\"\",ABS(H29))","v":""},{"$f":"IF(Stammdaten!$A$2=\"\",\"\",IF(F29>35%,1,\"\"))","v":""},{"$f":"IF(Stammdaten!$A$2=\"\",\"\",IF(I29>35%,1,\"\"))","v":""},{"$f":"IF(Stammdaten!$A$2=\"\",\"\",MONTH(A29))","v":""},{"$f":"IF(Stammdaten!$A$2=\"\",\"\",YEAR(A29))","v":""}]
[{"$f":"Analysedaten!A30","v":""},{"$f":"Berechnungsblatt!C31","v":""},{"$f":"Berechnungsblatt!X31","v":""},{"$f":"Berechnungsblatt!C33","v":""},{"$f":"IF(Stammdaten!$A$2=\"\",\"\",D30-B30)","v":""},{"$f":"IF(Stammdaten!$A$2=\"\",\"\",E30/B30)","v":""},{"$f":"IF(Stammdaten!$A$2=\"\",\"\",ABS(E30))","v":""},{"$f":"IF(Stammdaten!$A$2=\"\",\"\",D30-C30)","v":""},{"$f":"IF(Stammdaten!$A$2=\"\",\"\",H30/C30)","v":""},{"$f":"IF(Stammdaten!$A$2=\"\",\"\",ABS(H30))","v":""},{"$f":"IF(Stammdaten!$A$2=\"\",\"\",IF(F30>35%,1,\"\"))","v":""},{"$f":"IF(Stammdaten!$A$2=\"\",\"\",IF(I30>35%,1,\"\"))","v":""},{"$f":"IF(Stammdaten!$A$2=\"\",\"\",MONTH(A30))","v":""},{"$f":"IF(Stammdaten!$A$2=\"\",\"\",YEAR(A30))","v":""}]
[{"$f":"Analysedaten!A31","v":""},{"$f":"Berechnungsblatt!C32","v":""},{"$f":"Berechnungsblatt!X32","v":""},{"$f":"Berechnungsblatt!C34","v":""},{"$f":"IF(Stammdaten!$A$2=\"\",\"\",D31-B31)","v":""},{"$f":"IF(Stammdaten!$A$2=\"\",\"\",E31/B31)","v":""},{"$f":"IF(Stammdaten!$A$2=\"\",\"\",ABS(E31))","v":""},{"$f":"IF(Stammdaten!$A$2=\"\",\"\",D31-C31)","v":""},{"$f":"IF(Stammdaten!$A$2=\"\",\"\",H31/C31)","v":""},{"$f":"IF(Stammdaten!$A$2=\"\",\"\",ABS(H31))","v":""},{"$f":"IF(Stammdaten!$A$2=\"\",\"\",IF(F31>35%,1,\"\"))","v":""},{"$f":"IF(Stammdaten!$A$2=\"\",\"\",IF(I31>35%,1,\"\"))","v":""},{"$f":"IF(Stammdaten!$A$2=\"\",\"\",MONTH(A31))","v":""},{"$f":"IF(Stammdaten!$A$2=\"\",\"\",YEAR(A31))","v":""}]
[{"$f":"Analysedaten!A32","v":""},{"$f":"Berechnungsblatt!C33","v":""},{"$f":"Berechnungsblatt!X33","v":""},{"$f":"Berechnungsblatt!C35","v":""},{"$f":"IF(Stammdaten!$A$2=\"\",\"\",D32-B32)","v":""},{"$f":"IF(Stammdaten!$A$2=\"\",\"\",E32/B32)","v":""},{"$f":"IF(Stammdaten!$A$2=\"\",\"\",ABS(E32))","v":""},{"$f":"IF(Stammdaten!$A$2=\"\",\"\",D32-C32)","v":""},{"$f":"IF(Stammdaten!$A$2=\"\",\"\",H32/C32)","v":""},{"$f":"IF(Stammdaten!$A$2=\"\",\"\",ABS(H32))","v":""},{"$f":"IF(Stammdaten!$A$2=\"\",\"\",IF(F32>35%,1,\"\"))","v":""},{"$f":"IF(Stammdaten!$A$2=\"\",\"\",IF(I32>35%,1,\"\"))","v":""},{"$f":"IF(Stammdaten!$A$2=\"\",\"\",MONTH(A32))","v":""},{"$f":"IF(Stammdaten!$A$2=\"\",\"\",YEAR(A32))","v":""}]
[{"$f":"Analysedaten!A33","v":""},{"$f":"Berechnungsblatt!C34","v":""},{"$f":"Berechnungsblatt!X34","v":""},{"$f":"Berechnungsblatt!C36","v":""},{"$f":"IF(Stammdaten!$A$2=\"\",\"\",D33-B33)","v":""},{"$f":"IF(Stammdaten!$A$2=\"\",\"\",E33/B33)","v":""},{"$f":"IF(Stammdaten!$A$2=\"\",\"\",ABS(E33))","v":""},{"$f":"IF(Stammdaten!$A$2=\"\",\"\",D33-C33)","v":""},{"$f":"IF(Stammdaten!$A$2=\"\",\"\",H33/C33)","v":""},{"$f":"IF(Stammdaten!$A$2=\"\",\"\",ABS(H33))","v":""},{"$f":"IF(Stammdaten!$A$2=\"\",\"\",IF(F33>35%,1,\"\"))","v":""},{"$f":"IF(Stammdaten!$A$2=\"\",\"\",IF(I33>35%,1,\"\"))","v":""},{"$f":"IF(Stammdaten!$A$2=\"\",\"\",MONTH(A33))","v":""},{"$f":"IF(Stammdaten!$A$2=\"\",\"\",YEAR(A33))","v":""}]
[{"$f":"Analysedaten!A34","v":""},{"$f":"Berechnungsblatt!C35","v":""},{"$f":"Berechnungsblatt!X35","v":""},{"$f":"Berechnungsblatt!C37","v":""},{"$f":"IF(Stammdaten!$A$2=\"\",\"\",D34-B34)","v":""},{"$f":"IF(Stammdaten!$A$2=\"\",\"\",E34/B34)","v":""},{"$f":"IF(Stammdaten!$A$2=\"\",\"\",ABS(E34))","v":""},{"$f":"IF(Stammdaten!$A$2=\"\",\"\",D34-C34)","v":""},{"$f":"IF(Stammdaten!$A$2=\"\",\"\",H34/C34)","v":""},{"$f":"IF(Stammdaten!$A$2=\"\",\"\",ABS(H34))","v":""},{"$f":"IF(Stammdaten!$A$2=\"\",\"\",IF(F34>35%,1,\"\"))","v":""},{"$f":"IF(Stammdaten!$A$2=\"\",\"\",IF(I34>35%,1,\"\"))","v":""},{"$f":"IF(Stammdaten!$A$2=\"\",\"\",MONTH(A34))","v":""},{"$f":"IF(Stammdaten!$A$2=\"\",\"\",YEAR(A34))","v":""}]
[{"$f":"Analysedaten!A35","v":""},{"$f":"Berechnungsblatt!C36","v":""},{"$f":"Berechnungsblatt!X36","v":""},{"$f":"Berechnungsblatt!C38","v":""},{"$f":"IF(Stammdaten!$A$2=\"\",\"\",D35-B35)","v":""},{"$f":"IF(Stammdaten!$A$2=\"\",\"\",E35/B35)","v":""},{"$f":"IF(Stammdaten!$A$2=\"\",\"\",ABS(E35))","v":""},{"$f":"IF(Stammdaten!$A$2=\"\",\"\",D35-C35)","v":""},{"$f":"IF(Stammdaten!$A$2=\"\",\"\",H35/C35)","v":""},{"$f":"IF(Stammdaten!$A$2=\"\",\"\",ABS(H35))","v":""},{"$f":"IF(Stammdaten!$A$2=\"\",\"\",IF(F35>35%,1,\"\"))","v":""},{"$f":"IF(Stammdaten!$A$2=\"\",\"\",IF(I35>35%,1,\"\"))","v":""},{"$f":"IF(Stammdaten!$A$2=\"\",\"\",MONTH(A35))","v":""},{"$f":"IF(Stammdaten!$A$2=\"\",\"\",YEAR(A35))","v":""}]
[{"$f":"Analysedaten!A36","v":""},{"$f":"Berechnungsblatt!C37","v":""},{"$f":"Berechnungsblatt!X37","v":""},{"$f":"Berechnungsblatt!C39","v":""},{"$f":"IF(Stammdaten!$A$2=\"\",\"\",D36-B36)","v":""},{"$f":"IF(Stammdaten!$A$2=\"\",\"\",E36/B36)","v":""},{"$f":"IF(Stammdaten!$A$2=\"\",\"\",ABS(E36))","v":""},{"$f":"IF(Stammdaten!$A$2=\"\",\"\",D36-C36)","v":""},{"$f":"IF(Stammdaten!$A$2=\"\",\"\",H36/C36)","v":""},{"$f":"IF(Stammdaten!$A$2=\"\",\"\",ABS(H36))","v":""},{"$f":"IF(Stammdaten!$A$2=\"\",\"\",IF(F36>35%,1,\"\"))","v":""},{"$f":"IF(Stammdaten!$A$2=\"\",\"\",IF(I36>35%,1,\"\"))","v":""},{"$f":"IF(Stammdaten!$A$2=\"\",\"\",MONTH(A36))","v":""},{"$f":"IF(Stammdaten!$A$2=\"\",\"\",YEAR(A36))","v":""}]
[{"$f":"Analysedaten!A37","v":""},{"$f":"Berechnungsblatt!C38","v":""},{"$f":"Berechnungsblatt!X38","v":""},{"$f":"Berechnungsblatt!C40","v":""},{"$f":"IF(Stammdaten!$A$2=\"\",\"\",D37-B37)","v":""},{"$f":"IF(Stammdaten!$A$2=\"\",\"\",E37/B37)","v":""},{"$f":"IF(Stammdaten!$A$2=\"\",\"\",ABS(E37))","v":""},{"$f":"IF(Stammdaten!$A$2=\"\",\"\",D37-C37)","v":""},{"$f":"IF(Stammdaten!$A$2=\"\",\"\",H37/C37)","v":""},{"$f":"IF(Stammdaten!$A$2=\"\",\"\",ABS(H37))","v":""},{"$f":"IF(Stammdaten!$A$2=\"\",\"\",IF(F37>35%,1,\"\"))","v":""},{"$f":"IF(Stammdaten!$A$2=\"\",\"\",IF(I37>35%,1,\"\"))","v":""},{"$f":"IF(Stammdaten!$A$2=\"\",\"\",MONTH(A37))","v":""},{"$f":"IF(Stammdaten!$A$2=\"\",\"\",YEAR(A37))","v":""}]
[{"$f":"Analysedaten!A38","v":""},{"$f":"Berechnungsblatt!C39","v":""},{"$f":"Berechnungsblatt!X39","v":""},{"$f":"Berechnungsblatt!C41","v":""},{"$f":"IF(Stammdaten!$A$2=\"\",\"\",D38-B38)","v":""},{"$f":"IF(Stammdaten!$A$2=\"\",\"\",E38/B38)","v":""},{"$f":"IF(Stammdaten!$A$2=\"\",\"\",ABS(E38))","v":""},{"$f":"IF(Stammdaten!$A$2=\"\",\"\",D38-C38)","v":""},{"$f":"IF(Stammdaten!$A$2=\"\",\"\",H38/C38)","v":""},{"$f":"IF(Stammdaten!$A$2=\"\",\"\",ABS(H38))","v":""},{"$f":"IF(Stammdaten!$A$2=\"\",\"\",IF(F38>35%,1,\"\"))","v":""},{"$f":"IF(Stammdaten!$A$2=\"\",\"\",IF(I38>35%,1,\"\"))","v":""},{"$f":"IF(Stammdaten!$A$2=\"\",\"\",MONTH(A38))","v":""},{"$f":"IF(Stammdaten!$A$2=\"\",\"\",YEAR(A38))","v":""}]
[{"$f":"Analysedaten!A39","v":""},{"$f":"Berechnungsblatt!C40","v":""},{"$f":"Berechnungsblatt!X40","v":""},{"$f":"Berechnungsblatt!C42","v":""},{"$f":"IF(Stammdaten!$A$2=\"\",\"\",D39-B39)","v":""},{"$f":"IF(Stammdaten!$A$2=\"\",\"\",E39/B39)","v":""},{"$f":"IF(Stammdaten!$A$2=\"\",\"\",ABS(E39))","v":""},{"$f":"IF(Stammdaten!$A$2=\"\",\"\",D39-C39)","v":""},{"$f":"IF(Stammdaten!$A$2=\"\",\"\",H39/C39)","v":""},{"$f":"IF(Stammdaten!$A$2=\"\",\"\",ABS(H39))","v":""},{"$f":"IF(Stammdaten!$A$2=\"\",\"\",IF(F39>35%,1,\"\"))","v":""},{"$f":"IF(Stammdaten!$A$2=\"\",\"\",IF(I39>35%,1,\"\"))","v":""},{"$f":"IF(Stammdaten!$A$2=\"\",\"\",MONTH(A39))","v":""},{"$f":"IF(Stammdaten!$A$2=\"\",\"\",YEAR(A39))","v":""}]
[{"$f":"Analysedaten!A40","v":""},{"$f":"Berechnungsblatt!C41","v":""},{"$f":"Berechnungsblatt!X41","v":""},{"$f":"Berechnungsblatt!C43","v":""},{"$f":"IF(Stammdaten!$A$2=\"\",\"\",D40-B40)","v":""},{"$f":"IF(Stammdaten!$A$2=\"\",\"\",E40/B40)","v":""},{"$f":"IF(Stammdaten!$A$2=\"\",\"\",ABS(E40))","v":""},{"$f":"IF(Stammdaten!$A$2=\"\",\"\",D40-C40)","v":""},{"$f":"IF(Stammdaten!$A$2=\"\",\"\",H40/C40)","v":""},{"$f":"IF(Stammdaten!$A$2=\"\",\"\",ABS(H40))","v":""},{"$f":"IF(Stammdaten!$A$2=\"\",\"\",IF(F40>35%,1,\"\"))","v":""},{"$f":"IF(Stammdaten!$A$2=\"\",\"\",IF(I40>35%,1,\"\"))","v":""},{"$f":"IF(Stammdaten!$A$2=\"\",\"\",MONTH(A40))","v":""},{"$f":"IF(Stammdaten!$A$2=\"\",\"\",YEAR(A40))","v":""}]
[{"$f":"Analysedaten!A41","v":""},{"$f":"Berechnungsblatt!C42","v":""},{"$f":"Berechnungsblatt!X42","v":""},{"$f":"Berechnungsblatt!C44","v":""},{"$f":"IF(Stammdaten!$A$2=\"\",\"\",D41-B41)","v":""},{"$f":"IF(Stammdaten!$A$2=\"\",\"\",E41/B41)","v":""},{"$f":"IF(Stammdaten!$A$2=\"\",\"\",ABS(E41))","v":""},{"$f":"IF(Stammdaten!$A$2=\"\",\"\",D41-C41)","v":""},{"$f":"IF(Stammdaten!$A$2=\"\",\"\",H41/C41)","v":""},{"$f":"IF(Stammdaten!$A$2=\"\",\"\",ABS(H41))","v":""},{"$f":"IF(Stammdaten!$A$2=\"\",\"\",IF(F41>35%,1,\"\"))","v":""},{"$f":"IF(Stammdaten!$A$2=\"\",\"\",IF(I41>35%,1,\"\"))","v":""},{"$f":"IF(Stammdaten!$A$2=\"\",\"\",MONTH(A41))","v":""},{"$f":"IF(Stammdaten!$A$2=\"\",\"\",YEAR(A41))","v":""}]
[{"$f":"Analysedaten!A42","v":""},{"$f":"Berechnungsblatt!C43","v":""},{"$f":"Berechnungsblatt!X43","v":""},{"$f":"Berechnungsblatt!C45","v":""},{"$f":"IF(Stammdaten!$A$2=\"\",\"\",D42-B42)","v":""},{"$f":"IF(Stammdaten!$A$2=\"\",\"\",E42/B42)","v":""},{"$f":"IF(Stammdaten!$A$2=\"\",\"\",ABS(E42))","v":""},{"$f":"IF(Stammdaten!$A$2=\"\",\"\",D42-C42)","v":""},{"$f":"IF(Stammdaten!$A$2=\"\",\"\",H42/C42)","v":""},{"$f":"IF(Stammdaten!$A$2=\"\",\"\",ABS(H42))","v":""},{"$f":"IF(Stammdaten!$A$2=\"\",\"\",IF(F42>35%,1,\"\"))","v":""},{"$f":"IF(Stammdaten!$A$2=\"\",\"\",IF(I42>35%,1,\"\"))","v":""},{"$f":"IF(Stammdaten!$A$2=\"\",\"\",MONTH(A42))","v":""},{"$f":"IF(Stammdaten!$A$2=\"\",\"\",YEAR(A42))","v":""}]
[{"$f":"Analysedaten!A43","v":""},{"$f":"Berechnungsblatt!C44","v":""},{"$f":"Berechnungsblatt!X44","v":""},{"$f":"Berechnungsblatt!C46","v":""},{"$f":"IF(Stammdaten!$A$2=\"\",\"\",D43-B43)","v":""},{"$f":"IF(Stammdaten!$A$2=\"\",\"\",E43/B43)","v":""},{"$f":"IF(Stammdaten!$A$2=\"\",\"\",ABS(E43))","v":""},{"$f":"IF(Stammdaten!$A$2=\"\",\"\",D43-C43)","v":""},{"$f":"IF(Stammdaten!$A$2=\"\",\"\",H43/C43)","v":""},{"$f":"IF(Stammdaten!$A$2=\"\",\"\",ABS(H43))","v":""},{"$f":"IF(Stammdaten!$A$2=\"\",\"\",IF(F43>35%,1,\"\"))","v":""},{"$f":"IF(Stammdaten!$A$2=\"\",\"\",IF(I43>35%,1,\"\"))","v":""},{"$f":"IF(Stammdaten!$A$2=\"\",\"\",MONTH(A43))","v":""},{"$f":"IF(Stammdaten!$A$2=\"\",\"\",YEAR(A43))","v":""}]
[{"$f":"Analysedaten!A44","v":""},{"$f":"Berechnungsblatt!C45","v":""},{"$f":"Berechnungsblatt!X45","v":""},{"$f":"Berechnungsblatt!C47","v":""},{"$f":"IF(Stammdaten!$A$2=\"\",\"\",D44-B44)","v":""},{"$f":"IF(Stammdaten!$A$2=\"\",\"\",E44/B44)","v":""},{"$f":"IF(Stammdaten!$A$2=\"\",\"\",ABS(E44))","v":""},{"$f":"IF(Stammdaten!$A$2=\"\",\"\",D44-C44)","v":""},{"$f":"IF(Stammdaten!$A$2=\"\",\"\",H44/C44)","v":""},{"$f":"IF(Stammdaten!$A$2=\"\",\"\",ABS(H44))","v":""},{"$f":"IF(Stammdaten!$A$2=\"\",\"\",IF(F44>35%,1,\"\"))","v":""},{"$f":"IF(Stammdaten!$A$2=\"\",\"\",IF(I44>35%,1,\"\"))","v":""},{"$f":"IF(Stammdaten!$A$2=\"\",\"\",MONTH(A44))","v":""},{"$f":"IF(Stammdaten!$A$2=\"\",\"\",YEAR(A44))","v":""}]
[{"$f":"Analysedaten!A45","v":""},{"$f":"Berechnungsblatt!C46","v":""},{"$f":"Berechnungsblatt!X46","v":""},{"$f":"Berechnungsblatt!C48","v":""},{"$f":"IF(Stammdaten!$A$2=\"\",\"\",D45-B45)","v":""},{"$f":"IF(Stammdaten!$A$2=\"\",\"\",E45/B45)","v":""},{"$f":"IF(Stammdaten!$A$2=\"\",\"\",ABS(E45))","v":""},{"$f":"IF(Stammdaten!$A$2=\"\",\"\",D45-C45)","v":""},{"$f":"IF(Stammdaten!$A$2=\"\",\"\",H45/C45)","v":""},{"$f":"IF(Stammdaten!$A$2=\"\",\"\",ABS(H45))","v":""},{"$f":"IF(Stammdaten!$A$2=\"\",\"\",IF(F45>35%,1,\"\"))","v":""},{"$f":"IF(Stammdaten!$A$2=\"\",\"\",IF(I45>35%,1,\"\"))","v":""},{"$f":"IF(Stammdaten!$A$2=\"\",\"\",MONTH(A45))","v":""},{"$f":"IF(Stammdaten!$A$2=\"\",\"\",YEAR(A45))","v":""}]
[{"$f":"Analysedaten!A46","v":""},{"$f":"Berechnungsblatt!C47","v":""},{"$f":"Berechnungsblatt!X47","v":""},{"$f":"Berechnungsblatt!C49","v":""},{"$f":"IF(Stammdaten!$A$2=\"\",\"\",D46-B46)","v":""},{"$f":"IF(Stammdaten!$A$2=\"\",\"\",E46/B46)","v":""},{"$f":"IF(Stammdaten!$A$2=\"\",\"\",ABS(E46))","v":""},{"$f":"IF(Stammdaten!$A$2=\"\",\"\",D46-C46)","v":""},{"$f":"IF(Stammdaten!$A$2=\"\",\"\",H46/C46)","v":""},{"$f":"IF(Stammdaten!$A$2=\"\",\"\",ABS(H46))","v":""},{"$f":"IF(Stammdaten!$A$2=\"\",\"\",IF(F46>35%,1,\"\"))","v":""},{"$f":"IF(Stammdaten!$A$2=\"\",\"\",IF(I46>35%,1,\"\"))","v":""},{"$f":"IF(Stammdaten!$A$2=\"\",\"\",MONTH(A46))","v":""},{"$f":"IF(Stammdaten!$A$2=\"\",\"\",YEAR(A46))","v":""}]
[{"$f":"Analysedaten!A47","v":""},{"$f":"Berechnungsblatt!C48","v":""},{"$f":"Berechnungsblatt!X48","v":""},{"$f":"Berechnungsblatt!C50","v":""},{"$f":"IF(Stammdaten!$A$2=\"\",\"\",D47-B47)","v":""},{"$f":"IF(Stammdaten!$A$2=\"\",\"\",E47/B47)","v":""},{"$f":"IF(Stammdaten!$A$2=\"\",\"\",ABS(E47))","v":""},{"$f":"IF(Stammdaten!$A$2=\"\",\"\",D47-C47)","v":""},{"$f":"IF(Stammdaten!$A$2=\"\",\"\",H47/C47)","v":""},{"$f":"IF(Stammdaten!$A$2=\"\",\"\",ABS(H47))","v":""},{"$f":"IF(Stammdaten!$A$2=\"\",\"\",IF(F47>35%,1,\"\"))","v":""},{"$f":"IF(Stammdaten!$A$2=\"\",\"\",IF(I47>35%,1,\"\"))","v":""},{"$f":"IF(Stammdaten!$A$2=\"\",\"\",MONTH(A47))","v":""},{"$f":"IF(Stammdaten!$A$2=\"\",\"\",YEAR(A47))","v":""}]
[{"$f":"Analysedaten!A48","v":""},{"$f":"Berechnungsblatt!C49","v":""},{"$f":"Berechnungsblatt!X49","v":""},{"$f":"Berechnungsblatt!C51","v":""},{"$f":"IF(Stammdaten!$A$2=\"\",\"\",D48-B48)","v":""},{"$f":"IF(Stammdaten!$A$2=\"\",\"\",E48/B48)","v":""},{"$f":"IF(Stammdaten!$A$2=\"\",\"\",ABS(E48))","v":""},{"$f":"IF(Stammdaten!$A$2=\"\",\"\",D48-C48)","v":""},{"$f":"IF(Stammdaten!$A$2=\"\",\"\",H48/C48)","v":""},{"$f":"IF(Stammdaten!$A$2=\"\",\"\",ABS(H48))","v":""},{"$f":"IF(Stammdaten!$A$2=\"\",\"\",IF(F48>35%,1,\"\"))","v":""},{"$f":"IF(Stammdaten!$A$2=\"\",\"\",IF(I48>35%,1,\"\"))","v":""},{"$f":"IF(Stammdaten!$A$2=\"\",\"\",MONTH(A48))","v":""},{"$f":"IF(Stammdaten!$A$2=\"\",\"\",YEAR(A48))","v":""}]
[{"$f":"Analysedaten!A49","v":""},{"$f":"Berechnungsblatt!C50","v":""},{"$f":"Berechnungsblatt!X50","v":""},{"$f":"Berechnungsblatt!C52","v":""},{"$f":"IF(Stammdaten!$A$2=\"\",\"\",D49-B49)","v":""},{"$f":"IF(Stammdaten!$A$2=\"\",\"\",E49/B49)","v":""},{"$f":"IF(Stammdaten!$A$2=\"\",\"\",ABS(E49))","v":""},{"$f":"IF(Stammdaten!$A$2=\"\",\"\",D49-C49)","v":""},{"$f":"IF(Stammdaten!$A$2=\"\",\"\",H49/C49)","v":""},{"$f":"IF(Stammdaten!$A$2=\"\",\"\",ABS(H49))","v":""},{"$f":"IF(Stammdaten!$A$2=\"\",\"\",IF(F49>35%,1,\"\"))","v":""},{"$f":"IF(Stammdaten!$A$2=\"\",\"\",IF(I49>35%,1,\"\"))","v":""},{"$f":"IF(Stammdaten!$A$2=\"\",\"\",MONTH(A49))","v":""},{"$f":"IF(Stammdaten!$A$2=\"\",\"\",YEAR(A49))","v":""}]
[{"$f":"Analysedaten!A50","v":""},{"$f":"Berechnungsblatt!C51","v":""},{"$f":"Berechnungsblatt!X51","v":""},{"$f":"Berechnungsblatt!C53","v":""},{"$f":"IF(Stammdaten!$A$2=\"\",\"\",D50-B50)","v":""},{"$f":"IF(Stammdaten!$A$2=\"\",\"\",E50/B50)","v":""},{"$f":"IF(Stammdaten!$A$2=\"\",\"\",ABS(E50))","v":""},{"$f":"IF(Stammdaten!$A$2=\"\",\"\",D50-C50)","v":""},{"$f":"IF(Stammdaten!$A$2=\"\",\"\",H50/C50)","v":""},{"$f":"IF(Stammdaten!$A$2=\"\",\"\",ABS(H50))","v":""},{"$f":"IF(Stammdaten!$A$2=\"\",\"\",IF(F50>35%,1,\"\"))","v":""},{"$f":"IF(Stammdaten!$A$2=\"\",\"\",IF(I50>35%,1,\"\"))","v":""},{"$f":"IF(Stammdaten!$A$2=\"\",\"\",MONTH(A50))","v":""},{"$f":"IF(Stammdaten!$A$2=\"\",\"\",YEAR(A50))","v":""}]
[{"$f":"Analysedaten!A51","v":""},{"$f":"Berechnungsblatt!C52","v":""},{"$f":"Berechnungsblatt!X52","v":""},{"$f":"Berechnungsblatt!C54","v":""},{"$f":"IF(Stammdaten!$A$2=\"\",\"\",D51-B51)","v":""},{"$f":"IF(Stammdaten!$A$2=\"\",\"\",E51/B51)","v":""},{"$f":"IF(Stammdaten!$A$2=\"\",\"\",ABS(E51))","v":""},{"$f":"IF(Stammdaten!$A$2=\"\",\"\",D51-C51)","v":""},{"$f":"IF(Stammdaten!$A$2=\"\",\"\",H51/C51)","v":""},{"$f":"IF(Stammdaten!$A$2=\"\",\"\",ABS(H51))","v":""},{"$f":"IF(Stammdaten!$A$2=\"\",\"\",IF(F51>35%,1,\"\"))","v":""},{"$f":"IF(Stammdaten!$A$2=\"\",\"\",IF(I51>35%,1,\"\"))","v":""},{"$f":"IF(Stammdaten!$A$2=\"\",\"\",MONTH(A51))","v":""},{"$f":"IF(Stammdaten!$A$2=\"\",\"\",YEAR(A51))","v":""}]
[{"$f":"Analysedaten!A52","v":""},{"$f":"Berechnungsblatt!C53","v":""},{"$f":"Berechnungsblatt!X53","v":""},{"$f":"Berechnungsblatt!C55","v":""},{"$f":"IF(Stammdaten!$A$2=\"\",\"\",D52-B52)","v":""},{"$f":"IF(Stammdaten!$A$2=\"\",\"\",E52/B52)","v":""},{"$f":"IF(Stammdaten!$A$2=\"\",\"\",ABS(E52))","v":""},{"$f":"IF(Stammdaten!$A$2=\"\",\"\",D52-C52)","v":""},{"$f":"IF(Stammdaten!$A$2=\"\",\"\",H52/C52)","v":""},{"$f":"IF(Stammdaten!$A$2=\"\",\"\",ABS(H52))","v":""},{"$f":"IF(Stammdaten!$A$2=\"\",\"\",IF(F52>35%,1,\"\"))","v":""},{"$f":"IF(Stammdaten!$A$2=\"\",\"\",IF(I52>35%,1,\"\"))","v":""},{"$f":"IF(Stammdaten!$A$2=\"\",\"\",MONTH(A52))","v":""},{"$f":"IF(Stammdaten!$A$2=\"\",\"\",YEAR(A52))","v":""}]
[{"$f":"Analysedaten!A53","v":""},{"$f":"Berechnungsblatt!C54","v":""},{"$f":"Berechnungsblatt!X54","v":""},{"$f":"Berechnungsblatt!C56","v":""},{"$f":"IF(Stammdaten!$A$2=\"\",\"\",D53-B53)","v":""},{"$f":"IF(Stammdaten!$A$2=\"\",\"\",E53/B53)","v":""},{"$f":"IF(Stammdaten!$A$2=\"\",\"\",ABS(E53))","v":""},{"$f":"IF(Stammdaten!$A$2=\"\",\"\",D53-C53)","v":""},{"$f":"IF(Stammdaten!$A$2=\"\",\"\",H53/C53)","v":""},{"$f":"IF(Stammdaten!$A$2=\"\",\"\",ABS(H53))","v":""},{"$f":"IF(Stammdaten!$A$2=\"\",\"\",IF(F53>35%,1,\"\"))","v":""},{"$f":"IF(Stammdaten!$A$2=\"\",\"\",IF(I53>35%,1,\"\"))","v":""},{"$f":"IF(Stammdaten!$A$2=\"\",\"\",MONTH(A53))","v":""},{"$f":"IF(Stammdaten!$A$2=\"\",\"\",YEAR(A53))","v":""}]
[{"$f":"Analysedaten!A54","v":""},{"$f":"Berechnungsblatt!C55","v":""},{"$f":"Berechnungsblatt!X55","v":""},{"$f":"Berechnungsblatt!C57","v":""},{"$f":"IF(Stammdaten!$A$2=\"\",\"\",D54-B54)","v":""},{"$f":"IF(Stammdaten!$A$2=\"\",\"\",E54/B54)","v":""},{"$f":"IF(Stammdaten!$A$2=\"\",\"\",ABS(E54))","v":""},{"$f":"IF(Stammdaten!$A$2=\"\",\"\",D54-C54)","v":""},{"$f":"IF(Stammdaten!$A$2=\"\",\"\",H54/C54)","v":""},{"$f":"IF(Stammdaten!$A$2=\"\",\"\",ABS(H54))","v":""},{"$f":"IF(Stammdaten!$A$2=\"\",\"\",IF(F54>35%,1,\"\"))","v":""},{"$f":"IF(Stammdaten!$A$2=\"\",\"\",IF(I54>35%,1,\"\"))","v":""},{"$f":"IF(Stammdaten!$A$2=\"\",\"\",MONTH(A54))","v":""},{"$f":"IF(Stammdaten!$A$2=\"\",\"\",YEAR(A54))","v":""}]
[{"$f":"Analysedaten!A55","v":""},{"$f":"Berechnungsblatt!C56","v":""},{"$f":"Berechnungsblatt!X56","v":""},{"$f":"Berechnungsblatt!C58","v":""},{"$f":"IF(Stammdaten!$A$2=\"\",\"\",D55-B55)","v":""},{"$f":"IF(Stammdaten!$A$2=\"\",\"\",E55/B55)","v":""},{"$f":"IF(Stammdaten!$A$2=\"\",\"\",ABS(E55))","v":""},{"$f":"IF(Stammdaten!$A$2=\"\",\"\",D55-C55)","v":""},{"$f":"IF(Stammdaten!$A$2=\"\",\"\",H55/C55)","v":""},{"$f":"IF(Stammdaten!$A$2=\"\",\"\",ABS(H55))","v":""},{"$f":"IF(Stammdaten!$A$2=\"\",\"\",IF(F55>35%,1,\"\"))","v":""},{"$f":"IF(Stammdaten!$A$2=\"\",\"\",IF(I55>35%,1,\"\"))","v":""},{"$f":"IF(Stammdaten!$A$2=\"\",\"\",MONTH(A55))","v":""},{"$f":"IF(Stammdaten!$A$2=\"\",\"\",YEAR(A55))","v":""}]
[{"$f":"Analysedaten!A56","v":""},{"$f":"Berechnungsblatt!C57","v":""},{"$f":"Berechnungsblatt!X57","v":""},{"$f":"Berechnungsblatt!C59","v":""},{"$f":"IF(Stammdaten!$A$2=\"\",\"\",D56-B56)","v":""},{"$f":"IF(Stammdaten!$A$2=\"\",\"\",E56/B56)","v":""},{"$f":"IF(Stammdaten!$A$2=\"\",\"\",ABS(E56))","v":""},{"$f":"IF(Stammdaten!$A$2=\"\",\"\",D56-C56)","v":""},{"$f":"IF(Stammdaten!$A$2=\"\",\"\",H56/C56)","v":""},{"$f":"IF(Stammdaten!$A$2=\"\",\"\",ABS(H56))","v":""},{"$f":"IF(Stammdaten!$A$2=\"\",\"\",IF(F56>35%,1,\"\"))","v":""},{"$f":"IF(Stammdaten!$A$2=\"\",\"\",IF(I56>35%,1,\"\"))","v":""},{"$f":"IF(Stammdaten!$A$2=\"\",\"\",MONTH(A56))","v":""},{"$f":"IF(Stammdaten!$A$2=\"\",\"\",YEAR(A56))","v":""}]
[{"$f":"Analysedaten!A57","v":""},{"$f":"Berechnungsblatt!C58","v":""},{"$f":"Berechnungsblatt!X58","v":""},{"$f":"Berechnungsblatt!C60","v":""},{"$f":"IF(Stammdaten!$A$2=\"\",\"\",D57-B57)","v":""},{"$f":"IF(Stammdaten!$A$2=\"\",\"\",E57/B57)","v":""},{"$f":"IF(Stammdaten!$A$2=\"\",\"\",ABS(E57))","v":""},{"$f":"IF(Stammdaten!$A$2=\"\",\"\",D57-C57)","v":""},{"$f":"IF(Stammdaten!$A$2=\"\",\"\",H57/C57)","v":""},{"$f":"IF(Stammdaten!$A$2=\"\",\"\",ABS(H57))","v":""},{"$f":"IF(Stammdaten!$A$2=\"\",\"\",IF(F57>35%,1,\"\"))","v":""},{"$f":"IF(Stammdaten!$A$2=\"\",\"\",IF(I57>35%,1,\"\"))","v":""},{"$f":"IF(Stammdaten!$A$2=\"\",\"\",MONTH(A57))","v":""},{"$f":"IF(Stammdaten!$A$2=\"\",\"\",YEAR(A57))","v":""}]
[{"$f":"Analysedaten!A58","v":""},{"$f":"Berechnungsblatt!C59","v":""},{"$f":"Berechnungsblatt!X59","v":""},{"$f":"Berechnungsblatt!C61","v":""},{"$f":"IF(Stammdaten!$A$2=\"\",\"\",D58-B58)","v":""},{"$f":"IF(Stammdaten!$A$2=\"\",\"\",E58/B58)","v":""},{"$f":"IF(Stammdaten!$A$2=\"\",\"\",ABS(E58))","v":""},{"$f":"IF(Stammdaten!$A$2=\"\",\"\",D58-C58)","v":""},{"$f":"IF(Stammdaten!$A$2=\"\",\"\",H58/C58)","v":""},{"$f":"IF(Stammdaten!$A$2=\"\",\"\",ABS(H58))","v":""},{"$f":"IF(Stammdaten!$A$2=\"\",\"\",IF(F58>35%,1,\"\"))","v":""},{"$f":"IF(Stammdaten!$A$2=\"\",\"\",IF(I58>35%,1,\"\"))","v":""},{"$f":"IF(Stammdaten!$A$2=\"\",\"\",MONTH(A58))","v":""},{"$f":"IF(Stammdaten!$A$2=\"\",\"\",YEAR(A58))","v":""}]
[{"$f":"Analysedaten!A59","v":""},{"$f":"Berechnungsblatt!C60","v":""},{"$f":"Berechnungsblatt!X60","v":""},{"$f":"Berechnungsblatt!C62","v":""},{"$f":"IF(Stammdaten!$A$2=\"\",\"\",D59-B59)","v":""},{"$f":"IF(Stammdaten!$A$2=\"\",\"\",E59/B59)","v":""},{"$f":"IF(Stammdaten!$A$2=\"\",\"\",ABS(E59))","v":""},{"$f":"IF(Stammdaten!$A$2=\"\",\"\",D59-C59)","v":""},{"$f":"IF(Stammdaten!$A$2=\"\",\"\",H59/C59)","v":""},{"$f":"IF(Stammdaten!$A$2=\"\",\"\",ABS(H59))","v":""},{"$f":"IF(Stammdaten!$A$2=\"\",\"\",IF(F59>35%,1,\"\"))","v":""},{"$f":"IF(Stammdaten!$A$2=\"\",\"\",IF(I59>35%,1,\"\"))","v":""},{"$f":"IF(Stammdaten!$A$2=\"\",\"\",MONTH(A59))","v":""},{"$f":"IF(Stammdaten!$A$2=\"\",\"\",YEAR(A59))","v":""}]
[{"$f":"Analysedaten!A60","v":""},{"$f":"Berechnungsblatt!C61","v":""},{"$f":"Berechnungsblatt!X61","v":""},{"$f":"Berechnungsblatt!C63","v":""},{"$f":"IF(Stammdaten!$A$2=\"\",\"\",D60-B60)","v":""},{"$f":"IF(Stammdaten!$A$2=\"\",\"\",E60/B60)","v":""},{"$f":"IF(Stammdaten!$A$2=\"\",\"\",ABS(E60))","v":""},{"$f":"IF(Stammdaten!$A$2=\"\",\"\",D60-C60)","v":""},{"$f":"IF(Stammdaten!$A$2=\"\",\"\",H60/C60)","v":""},{"$f":"IF(Stammdaten!$A$2=\"\",\"\",ABS(H60))","v":""},{"$f":"IF(Stammdaten!$A$2=\"\",\"\",IF(F60>35%,1,\"\"))","v":""},{"$f":"IF(Stammdaten!$A$2=\"\",\"\",IF(I60>35%,1,\"\"))","v":""},{"$f":"IF(Stammdaten!$A$2=\"\",\"\",MONTH(A60))","v":""},{"$f":"IF(Stammdaten!$A$2=\"\",\"\",YEAR(A60))","v":""}]
[{"$f":"Analysedaten!A61","v":""},{"$f":"Berechnungsblatt!C62","v":""},{"$f":"Berechnungsblatt!X62","v":""},{"$f":"Berechnungsblatt!C64","v":""},{"$f":"IF(Stammdaten!$A$2=\"\",\"\",D61-B61)","v":""},{"$f":"IF(Stammdaten!$A$2=\"\",\"\",E61/B61)","v":""},{"$f":"IF(Stammdaten!$A$2=\"\",\"\",ABS(E61))","v":""},{"$f":"IF(Stammdaten!$A$2=\"\",\"\",D61-C61)","v":""},{"$f":"IF(Stammdaten!$A$2=\"\",\"\",H61/C61)","v":""},{"$f":"IF(Stammdaten!$A$2=\"\",\"\",ABS(H61))","v":""},{"$f":"IF(Stammdaten!$A$2=\"\",\"\",IF(F61>35%,1,\"\"))","v":""},{"$f":"IF(Stammdaten!$A$2=\"\",\"\",IF(I61>35%,1,\"\"))","v":""},{"$f":"IF(Stammdaten!$A$2=\"\",\"\",MONTH(A61))","v":""},{"$f":"IF(Stammdaten!$A$2=\"\",\"\",YEAR(A61))","v":""}]
[{"$f":"Analysedaten!A62","v":""},{"$f":"Berechnungsblatt!C63","v":""},{"$f":"Berechnungsblatt!X63","v":""},{"$f":"Berechnungsblatt!C65","v":""},{"$f":"IF(Stammdaten!$A$2=\"\",\"\",D62-B62)","v":""},{"$f":"IF(Stammdaten!$A$2=\"\",\"\",E62/B62)","v":""},{"$f":"IF(Stammdaten!$A$2=\"\",\"\",ABS(E62))","v":""},{"$f":"IF(Stammdaten!$A$2=\"\",\"\",D62-C62)","v":""},{"$f":"IF(Stammdaten!$A$2=\"\",\"\",H62/C62)","v":""},{"$f":"IF(Stammdaten!$A$2=\"\",\"\",ABS(H62))","v":""},{"$f":"IF(Stammdaten!$A$2=\"\",\"\",IF(F62>35%,1,\"\"))","v":""},{"$f":"IF(Stammdaten!$A$2=\"\",\"\",IF(I62>35%,1,\"\"))","v":""},{"$f":"IF(Stammdaten!$A$2=\"\",\"\",MONTH(A62))","v":""},{"$f":"IF(Stammdaten!$A$2=\"\",\"\",YEAR(A62))","v":""}]
[{"$f":"Analysedaten!A63","v":""},{"$f":"Berechnungsblatt!C64","v":""},{"$f":"Berechnungsblatt!X64","v":""},{"$f":"Berechnungsblatt!C66","v":""},{"$f":"IF(Stammdaten!$A$2=\"\",\"\",D63-B63)","v":""},{"$f":"IF(Stammdaten!$A$2=\"\",\"\",E63/B63)","v":""},{"$f":"IF(Stammdaten!$A$2=\"\",\"\",ABS(E63))","v":""},{"$f":"IF(Stammdaten!$A$2=\"\",\"\",D63-C63)","v":""},{"$f":"IF(Stammdaten!$A$2=\"\",\"\",H63/C63)","v":""},{"$f":"IF(Stammdaten!$A$2=\"\",\"\",ABS(H63))","v":""},{"$f":"IF(Stammdaten!$A$2=\"\",\"\",IF(F63>35%,1,\"\"))","v":""},{"$f":"IF(Stammdaten!$A$2=\"\",\"\",IF(I63>35%,1,\"\"))","v":""},{"$f":"IF(Stammdaten!$A$2=\"\",\"\",MONTH(A63))","v":""},{"$f":"IF(Stammdaten!$A$2=\"\",\"\",YEAR(A63))","v":""}]
[{"$f":"Analysedaten!A64","v":""},{"$f":"Berechnungsblatt!C65","v":""},{"$f":"Berechnungsblatt!X65","v":""},{"$f":"Berechnungsblatt!C67","v":""},{"$f":"IF(Stammdaten!$A$2=\"\",\"\",D64-B64)","v":""},{"$f":"IF(Stammdaten!$A$2=\"\",\"\",E64/B64)","v":""},{"$f":"IF(Stammdaten!$A$2=\"\",\"\",ABS(E64))","v":""},{"$f":"IF(Stammdaten!$A$2=\"\",\"\",D64-C64)","v":""},{"$f":"IF(Stammdaten!$A$2=\"\",\"\",H64/C64)","v":""},{"$f":"IF(Stammdaten!$A$2=\"\",\"\",ABS(H64))","v":""},{"$f":"IF(Stammdaten!$A$2=\"\",\"\",IF(F64>35%,1,\"\"))","v":""},{"$f":"IF(Stammdaten!$A$2=\"\",\"\",IF(I64>35%,1,\"\"))","v":""},{"$f":"IF(Stammdaten!$A$2=\"\",\"\",MONTH(A64))","v":""},{"$f":"IF(Stammdaten!$A$2=\"\",\"\",YEAR(A64))","v":""}]
[{"$f":"Analysedaten!A65","v":""},{"$f":"Berechnungsblatt!C66","v":""},{"$f":"Berechnungsblatt!X66","v":""},{"$f":"Berechnungsblatt!C68","v":""},{"$f":"IF(Stammdaten!$A$2=\"\",\"\",D65-B65)","v":""},{"$f":"IF(Stammdaten!$A$2=\"\",\"\",E65/B65)","v":""},{"$f":"IF(Stammdaten!$A$2=\"\",\"\",ABS(E65))","v":""},{"$f":"IF(Stammdaten!$A$2=\"\",\"\",D65-C65)","v":""},{"$f":"IF(Stammdaten!$A$2=\"\",\"\",H65/C65)","v":""},{"$f":"IF(Stammdaten!$A$2=\"\",\"\",ABS(H65))","v":""},{"$f":"IF(Stammdaten!$A$2=\"\",\"\",IF(F65>35%,1,\"\"))","v":""},{"$f":"IF(Stammdaten!$A$2=\"\",\"\",IF(I65>35%,1,\"\"))","v":""},{"$f":"IF(Stammdaten!$A$2=\"\",\"\",MONTH(A65))","v":""},{"$f":"IF(Stammdaten!$A$2=\"\",\"\",YEAR(A65))","v":""}]
[{"$f":"Analysedaten!A66","v":""},{"$f":"Berechnungsblatt!C67","v":""},{"$f":"Berechnungsblatt!X67","v":""},{"$f":"Berechnungsblatt!C69","v":""},{"$f":"IF(Stammdaten!$A$2=\"\",\"\",D66-B66)","v":""},{"$f":"IF(Stammdaten!$A$2=\"\",\"\",E66/B66)","v":""},{"$f":"IF(Stammdaten!$A$2=\"\",\"\",ABS(E66))","v":""},{"$f":"IF(Stammdaten!$A$2=\"\",\"\",D66-C66)","v":""},{"$f":"IF(Stammdaten!$A$2=\"\",\"\",H66/C66)","v":""},{"$f":"IF(Stammdaten!$A$2=\"\",\"\",ABS(H66))","v":""},{"$f":"IF(Stammdaten!$A$2=\"\",\"\",IF(F66>35%,1,\"\"))","v":""},{"$f":"IF(Stammdaten!$A$2=\"\",\"\",IF(I66>35%,1,\"\"))","v":""},{"$f":"IF(Stammdaten!$A$2=\"\",\"\",MONTH(A66))","v":""},{"$f":"IF(Stammdaten!$A$2=\"\",\"\",YEAR(A66))","v":""}]
[{"$f":"Analysedaten!A67","v":""},{"$f":"Berechnungsblatt!C68","v":""},{"$f":"Berechnungsblatt!X68","v":""},{"$f":"Berechnungsblatt!C70","v":""},{"$f":"IF(Stammdaten!$A$2=\"\",\"\",D67-B67)","v":""},{"$f":"IF(Stammdaten!$A$2=\"\",\"\",E67/B67)","v":""},{"$f":"IF(Stammdaten!$A$2=\"\",\"\",ABS(E67))","v":""},{"$f":"IF(Stammdaten!$A$2=\"\",\"\",D67-C67)","v":""},{"$f":"IF(Stammdaten!$A$2=\"\",\"\",H67/C67)","v":""},{"$f":"IF(Stammdaten!$A$2=\"\",\"\",ABS(H67))","v":""},{"$f":"IF(Stammdaten!$A$2=\"\",\"\",IF(F67>35%,1,\"\"))","v":""},{"$f":"IF(Stammdaten!$A$2=\"\",\"\",IF(I67>35%,1,\"\"))","v":""},{"$f":"IF(Stammdaten!$A$2=\"\",\"\",MONTH(A67))","v":""},{"$f":"IF(Stammdaten!$A$2=\"\",\"\",YEAR(A67))","v":""}]
[{"$f":"Analysedaten!A68","v":""},{"$f":"Berechnungsblatt!C69","v":""},{"$f":"Berechnungsblatt!X69","v":""},{"$f":"Berechnungsblatt!C71","v":""},{"$f":"IF(Stammdaten!$A$2=\"\",\"\",D68-B68)","v":""},{"$f":"IF(Stammdaten!$A$2=\"\",\"\",E68/B68)","v":""},{"$f":"IF(Stammdaten!$A$2=\"\",\"\",ABS(E68))","v":""},{"$f":"IF(Stammdaten!$A$2=\"\",\"\",D68-C68)","v":""},{"$f":"IF(Stammdaten!$A$2=\"\",\"\",H68/C68)","v":""},{"$f":"IF(Stammdaten!$A$2=\"\",\"\",ABS(H68))","v":""},{"$f":"IF(Stammdaten!$A$2=\"\",\"\",IF(F68>35%,1,\"\"))","v":""},{"$f":"IF(Stammdaten!$A$2=\"\",\"\",IF(I68>35%,1,\"\"))","v":""},{"$f":"IF(Stammdaten!$A$2=\"\",\"\",MONTH(A68))","v":""},{"$f":"IF(Stammdaten!$A$2=\"\",\"\",YEAR(A68))","v":""}]
[{"$f":"Analysedaten!A69","v":""},{"$f":"Berechnungsblatt!C70","v":""},{"$f":"Berechnungsblatt!X70","v":""},{"$f":"Berechnungsblatt!C72","v":""},{"$f":"IF(Stammdaten!$A$2=\"\",\"\",D69-B69)","v":""},{"$f":"IF(Stammdaten!$A$2=\"\",\"\",E69/B69)","v":""},{"$f":"IF(Stammdaten!$A$2=\"\",\"\",ABS(E69))","v":""},{"$f":"IF(Stammdaten!$A$2=\"\",\"\",D69-C69)","v":""},{"$f":"IF(Stammdaten!$A$2=\"\",\"\",H69/C69)","v":""},{"$f":"IF(Stammdaten!$A$2=\"\",\"\",ABS(H69))","v":""},{"$f":"IF(Stammdaten!$A$2=\"\",\"\",IF(F69>35%,1,\"\"))","v":""},{"$f":"IF(Stammdaten!$A$2=\"\",\"\",IF(I69>35%,1,\"\"))","v":""},{"$f":"IF(Stammdaten!$A$2=\"\",\"\",MONTH(A69))","v":""},{"$f":"IF(Stammdaten!$A$2=\"\",\"\",YEAR(A69))","v":""}]
[{"$f":"Analysedaten!A70","v":""},{"$f":"Berechnungsblatt!C71","v":""},{"$f":"Berechnungsblatt!X71","v":""},{"$f":"Berechnungsblatt!C73","v":""},{"$f":"IF(Stammdaten!$A$2=\"\",\"\",D70-B70)","v":""},{"$f":"IF(Stammdaten!$A$2=\"\",\"\",E70/B70)","v":""},{"$f":"IF(Stammdaten!$A$2=\"\",\"\",ABS(E70))","v":""},{"$f":"IF(Stammdaten!$A$2=\"\",\"\",D70-C70)","v":""},{"$f":"IF(Stammdaten!$A$2=\"\",\"\",H70/C70)","v":""},{"$f":"IF(Stammdaten!$A$2=\"\",\"\",ABS(H70))","v":""},{"$f":"IF(Stammdaten!$A$2=\"\",\"\",IF(F70>35%,1,\"\"))","v":""},{"$f":"IF(Stammdaten!$A$2=\"\",\"\",IF(I70>35%,1,\"\"))","v":""},{"$f":"IF(Stammdaten!$A$2=\"\",\"\",MONTH(A70))","v":""},{"$f":"IF(Stammdaten!$A$2=\"\",\"\",YEAR(A70))","v":""}]
[{"$f":"Analysedaten!A71","v":""},{"$f":"Berechnungsblatt!C72","v":""},{"$f":"Berechnungsblatt!X72","v":""},{"$f":"Berechnungsblatt!C74","v":""},{"$f":"IF(Stammdaten!$A$2=\"\",\"\",D71-B71)","v":""},{"$f":"IF(Stammdaten!$A$2=\"\",\"\",E71/B71)","v":""},{"$f":"IF(Stammdaten!$A$2=\"\",\"\",ABS(E71))","v":""},{"$f":"IF(Stammdaten!$A$2=\"\",\"\",D71-C71)","v":""},{"$f":"IF(Stammdaten!$A$2=\"\",\"\",H71/C71)","v":""},{"$f":"IF(Stammdaten!$A$2=\"\",\"\",ABS(H71))","v":""},{"$f":"IF(Stammdaten!$A$2=\"\",\"\",IF(F71>35%,1,\"\"))","v":""},{"$f":"IF(Stammdaten!$A$2=\"\",\"\",IF(I71>35%,1,\"\"))","v":""},{"$f":"IF(Stammdaten!$A$2=\"\",\"\",MONTH(A71))","v":""},{"$f":"IF(Stammdaten!$A$2=\"\",\"\",YEAR(A71))","v":""}]
[{"$f":"Analysedaten!A72","v":""},{"$f":"Berechnungsblatt!C73","v":""},{"$f":"Berechnungsblatt!X73","v":""},{"$f":"Berechnungsblatt!C75","v":""},{"$f":"IF(Stammdaten!$A$2=\"\",\"\",D72-B72)","v":""},{"$f":"IF(Stammdaten!$A$2=\"\",\"\",E72/B72)","v":""},{"$f":"IF(Stammdaten!$A$2=\"\",\"\",ABS(E72))","v":""},{"$f":"IF(Stammdaten!$A$2=\"\",\"\",D72-C72)","v":""},{"$f":"IF(Stammdaten!$A$2=\"\",\"\",H72/C72)","v":""},{"$f":"IF(Stammdaten!$A$2=\"\",\"\",ABS(H72))","v":""},{"$f":"IF(Stammdaten!$A$2=\"\",\"\",IF(F72>35%,1,\"\"))","v":""},{"$f":"IF(Stammdaten!$A$2=\"\",\"\",IF(I72>35%,1,\"\"))","v":""},{"$f":"IF(Stammdaten!$A$2=\"\",\"\",MONTH(A72))","v":""},{"$f":"IF(Stammdaten!$A$2=\"\",\"\",YEAR(A72))","v":""}]
[{"$f":"Analysedaten!A73","v":""},{"$f":"Berechnungsblatt!C74","v":""},{"$f":"Berechnungsblatt!X74","v":""},{"$f":"Berechnungsblatt!C76","v":""},{"$f":"IF(Stammdaten!$A$2=\"\",\"\",D73-B73)","v":""},{"$f":"IF(Stammdaten!$A$2=\"\",\"\",E73/B73)","v":""},{"$f":"IF(Stammdaten!$A$2=\"\",\"\",ABS(E73))","v":""},{"$f":"IF(Stammdaten!$A$2=\"\",\"\",D73-C73)","v":""},{"$f":"IF(Stammdaten!$A$2=\"\",\"\",H73/C73)","v":""},{"$f":"IF(Stammdaten!$A$2=\"\",\"\",ABS(H73))","v":""},{"$f":"IF(Stammdaten!$A$2=\"\",\"\",IF(F73>35%,1,\"\"))","v":""},{"$f":"IF(Stammdaten!$A$2=\"\",\"\",IF(I73>35%,1,\"\"))","v":""},{"$f":"IF(Stammdaten!$A$2=\"\",\"\",MONTH(A73))","v":""},{"$f":"IF(Stammdaten!$A$2=\"\",\"\",YEAR(A73))","v":""}]
[{"$f":"Analysedaten!A74","v":""},{"$f":"Berechnungsblatt!C75","v":""},{"$f":"Berechnungsblatt!X75","v":""},{"$f":"Berechnungsblatt!C77","v":""},{"$f":"IF(Stammdaten!$A$2=\"\",\"\",D74-B74)","v":""},{"$f":"IF(Stammdaten!$A$2=\"\",\"\",E74/B74)","v":""},{"$f":"IF(Stammdaten!$A$2=\"\",\"\",ABS(E74))","v":""},{"$f":"IF(Stammdaten!$A$2=\"\",\"\",D74-C74)","v":""},{"$f":"IF(Stammdaten!$A$2=\"\",\"\",H74/C74)","v":""},{"$f":"IF(Stammdaten!$A$2=\"\",\"\",ABS(H74))","v":""},{"$f":"IF(Stammdaten!$A$2=\"\",\"\",IF(F74>35%,1,\"\"))","v":""},{"$f":"IF(Stammdaten!$A$2=\"\",\"\",IF(I74>35%,1,\"\"))","v":""},{"$f":"IF(Stammdaten!$A$2=\"\",\"\",MONTH(A74))","v":""},{"$f":"IF(Stammdaten!$A$2=\"\",\"\",YEAR(A74))","v":""}]
[{"$f":"Analysedaten!A75","v":""},{"$f":"Berechnungsblatt!C76","v":""},{"$f":"Berechnungsblatt!X76","v":""},{"$f":"Berechnungsblatt!C78","v":""},{"$f":"IF(Stammdaten!$A$2=\"\",\"\",D75-B75)","v":""},{"$f":"IF(Stammdaten!$A$2=\"\",\"\",E75/B75)","v":""},{"$f":"IF(Stammdaten!$A$2=\"\",\"\",ABS(E75))","v":""},{"$f":"IF(Stammdaten!$A$2=\"\",\"\",D75-C75)","v":""},{"$f":"IF(Stammdaten!$A$2=\"\",\"\",H75/C75)","v":""},{"$f":"IF(Stammdaten!$A$2=\"\",\"\",ABS(H75))","v":""},{"$f":"IF(Stammdaten!$A$2=\"\",\"\",IF(F75>35%,1,\"\"))","v":""},{"$f":"IF(Stammdaten!$A$2=\"\",\"\",IF(I75>35%,1,\"\"))","v":""},{"$f":"IF(Stammdaten!$A$2=\"\",\"\",MONTH(A75))","v":""},{"$f":"IF(Stammdaten!$A$2=\"\",\"\",YEAR(A75))","v":""}]
[{"$f":"Analysedaten!A76","v":""},{"$f":"Berechnungsblatt!C77","v":""},{"$f":"Berechnungsblatt!X77","v":""},{"$f":"Berechnungsblatt!C79","v":""},{"$f":"IF(Stammdaten!$A$2=\"\",\"\",D76-B76)","v":""},{"$f":"IF(Stammdaten!$A$2=\"\",\"\",E76/B76)","v":""},{"$f":"IF(Stammdaten!$A$2=\"\",\"\",ABS(E76))","v":""},{"$f":"IF(Stammdaten!$A$2=\"\",\"\",D76-C76)","v":""},{"$f":"IF(Stammdaten!$A$2=\"\",\"\",H76/C76)","v":""},{"$f":"IF(Stammdaten!$A$2=\"\",\"\",ABS(H76))","v":""},{"$f":"IF(Stammdaten!$A$2=\"\",\"\",IF(F76>35%,1,\"\"))","v":""},{"$f":"IF(Stammdaten!$A$2=\"\",\"\",IF(I76>35%,1,\"\"))","v":""},{"$f":"IF(Stammdaten!$A$2=\"\",\"\",MONTH(A76))","v":""},{"$f":"IF(Stammdaten!$A$2=\"\",\"\",YEAR(A76))","v":""}]
[{"$f":"Analysedaten!A77","v":""},{"$f":"Berechnungsblatt!C78","v":""},{"$f":"Berechnungsblatt!X78","v":""},{"$f":"Berechnungsblatt!C80","v":""},{"$f":"IF(Stammdaten!$A$2=\"\",\"\",D77-B77)","v":""},{"$f":"IF(Stammdaten!$A$2=\"\",\"\",E77/B77)","v":""},{"$f":"IF(Stammdaten!$A$2=\"\",\"\",ABS(E77))","v":""},{"$f":"IF(Stammdaten!$A$2=\"\",\"\",D77-C77)","v":""},{"$f":"IF(Stammdaten!$A$2=\"\",\"\",H77/C77)","v":""},{"$f":"IF(Stammdaten!$A$2=\"\",\"\",ABS(H77))","v":""},{"$f":"IF(Stammdaten!$A$2=\"\",\"\",IF(F77>35%,1,\"\"))","v":""},{"$f":"IF(Stammdaten!$A$2=\"\",\"\",IF(I77>35%,1,\"\"))","v":""},{"$f":"IF(Stammdaten!$A$2=\"\",\"\",MONTH(A77))","v":""},{"$f":"IF(Stammdaten!$A$2=\"\",\"\",YEAR(A77))","v":""}]
[{"$f":"Analysedaten!A78","v":""},{"$f":"Berechnungsblatt!C79","v":""},{"$f":"Berechnungsblatt!X79","v":""},{"$f":"Berechnungsblatt!C81","v":""},{"$f":"IF(Stammdaten!$A$2=\"\",\"\",D78-B78)","v":""},{"$f":"IF(Stammdaten!$A$2=\"\",\"\",E78/B78)","v":""},{"$f":"IF(Stammdaten!$A$2=\"\",\"\",ABS(E78))","v":""},{"$f":"IF(Stammdaten!$A$2=\"\",\"\",D78-C78)","v":""},{"$f":"IF(Stammdaten!$A$2=\"\",\"\",H78/C78)","v":""},{"$f":"IF(Stammdaten!$A$2=\"\",\"\",ABS(H78))","v":""},{"$f":"IF(Stammdaten!$A$2=\"\",\"\",IF(F78>35%,1,\"\"))","v":""},{"$f":"IF(Stammdaten!$A$2=\"\",\"\",IF(I78>35%,1,\"\"))","v":""},{"$f":"IF(Stammdaten!$A$2=\"\",\"\",MONTH(A78))","v":""},{"$f":"IF(Stammdaten!$A$2=\"\",\"\",YEAR(A78))","v":""}]
[{"$f":"Analysedaten!A79","v":""},{"$f":"Berechnungsblatt!C80","v":""},{"$f":"Berechnungsblatt!X80","v":""},{"$f":"Berechnungsblatt!C82","v":""},{"$f":"IF(Stammdaten!$A$2=\"\",\"\",D79-B79)","v":""},{"$f":"IF(Stammdaten!$A$2=\"\",\"\",E79/B79)","v":""},{"$f":"IF(Stammdaten!$A$2=\"\",\"\",ABS(E79))","v":""},{"$f":"IF(Stammdaten!$A$2=\"\",\"\",D79-C79)","v":""},{"$f":"IF(Stammdaten!$A$2=\"\",\"\",H79/C79)","v":""},{"$f":"IF(Stammdaten!$A$2=\"\",\"\",ABS(H79))","v":""},{"$f":"IF(Stammdaten!$A$2=\"\",\"\",IF(F79>35%,1,\"\"))","v":""},{"$f":"IF(Stammdaten!$A$2=\"\",\"\",IF(I79>35%,1,\"\"))","v":""},{"$f":"IF(Stammdaten!$A$2=\"\",\"\",MONTH(A79))","v":""},{"$f":"IF(Stammdaten!$A$2=\"\",\"\",YEAR(A79))","v":""}]
[{"$f":"Analysedaten!A80","v":""},{"$f":"Berechnungsblatt!C81","v":""},{"$f":"Berechnungsblatt!X81","v":""},{"$f":"Berechnungsblatt!C83","v":""},{"$f":"IF(Stammdaten!$A$2=\"\",\"\",D80-B80)","v":""},{"$f":"IF(Stammdaten!$A$2=\"\",\"\",E80/B80)","v":""},{"$f":"IF(Stammdaten!$A$2=\"\",\"\",ABS(E80))","v":""},{"$f":"IF(Stammdaten!$A$2=\"\",\"\",D80-C80)","v":""},{"$f":"IF(Stammdaten!$A$2=\"\",\"\",H80/C80)","v":""},{"$f":"IF(Stammdaten!$A$2=\"\",\"\",ABS(H80))","v":""},{"$f":"IF(Stammdaten!$A$2=\"\",\"\",IF(F80>35%,1,\"\"))","v":""},{"$f":"IF(Stammdaten!$A$2=\"\",\"\",IF(I80>35%,1,\"\"))","v":""},{"$f":"IF(Stammdaten!$A$2=\"\",\"\",MONTH(A80))","v":""},{"$f":"IF(Stammdaten!$A$2=\"\",\"\",YEAR(A80))","v":""}]
[{"$f":"Analysedaten!A81","v":""},{"$f":"Berechnungsblatt!C82","v":""},{"$f":"Berechnungsblatt!X82","v":""},{"$f":"Berechnungsblatt!C84","v":""},{"$f":"IF(Stammdaten!$A$2=\"\",\"\",D81-B81)","v":""},{"$f":"IF(Stammdaten!$A$2=\"\",\"\",E81/B81)","v":""},{"$f":"IF(Stammdaten!$A$2=\"\",\"\",ABS(E81))","v":""},{"$f":"IF(Stammdaten!$A$2=\"\",\"\",D81-C81)","v":""},{"$f":"IF(Stammdaten!$A$2=\"\",\"\",H81/C81)","v":""},{"$f":"IF(Stammdaten!$A$2=\"\",\"\",ABS(H81))","v":""},{"$f":"IF(Stammdaten!$A$2=\"\",\"\",IF(F81>35%,1,\"\"))","v":""},{"$f":"IF(Stammdaten!$A$2=\"\",\"\",IF(I81>35%,1,\"\"))","v":""},{"$f":"IF(Stammdaten!$A$2=\"\",\"\",MONTH(A81))","v":""},{"$f":"IF(Stammdaten!$A$2=\"\",\"\",YEAR(A81))","v":""}]
[{"$f":"Analysedaten!A82","v":""},{"$f":"Berechnungsblatt!C83","v":""},{"$f":"Berechnungsblatt!X83","v":""},{"$f":"Berechnungsblatt!C85","v":""},{"$f":"IF(Stammdaten!$A$2=\"\",\"\",D82-B82)","v":""},{"$f":"IF(Stammdaten!$A$2=\"\",\"\",E82/B82)","v":""},{"$f":"IF(Stammdaten!$A$2=\"\",\"\",ABS(E82))","v":""},{"$f":"IF(Stammdaten!$A$2=\"\",\"\",D82-C82)","v":""},{"$f":"IF(Stammdaten!$A$2=\"\",\"\",H82/C82)","v":""},{"$f":"IF(Stammdaten!$A$2=\"\",\"\",ABS(H82))","v":""},{"$f":"IF(Stammdaten!$A$2=\"\",\"\",IF(F82>35%,1,\"\"))","v":""},{"$f":"IF(Stammdaten!$A$2=\"\",\"\",IF(I82>35%,1,\"\"))","v":""},{"$f":"IF(Stammdaten!$A$2=\"\",\"\",MONTH(A82))","v":""},{"$f":"IF(Stammdaten!$A$2=\"\",\"\",YEAR(A82))","v":""}]
[{"$f":"Analysedaten!A83","v":""},{"$f":"Berechnungsblatt!C84","v":""},{"$f":"Berechnungsblatt!X84","v":""},{"$f":"Berechnungsblatt!C86","v":""},{"$f":"IF(Stammdaten!$A$2=\"\",\"\",D83-B83)","v":""},{"$f":"IF(Stammdaten!$A$2=\"\",\"\",E83/B83)","v":""},{"$f":"IF(Stammdaten!$A$2=\"\",\"\",ABS(E83))","v":""},{"$f":"IF(Stammdaten!$A$2=\"\",\"\",D83-C83)","v":""},{"$f":"IF(Stammdaten!$A$2=\"\",\"\",H83/C83)","v":""},{"$f":"IF(Stammdaten!$A$2=\"\",\"\",ABS(H83))","v":""},{"$f":"IF(Stammdaten!$A$2=\"\",\"\",IF(F83>35%,1,\"\"))","v":""},{"$f":"IF(Stammdaten!$A$2=\"\",\"\",IF(I83>35%,1,\"\"))","v":""},{"$f":"IF(Stammdaten!$A$2=\"\",\"\",MONTH(A83))","v":""},{"$f":"IF(Stammdaten!$A$2=\"\",\"\",YEAR(A83))","v":""}]
[{"$f":"Analysedaten!A84","v":""},{"$f":"Berechnungsblatt!C85","v":""},{"$f":"Berechnungsblatt!X85","v":""},{"$f":"Berechnungsblatt!C87","v":""},{"$f":"IF(Stammdaten!$A$2=\"\",\"\",D84-B84)","v":""},{"$f":"IF(Stammdaten!$A$2=\"\",\"\",E84/B84)","v":""},{"$f":"IF(Stammdaten!$A$2=\"\",\"\",ABS(E84))","v":""},{"$f":"IF(Stammdaten!$A$2=\"\",\"\",D84-C84)","v":""},{"$f":"IF(Stammdaten!$A$2=\"\",\"\",H84/C84)","v":""},{"$f":"IF(Stammdaten!$A$2=\"\",\"\",ABS(H84))","v":""},{"$f":"IF(Stammdaten!$A$2=\"\",\"\",IF(F84>35%,1,\"\"))","v":""},{"$f":"IF(Stammdaten!$A$2=\"\",\"\",IF(I84>35%,1,\"\"))","v":""},{"$f":"IF(Stammdaten!$A$2=\"\",\"\",MONTH(A84))","v":""},{"$f":"IF(Stammdaten!$A$2=\"\",\"\",YEAR(A84))","v":""}]
[{"$f":"Analysedaten!A85","v":""},{"$f":"Berechnungsblatt!C86","v":""},{"$f":"Berechnungsblatt!X86","v":""},{"$f":"Berechnungsblatt!C88","v":""},{"$f":"IF(Stammdaten!$A$2=\"\",\"\",D85-B85)","v":""},{"$f":"IF(Stammdaten!$A$2=\"\",\"\",E85/B85)","v":""},{"$f":"IF(Stammdaten!$A$2=\"\",\"\",ABS(E85))","v":""},{"$f":"IF(Stammdaten!$A$2=\"\",\"\",D85-C85)","v":""},{"$f":"IF(Stammdaten!$A$2=\"\",\"\",H85/C85)","v":""},{"$f":"IF(Stammdaten!$A$2=\"\",\"\",ABS(H85))","v":""},{"$f":"IF(Stammdaten!$A$2=\"\",\"\",IF(F85>35%,1,\"\"))","v":""},{"$f":"IF(Stammdaten!$A$2=\"\",\"\",IF(I85>35%,1,\"\"))","v":""},{"$f":"IF(Stammdaten!$A$2=\"\",\"\",MONTH(A85))","v":""},{"$f":"IF(Stammdaten!$A$2=\"\",\"\",YEAR(A85))","v":""}]
[{"$f":"Analysedaten!A86","v":""},{"$f":"Berechnungsblatt!C87","v":""},{"$f":"Berechnungsblatt!X87","v":""},{"$f":"Berechnungsblatt!C89","v":""},{"$f":"IF(Stammdaten!$A$2=\"\",\"\",D86-B86)","v":""},{"$f":"IF(Stammdaten!$A$2=\"\",\"\",E86/B86)","v":""},{"$f":"IF(Stammdaten!$A$2=\"\",\"\",ABS(E86))","v":""},{"$f":"IF(Stammdaten!$A$2=\"\",\"\",D86-C86)","v":""},{"$f":"IF(Stammdaten!$A$2=\"\",\"\",H86/C86)","v":""},{"$f":"IF(Stammdaten!$A$2=\"\",\"\",ABS(H86))","v":""},{"$f":"IF(Stammdaten!$A$2=\"\",\"\",IF(F86>35%,1,\"\"))","v":""},{"$f":"IF(Stammdaten!$A$2=\"\",\"\",IF(I86>35%,1,\"\"))","v":""},{"$f":"IF(Stammdaten!$A$2=\"\",\"\",MONTH(A86))","v":""},{"$f":"IF(Stammdaten!$A$2=\"\",\"\",YEAR(A86))","v":""}]
[{"$f":"Analysedaten!A87","v":""},{"$f":"Berechnungsblatt!C88","v":""},{"$f":"Berechnungsblatt!X88","v":""},{"$f":"Berechnungsblatt!C90","v":""},{"$f":"IF(Stammdaten!$A$2=\"\",\"\",D87-B87)","v":""},{"$f":"IF(Stammdaten!$A$2=\"\",\"\",E87/B87)","v":""},{"$f":"IF(Stammdaten!$A$2=\"\",\"\",ABS(E87))","v":""},{"$f":"IF(Stammdaten!$A$2=\"\",\"\",D87-C87)","v":""},{"$f":"IF(Stammdaten!$A$2=\"\",\"\",H87/C87)","v":""},{"$f":"IF(Stammdaten!$A$2=\"\",\"\",ABS(H87))","v":""},{"$f":"IF(Stammdaten!$A$2=\"\",\"\",IF(F87>35%,1,\"\"))","v":""},{"$f":"IF(Stammdaten!$A$2=\"\",\"\",IF(I87>35%,1,\"\"))","v":""},{"$f":"IF(Stammdaten!$A$2=\"\",\"\",MONTH(A87))","v":""},{"$f":"IF(Stammdaten!$A$2=\"\",\"\",YEAR(A87))","v":""}]
[{"$f":"Analysedaten!A88","v":""},{"$f":"Berechnungsblatt!C89","v":""},{"$f":"Berechnungsblatt!X89","v":""},{"$f":"Berechnungsblatt!C91","v":""},{"$f":"IF(Stammdaten!$A$2=\"\",\"\",D88-B88)","v":""},{"$f":"IF(Stammdaten!$A$2=\"\",\"\",E88/B88)","v":""},{"$f":"IF(Stammdaten!$A$2=\"\",\"\",ABS(E88))","v":""},{"$f":"IF(Stammdaten!$A$2=\"\",\"\",D88-C88)","v":""},{"$f":"IF(Stammdaten!$A$2=\"\",\"\",H88/C88)","v":""},{"$f":"IF(Stammdaten!$A$2=\"\",\"\",ABS(H88))","v":""},{"$f":"IF(Stammdaten!$A$2=\"\",\"\",IF(F88>35%,1,\"\"))","v":""},{"$f":"IF(Stammdaten!$A$2=\"\",\"\",IF(I88>35%,1,\"\"))","v":""},{"$f":"IF(Stammdaten!$A$2=\"\",\"\",MONTH(A88))","v":""},{"$f":"IF(Stammdaten!$A$2=\"\",\"\",YEAR(A88))","v":""}]
[{"$f":"Analysedaten!A89","v":""},{"$f":"Berechnungsblatt!C90","v":""},{"$f":"Berechnungsblatt!X90","v":""},{"$f":"Berechnungsblatt!C92","v":""},{"$f":"IF(Stammdaten!$A$2=\"\",\"\",D89-B89)","v":""},{"$f":"IF(Stammdaten!$A$2=\"\",\"\",E89/B89)","v":""},{"$f":"IF(Stammdaten!$A$2=\"\",\"\",ABS(E89))","v":""},{"$f":"IF(Stammdaten!$A$2=\"\",\"\",D89-C89)","v":""},{"$f":"IF(Stammdaten!$A$2=\"\",\"\",H89/C89)","v":""},{"$f":"IF(Stammdaten!$A$2=\"\",\"\",ABS(H89))","v":""},{"$f":"IF(Stammdaten!$A$2=\"\",\"\",IF(F89>35%,1,\"\"))","v":""},{"$f":"IF(Stammdaten!$A$2=\"\",\"\",IF(I89>35%,1,\"\"))","v":""},{"$f":"IF(Stammdaten!$A$2=\"\",\"\",MONTH(A89))","v":""},{"$f":"IF(Stammdaten!$A$2=\"\",\"\",YEAR(A89))","v":""}]
[{"$f":"Analysedaten!A90","v":""},{"$f":"Berechnungsblatt!C91","v":""},{"$f":"Berechnungsblatt!X91","v":""},{"$f":"Berechnungsblatt!C93","v":""},{"$f":"IF(Stammdaten!$A$2=\"\",\"\",D90-B90)","v":""},{"$f":"IF(Stammdaten!$A$2=\"\",\"\",E90/B90)","v":""},{"$f":"IF(Stammdaten!$A$2=\"\",\"\",ABS(E90))","v":""},{"$f":"IF(Stammdaten!$A$2=\"\",\"\",D90-C90)","v":""},{"$f":"IF(Stammdaten!$A$2=\"\",\"\",H90/C90)","v":""},{"$f":"IF(Stammdaten!$A$2=\"\",\"\",ABS(H90))","v":""},{"$f":"IF(Stammdaten!$A$2=\"\",\"\",IF(F90>35%,1,\"\"))","v":""},{"$f":"IF(Stammdaten!$A$2=\"\",\"\",IF(I90>35%,1,\"\"))","v":""},{"$f":"IF(Stammdaten!$A$2=\"\",\"\",MONTH(A90))","v":""},{"$f":"IF(Stammdaten!$A$2=\"\",\"\",YEAR(A90))","v":""}]
[{"$f":"Analysedaten!A91","v":""},{"$f":"Berechnungsblatt!C92","v":""},{"$f":"Berechnungsblatt!X92","v":""},{"$f":"Berechnungsblatt!C94","v":""},{"$f":"IF(Stammdaten!$A$2=\"\",\"\",D91-B91)","v":""},{"$f":"IF(Stammdaten!$A$2=\"\",\"\",E91/B91)","v":""},{"$f":"IF(Stammdaten!$A$2=\"\",\"\",ABS(E91))","v":""},{"$f":"IF(Stammdaten!$A$2=\"\",\"\",D91-C91)","v":""},{"$f":"IF(Stammdaten!$A$2=\"\",\"\",H91/C91)","v":""},{"$f":"IF(Stammdaten!$A$2=\"\",\"\",ABS(H91))","v":""},{"$f":"IF(Stammdaten!$A$2=\"\",\"\",IF(F91>35%,1,\"\"))","v":""},{"$f":"IF(Stammdaten!$A$2=\"\",\"\",IF(I91>35%,1,\"\"))","v":""},{"$f":"IF(Stammdaten!$A$2=\"\",\"\",MONTH(A91))","v":""},{"$f":"IF(Stammdaten!$A$2=\"\",\"\",YEAR(A91))","v":""}]
[{"$f":"Analysedaten!A92","v":""},{"$f":"Berechnungsblatt!C93","v":""},{"$f":"Berechnungsblatt!X93","v":""},{"$f":"Berechnungsblatt!C95","v":""},{"$f":"IF(Stammdaten!$A$2=\"\",\"\",D92-B92)","v":""},{"$f":"IF(Stammdaten!$A$2=\"\",\"\",E92/B92)","v":""},{"$f":"IF(Stammdaten!$A$2=\"\",\"\",ABS(E92))","v":""},{"$f":"IF(Stammdaten!$A$2=\"\",\"\",D92-C92)","v":""},{"$f":"IF(Stammdaten!$A$2=\"\",\"\",H92/C92)","v":""},{"$f":"IF(Stammdaten!$A$2=\"\",\"\",ABS(H92))","v":""},{"$f":"IF(Stammdaten!$A$2=\"\",\"\",IF(F92>35%,1,\"\"))","v":""},{"$f":"IF(Stammdaten!$A$2=\"\",\"\",IF(I92>35%,1,\"\"))","v":""},{"$f":"IF(Stammdaten!$A$2=\"\",\"\",MONTH(A92))","v":""},{"$f":"IF(Stammdaten!$A$2=\"\",\"\",YEAR(A92))","v":""}]
[{"$f":"Analysedaten!A93","v":""},{"$f":"Berechnungsblatt!C94","v":""},{"$f":"Berechnungsblatt!X94","v":""},{"$f":"Berechnungsblatt!C96","v":""},{"$f":"IF(Stammdaten!$A$2=\"\",\"\",D93-B93)","v":""},{"$f":"IF(Stammdaten!$A$2=\"\",\"\",E93/B93)","v":""},{"$f":"IF(Stammdaten!$A$2=\"\",\"\",ABS(E93))","v":""},{"$f":"IF(Stammdaten!$A$2=\"\",\"\",D93-C93)","v":""},{"$f":"IF(Stammdaten!$A$2=\"\",\"\",H93/C93)","v":""},{"$f":"IF(Stammdaten!$A$2=\"\",\"\",ABS(H93))","v":""},{"$f":"IF(Stammdaten!$A$2=\"\",\"\",IF(F93>35%,1,\"\"))","v":""},{"$f":"IF(Stammdaten!$A$2=\"\",\"\",IF(I93>35%,1,\"\"))","v":""},{"$f":"IF(Stammdaten!$A$2=\"\",\"\",MONTH(A93))","v":""},{"$f":"IF(Stammdaten!$A$2=\"\",\"\",YEAR(A93))","v":""}]
[{"$f":"Analysedaten!A94","v":""},{"$f":"Berechnungsblatt!C95","v":""},{"$f":"Berechnungsblatt!X95","v":""},{"$f":"Berechnungsblatt!C97","v":""},{"$f":"IF(Stammdaten!$A$2=\"\",\"\",D94-B94)","v":""},{"$f":"IF(Stammdaten!$A$2=\"\",\"\",E94/B94)","v":""},{"$f":"IF(Stammdaten!$A$2=\"\",\"\",ABS(E94))","v":""},{"$f":"IF(Stammdaten!$A$2=\"\",\"\",D94-C94)","v":""},{"$f":"IF(Stammdaten!$A$2=\"\",\"\",H94/C94)","v":""},{"$f":"IF(Stammdaten!$A$2=\"\",\"\",ABS(H94))","v":""},{"$f":"IF(Stammdaten!$A$2=\"\",\"\",IF(F94>35%,1,\"\"))","v":""},{"$f":"IF(Stammdaten!$A$2=\"\",\"\",IF(I94>35%,1,\"\"))","v":""},{"$f":"IF(Stammdaten!$A$2=\"\",\"\",MONTH(A94))","v":""},{"$f":"IF(Stammdaten!$A$2=\"\",\"\",YEAR(A94))","v":""}]
[{"$f":"Analysedaten!A95","v":""},{"$f":"Berechnungsblatt!C96","v":""},{"$f":"Berechnungsblatt!X96","v":""},{"$f":"Berechnungsblatt!C98","v":""},{"$f":"IF(Stammdaten!$A$2=\"\",\"\",D95-B95)","v":""},{"$f":"IF(Stammdaten!$A$2=\"\",\"\",E95/B95)","v":""},{"$f":"IF(Stammdaten!$A$2=\"\",\"\",ABS(E95))","v":""},{"$f":"IF(Stammdaten!$A$2=\"\",\"\",D95-C95)","v":""},{"$f":"IF(Stammdaten!$A$2=\"\",\"\",H95/C95)","v":""},{"$f":"IF(Stammdaten!$A$2=\"\",\"\",ABS(H95))","v":""},{"$f":"IF(Stammdaten!$A$2=\"\",\"\",IF(F95>35%,1,\"\"))","v":""},{"$f":"IF(Stammdaten!$A$2=\"\",\"\",IF(I95>35%,1,\"\"))","v":""},{"$f":"IF(Stammdaten!$A$2=\"\",\"\",MONTH(A95))","v":""},{"$f":"IF(Stammdaten!$A$2=\"\",\"\",YEAR(A95))","v":""}]
[{"$f":"Analysedaten!A96","v":""},{"$f":"Berechnungsblatt!C97","v":""},{"$f":"Berechnungsblatt!X97","v":""},{"$f":"Berechnungsblatt!C99","v":""},{"$f":"IF(Stammdaten!$A$2=\"\",\"\",D96-B96)","v":""},{"$f":"IF(Stammdaten!$A$2=\"\",\"\",E96/B96)","v":""},{"$f":"IF(Stammdaten!$A$2=\"\",\"\",ABS(E96))","v":""},{"$f":"IF(Stammdaten!$A$2=\"\",\"\",D96-C96)","v":""},{"$f":"IF(Stammdaten!$A$2=\"\",\"\",H96/C96)","v":""},{"$f":"IF(Stammdaten!$A$2=\"\",\"\",ABS(H96))","v":""},{"$f":"IF(Stammdaten!$A$2=\"\",\"\",IF(F96>35%,1,\"\"))","v":""},{"$f":"IF(Stammdaten!$A$2=\"\",\"\",IF(I96>35%,1,\"\"))","v":""},{"$f":"IF(Stammdaten!$A$2=\"\",\"\",MONTH(A96))","v":""},{"$f":"IF(Stammdaten!$A$2=\"\",\"\",YEAR(A96))","v":""}]
[{"$f":"Analysedaten!A97","v":""},{"$f":"Berechnungsblatt!C98","v":""},{"$f":"Berechnungsblatt!X98","v":""},{"$f":"Berechnungsblatt!C100","v":""},{"$f":"IF(Stammdaten!$A$2=\"\",\"\",D97-B97)","v":""},{"$f":"IF(Stammdaten!$A$2=\"\",\"\",E97/B97)","v":""},{"$f":"IF(Stammdaten!$A$2=\"\",\"\",ABS(E97))","v":""},{"$f":"IF(Stammdaten!$A$2=\"\",\"\",D97-C97)","v":""},{"$f":"IF(Stammdaten!$A$2=\"\",\"\",H97/C97)","v":""},{"$f":"IF(Stammdaten!$A$2=\"\",\"\",ABS(H97))","v":""},{"$f":"IF(Stammdaten!$A$2=\"\",\"\",IF(F97>35%,1,\"\"))","v":""},{"$f":"IF(Stammdaten!$A$2=\"\",\"\",IF(I97>35%,1,\"\"))","v":""},{"$f":"IF(Stammdaten!$A$2=\"\",\"\",MONTH(A97))","v":""},{"$f":"IF(Stammdaten!$A$2=\"\",\"\",YEAR(A97))","v":""}]
[{"$f":"Analysedaten!A98","v":""},{"$f":"Berechnungsblatt!C99","v":""},{"$f":"Berechnungsblatt!X99","v":""},{"$f":"Berechnungsblatt!C101","v":""},{"$f":"IF(Stammdaten!$A$2=\"\",\"\",D98-B98)","v":""},{"$f":"IF(Stammdaten!$A$2=\"\",\"\",E98/B98)","v":""},{"$f":"IF(Stammdaten!$A$2=\"\",\"\",ABS(E98))","v":""},{"$f":"IF(Stammdaten!$A$2=\"\",\"\",D98-C98)","v":""},{"$f":"IF(Stammdaten!$A$2=\"\",\"\",H98/C98)","v":""},{"$f":"IF(Stammdaten!$A$2=\"\",\"\",ABS(H98))","v":""},{"$f":"IF(Stammdaten!$A$2=\"\",\"\",IF(F98>35%,1,\"\"))","v":""},{"$f":"IF(Stammdaten!$A$2=\"\",\"\",IF(I98>35%,1,\"\"))","v":""},{"$f":"IF(Stammdaten!$A$2=\"\",\"\",MONTH(A98))","v":""},{"$f":"IF(Stammdaten!$A$2=\"\",\"\",YEAR(A98))","v":""}]
[{"$f":"Analysedaten!A99","v":""},{"$f":"Berechnungsblatt!C100","v":""},{"$f":"Berechnungsblatt!X100","v":""},{"$f":"Berechnungsblatt!C102","v":""},{"$f":"IF(Stammdaten!$A$2=\"\",\"\",D99-B99)","v":""},{"$f":"IF(Stammdaten!$A$2=\"\",\"\",E99/B99)","v":""},{"$f":"IF(Stammdaten!$A$2=\"\",\"\",ABS(E99))","v":""},{"$f":"IF(Stammdaten!$A$2=\"\",\"\",D99-C99)","v":""},{"$f":"IF(Stammdaten!$A$2=\"\",\"\",H99/C99)","v":""},{"$f":"IF(Stammdaten!$A$2=\"\",\"\",ABS(H99))","v":""},{"$f":"IF(Stammdaten!$A$2=\"\",\"\",IF(F99>35%,1,\"\"))","v":""},{"$f":"IF(Stammdaten!$A$2=\"\",\"\",IF(I99>35%,1,\"\"))","v":""},{"$f":"IF(Stammdaten!$A$2=\"\",\"\",MONTH(A99))","v":""},{"$f":"IF(Stammdaten!$A$2=\"\",\"\",YEAR(A99))","v":""}]
[{"$f":"Analysedaten!A100","v":""},{"$f":"Berechnungsblatt!C101","v":""},{"$f":"Berechnungsblatt!X101","v":""},{"$f":"Berechnungsblatt!C103","v":""},{"$f":"IF(Stammdaten!$A$2=\"\",\"\",D100-B100)","v":""},{"$f":"IF(Stammdaten!$A$2=\"\",\"\",E100/B100)","v":""},{"$f":"IF(Stammdaten!$A$2=\"\",\"\",ABS(E100))","v":""},{"$f":"IF(Stammdaten!$A$2=\"\",\"\",D100-C100)","v":""},{"$f":"IF(Stammdaten!$A$2=\"\",\"\",H100/C100)","v":""},{"$f":"IF(Stammdaten!$A$2=\"\",\"\",ABS(H100))","v":""},{"$f":"IF(Stammdaten!$A$2=\"\",\"\",IF(F100>35%,1,\"\"))","v":""},{"$f":"IF(Stammdaten!$A$2=\"\",\"\",IF(I100>35%,1,\"\"))","v":""},{"$f":"IF(Stammdaten!$A$2=\"\",\"\",MONTH(A100))","v":""},{"$f":"IF(Stammdaten!$A$2=\"\",\"\",YEAR(A100))","v":""}]
[{"$f":"Analysedaten!A101","v":""},{"$f":"Berechnungsblatt!C102","v":""},{"$f":"Berechnungsblatt!X102","v":""},{"$f":"Berechnungsblatt!C104","v":""},{"$f":"IF(Stammdaten!$A$2=\"\",\"\",D101-B101)","v":""},{"$f":"IF(Stammdaten!$A$2=\"\",\"\",E101/B101)","v":""},{"$f":"IF(Stammdaten!$A$2=\"\",\"\",ABS(E101))","v":""},{"$f":"IF(Stammdaten!$A$2=\"\",\"\",D101-C101)","v":""},{"$f":"IF(Stammdaten!$A$2=\"\",\"\",H101/C101)","v":""},{"$f":"IF(Stammdaten!$A$2=\"\",\"\",ABS(H101))","v":""},{"$f":"IF(Stammdaten!$A$2=\"\",\"\",IF(F101>35%,1,\"\"))","v":""},{"$f":"IF(Stammdaten!$A$2=\"\",\"\",IF(I101>35%,1,\"\"))","v":""},{"$f":"IF(Stammdaten!$A$2=\"\",\"\",MONTH(A101))","v":""},{"$f":"IF(Stammdaten!$A$2=\"\",\"\",YEAR(A101))","v":""}]
[{"$f":"Analysedaten!A102","v":""},{"$f":"Berechnungsblatt!C103","v":""},{"$f":"Berechnungsblatt!X103","v":""},{"$f":"Berechnungsblatt!C105","v":""},{"$f":"IF(Stammdaten!$A$2=\"\",\"\",D102-B102)","v":""},{"$f":"IF(Stammdaten!$A$2=\"\",\"\",E102/B102)","v":""},{"$f":"IF(Stammdaten!$A$2=\"\",\"\",ABS(E102))","v":""},{"$f":"IF(Stammdaten!$A$2=\"\",\"\",D102-C102)","v":""},{"$f":"IF(Stammdaten!$A$2=\"\",\"\",H102/C102)","v":""},{"$f":"IF(Stammdaten!$A$2=\"\",\"\",ABS(H102))","v":""},{"$f":"IF(Stammdaten!$A$2=\"\",\"\",IF(F102>35%,1,\"\"))","v":""},{"$f":"IF(Stammdaten!$A$2=\"\",\"\",IF(I102>35%,1,\"\"))","v":""},{"$f":"IF(Stammdaten!$A$2=\"\",\"\",MONTH(A102))","v":""},{"$f":"IF(Stammdaten!$A$2=\"\",\"\",YEAR(A102))","v":""}]
[{"$f":"Analysedaten!A103","v":""},{"$f":"Berechnungsblatt!C104","v":""},{"$f":"Berechnungsblatt!X104","v":""},{"$f":"Berechnungsblatt!C106","v":""},{"$f":"IF(Stammdaten!$A$2=\"\",\"\",D103-B103)","v":""},{"$f":"IF(Stammdaten!$A$2=\"\",\"\",E103/B103)","v":""},{"$f":"IF(Stammdaten!$A$2=\"\",\"\",ABS(E103))","v":""},{"$f":"IF(Stammdaten!$A$2=\"\",\"\",D103-C103)","v":""},{"$f":"IF(Stammdaten!$A$2=\"\",\"\",H103/C103)","v":""},{"$f":"IF(Stammdaten!$A$2=\"\",\"\",ABS(H103))","v":""},{"$f":"IF(Stammdaten!$A$2=\"\",\"\",IF(F103>35%,1,\"\"))","v":""},{"$f":"IF(Stammdaten!$A$2=\"\",\"\",IF(I103>35%,1,\"\"))","v":""},{"$f":"IF(Stammdaten!$A$2=\"\",\"\",MONTH(A103))","v":""},{"$f":"IF(Stammdaten!$A$2=\"\",\"\",YEAR(A103))","v":""}]
[{"$f":"Analysedaten!A104","v":""},{"$f":"Berechnungsblatt!C105","v":""},{"$f":"Berechnungsblatt!X105","v":""},{"$f":"Berechnungsblatt!C107","v":""},{"$f":"IF(Stammdaten!$A$2=\"\",\"\",D104-B104)","v":""},{"$f":"IF(Stammdaten!$A$2=\"\",\"\",E104/B104)","v":""},{"$f":"IF(Stammdaten!$A$2=\"\",\"\",ABS(E104))","v":""},{"$f":"IF(Stammdaten!$A$2=\"\",\"\",D104-C104)","v":""},{"$f":"IF(Stammdaten!$A$2=\"\",\"\",H104/C104)","v":""},{"$f":"IF(Stammdaten!$A$2=\"\",\"\",ABS(H104))","v":""},{"$f":"IF(Stammdaten!$A$2=\"\",\"\",IF(F104>35%,1,\"\"))","v":""},{"$f":"IF(Stammdaten!$A$2=\"\",\"\",IF(I104>35%,1,\"\"))","v":""},{"$f":"IF(Stammdaten!$A$2=\"\",\"\",MONTH(A104))","v":""},{"$f":"IF(Stammdaten!$A$2=\"\",\"\",YEAR(A104))","v":""}]
[{"$f":"Analysedaten!A105","v":""},{"$f":"Berechnungsblatt!C106","v":""},{"$f":"Berechnungsblatt!X106","v":""},{"$f":"Berechnungsblatt!C108","v":""},{"$f":"IF(Stammdaten!$A$2=\"\",\"\",D105-B105)","v":""},{"$f":"IF(Stammdaten!$A$2=\"\",\"\",E105/B105)","v":""},{"$f":"IF(Stammdaten!$A$2=\"\",\"\",ABS(E105))","v":""},{"$f":"IF(Stammdaten!$A$2=\"\",\"\",D105-C105)","v":""},{"$f":"IF(Stammdaten!$A$2=\"\",\"\",H105/C105)","v":""},{"$f":"IF(Stammdaten!$A$2=\"\",\"\",ABS(H105))","v":""},{"$f":"IF(Stammdaten!$A$2=\"\",\"\",IF(F105>35%,1,\"\"))","v":""},{"$f":"IF(Stammdaten!$A$2=\"\",\"\",IF(I105>35%,1,\"\"))","v":""},{"$f":"IF(Stammdaten!$A$2=\"\",\"\",MONTH(A105))","v":""},{"$f":"IF(Stammdaten!$A$2=\"\",\"\",YEAR(A105))","v":""}]
[{"$f":"Analysedaten!A106","v":""},{"$f":"Berechnungsblatt!C107","v":""},{"$f":"Berechnungsblatt!X107","v":""},{"$f":"Berechnungsblatt!C109","v":""},{"$f":"IF(Stammdaten!$A$2=\"\",\"\",D106-B106)","v":""},{"$f":"IF(Stammdaten!$A$2=\"\",\"\",E106/B106)","v":""},{"$f":"IF(Stammdaten!$A$2=\"\",\"\",ABS(E106))","v":""},{"$f":"IF(Stammdaten!$A$2=\"\",\"\",D106-C106)","v":""},{"$f":"IF(Stammdaten!$A$2=\"\",\"\",H106/C106)","v":""},{"$f":"IF(Stammdaten!$A$2=\"\",\"\",ABS(H106))","v":""},{"$f":"IF(Stammdaten!$A$2=\"\",\"\",IF(F106>35%,1,\"\"))","v":""},{"$f":"IF(Stammdaten!$A$2=\"\",\"\",IF(I106>35%,1,\"\"))","v":""},{"$f":"IF(Stammdaten!$A$2=\"\",\"\",MONTH(A106))","v":""},{"$f":"IF(Stammdaten!$A$2=\"\",\"\",YEAR(A106))","v":""}]
[{"$f":"Analysedaten!A107","v":""},{"$f":"Berechnungsblatt!C108","v":""},{"$f":"Berechnungsblatt!X108","v":""},{"$f":"Berechnungsblatt!C110","v":""},{"$f":"IF(Stammdaten!$A$2=\"\",\"\",D107-B107)","v":""},{"$f":"IF(Stammdaten!$A$2=\"\",\"\",E107/B107)","v":""},{"$f":"IF(Stammdaten!$A$2=\"\",\"\",ABS(E107))","v":""},{"$f":"IF(Stammdaten!$A$2=\"\",\"\",D107-C107)","v":""},{"$f":"IF(Stammdaten!$A$2=\"\",\"\",H107/C107)","v":""},{"$f":"IF(Stammdaten!$A$2=\"\",\"\",ABS(H107))","v":""},{"$f":"IF(Stammdaten!$A$2=\"\",\"\",IF(F107>35%,1,\"\"))","v":""},{"$f":"IF(Stammdaten!$A$2=\"\",\"\",IF(I107>35%,1,\"\"))","v":""},{"$f":"IF(Stammdaten!$A$2=\"\",\"\",MONTH(A107))","v":""},{"$f":"IF(Stammdaten!$A$2=\"\",\"\",YEAR(A107))","v":""}]
[{"$f":"Analysedaten!A108","v":""},{"$f":"Berechnungsblatt!C109","v":""},{"$f":"Berechnungsblatt!X109","v":""},{"$f":"Berechnungsblatt!C111","v":""},{"$f":"IF(Stammdaten!$A$2=\"\",\"\",D108-B108)","v":""},{"$f":"IF(Stammdaten!$A$2=\"\",\"\",E108/B108)","v":""},{"$f":"IF(Stammdaten!$A$2=\"\",\"\",ABS(E108))","v":""},{"$f":"IF(Stammdaten!$A$2=\"\",\"\",D108-C108)","v":""},{"$f":"IF(Stammdaten!$A$2=\"\",\"\",H108/C108)","v":""},{"$f":"IF(Stammdaten!$A$2=\"\",\"\",ABS(H108))","v":""},{"$f":"IF(Stammdaten!$A$2=\"\",\"\",IF(F108>35%,1,\"\"))","v":""},{"$f":"IF(Stammdaten!$A$2=\"\",\"\",IF(I108>35%,1,\"\"))","v":""},{"$f":"IF(Stammdaten!$A$2=\"\",\"\",MONTH(A108))","v":""},{"$f":"IF(Stammdaten!$A$2=\"\",\"\",YEAR(A108))","v":""}]
[{"$f":"Analysedaten!A109","v":""},{"$f":"Berechnungsblatt!C110","v":""},{"$f":"Berechnungsblatt!X110","v":""},{"$f":"Berechnungsblatt!C112","v":""},{"$f":"IF(Stammdaten!$A$2=\"\",\"\",D109-B109)","v":""},{"$f":"IF(Stammdaten!$A$2=\"\",\"\",E109/B109)","v":""},{"$f":"IF(Stammdaten!$A$2=\"\",\"\",ABS(E109))","v":""},{"$f":"IF(Stammdaten!$A$2=\"\",\"\",D109-C109)","v":""},{"$f":"IF(Stammdaten!$A$2=\"\",\"\",H109/C109)","v":""},{"$f":"IF(Stammdaten!$A$2=\"\",\"\",ABS(H109))","v":""},{"$f":"IF(Stammdaten!$A$2=\"\",\"\",IF(F109>35%,1,\"\"))","v":""},{"$f":"IF(Stammdaten!$A$2=\"\",\"\",IF(I109>35%,1,\"\"))","v":""},{"$f":"IF(Stammdaten!$A$2=\"\",\"\",MONTH(A109))","v":""},{"$f":"IF(Stammdaten!$A$2=\"\",\"\",YEAR(A109))","v":""}]
[{"$f":"Analysedaten!A110","v":""},{"$f":"Berechnungsblatt!C111","v":""},{"$f":"Berechnungsblatt!X111","v":""},{"$f":"Berechnungsblatt!C113","v":""},{"$f":"IF(Stammdaten!$A$2=\"\",\"\",D110-B110)","v":""},{"$f":"IF(Stammdaten!$A$2=\"\",\"\",E110/B110)","v":""},{"$f":"IF(Stammdaten!$A$2=\"\",\"\",ABS(E110))","v":""},{"$f":"IF(Stammdaten!$A$2=\"\",\"\",D110-C110)","v":""},{"$f":"IF(Stammdaten!$A$2=\"\",\"\",H110/C110)","v":""},{"$f":"IF(Stammdaten!$A$2=\"\",\"\",ABS(H110))","v":""},{"$f":"IF(Stammdaten!$A$2=\"\",\"\",IF(F110>35%,1,\"\"))","v":""},{"$f":"IF(Stammdaten!$A$2=\"\",\"\",IF(I110>35%,1,\"\"))","v":""},{"$f":"IF(Stammdaten!$A$2=\"\",\"\",MONTH(A110))","v":""},{"$f":"IF(Stammdaten!$A$2=\"\",\"\",YEAR(A110))","v":""}]
[{"$f":"Analysedaten!A111","v":""},{"$f":"Berechnungsblatt!C112","v":""},{"$f":"Berechnungsblatt!X112","v":""},{"$f":"Berechnungsblatt!C114","v":""},{"$f":"IF(Stammdaten!$A$2=\"\",\"\",D111-B111)","v":""},{"$f":"IF(Stammdaten!$A$2=\"\",\"\",E111/B111)","v":""},{"$f":"IF(Stammdaten!$A$2=\"\",\"\",ABS(E111))","v":""},{"$f":"IF(Stammdaten!$A$2=\"\",\"\",D111-C111)","v":""},{"$f":"IF(Stammdaten!$A$2=\"\",\"\",H111/C111)","v":""},{"$f":"IF(Stammdaten!$A$2=\"\",\"\",ABS(H111))","v":""},{"$f":"IF(Stammdaten!$A$2=\"\",\"\",IF(F111>35%,1,\"\"))","v":""},{"$f":"IF(Stammdaten!$A$2=\"\",\"\",IF(I111>35%,1,\"\"))","v":""},{"$f":"IF(Stammdaten!$A$2=\"\",\"\",MONTH(A111))","v":""},{"$f":"IF(Stammdaten!$A$2=\"\",\"\",YEAR(A111))","v":""}]
[{"$f":"Analysedaten!A112","v":""},{"$f":"Berechnungsblatt!C113","v":""},{"$f":"Berechnungsblatt!X113","v":""},{"$f":"Berechnungsblatt!C115","v":""},{"$f":"IF(Stammdaten!$A$2=\"\",\"\",D112-B112)","v":""},{"$f":"IF(Stammdaten!$A$2=\"\",\"\",E112/B112)","v":""},{"$f":"IF(Stammdaten!$A$2=\"\",\"\",ABS(E112))","v":""},{"$f":"IF(Stammdaten!$A$2=\"\",\"\",D112-C112)","v":""},{"$f":"IF(Stammdaten!$A$2=\"\",\"\",H112/C112)","v":""},{"$f":"IF(Stammdaten!$A$2=\"\",\"\",ABS(H112))","v":""},{"$f":"IF(Stammdaten!$A$2=\"\",\"\",IF(F112>35%,1,\"\"))","v":""},{"$f":"IF(Stammdaten!$A$2=\"\",\"\",IF(I112>35%,1,\"\"))","v":""},{"$f":"IF(Stammdaten!$A$2=\"\",\"\",MONTH(A112))","v":""},{"$f":"IF(Stammdaten!$A$2=\"\",\"\",YEAR(A112))","v":""}]
[{"$f":"Analysedaten!A113","v":""},{"$f":"Berechnungsblatt!C114","v":""},{"$f":"Berechnungsblatt!X114","v":""},{"$f":"Berechnungsblatt!C116","v":""},{"$f":"IF(Stammdaten!$A$2=\"\",\"\",D113-B113)","v":""},{"$f":"IF(Stammdaten!$A$2=\"\",\"\",E113/B113)","v":""},{"$f":"IF(Stammdaten!$A$2=\"\",\"\",ABS(E113))","v":""},{"$f":"IF(Stammdaten!$A$2=\"\",\"\",D113-C113)","v":""},{"$f":"IF(Stammdaten!$A$2=\"\",\"\",H113/C113)","v":""},{"$f":"IF(Stammdaten!$A$2=\"\",\"\",ABS(H113))","v":""},{"$f":"IF(Stammdaten!$A$2=\"\",\"\",IF(F113>35%,1,\"\"))","v":""},{"$f":"IF(Stammdaten!$A$2=\"\",\"\",IF(I113>35%,1,\"\"))","v":""},{"$f":"IF(Stammdaten!$A$2=\"\",\"\",MONTH(A113))","v":""},{"$f":"IF(Stammdaten!$A$2=\"\",\"\",YEAR(A113))","v":""}]
[{"$f":"Analysedaten!A114","v":""},{"$f":"Berechnungsblatt!C115","v":""},{"$f":"Berechnungsblatt!X115","v":""},{"$f":"Berechnungsblatt!C117","v":""},{"$f":"IF(Stammdaten!$A$2=\"\",\"\",D114-B114)","v":""},{"$f":"IF(Stammdaten!$A$2=\"\",\"\",E114/B114)","v":""},{"$f":"IF(Stammdaten!$A$2=\"\",\"\",ABS(E114))","v":""},{"$f":"IF(Stammdaten!$A$2=\"\",\"\",D114-C114)","v":""},{"$f":"IF(Stammdaten!$A$2=\"\",\"\",H114/C114)","v":""},{"$f":"IF(Stammdaten!$A$2=\"\",\"\",ABS(H114))","v":""},{"$f":"IF(Stammdaten!$A$2=\"\",\"\",IF(F114>35%,1,\"\"))","v":""},{"$f":"IF(Stammdaten!$A$2=\"\",\"\",IF(I114>35%,1,\"\"))","v":""},{"$f":"IF(Stammdaten!$A$2=\"\",\"\",MONTH(A114))","v":""},{"$f":"IF(Stammdaten!$A$2=\"\",\"\",YEAR(A114))","v":""}]
[{"$f":"Analysedaten!A115","v":""},{"$f":"Berechnungsblatt!C116","v":""},{"$f":"Berechnungsblatt!X116","v":""},{"$f":"Berechnungsblatt!C118","v":""},{"$f":"IF(Stammdaten!$A$2=\"\",\"\",D115-B115)","v":""},{"$f":"IF(Stammdaten!$A$2=\"\",\"\",E115/B115)","v":""},{"$f":"IF(Stammdaten!$A$2=\"\",\"\",ABS(E115))","v":""},{"$f":"IF(Stammdaten!$A$2=\"\",\"\",D115-C115)","v":""},{"$f":"IF(Stammdaten!$A$2=\"\",\"\",H115/C115)","v":""},{"$f":"IF(Stammdaten!$A$2=\"\",\"\",ABS(H115))","v":""},{"$f":"IF(Stammdaten!$A$2=\"\",\"\",IF(F115>35%,1,\"\"))","v":""},{"$f":"IF(Stammdaten!$A$2=\"\",\"\",IF(I115>35%,1,\"\"))","v":""},{"$f":"IF(Stammdaten!$A$2=\"\",\"\",MONTH(A115))","v":""},{"$f":"IF(Stammdaten!$A$2=\"\",\"\",YEAR(A115))","v":""}]
[{"$f":"Analysedaten!A116","v":""},{"$f":"Berechnungsblatt!C117","v":""},{"$f":"Berechnungsblatt!X117","v":""},{"$f":"Berechnungsblatt!C119","v":""},{"$f":"IF(Stammdaten!$A$2=\"\",\"\",D116-B116)","v":""},{"$f":"IF(Stammdaten!$A$2=\"\",\"\",E116/B116)","v":""},{"$f":"IF(Stammdaten!$A$2=\"\",\"\",ABS(E116))","v":""},{"$f":"IF(Stammdaten!$A$2=\"\",\"\",D116-C116)","v":""},{"$f":"IF(Stammdaten!$A$2=\"\",\"\",H116/C116)","v":""},{"$f":"IF(Stammdaten!$A$2=\"\",\"\",ABS(H116))","v":""},{"$f":"IF(Stammdaten!$A$2=\"\",\"\",IF(F116>35%,1,\"\"))","v":""},{"$f":"IF(Stammdaten!$A$2=\"\",\"\",IF(I116>35%,1,\"\"))","v":""},{"$f":"IF(Stammdaten!$A$2=\"\",\"\",MONTH(A116))","v":""},{"$f":"IF(Stammdaten!$A$2=\"\",\"\",YEAR(A116))","v":""}]
[{"$f":"Analysedaten!A117","v":""},{"$f":"Berechnungsblatt!C118","v":""},{"$f":"Berechnungsblatt!X118","v":""},{"$f":"Berechnungsblatt!C120","v":""},{"$f":"IF(Stammdaten!$A$2=\"\",\"\",D117-B117)","v":""},{"$f":"IF(Stammdaten!$A$2=\"\",\"\",E117/B117)","v":""},{"$f":"IF(Stammdaten!$A$2=\"\",\"\",ABS(E117))","v":""},{"$f":"IF(Stammdaten!$A$2=\"\",\"\",D117-C117)","v":""},{"$f":"IF(Stammdaten!$A$2=\"\",\"\",H117/C117)","v":""},{"$f":"IF(Stammdaten!$A$2=\"\",\"\",ABS(H117))","v":""},{"$f":"IF(Stammdaten!$A$2=\"\",\"\",IF(F117>35%,1,\"\"))","v":""},{"$f":"IF(Stammdaten!$A$2=\"\",\"\",IF(I117>35%,1,\"\"))","v":""},{"$f":"IF(Stammdaten!$A$2=\"\",\"\",MONTH(A117))","v":""},{"$f":"IF(Stammdaten!$A$2=\"\",\"\",YEAR(A117))","v":""}]
[{"$f":"Analysedaten!A118","v":""},{"$f":"Berechnungsblatt!C119","v":""},{"$f":"Berechnungsblatt!X119","v":""},{"$f":"Berechnungsblatt!C121","v":""},{"$f":"IF(Stammdaten!$A$2=\"\",\"\",D118-B118)","v":""},{"$f":"IF(Stammdaten!$A$2=\"\",\"\",E118/B118)","v":""},{"$f":"IF(Stammdaten!$A$2=\"\",\"\",ABS(E118))","v":""},{"$f":"IF(Stammdaten!$A$2=\"\",\"\",D118-C118)","v":""},{"$f":"IF(Stammdaten!$A$2=\"\",\"\",H118/C118)","v":""},{"$f":"IF(Stammdaten!$A$2=\"\",\"\",ABS(H118))","v":""},{"$f":"IF(Stammdaten!$A$2=\"\",\"\",IF(F118>35%,1,\"\"))","v":""},{"$f":"IF(Stammdaten!$A$2=\"\",\"\",IF(I118>35%,1,\"\"))","v":""},{"$f":"IF(Stammdaten!$A$2=\"\",\"\",MONTH(A118))","v":""},{"$f":"IF(Stammdaten!$A$2=\"\",\"\",YEAR(A118))","v":""}]
[{"$f":"Analysedaten!A119","v":""},{"$f":"Berechnungsblatt!C120","v":""},{"$f":"Berechnungsblatt!X120","v":""},{"$f":"Berechnungsblatt!C122","v":""},{"$f":"IF(Stammdaten!$A$2=\"\",\"\",D119-B119)","v":""},{"$f":"IF(Stammdaten!$A$2=\"\",\"\",E119/B119)","v":""},{"$f":"IF(Stammdaten!$A$2=\"\",\"\",ABS(E119))","v":""},{"$f":"IF(Stammdaten!$A$2=\"\",\"\",D119-C119)","v":""},{"$f":"IF(Stammdaten!$A$2=\"\",\"\",H119/C119)","v":""},{"$f":"IF(Stammdaten!$A$2=\"\",\"\",ABS(H119))","v":""},{"$f":"IF(Stammdaten!$A$2=\"\",\"\",IF(F119>35%,1,\"\"))","v":""},{"$f":"IF(Stammdaten!$A$2=\"\",\"\",IF(I119>35%,1,\"\"))","v":""},{"$f":"IF(Stammdaten!$A$2=\"\",\"\",MONTH(A119))","v":""},{"$f":"IF(Stammdaten!$A$2=\"\",\"\",YEAR(A119))","v":""}]
[{"$f":"Analysedaten!A120","v":""},{"$f":"Berechnungsblatt!C121","v":""},{"$f":"Berechnungsblatt!X121","v":""},{"$f":"Berechnungsblatt!C123","v":""},{"$f":"IF(Stammdaten!$A$2=\"\",\"\",D120-B120)","v":""},{"$f":"IF(Stammdaten!$A$2=\"\",\"\",E120/B120)","v":""},{"$f":"IF(Stammdaten!$A$2=\"\",\"\",ABS(E120))","v":""},{"$f":"IF(Stammdaten!$A$2=\"\",\"\",D120-C120)","v":""},{"$f":"IF(Stammdaten!$A$2=\"\",\"\",H120/C120)","v":""},{"$f":"IF(Stammdaten!$A$2=\"\",\"\",ABS(H120))","v":""},{"$f":"IF(Stammdaten!$A$2=\"\",\"\",IF(F120>35%,1,\"\"))","v":""},{"$f":"IF(Stammdaten!$A$2=\"\",\"\",IF(I120>35%,1,\"\"))","v":""},{"$f":"IF(Stammdaten!$A$2=\"\",\"\",MONTH(A120))","v":""},{"$f":"IF(Stammdaten!$A$2=\"\",\"\",YEAR(A120))","v":""}]
[{"$f":"Analysedaten!A121","v":""},{"$f":"Berechnungsblatt!C122","v":""},{"$f":"Berechnungsblatt!X122","v":""},{"$f":"Berechnungsblatt!C124","v":""},{"$f":"IF(Stammdaten!$A$2=\"\",\"\",D121-B121)","v":""},{"$f":"IF(Stammdaten!$A$2=\"\",\"\",E121/B121)","v":""},{"$f":"IF(Stammdaten!$A$2=\"\",\"\",ABS(E121))","v":""},{"$f":"IF(Stammdaten!$A$2=\"\",\"\",D121-C121)","v":""},{"$f":"IF(Stammdaten!$A$2=\"\",\"\",H121/C121)","v":""},{"$f":"IF(Stammdaten!$A$2=\"\",\"\",ABS(H121))","v":""},{"$f":"IF(Stammdaten!$A$2=\"\",\"\",IF(F121>35%,1,\"\"))","v":""},{"$f":"IF(Stammdaten!$A$2=\"\",\"\",IF(I121>35%,1,\"\"))","v":""},{"$f":"IF(Stammdaten!$A$2=\"\",\"\",MONTH(A121))","v":""},{"$f":"IF(Stammdaten!$A$2=\"\",\"\",YEAR(A121))","v":""}]
[{"$f":"Analysedaten!A122","v":""},{"$f":"Berechnungsblatt!C123","v":""},{"$f":"Berechnungsblatt!X123","v":""},{"$f":"Berechnungsblatt!C125","v":""},{"$f":"IF(Stammdaten!$A$2=\"\",\"\",D122-B122)","v":""},{"$f":"IF(Stammdaten!$A$2=\"\",\"\",E122/B122)","v":""},{"$f":"IF(Stammdaten!$A$2=\"\",\"\",ABS(E122))","v":""},{"$f":"IF(Stammdaten!$A$2=\"\",\"\",D122-C122)","v":""},{"$f":"IF(Stammdaten!$A$2=\"\",\"\",H122/C122)","v":""},{"$f":"IF(Stammdaten!$A$2=\"\",\"\",ABS(H122))","v":""},{"$f":"IF(Stammdaten!$A$2=\"\",\"\",IF(F122>35%,1,\"\"))","v":""},{"$f":"IF(Stammdaten!$A$2=\"\",\"\",IF(I122>35%,1,\"\"))","v":""},{"$f":"IF(Stammdaten!$A$2=\"\",\"\",MONTH(A122))","v":""},{"$f":"IF(Stammdaten!$A$2=\"\",\"\",YEAR(A122))","v":""}]
[{"$f":"Analysedaten!A123","v":""},{"$f":"Berechnungsblatt!C124","v":""},{"$f":"Berechnungsblatt!X124","v":""},{"$f":"Berechnungsblatt!C126","v":""},{"$f":"IF(Stammdaten!$A$2=\"\",\"\",D123-B123)","v":""},{"$f":"IF(Stammdaten!$A$2=\"\",\"\",E123/B123)","v":""},{"$f":"IF(Stammdaten!$A$2=\"\",\"\",ABS(E123))","v":""},{"$f":"IF(Stammdaten!$A$2=\"\",\"\",D123-C123)","v":""},{"$f":"IF(Stammdaten!$A$2=\"\",\"\",H123/C123)","v":""},{"$f":"IF(Stammdaten!$A$2=\"\",\"\",ABS(H123))","v":""},{"$f":"IF(Stammdaten!$A$2=\"\",\"\",IF(F123>35%,1,\"\"))","v":""},{"$f":"IF(Stammdaten!$A$2=\"\",\"\",IF(I123>35%,1,\"\"))","v":""},{"$f":"IF(Stammdaten!$A$2=\"\",\"\",MONTH(A123))","v":""},{"$f":"IF(Stammdaten!$A$2=\"\",\"\",YEAR(A123))","v":""}]
[{"$f":"Analysedaten!A124","v":""},{"$f":"Berechnungsblatt!C125","v":""},{"$f":"Berechnungsblatt!X125","v":""},{"$f":"Berechnungsblatt!C127","v":""},{"$f":"IF(Stammdaten!$A$2=\"\",\"\",D124-B124)","v":""},{"$f":"IF(Stammdaten!$A$2=\"\",\"\",E124/B124)","v":""},{"$f":"IF(Stammdaten!$A$2=\"\",\"\",ABS(E124))","v":""},{"$f":"IF(Stammdaten!$A$2=\"\",\"\",D124-C124)","v":""},{"$f":"IF(Stammdaten!$A$2=\"\",\"\",H124/C124)","v":""},{"$f":"IF(Stammdaten!$A$2=\"\",\"\",ABS(H124))","v":""},{"$f":"IF(Stammdaten!$A$2=\"\",\"\",IF(F124>35%,1,\"\"))","v":""},{"$f":"IF(Stammdaten!$A$2=\"\",\"\",IF(I124>35%,1,\"\"))","v":""},{"$f":"IF(Stammdaten!$A$2=\"\",\"\",MONTH(A124))","v":""},{"$f":"IF(Stammdaten!$A$2=\"\",\"\",YEAR(A124))","v":""}]
[{"$f":"Analysedaten!A125","v":""},{"$f":"Berechnungsblatt!C126","v":""},{"$f":"Berechnungsblatt!X126","v":""},{"$f":"Berechnungsblatt!C128","v":""},{"$f":"IF(Stammdaten!$A$2=\"\",\"\",D125-B125)","v":""},{"$f":"IF(Stammdaten!$A$2=\"\",\"\",E125/B125)","v":""},{"$f":"IF(Stammdaten!$A$2=\"\",\"\",ABS(E125))","v":""},{"$f":"IF(Stammdaten!$A$2=\"\",\"\",D125-C125)","v":""},{"$f":"IF(Stammdaten!$A$2=\"\",\"\",H125/C125)","v":""},{"$f":"IF(Stammdaten!$A$2=\"\",\"\",ABS(H125))","v":""},{"$f":"IF(Stammdaten!$A$2=\"\",\"\",IF(F125>35%,1,\"\"))","v":""},{"$f":"IF(Stammdaten!$A$2=\"\",\"\",IF(I125>35%,1,\"\"))","v":""},{"$f":"IF(Stammdaten!$A$2=\"\",\"\",MONTH(A125))","v":""},{"$f":"IF(Stammdaten!$A$2=\"\",\"\",YEAR(A125))","v":""}]
[{"$f":"Analysedaten!A126","v":""},{"$f":"Berechnungsblatt!C127","v":""},{"$f":"Berechnungsblatt!X127","v":""},{"$f":"Berechnungsblatt!C129","v":""},{"$f":"IF(Stammdaten!$A$2=\"\",\"\",D126-B126)","v":""},{"$f":"IF(Stammdaten!$A$2=\"\",\"\",E126/B126)","v":""},{"$f":"IF(Stammdaten!$A$2=\"\",\"\",ABS(E126))","v":""},{"$f":"IF(Stammdaten!$A$2=\"\",\"\",D126-C126)","v":""},{"$f":"IF(Stammdaten!$A$2=\"\",\"\",H126/C126)","v":""},{"$f":"IF(Stammdaten!$A$2=\"\",\"\",ABS(H126))","v":""},{"$f":"IF(Stammdaten!$A$2=\"\",\"\",IF(F126>35%,1,\"\"))","v":""},{"$f":"IF(Stammdaten!$A$2=\"\",\"\",IF(I126>35%,1,\"\"))","v":""},{"$f":"IF(Stammdaten!$A$2=\"\",\"\",MONTH(A126))","v":""},{"$f":"IF(Stammdaten!$A$2=\"\",\"\",YEAR(A126))","v":""}]
[{"$f":"Analysedaten!A127","v":""},{"$f":"Berechnungsblatt!C128","v":""},{"$f":"Berechnungsblatt!X128","v":""},{"$f":"Berechnungsblatt!C130","v":""},{"$f":"IF(Stammdaten!$A$2=\"\",\"\",D127-B127)","v":""},{"$f":"IF(Stammdaten!$A$2=\"\",\"\",E127/B127)","v":""},{"$f":"IF(Stammdaten!$A$2=\"\",\"\",ABS(E127))","v":""},{"$f":"IF(Stammdaten!$A$2=\"\",\"\",D127-C127)","v":""},{"$f":"IF(Stammdaten!$A$2=\"\",\"\",H127/C127)","v":""},{"$f":"IF(Stammdaten!$A$2=\"\",\"\",ABS(H127))","v":""},{"$f":"IF(Stammdaten!$A$2=\"\",\"\",IF(F127>35%,1,\"\"))","v":""},{"$f":"IF(Stammdaten!$A$2=\"\",\"\",IF(I127>35%,1,\"\"))","v":""},{"$f":"IF(Stammdaten!$A$2=\"\",\"\",MONTH(A127))","v":""},{"$f":"IF(Stammdaten!$A$2=\"\",\"\",YEAR(A127))","v":""}]
[{"$f":"Analysedaten!A128","v":""},{"$f":"Berechnungsblatt!C129","v":""},{"$f":"Berechnungsblatt!X129","v":""},{"$f":"Berechnungsblatt!C131","v":""},{"$f":"IF(Stammdaten!$A$2=\"\",\"\",D128-B128)","v":""},{"$f":"IF(Stammdaten!$A$2=\"\",\"\",E128/B128)","v":""},{"$f":"IF(Stammdaten!$A$2=\"\",\"\",ABS(E128))","v":""},{"$f":"IF(Stammdaten!$A$2=\"\",\"\",D128-C128)","v":""},{"$f":"IF(Stammdaten!$A$2=\"\",\"\",H128/C128)","v":""},{"$f":"IF(Stammdaten!$A$2=\"\",\"\",ABS(H128))","v":""},{"$f":"IF(Stammdaten!$A$2=\"\",\"\",IF(F128>35%,1,\"\"))","v":""},{"$f":"IF(Stammdaten!$A$2=\"\",\"\",IF(I128>35%,1,\"\"))","v":""},{"$f":"IF(Stammdaten!$A$2=\"\",\"\",MONTH(A128))","v":""},{"$f":"IF(Stammdaten!$A$2=\"\",\"\",YEAR(A128))","v":""}]
[{"$f":"Analysedaten!A129","v":""},{"$f":"Berechnungsblatt!C130","v":""},{"$f":"Berechnungsblatt!X130","v":""},{"$f":"Berechnungsblatt!C132","v":""},{"$f":"IF(Stammdaten!$A$2=\"\",\"\",D129-B129)","v":""},{"$f":"IF(Stammdaten!$A$2=\"\",\"\",E129/B129)","v":""},{"$f":"IF(Stammdaten!$A$2=\"\",\"\",ABS(E129))","v":""},{"$f":"IF(Stammdaten!$A$2=\"\",\"\",D129-C129)","v":""},{"$f":"IF(Stammdaten!$A$2=\"\",\"\",H129/C129)","v":""},{"$f":"IF(Stammdaten!$A$2=\"\",\"\",ABS(H129))","v":""},{"$f":"IF(Stammdaten!$A$2=\"\",\"\",IF(F129>35%,1,\"\"))","v":""},{"$f":"IF(Stammdaten!$A$2=\"\",\"\",IF(I129>35%,1,\"\"))","v":""},{"$f":"IF(Stammdaten!$A$2=\"\",\"\",MONTH(A129))","v":""},{"$f":"IF(Stammdaten!$A$2=\"\",\"\",YEAR(A129))","v":""}]
[{"$f":"Analysedaten!A130","v":""},{"$f":"Berechnungsblatt!C131","v":""},{"$f":"Berechnungsblatt!X131","v":""},{"$f":"Berechnungsblatt!C133","v":""},{"$f":"IF(Stammdaten!$A$2=\"\",\"\",D130-B130)","v":""},{"$f":"IF(Stammdaten!$A$2=\"\",\"\",E130/B130)","v":""},{"$f":"IF(Stammdaten!$A$2=\"\",\"\",ABS(E130))","v":""},{"$f":"IF(Stammdaten!$A$2=\"\",\"\",D130-C130)","v":""},{"$f":"IF(Stammdaten!$A$2=\"\",\"\",H130/C130)","v":""},{"$f":"IF(Stammdaten!$A$2=\"\",\"\",ABS(H130))","v":""},{"$f":"IF(Stammdaten!$A$2=\"\",\"\",IF(F130>35%,1,\"\"))","v":""},{"$f":"IF(Stammdaten!$A$2=\"\",\"\",IF(I130>35%,1,\"\"))","v":""},{"$f":"IF(Stammdaten!$A$2=\"\",\"\",MONTH(A130))","v":""},{"$f":"IF(Stammdaten!$A$2=\"\",\"\",YEAR(A130))","v":""}]
[{"$f":"Analysedaten!A131","v":""},{"$f":"Berechnungsblatt!C132","v":""},{"$f":"Berechnungsblatt!X132","v":""},{"$f":"Berechnungsblatt!C134","v":""},{"$f":"IF(Stammdaten!$A$2=\"\",\"\",D131-B131)","v":""},{"$f":"IF(Stammdaten!$A$2=\"\",\"\",E131/B131)","v":""},{"$f":"IF(Stammdaten!$A$2=\"\",\"\",ABS(E131))","v":""},{"$f":"IF(Stammdaten!$A$2=\"\",\"\",D131-C131)","v":""},{"$f":"IF(Stammdaten!$A$2=\"\",\"\",H131/C131)","v":""},{"$f":"IF(Stammdaten!$A$2=\"\",\"\",ABS(H131))","v":""},{"$f":"IF(Stammdaten!$A$2=\"\",\"\",IF(F131>35%,1,\"\"))","v":""},{"$f":"IF(Stammdaten!$A$2=\"\",\"\",IF(I131>35%,1,\"\"))","v":""},{"$f":"IF(Stammdaten!$A$2=\"\",\"\",MONTH(A131))","v":""},{"$f":"IF(Stammdaten!$A$2=\"\",\"\",YEAR(A131))","v":""}]
[{"$f":"Analysedaten!A132","v":""},{"$f":"Berechnungsblatt!C133","v":""},{"$f":"Berechnungsblatt!X133","v":""},{"$f":"Berechnungsblatt!C135","v":""},{"$f":"IF(Stammdaten!$A$2=\"\",\"\",D132-B132)","v":""},{"$f":"IF(Stammdaten!$A$2=\"\",\"\",E132/B132)","v":""},{"$f":"IF(Stammdaten!$A$2=\"\",\"\",ABS(E132))","v":""},{"$f":"IF(Stammdaten!$A$2=\"\",\"\",D132-C132)","v":""},{"$f":"IF(Stammdaten!$A$2=\"\",\"\",H132/C132)","v":""},{"$f":"IF(Stammdaten!$A$2=\"\",\"\",ABS(H132))","v":""},{"$f":"IF(Stammdaten!$A$2=\"\",\"\",IF(F132>35%,1,\"\"))","v":""},{"$f":"IF(Stammdaten!$A$2=\"\",\"\",IF(I132>35%,1,\"\"))","v":""},{"$f":"IF(Stammdaten!$A$2=\"\",\"\",MONTH(A132))","v":""},{"$f":"IF(Stammdaten!$A$2=\"\",\"\",YEAR(A132))","v":""}]
[{"$f":"Analysedaten!A133","v":""},{"$f":"Berechnungsblatt!C134","v":""},{"$f":"Berechnungsblatt!X134","v":""},{"$f":"Berechnungsblatt!C136","v":""},{"$f":"IF(Stammdaten!$A$2=\"\",\"\",D133-B133)","v":""},{"$f":"IF(Stammdaten!$A$2=\"\",\"\",E133/B133)","v":""},{"$f":"IF(Stammdaten!$A$2=\"\",\"\",ABS(E133))","v":""},{"$f":"IF(Stammdaten!$A$2=\"\",\"\",D133-C133)","v":""},{"$f":"IF(Stammdaten!$A$2=\"\",\"\",H133/C133)","v":""},{"$f":"IF(Stammdaten!$A$2=\"\",\"\",ABS(H133))","v":""},{"$f":"IF(Stammdaten!$A$2=\"\",\"\",IF(F133>35%,1,\"\"))","v":""},{"$f":"IF(Stammdaten!$A$2=\"\",\"\",IF(I133>35%,1,\"\"))","v":""},{"$f":"IF(Stammdaten!$A$2=\"\",\"\",MONTH(A133))","v":""},{"$f":"IF(Stammdaten!$A$2=\"\",\"\",YEAR(A133))","v":""}]
[{"$f":"Analysedaten!A134","v":""},{"$f":"Berechnungsblatt!C135","v":""},{"$f":"Berechnungsblatt!X135","v":""},{"$f":"Berechnungsblatt!C137","v":""},{"$f":"IF(Stammdaten!$A$2=\"\",\"\",D134-B134)","v":""},{"$f":"IF(Stammdaten!$A$2=\"\",\"\",E134/B134)","v":""},{"$f":"IF(Stammdaten!$A$2=\"\",\"\",ABS(E134))","v":""},{"$f":"IF(Stammdaten!$A$2=\"\",\"\",D134-C134)","v":""},{"$f":"IF(Stammdaten!$A$2=\"\",\"\",H134/C134)","v":""},{"$f":"IF(Stammdaten!$A$2=\"\",\"\",ABS(H134))","v":""},{"$f":"IF(Stammdaten!$A$2=\"\",\"\",IF(F134>35%,1,\"\"))","v":""},{"$f":"IF(Stammdaten!$A$2=\"\",\"\",IF(I134>35%,1,\"\"))","v":""},{"$f":"IF(Stammdaten!$A$2=\"\",\"\",MONTH(A134))","v":""},{"$f":"IF(Stammdaten!$A$2=\"\",\"\",YEAR(A134))","v":""}]
[{"$f":"Analysedaten!A135","v":""},{"$f":"Berechnungsblatt!C136","v":""},{"$f":"Berechnungsblatt!X136","v":""},{"$f":"Berechnungsblatt!C138","v":""},{"$f":"IF(Stammdaten!$A$2=\"\",\"\",D135-B135)","v":""},{"$f":"IF(Stammdaten!$A$2=\"\",\"\",E135/B135)","v":""},{"$f":"IF(Stammdaten!$A$2=\"\",\"\",ABS(E135))","v":""},{"$f":"IF(Stammdaten!$A$2=\"\",\"\",D135-C135)","v":""},{"$f":"IF(Stammdaten!$A$2=\"\",\"\",H135/C135)","v":""},{"$f":"IF(Stammdaten!$A$2=\"\",\"\",ABS(H135))","v":""},{"$f":"IF(Stammdaten!$A$2=\"\",\"\",IF(F135>35%,1,\"\"))","v":""},{"$f":"IF(Stammdaten!$A$2=\"\",\"\",IF(I135>35%,1,\"\"))","v":""},{"$f":"IF(Stammdaten!$A$2=\"\",\"\",MONTH(A135))","v":""},{"$f":"IF(Stammdaten!$A$2=\"\",\"\",YEAR(A135))","v":""}]
[{"$f":"Analysedaten!A136","v":""},{"$f":"Berechnungsblatt!C137","v":""},{"$f":"Berechnungsblatt!X137","v":""},{"$f":"Berechnungsblatt!C139","v":""},{"$f":"IF(Stammdaten!$A$2=\"\",\"\",D136-B136)","v":""},{"$f":"IF(Stammdaten!$A$2=\"\",\"\",E136/B136)","v":""},{"$f":"IF(Stammdaten!$A$2=\"\",\"\",ABS(E136))","v":""},{"$f":"IF(Stammdaten!$A$2=\"\",\"\",D136-C136)","v":""},{"$f":"IF(Stammdaten!$A$2=\"\",\"\",H136/C136)","v":""},{"$f":"IF(Stammdaten!$A$2=\"\",\"\",ABS(H136))","v":""},{"$f":"IF(Stammdaten!$A$2=\"\",\"\",IF(F136>35%,1,\"\"))","v":""},{"$f":"IF(Stammdaten!$A$2=\"\",\"\",IF(I136>35%,1,\"\"))","v":""},{"$f":"IF(Stammdaten!$A$2=\"\",\"\",MONTH(A136))","v":""},{"$f":"IF(Stammdaten!$A$2=\"\",\"\",YEAR(A136))","v":""}]
[{"$f":"Analysedaten!A137","v":""},{"$f":"Berechnungsblatt!C138","v":""},{"$f":"Berechnungsblatt!X138","v":""},{"$f":"Berechnungsblatt!C140","v":""},{"$f":"IF(Stammdaten!$A$2=\"\",\"\",D137-B137)","v":""},{"$f":"IF(Stammdaten!$A$2=\"\",\"\",E137/B137)","v":""},{"$f":"IF(Stammdaten!$A$2=\"\",\"\",ABS(E137))","v":""},{"$f":"IF(Stammdaten!$A$2=\"\",\"\",D137-C137)","v":""},{"$f":"IF(Stammdaten!$A$2=\"\",\"\",H137/C137)","v":""},{"$f":"IF(Stammdaten!$A$2=\"\",\"\",ABS(H137))","v":""},{"$f":"IF(Stammdaten!$A$2=\"\",\"\",IF(F137>35%,1,\"\"))","v":""},{"$f":"IF(Stammdaten!$A$2=\"\",\"\",IF(I137>35%,1,\"\"))","v":""},{"$f":"IF(Stammdaten!$A$2=\"\",\"\",MONTH(A137))","v":""},{"$f":"IF(Stammdaten!$A$2=\"\",\"\",YEAR(A137))","v":""}]
[{"$f":"Analysedaten!A138","v":""},{"$f":"Berechnungsblatt!C139","v":""},{"$f":"Berechnungsblatt!X139","v":""},{"$f":"Berechnungsblatt!C141","v":""},{"$f":"IF(Stammdaten!$A$2=\"\",\"\",D138-B138)","v":""},{"$f":"IF(Stammdaten!$A$2=\"\",\"\",E138/B138)","v":""},{"$f":"IF(Stammdaten!$A$2=\"\",\"\",ABS(E138))","v":""},{"$f":"IF(Stammdaten!$A$2=\"\",\"\",D138-C138)","v":""},{"$f":"IF(Stammdaten!$A$2=\"\",\"\",H138/C138)","v":""},{"$f":"IF(Stammdaten!$A$2=\"\",\"\",ABS(H138))","v":""},{"$f":"IF(Stammdaten!$A$2=\"\",\"\",IF(F138>35%,1,\"\"))","v":""},{"$f":"IF(Stammdaten!$A$2=\"\",\"\",IF(I138>35%,1,\"\"))","v":""},{"$f":"IF(Stammdaten!$A$2=\"\",\"\",MONTH(A138))","v":""},{"$f":"IF(Stammdaten!$A$2=\"\",\"\",YEAR(A138))","v":""}]
[{"$f":"Analysedaten!A139","v":""},{"$f":"Berechnungsblatt!C140","v":""},{"$f":"Berechnungsblatt!X140","v":""},{"$f":"Berechnungsblatt!C142","v":""},{"$f":"IF(Stammdaten!$A$2=\"\",\"\",D139-B139)","v":""},{"$f":"IF(Stammdaten!$A$2=\"\",\"\",E139/B139)","v":""},{"$f":"IF(Stammdaten!$A$2=\"\",\"\",ABS(E139))","v":""},{"$f":"IF(Stammdaten!$A$2=\"\",\"\",D139-C139)","v":""},{"$f":"IF(Stammdaten!$A$2=\"\",\"\",H139/C139)","v":""},{"$f":"IF(Stammdaten!$A$2=\"\",\"\",ABS(H139))","v":""},{"$f":"IF(Stammdaten!$A$2=\"\",\"\",IF(F139>35%,1,\"\"))","v":""},{"$f":"IF(Stammdaten!$A$2=\"\",\"\",IF(I139>35%,1,\"\"))","v":""},{"$f":"IF(Stammdaten!$A$2=\"\",\"\",MONTH(A139))","v":""},{"$f":"IF(Stammdaten!$A$2=\"\",\"\",YEAR(A139))","v":""}]
[{"$f":"Analysedaten!A140","v":""},{"$f":"Berechnungsblatt!C141","v":""},{"$f":"Berechnungsblatt!X141","v":""},{"$f":"Berechnungsblatt!C143","v":""},{"$f":"IF(Stammdaten!$A$2=\"\",\"\",D140-B140)","v":""},{"$f":"IF(Stammdaten!$A$2=\"\",\"\",E140/B140)","v":""},{"$f":"IF(Stammdaten!$A$2=\"\",\"\",ABS(E140))","v":""},{"$f":"IF(Stammdaten!$A$2=\"\",\"\",D140-C140)","v":""},{"$f":"IF(Stammdaten!$A$2=\"\",\"\",H140/C140)","v":""},{"$f":"IF(Stammdaten!$A$2=\"\",\"\",ABS(H140))","v":""},{"$f":"IF(Stammdaten!$A$2=\"\",\"\",IF(F140>35%,1,\"\"))","v":""},{"$f":"IF(Stammdaten!$A$2=\"\",\"\",IF(I140>35%,1,\"\"))","v":""},{"$f":"IF(Stammdaten!$A$2=\"\",\"\",MONTH(A140))","v":""},{"$f":"IF(Stammdaten!$A$2=\"\",\"\",YEAR(A140))","v":""}]
[{"$f":"Analysedaten!A141","v":""},{"$f":"Berechnungsblatt!C142","v":""},{"$f":"Berechnungsblatt!X142","v":""},{"$f":"Berechnungsblatt!C144","v":""},{"$f":"IF(Stammdaten!$A$2=\"\",\"\",D141-B141)","v":""},{"$f":"IF(Stammdaten!$A$2=\"\",\"\",E141/B141)","v":""},{"$f":"IF(Stammdaten!$A$2=\"\",\"\",ABS(E141))","v":""},{"$f":"IF(Stammdaten!$A$2=\"\",\"\",D141-C141)","v":""},{"$f":"IF(Stammdaten!$A$2=\"\",\"\",H141/C141)","v":""},{"$f":"IF(Stammdaten!$A$2=\"\",\"\",ABS(H141))","v":""},{"$f":"IF(Stammdaten!$A$2=\"\",\"\",IF(F141>35%,1,\"\"))","v":""},{"$f":"IF(Stammdaten!$A$2=\"\",\"\",IF(I141>35%,1,\"\"))","v":""},{"$f":"IF(Stammdaten!$A$2=\"\",\"\",MONTH(A141))","v":""},{"$f":"IF(Stammdaten!$A$2=\"\",\"\",YEAR(A141))","v":""}]
[{"$f":"Analysedaten!A142","v":""},{"$f":"Berechnungsblatt!C143","v":""},{"$f":"Berechnungsblatt!X143","v":""},{"$f":"Berechnungsblatt!C145","v":""},{"$f":"IF(Stammdaten!$A$2=\"\",\"\",D142-B142)","v":""},{"$f":"IF(Stammdaten!$A$2=\"\",\"\",E142/B142)","v":""},{"$f":"IF(Stammdaten!$A$2=\"\",\"\",ABS(E142))","v":""},{"$f":"IF(Stammdaten!$A$2=\"\",\"\",D142-C142)","v":""},{"$f":"IF(Stammdaten!$A$2=\"\",\"\",H142/C142)","v":""},{"$f":"IF(Stammdaten!$A$2=\"\",\"\",ABS(H142))","v":""},{"$f":"IF(Stammdaten!$A$2=\"\",\"\",IF(F142>35%,1,\"\"))","v":""},{"$f":"IF(Stammdaten!$A$2=\"\",\"\",IF(I142>35%,1,\"\"))","v":""},{"$f":"IF(Stammdaten!$A$2=\"\",\"\",MONTH(A142))","v":""},{"$f":"IF(Stammdaten!$A$2=\"\",\"\",YEAR(A142))","v":""}]
[{"$f":"Analysedaten!A143","v":""},{"$f":"Berechnungsblatt!C144","v":""},{"$f":"Berechnungsblatt!X144","v":""},{"$f":"Berechnungsblatt!C146","v":""},{"$f":"IF(Stammdaten!$A$2=\"\",\"\",D143-B143)","v":""},{"$f":"IF(Stammdaten!$A$2=\"\",\"\",E143/B143)","v":""},{"$f":"IF(Stammdaten!$A$2=\"\",\"\",ABS(E143))","v":""},{"$f":"IF(Stammdaten!$A$2=\"\",\"\",D143-C143)","v":""},{"$f":"IF(Stammdaten!$A$2=\"\",\"\",H143/C143)","v":""},{"$f":"IF(Stammdaten!$A$2=\"\",\"\",ABS(H143))","v":""},{"$f":"IF(Stammdaten!$A$2=\"\",\"\",IF(F143>35%,1,\"\"))","v":""},{"$f":"IF(Stammdaten!$A$2=\"\",\"\",IF(I143>35%,1,\"\"))","v":""},{"$f":"IF(Stammdaten!$A$2=\"\",\"\",MONTH(A143))","v":""},{"$f":"IF(Stammdaten!$A$2=\"\",\"\",YEAR(A143))","v":""}]
[{"$f":"Analysedaten!A144","v":""},{"$f":"Berechnungsblatt!C145","v":""},{"$f":"Berechnungsblatt!X145","v":""},{"$f":"Berechnungsblatt!C147","v":""},{"$f":"IF(Stammdaten!$A$2=\"\",\"\",D144-B144)","v":""},{"$f":"IF(Stammdaten!$A$2=\"\",\"\",E144/B144)","v":""},{"$f":"IF(Stammdaten!$A$2=\"\",\"\",ABS(E144))","v":""},{"$f":"IF(Stammdaten!$A$2=\"\",\"\",D144-C144)","v":""},{"$f":"IF(Stammdaten!$A$2=\"\",\"\",H144/C144)","v":""},{"$f":"IF(Stammdaten!$A$2=\"\",\"\",ABS(H144))","v":""},{"$f":"IF(Stammdaten!$A$2=\"\",\"\",IF(F144>35%,1,\"\"))","v":""},{"$f":"IF(Stammdaten!$A$2=\"\",\"\",IF(I144>35%,1,\"\"))","v":""},{"$f":"IF(Stammdaten!$A$2=\"\",\"\",MONTH(A144))","v":""},{"$f":"IF(Stammdaten!$A$2=\"\",\"\",YEAR(A144))","v":""}]
[{"$f":"Analysedaten!A145","v":""},{"$f":"Berechnungsblatt!C146","v":""},{"$f":"Berechnungsblatt!X146","v":""},{"$f":"Berechnungsblatt!C148","v":""},{"$f":"IF(Stammdaten!$A$2=\"\",\"\",D145-B145)","v":""},{"$f":"IF(Stammdaten!$A$2=\"\",\"\",E145/B145)","v":""},{"$f":"IF(Stammdaten!$A$2=\"\",\"\",ABS(E145))","v":""},{"$f":"IF(Stammdaten!$A$2=\"\",\"\",D145-C145)","v":""},{"$f":"IF(Stammdaten!$A$2=\"\",\"\",H145/C145)","v":""},{"$f":"IF(Stammdaten!$A$2=\"\",\"\",ABS(H145))","v":""},{"$f":"IF(Stammdaten!$A$2=\"\",\"\",IF(F145>35%,1,\"\"))","v":""},{"$f":"IF(Stammdaten!$A$2=\"\",\"\",IF(I145>35%,1,\"\"))","v":""},{"$f":"IF(Stammdaten!$A$2=\"\",\"\",MONTH(A145))","v":""},{"$f":"IF(Stammdaten!$A$2=\"\",\"\",YEAR(A145))","v":""}]
[{"$f":"Analysedaten!A146","v":""},{"$f":"Berechnungsblatt!C147","v":""},{"$f":"Berechnungsblatt!X147","v":""},{"$f":"Berechnungsblatt!C149","v":""},{"$f":"IF(Stammdaten!$A$2=\"\",\"\",D146-B146)","v":""},{"$f":"IF(Stammdaten!$A$2=\"\",\"\",E146/B146)","v":""},{"$f":"IF(Stammdaten!$A$2=\"\",\"\",ABS(E146))","v":""},{"$f":"IF(Stammdaten!$A$2=\"\",\"\",D146-C146)","v":""},{"$f":"IF(Stammdaten!$A$2=\"\",\"\",H146/C146)","v":""},{"$f":"IF(Stammdaten!$A$2=\"\",\"\",ABS(H146))","v":""},{"$f":"IF(Stammdaten!$A$2=\"\",\"\",IF(F146>35%,1,\"\"))","v":""},{"$f":"IF(Stammdaten!$A$2=\"\",\"\",IF(I146>35%,1,\"\"))","v":""},{"$f":"IF(Stammdaten!$A$2=\"\",\"\",MONTH(A146))","v":""},{"$f":"IF(Stammdaten!$A$2=\"\",\"\",YEAR(A146))","v":""}]
[{"$f":"Analysedaten!A147","v":""},{"$f":"Berechnungsblatt!C148","v":""},{"$f":"Berechnungsblatt!X148","v":""},{"$f":"Berechnungsblatt!C150","v":""},{"$f":"IF(Stammdaten!$A$2=\"\",\"\",D147-B147)","v":""},{"$f":"IF(Stammdaten!$A$2=\"\",\"\",E147/B147)","v":""},{"$f":"IF(Stammdaten!$A$2=\"\",\"\",ABS(E147))","v":""},{"$f":"IF(Stammdaten!$A$2=\"\",\"\",D147-C147)","v":""},{"$f":"IF(Stammdaten!$A$2=\"\",\"\",H147/C147)","v":""},{"$f":"IF(Stammdaten!$A$2=\"\",\"\",ABS(H147))","v":""},{"$f":"IF(Stammdaten!$A$2=\"\",\"\",IF(F147>35%,1,\"\"))","v":""},{"$f":"IF(Stammdaten!$A$2=\"\",\"\",IF(I147>35%,1,\"\"))","v":""},{"$f":"IF(Stammdaten!$A$2=\"\",\"\",MONTH(A147))","v":""},{"$f":"IF(Stammdaten!$A$2=\"\",\"\",YEAR(A147))","v":""}]
[{"$f":"Analysedaten!A148","v":""},{"$f":"Berechnungsblatt!C149","v":""},{"$f":"Berechnungsblatt!X149","v":""},{"$f":"Berechnungsblatt!C151","v":""},{"$f":"IF(Stammdaten!$A$2=\"\",\"\",D148-B148)","v":""},{"$f":"IF(Stammdaten!$A$2=\"\",\"\",E148/B148)","v":""},{"$f":"IF(Stammdaten!$A$2=\"\",\"\",ABS(E148))","v":""},{"$f":"IF(Stammdaten!$A$2=\"\",\"\",D148-C148)","v":""},{"$f":"IF(Stammdaten!$A$2=\"\",\"\",H148/C148)","v":""},{"$f":"IF(Stammdaten!$A$2=\"\",\"\",ABS(H148))","v":""},{"$f":"IF(Stammdaten!$A$2=\"\",\"\",IF(F148>35%,1,\"\"))","v":""},{"$f":"IF(Stammdaten!$A$2=\"\",\"\",IF(I148>35%,1,\"\"))","v":""},{"$f":"IF(Stammdaten!$A$2=\"\",\"\",MONTH(A148))","v":""},{"$f":"IF(Stammdaten!$A$2=\"\",\"\",YEAR(A148))","v":""}]
[{"$f":"Analysedaten!A149","v":""},{"$f":"Berechnungsblatt!C150","v":""},{"$f":"Berechnungsblatt!X150","v":""},{"$f":"Berechnungsblatt!C152","v":""},{"$f":"IF(Stammdaten!$A$2=\"\",\"\",D149-B149)","v":""},{"$f":"IF(Stammdaten!$A$2=\"\",\"\",E149/B149)","v":""},{"$f":"IF(Stammdaten!$A$2=\"\",\"\",ABS(E149))","v":""},{"$f":"IF(Stammdaten!$A$2=\"\",\"\",D149-C149)","v":""},{"$f":"IF(Stammdaten!$A$2=\"\",\"\",H149/C149)","v":""},{"$f":"IF(Stammdaten!$A$2=\"\",\"\",ABS(H149))","v":""},{"$f":"IF(Stammdaten!$A$2=\"\",\"\",IF(F149>35%,1,\"\"))","v":""},{"$f":"IF(Stammdaten!$A$2=\"\",\"\",IF(I149>35%,1,\"\"))","v":""},{"$f":"IF(Stammdaten!$A$2=\"\",\"\",MONTH(A149))","v":""},{"$f":"IF(Stammdaten!$A$2=\"\",\"\",YEAR(A149))","v":""}]
[{"$f":"Analysedaten!A150","v":""},{"$f":"Berechnungsblatt!C151","v":""},{"$f":"Berechnungsblatt!X151","v":""},{"$f":"Berechnungsblatt!C153","v":""},{"$f":"IF(Stammdaten!$A$2=\"\",\"\",D150-B150)","v":""},{"$f":"IF(Stammdaten!$A$2=\"\",\"\",E150/B150)","v":""},{"$f":"IF(Stammdaten!$A$2=\"\",\"\",ABS(E150))","v":""},{"$f":"IF(Stammdaten!$A$2=\"\",\"\",D150-C150)","v":""},{"$f":"IF(Stammdaten!$A$2=\"\",\"\",H150/C150)","v":""},{"$f":"IF(Stammdaten!$A$2=\"\",\"\",ABS(H150))","v":""},{"$f":"IF(Stammdaten!$A$2=\"\",\"\",IF(F150>35%,1,\"\"))","v":""},{"$f":"IF(Stammdaten!$A$2=\"\",\"\",IF(I150>35%,1,\"\"))","v":""},{"$f":"IF(Stammdaten!$A$2=\"\",\"\",MONTH(A150))","v":""},{"$f":"IF(Stammdaten!$A$2=\"\",\"\",YEAR(A150))","v":""}]
[{"$f":"Analysedaten!A151","v":""},{"$f":"Berechnungsblatt!C152","v":""},{"$f":"Berechnungsblatt!X152","v":""},{"$f":"Berechnungsblatt!C154","v":""},{"$f":"IF(Stammdaten!$A$2=\"\",\"\",D151-B151)","v":""},{"$f":"IF(Stammdaten!$A$2=\"\",\"\",E151/B151)","v":""},{"$f":"IF(Stammdaten!$A$2=\"\",\"\",ABS(E151))","v":""},{"$f":"IF(Stammdaten!$A$2=\"\",\"\",D151-C151)","v":""},{"$f":"IF(Stammdaten!$A$2=\"\",\"\",H151/C151)","v":""},{"$f":"IF(Stammdaten!$A$2=\"\",\"\",ABS(H151))","v":""},{"$f":"IF(Stammdaten!$A$2=\"\",\"\",IF(F151>35%,1,\"\"))","v":""},{"$f":"IF(Stammdaten!$A$2=\"\",\"\",IF(I151>35%,1,\"\"))","v":""},{"$f":"IF(Stammdaten!$A$2=\"\",\"\",MONTH(A151))","v":""},{"$f":"IF(Stammdaten!$A$2=\"\",\"\",YEAR(A151))","v":""}]
[{"$f":"Analysedaten!A152","v":""},{"$f":"Berechnungsblatt!C153","v":""},{"$f":"Berechnungsblatt!X153","v":""},{"$f":"Berechnungsblatt!C155","v":""},{"$f":"IF(Stammdaten!$A$2=\"\",\"\",D152-B152)","v":""},{"$f":"IF(Stammdaten!$A$2=\"\",\"\",E152/B152)","v":""},{"$f":"IF(Stammdaten!$A$2=\"\",\"\",ABS(E152))","v":""},{"$f":"IF(Stammdaten!$A$2=\"\",\"\",D152-C152)","v":""},{"$f":"IF(Stammdaten!$A$2=\"\",\"\",H152/C152)","v":""},{"$f":"IF(Stammdaten!$A$2=\"\",\"\",ABS(H152))","v":""},{"$f":"IF(Stammdaten!$A$2=\"\",\"\",IF(F152>35%,1,\"\"))","v":""},{"$f":"IF(Stammdaten!$A$2=\"\",\"\",IF(I152>35%,1,\"\"))","v":""},{"$f":"IF(Stammdaten!$A$2=\"\",\"\",MONTH(A152))","v":""},{"$f":"IF(Stammdaten!$A$2=\"\",\"\",YEAR(A152))","v":""}]
[{"$f":"Analysedaten!A153","v":""},{"$f":"Berechnungsblatt!C154","v":""},{"$f":"Berechnungsblatt!X154","v":""},{"$f":"Berechnungsblatt!C156","v":""},{"$f":"IF(Stammdaten!$A$2=\"\",\"\",D153-B153)","v":""},{"$f":"IF(Stammdaten!$A$2=\"\",\"\",E153/B153)","v":""},{"$f":"IF(Stammdaten!$A$2=\"\",\"\",ABS(E153))","v":""},{"$f":"IF(Stammdaten!$A$2=\"\",\"\",D153-C153)","v":""},{"$f":"IF(Stammdaten!$A$2=\"\",\"\",H153/C153)","v":""},{"$f":"IF(Stammdaten!$A$2=\"\",\"\",ABS(H153))","v":""},{"$f":"IF(Stammdaten!$A$2=\"\",\"\",IF(F153>35%,1,\"\"))","v":""},{"$f":"IF(Stammdaten!$A$2=\"\",\"\",IF(I153>35%,1,\"\"))","v":""},{"$f":"IF(Stammdaten!$A$2=\"\",\"\",MONTH(A153))","v":""},{"$f":"IF(Stammdaten!$A$2=\"\",\"\",YEAR(A153))","v":""}]
[{"$f":"Analysedaten!A154","v":""},{"$f":"Berechnungsblatt!C155","v":""},{"$f":"Berechnungsblatt!X155","v":""},{"$f":"Berechnungsblatt!C157","v":""},{"$f":"IF(Stammdaten!$A$2=\"\",\"\",D154-B154)","v":""},{"$f":"IF(Stammdaten!$A$2=\"\",\"\",E154/B154)","v":""},{"$f":"IF(Stammdaten!$A$2=\"\",\"\",ABS(E154))","v":""},{"$f":"IF(Stammdaten!$A$2=\"\",\"\",D154-C154)","v":""},{"$f":"IF(Stammdaten!$A$2=\"\",\"\",H154/C154)","v":""},{"$f":"IF(Stammdaten!$A$2=\"\",\"\",ABS(H154))","v":""},{"$f":"IF(Stammdaten!$A$2=\"\",\"\",IF(F154>35%,1,\"\"))","v":""},{"$f":"IF(Stammdaten!$A$2=\"\",\"\",IF(I154>35%,1,\"\"))","v":""},{"$f":"IF(Stammdaten!$A$2=\"\",\"\",MONTH(A154))","v":""},{"$f":"IF(Stammdaten!$A$2=\"\",\"\",YEAR(A154))","v":""}]
[{"$f":"Analysedaten!A155","v":""},{"$f":"Berechnungsblatt!C156","v":""},{"$f":"Berechnungsblatt!X156","v":""},{"$f":"Berechnungsblatt!C158","v":""},{"$f":"IF(Stammdaten!$A$2=\"\",\"\",D155-B155)","v":""},{"$f":"IF(Stammdaten!$A$2=\"\",\"\",E155/B155)","v":""},{"$f":"IF(Stammdaten!$A$2=\"\",\"\",ABS(E155))","v":""},{"$f":"IF(Stammdaten!$A$2=\"\",\"\",D155-C155)","v":""},{"$f":"IF(Stammdaten!$A$2=\"\",\"\",H155/C155)","v":""},{"$f":"IF(Stammdaten!$A$2=\"\",\"\",ABS(H155))","v":""},{"$f":"IF(Stammdaten!$A$2=\"\",\"\",IF(F155>35%,1,\"\"))","v":""},{"$f":"IF(Stammdaten!$A$2=\"\",\"\",IF(I155>35%,1,\"\"))","v":""},{"$f":"IF(Stammdaten!$A$2=\"\",\"\",MONTH(A155))","v":""},{"$f":"IF(Stammdaten!$A$2=\"\",\"\",YEAR(A155))","v":""}]
[{"$f":"Analysedaten!A156","v":""},{"$f":"Berechnungsblatt!C157","v":""},{"$f":"Berechnungsblatt!X157","v":""},{"$f":"Berechnungsblatt!C159","v":""},{"$f":"IF(Stammdaten!$A$2=\"\",\"\",D156-B156)","v":""},{"$f":"IF(Stammdaten!$A$2=\"\",\"\",E156/B156)","v":""},{"$f":"IF(Stammdaten!$A$2=\"\",\"\",ABS(E156))","v":""},{"$f":"IF(Stammdaten!$A$2=\"\",\"\",D156-C156)","v":""},{"$f":"IF(Stammdaten!$A$2=\"\",\"\",H156/C156)","v":""},{"$f":"IF(Stammdaten!$A$2=\"\",\"\",ABS(H156))","v":""},{"$f":"IF(Stammdaten!$A$2=\"\",\"\",IF(F156>35%,1,\"\"))","v":""},{"$f":"IF(Stammdaten!$A$2=\"\",\"\",IF(I156>35%,1,\"\"))","v":""},{"$f":"IF(Stammdaten!$A$2=\"\",\"\",MONTH(A156))","v":""},{"$f":"IF(Stammdaten!$A$2=\"\",\"\",YEAR(A156))","v":""}]
[{"$f":"Analysedaten!A157","v":""},{"$f":"Berechnungsblatt!C158","v":""},{"$f":"Berechnungsblatt!X158","v":""},{"$f":"Berechnungsblatt!C160","v":""},{"$f":"IF(Stammdaten!$A$2=\"\",\"\",D157-B157)","v":""},{"$f":"IF(Stammdaten!$A$2=\"\",\"\",E157/B157)","v":""},{"$f":"IF(Stammdaten!$A$2=\"\",\"\",ABS(E157))","v":""},{"$f":"IF(Stammdaten!$A$2=\"\",\"\",D157-C157)","v":""},{"$f":"IF(Stammdaten!$A$2=\"\",\"\",H157/C157)","v":""},{"$f":"IF(Stammdaten!$A$2=\"\",\"\",ABS(H157))","v":""},{"$f":"IF(Stammdaten!$A$2=\"\",\"\",IF(F157>35%,1,\"\"))","v":""},{"$f":"IF(Stammdaten!$A$2=\"\",\"\",IF(I157>35%,1,\"\"))","v":""},{"$f":"IF(Stammdaten!$A$2=\"\",\"\",MONTH(A157))","v":""},{"$f":"IF(Stammdaten!$A$2=\"\",\"\",YEAR(A157))","v":""}]
[{"$f":"Analysedaten!A158","v":""},{"$f":"Berechnungsblatt!C159","v":""},{"$f":"Berechnungsblatt!X159","v":""},{"$f":"Berechnungsblatt!C161","v":""},{"$f":"IF(Stammdaten!$A$2=\"\",\"\",D158-B158)","v":""},{"$f":"IF(Stammdaten!$A$2=\"\",\"\",E158/B158)","v":""},{"$f":"IF(Stammdaten!$A$2=\"\",\"\",ABS(E158))","v":""},{"$f":"IF(Stammdaten!$A$2=\"\",\"\",D158-C158)","v":""},{"$f":"IF(Stammdaten!$A$2=\"\",\"\",H158/C158)","v":""},{"$f":"IF(Stammdaten!$A$2=\"\",\"\",ABS(H158))","v":""},{"$f":"IF(Stammdaten!$A$2=\"\",\"\",IF(F158>35%,1,\"\"))","v":""},{"$f":"IF(Stammdaten!$A$2=\"\",\"\",IF(I158>35%,1,\"\"))","v":""},{"$f":"IF(Stammdaten!$A$2=\"\",\"\",MONTH(A158))","v":""},{"$f":"IF(Stammdaten!$A$2=\"\",\"\",YEAR(A158))","v":""}]
[{"$f":"Analysedaten!A159","v":""},{"$f":"Berechnungsblatt!C160","v":""},{"$f":"Berechnungsblatt!X160","v":""},{"$f":"Berechnungsblatt!C162","v":""},{"$f":"IF(Stammdaten!$A$2=\"\",\"\",D159-B159)","v":""},{"$f":"IF(Stammdaten!$A$2=\"\",\"\",E159/B159)","v":""},{"$f":"IF(Stammdaten!$A$2=\"\",\"\",ABS(E159))","v":""},{"$f":"IF(Stammdaten!$A$2=\"\",\"\",D159-C159)","v":""},{"$f":"IF(Stammdaten!$A$2=\"\",\"\",H159/C159)","v":""},{"$f":"IF(Stammdaten!$A$2=\"\",\"\",ABS(H159))","v":""},{"$f":"IF(Stammdaten!$A$2=\"\",\"\",IF(F159>35%,1,\"\"))","v":""},{"$f":"IF(Stammdaten!$A$2=\"\",\"\",IF(I159>35%,1,\"\"))","v":""},{"$f":"IF(Stammdaten!$A$2=\"\",\"\",MONTH(A159))","v":""},{"$f":"IF(Stammdaten!$A$2=\"\",\"\",YEAR(A159))","v":""}]
[{"$f":"Analysedaten!A160","v":""},{"$f":"Berechnungsblatt!C161","v":""},{"$f":"Berechnungsblatt!X161","v":""},{"$f":"Berechnungsblatt!C163","v":""},{"$f":"IF(Stammdaten!$A$2=\"\",\"\",D160-B160)","v":""},{"$f":"IF(Stammdaten!$A$2=\"\",\"\",E160/B160)","v":""},{"$f":"IF(Stammdaten!$A$2=\"\",\"\",ABS(E160))","v":""},{"$f":"IF(Stammdaten!$A$2=\"\",\"\",D160-C160)","v":""},{"$f":"IF(Stammdaten!$A$2=\"\",\"\",H160/C160)","v":""},{"$f":"IF(Stammdaten!$A$2=\"\",\"\",ABS(H160))","v":""},{"$f":"IF(Stammdaten!$A$2=\"\",\"\",IF(F160>35%,1,\"\"))","v":""},{"$f":"IF(Stammdaten!$A$2=\"\",\"\",IF(I160>35%,1,\"\"))","v":""},{"$f":"IF(Stammdaten!$A$2=\"\",\"\",MONTH(A160))","v":""},{"$f":"IF(Stammdaten!$A$2=\"\",\"\",YEAR(A160))","v":""}]
[{"$f":"Analysedaten!A161","v":""},{"$f":"Berechnungsblatt!C162","v":""},{"$f":"Berechnungsblatt!X162","v":""},{"$f":"Berechnungsblatt!C164","v":""},{"$f":"IF(Stammdaten!$A$2=\"\",\"\",D161-B161)","v":""},{"$f":"IF(Stammdaten!$A$2=\"\",\"\",E161/B161)","v":""},{"$f":"IF(Stammdaten!$A$2=\"\",\"\",ABS(E161))","v":""},{"$f":"IF(Stammdaten!$A$2=\"\",\"\",D161-C161)","v":""},{"$f":"IF(Stammdaten!$A$2=\"\",\"\",H161/C161)","v":""},{"$f":"IF(Stammdaten!$A$2=\"\",\"\",ABS(H161))","v":""},{"$f":"IF(Stammdaten!$A$2=\"\",\"\",IF(F161>35%,1,\"\"))","v":""},{"$f":"IF(Stammdaten!$A$2=\"\",\"\",IF(I161>35%,1,\"\"))","v":""},{"$f":"IF(Stammdaten!$A$2=\"\",\"\",MONTH(A161))","v":""},{"$f":"IF(Stammdaten!$A$2=\"\",\"\",YEAR(A161))","v":""}]
[{"$f":"Analysedaten!A162","v":""},{"$f":"Berechnungsblatt!C163","v":""},{"$f":"Berechnungsblatt!X163","v":""},{"$f":"Berechnungsblatt!C165","v":""},{"$f":"IF(Stammdaten!$A$2=\"\",\"\",D162-B162)","v":""},{"$f":"IF(Stammdaten!$A$2=\"\",\"\",E162/B162)","v":""},{"$f":"IF(Stammdaten!$A$2=\"\",\"\",ABS(E162))","v":""},{"$f":"IF(Stammdaten!$A$2=\"\",\"\",D162-C162)","v":""},{"$f":"IF(Stammdaten!$A$2=\"\",\"\",H162/C162)","v":""},{"$f":"IF(Stammdaten!$A$2=\"\",\"\",ABS(H162))","v":""},{"$f":"IF(Stammdaten!$A$2=\"\",\"\",IF(F162>35%,1,\"\"))","v":""},{"$f":"IF(Stammdaten!$A$2=\"\",\"\",IF(I162>35%,1,\"\"))","v":""},{"$f":"IF(Stammdaten!$A$2=\"\",\"\",MONTH(A162))","v":""},{"$f":"IF(Stammdaten!$A$2=\"\",\"\",YEAR(A162))","v":""}]
[{"$f":"Analysedaten!A163","v":""},{"$f":"Berechnungsblatt!C164","v":""},{"$f":"Berechnungsblatt!X164","v":""},{"$f":"Berechnungsblatt!C166","v":""},{"$f":"IF(Stammdaten!$A$2=\"\",\"\",D163-B163)","v":""},{"$f":"IF(Stammdaten!$A$2=\"\",\"\",E163/B163)","v":""},{"$f":"IF(Stammdaten!$A$2=\"\",\"\",ABS(E163))","v":""},{"$f":"IF(Stammdaten!$A$2=\"\",\"\",D163-C163)","v":""},{"$f":"IF(Stammdaten!$A$2=\"\",\"\",H163/C163)","v":""},{"$f":"IF(Stammdaten!$A$2=\"\",\"\",ABS(H163))","v":""},{"$f":"IF(Stammdaten!$A$2=\"\",\"\",IF(F163>35%,1,\"\"))","v":""},{"$f":"IF(Stammdaten!$A$2=\"\",\"\",IF(I163>35%,1,\"\"))","v":""},{"$f":"IF(Stammdaten!$A$2=\"\",\"\",MONTH(A163))","v":""},{"$f":"IF(Stammdaten!$A$2=\"\",\"\",YEAR(A163))","v":""}]
[{"$f":"Analysedaten!A164","v":""},{"$f":"Berechnungsblatt!C165","v":""},{"$f":"Berechnungsblatt!X165","v":""},{"$f":"Berechnungsblatt!C167","v":""},{"$f":"IF(Stammdaten!$A$2=\"\",\"\",D164-B164)","v":""},{"$f":"IF(Stammdaten!$A$2=\"\",\"\",E164/B164)","v":""},{"$f":"IF(Stammdaten!$A$2=\"\",\"\",ABS(E164))","v":""},{"$f":"IF(Stammdaten!$A$2=\"\",\"\",D164-C164)","v":""},{"$f":"IF(Stammdaten!$A$2=\"\",\"\",H164/C164)","v":""},{"$f":"IF(Stammdaten!$A$2=\"\",\"\",ABS(H164))","v":""},{"$f":"IF(Stammdaten!$A$2=\"\",\"\",IF(F164>35%,1,\"\"))","v":""},{"$f":"IF(Stammdaten!$A$2=\"\",\"\",IF(I164>35%,1,\"\"))","v":""},{"$f":"IF(Stammdaten!$A$2=\"\",\"\",MONTH(A164))","v":""},{"$f":"IF(Stammdaten!$A$2=\"\",\"\",YEAR(A164))","v":""}]
[{"$f":"Analysedaten!A165","v":""},{"$f":"Berechnungsblatt!C166","v":""},{"$f":"Berechnungsblatt!X166","v":""},{"$f":"Berechnungsblatt!C168","v":""},{"$f":"IF(Stammdaten!$A$2=\"\",\"\",D165-B165)","v":""},{"$f":"IF(Stammdaten!$A$2=\"\",\"\",E165/B165)","v":""},{"$f":"IF(Stammdaten!$A$2=\"\",\"\",ABS(E165))","v":""},{"$f":"IF(Stammdaten!$A$2=\"\",\"\",D165-C165)","v":""},{"$f":"IF(Stammdaten!$A$2=\"\",\"\",H165/C165)","v":""},{"$f":"IF(Stammdaten!$A$2=\"\",\"\",ABS(H165))","v":""},{"$f":"IF(Stammdaten!$A$2=\"\",\"\",IF(F165>35%,1,\"\"))","v":""},{"$f":"IF(Stammdaten!$A$2=\"\",\"\",IF(I165>35%,1,\"\"))","v":""},{"$f":"IF(Stammdaten!$A$2=\"\",\"\",MONTH(A165))","v":""},{"$f":"IF(Stammdaten!$A$2=\"\",\"\",YEAR(A165))","v":""}]
[{"$f":"Analysedaten!A166","v":""},{"$f":"Berechnungsblatt!C167","v":""},{"$f":"Berechnungsblatt!X167","v":""},{"$f":"Berechnungsblatt!C169","v":""},{"$f":"IF(Stammdaten!$A$2=\"\",\"\",D166-B166)","v":""},{"$f":"IF(Stammdaten!$A$2=\"\",\"\",E166/B166)","v":""},{"$f":"IF(Stammdaten!$A$2=\"\",\"\",ABS(E166))","v":""},{"$f":"IF(Stammdaten!$A$2=\"\",\"\",D166-C166)","v":""},{"$f":"IF(Stammdaten!$A$2=\"\",\"\",H166/C166)","v":""},{"$f":"IF(Stammdaten!$A$2=\"\",\"\",ABS(H166))","v":""},{"$f":"IF(Stammdaten!$A$2=\"\",\"\",IF(F166>35%,1,\"\"))","v":""},{"$f":"IF(Stammdaten!$A$2=\"\",\"\",IF(I166>35%,1,\"\"))","v":""},{"$f":"IF(Stammdaten!$A$2=\"\",\"\",MONTH(A166))","v":""},{"$f":"IF(Stammdaten!$A$2=\"\",\"\",YEAR(A166))","v":""}]
[{"$f":"Analysedaten!A167","v":""},{"$f":"Berechnungsblatt!C168","v":""},{"$f":"Berechnungsblatt!X168","v":""},{"$f":"Berechnungsblatt!C170","v":""},{"$f":"IF(Stammdaten!$A$2=\"\",\"\",D167-B167)","v":""},{"$f":"IF(Stammdaten!$A$2=\"\",\"\",E167/B167)","v":""},{"$f":"IF(Stammdaten!$A$2=\"\",\"\",ABS(E167))","v":""},{"$f":"IF(Stammdaten!$A$2=\"\",\"\",D167-C167)","v":""},{"$f":"IF(Stammdaten!$A$2=\"\",\"\",H167/C167)","v":""},{"$f":"IF(Stammdaten!$A$2=\"\",\"\",ABS(H167))","v":""},{"$f":"IF(Stammdaten!$A$2=\"\",\"\",IF(F167>35%,1,\"\"))","v":""},{"$f":"IF(Stammdaten!$A$2=\"\",\"\",IF(I167>35%,1,\"\"))","v":""},{"$f":"IF(Stammdaten!$A$2=\"\",\"\",MONTH(A167))","v":""},{"$f":"IF(Stammdaten!$A$2=\"\",\"\",YEAR(A167))","v":""}]
[{"$f":"Analysedaten!A168","v":""},{"$f":"Berechnungsblatt!C169","v":""},{"$f":"Berechnungsblatt!X169","v":""},{"$f":"Berechnungsblatt!C171","v":""},{"$f":"IF(Stammdaten!$A$2=\"\",\"\",D168-B168)","v":""},{"$f":"IF(Stammdaten!$A$2=\"\",\"\",E168/B168)","v":""},{"$f":"IF(Stammdaten!$A$2=\"\",\"\",ABS(E168))","v":""},{"$f":"IF(Stammdaten!$A$2=\"\",\"\",D168-C168)","v":""},{"$f":"IF(Stammdaten!$A$2=\"\",\"\",H168/C168)","v":""},{"$f":"IF(Stammdaten!$A$2=\"\",\"\",ABS(H168))","v":""},{"$f":"IF(Stammdaten!$A$2=\"\",\"\",IF(F168>35%,1,\"\"))","v":""},{"$f":"IF(Stammdaten!$A$2=\"\",\"\",IF(I168>35%,1,\"\"))","v":""},{"$f":"IF(Stammdaten!$A$2=\"\",\"\",MONTH(A168))","v":""},{"$f":"IF(Stammdaten!$A$2=\"\",\"\",YEAR(A168))","v":""}]
[{"$f":"Analysedaten!A169","v":""},{"$f":"Berechnungsblatt!C170","v":""},{"$f":"Berechnungsblatt!X170","v":""},{"$f":"Berechnungsblatt!C172","v":""},{"$f":"IF(Stammdaten!$A$2=\"\",\"\",D169-B169)","v":""},{"$f":"IF(Stammdaten!$A$2=\"\",\"\",E169/B169)","v":""},{"$f":"IF(Stammdaten!$A$2=\"\",\"\",ABS(E169))","v":""},{"$f":"IF(Stammdaten!$A$2=\"\",\"\",D169-C169)","v":""},{"$f":"IF(Stammdaten!$A$2=\"\",\"\",H169/C169)","v":""},{"$f":"IF(Stammdaten!$A$2=\"\",\"\",ABS(H169))","v":""},{"$f":"IF(Stammdaten!$A$2=\"\",\"\",IF(F169>35%,1,\"\"))","v":""},{"$f":"IF(Stammdaten!$A$2=\"\",\"\",IF(I169>35%,1,\"\"))","v":""},{"$f":"IF(Stammdaten!$A$2=\"\",\"\",MONTH(A169))","v":""},{"$f":"IF(Stammdaten!$A$2=\"\",\"\",YEAR(A169))","v":""}]
[{"$f":"Analysedaten!A170","v":""},{"$f":"Berechnungsblatt!C171","v":""},{"$f":"Berechnungsblatt!X171","v":""},{"$f":"Berechnungsblatt!C173","v":""},{"$f":"IF(Stammdaten!$A$2=\"\",\"\",D170-B170)","v":""},{"$f":"IF(Stammdaten!$A$2=\"\",\"\",E170/B170)","v":""},{"$f":"IF(Stammdaten!$A$2=\"\",\"\",ABS(E170))","v":""},{"$f":"IF(Stammdaten!$A$2=\"\",\"\",D170-C170)","v":""},{"$f":"IF(Stammdaten!$A$2=\"\",\"\",H170/C170)","v":""},{"$f":"IF(Stammdaten!$A$2=\"\",\"\",ABS(H170))","v":""},{"$f":"IF(Stammdaten!$A$2=\"\",\"\",IF(F170>35%,1,\"\"))","v":""},{"$f":"IF(Stammdaten!$A$2=\"\",\"\",IF(I170>35%,1,\"\"))","v":""},{"$f":"IF(Stammdaten!$A$2=\"\",\"\",MONTH(A170))","v":""},{"$f":"IF(Stammdaten!$A$2=\"\",\"\",YEAR(A170))","v":""}]
[{"$f":"Analysedaten!A171","v":""},{"$f":"Berechnungsblatt!C172","v":""},{"$f":"Berechnungsblatt!X172","v":""},{"$f":"Berechnungsblatt!C174","v":""},{"$f":"IF(Stammdaten!$A$2=\"\",\"\",D171-B171)","v":""},{"$f":"IF(Stammdaten!$A$2=\"\",\"\",E171/B171)","v":""},{"$f":"IF(Stammdaten!$A$2=\"\",\"\",ABS(E171))","v":""},{"$f":"IF(Stammdaten!$A$2=\"\",\"\",D171-C171)","v":""},{"$f":"IF(Stammdaten!$A$2=\"\",\"\",H171/C171)","v":""},{"$f":"IF(Stammdaten!$A$2=\"\",\"\",ABS(H171))","v":""},{"$f":"IF(Stammdaten!$A$2=\"\",\"\",IF(F171>35%,1,\"\"))","v":""},{"$f":"IF(Stammdaten!$A$2=\"\",\"\",IF(I171>35%,1,\"\"))","v":""},{"$f":"IF(Stammdaten!$A$2=\"\",\"\",MONTH(A171))","v":""},{"$f":"IF(Stammdaten!$A$2=\"\",\"\",YEAR(A171))","v":""}]
[{"$f":"Analysedaten!A172","v":""},{"$f":"Berechnungsblatt!C173","v":""},{"$f":"Berechnungsblatt!X173","v":""},{"$f":"Berechnungsblatt!C175","v":""},{"$f":"IF(Stammdaten!$A$2=\"\",\"\",D172-B172)","v":""},{"$f":"IF(Stammdaten!$A$2=\"\",\"\",E172/B172)","v":""},{"$f":"IF(Stammdaten!$A$2=\"\",\"\",ABS(E172))","v":""},{"$f":"IF(Stammdaten!$A$2=\"\",\"\",D172-C172)","v":""},{"$f":"IF(Stammdaten!$A$2=\"\",\"\",H172/C172)","v":""},{"$f":"IF(Stammdaten!$A$2=\"\",\"\",ABS(H172))","v":""},{"$f":"IF(Stammdaten!$A$2=\"\",\"\",IF(F172>35%,1,\"\"))","v":""},{"$f":"IF(Stammdaten!$A$2=\"\",\"\",IF(I172>35%,1,\"\"))","v":""},{"$f":"IF(Stammdaten!$A$2=\"\",\"\",MONTH(A172))","v":""},{"$f":"IF(Stammdaten!$A$2=\"\",\"\",YEAR(A172))","v":""}]
[{"$f":"Analysedaten!A173","v":""},{"$f":"Berechnungsblatt!C174","v":""},{"$f":"Berechnungsblatt!X174","v":""},{"$f":"Berechnungsblatt!C176","v":""},{"$f":"IF(Stammdaten!$A$2=\"\",\"\",D173-B173)","v":""},{"$f":"IF(Stammdaten!$A$2=\"\",\"\",E173/B173)","v":""},{"$f":"IF(Stammdaten!$A$2=\"\",\"\",ABS(E173))","v":""},{"$f":"IF(Stammdaten!$A$2=\"\",\"\",D173-C173)","v":""},{"$f":"IF(Stammdaten!$A$2=\"\",\"\",H173/C173)","v":""},{"$f":"IF(Stammdaten!$A$2=\"\",\"\",ABS(H173))","v":""},{"$f":"IF(Stammdaten!$A$2=\"\",\"\",IF(F173>35%,1,\"\"))","v":""},{"$f":"IF(Stammdaten!$A$2=\"\",\"\",IF(I173>35%,1,\"\"))","v":""},{"$f":"IF(Stammdaten!$A$2=\"\",\"\",MONTH(A173))","v":""},{"$f":"IF(Stammdaten!$A$2=\"\",\"\",YEAR(A173))","v":""}]
[{"$f":"Analysedaten!A174","v":""},{"$f":"Berechnungsblatt!C175","v":""},{"$f":"Berechnungsblatt!X175","v":""},{"$f":"Berechnungsblatt!C177","v":""},{"$f":"IF(Stammdaten!$A$2=\"\",\"\",D174-B174)","v":""},{"$f":"IF(Stammdaten!$A$2=\"\",\"\",E174/B174)","v":""},{"$f":"IF(Stammdaten!$A$2=\"\",\"\",ABS(E174))","v":""},{"$f":"IF(Stammdaten!$A$2=\"\",\"\",D174-C174)","v":""},{"$f":"IF(Stammdaten!$A$2=\"\",\"\",H174/C174)","v":""},{"$f":"IF(Stammdaten!$A$2=\"\",\"\",ABS(H174))","v":""},{"$f":"IF(Stammdaten!$A$2=\"\",\"\",IF(F174>35%,1,\"\"))","v":""},{"$f":"IF(Stammdaten!$A$2=\"\",\"\",IF(I174>35%,1,\"\"))","v":""},{"$f":"IF(Stammdaten!$A$2=\"\",\"\",MONTH(A174))","v":""},{"$f":"IF(Stammdaten!$A$2=\"\",\"\",YEAR(A174))","v":""}]
[{"$f":"Analysedaten!A175","v":""},{"$f":"Berechnungsblatt!C176","v":""},{"$f":"Berechnungsblatt!X176","v":""},{"$f":"Berechnungsblatt!C178","v":""},{"$f":"IF(Stammdaten!$A$2=\"\",\"\",D175-B175)","v":""},{"$f":"IF(Stammdaten!$A$2=\"\",\"\",E175/B175)","v":""},{"$f":"IF(Stammdaten!$A$2=\"\",\"\",ABS(E175))","v":""},{"$f":"IF(Stammdaten!$A$2=\"\",\"\",D175-C175)","v":""},{"$f":"IF(Stammdaten!$A$2=\"\",\"\",H175/C175)","v":""},{"$f":"IF(Stammdaten!$A$2=\"\",\"\",ABS(H175))","v":""},{"$f":"IF(Stammdaten!$A$2=\"\",\"\",IF(F175>35%,1,\"\"))","v":""},{"$f":"IF(Stammdaten!$A$2=\"\",\"\",IF(I175>35%,1,\"\"))","v":""},{"$f":"IF(Stammdaten!$A$2=\"\",\"\",MONTH(A175))","v":""},{"$f":"IF(Stammdaten!$A$2=\"\",\"\",YEAR(A175))","v":""}]
[{"$f":"Analysedaten!A176","v":""},{"$f":"Berechnungsblatt!C177","v":""},{"$f":"Berechnungsblatt!X177","v":""},{"$f":"Berechnungsblatt!C179","v":""},{"$f":"IF(Stammdaten!$A$2=\"\",\"\",D176-B176)","v":""},{"$f":"IF(Stammdaten!$A$2=\"\",\"\",E176/B176)","v":""},{"$f":"IF(Stammdaten!$A$2=\"\",\"\",ABS(E176))","v":""},{"$f":"IF(Stammdaten!$A$2=\"\",\"\",D176-C176)","v":""},{"$f":"IF(Stammdaten!$A$2=\"\",\"\",H176/C176)","v":""},{"$f":"IF(Stammdaten!$A$2=\"\",\"\",ABS(H176))","v":""},{"$f":"IF(Stammdaten!$A$2=\"\",\"\",IF(F176>35%,1,\"\"))","v":""},{"$f":"IF(Stammdaten!$A$2=\"\",\"\",IF(I176>35%,1,\"\"))","v":""},{"$f":"IF(Stammdaten!$A$2=\"\",\"\",MONTH(A176))","v":""},{"$f":"IF(Stammdaten!$A$2=\"\",\"\",YEAR(A176))","v":""}]
[{"$f":"Analysedaten!A177","v":""},{"$f":"Berechnungsblatt!C178","v":""},{"$f":"Berechnungsblatt!X178","v":""},{"$f":"Berechnungsblatt!C180","v":""},{"$f":"IF(Stammdaten!$A$2=\"\",\"\",D177-B177)","v":""},{"$f":"IF(Stammdaten!$A$2=\"\",\"\",E177/B177)","v":""},{"$f":"IF(Stammdaten!$A$2=\"\",\"\",ABS(E177))","v":""},{"$f":"IF(Stammdaten!$A$2=\"\",\"\",D177-C177)","v":""},{"$f":"IF(Stammdaten!$A$2=\"\",\"\",H177/C177)","v":""},{"$f":"IF(Stammdaten!$A$2=\"\",\"\",ABS(H177))","v":""},{"$f":"IF(Stammdaten!$A$2=\"\",\"\",IF(F177>35%,1,\"\"))","v":""},{"$f":"IF(Stammdaten!$A$2=\"\",\"\",IF(I177>35%,1,\"\"))","v":""},{"$f":"IF(Stammdaten!$A$2=\"\",\"\",MONTH(A177))","v":""},{"$f":"IF(Stammdaten!$A$2=\"\",\"\",YEAR(A177))","v":""}]
[{"$f":"Analysedaten!A178","v":""},{"$f":"Berechnungsblatt!C179","v":""},{"$f":"Berechnungsblatt!X179","v":""},{"$f":"Berechnungsblatt!C181","v":""},{"$f":"IF(Stammdaten!$A$2=\"\",\"\",D178-B178)","v":""},{"$f":"IF(Stammdaten!$A$2=\"\",\"\",E178/B178)","v":""},{"$f":"IF(Stammdaten!$A$2=\"\",\"\",ABS(E178))","v":""},{"$f":"IF(Stammdaten!$A$2=\"\",\"\",D178-C178)","v":""},{"$f":"IF(Stammdaten!$A$2=\"\",\"\",H178/C178)","v":""},{"$f":"IF(Stammdaten!$A$2=\"\",\"\",ABS(H178))","v":""},{"$f":"IF(Stammdaten!$A$2=\"\",\"\",IF(F178>35%,1,\"\"))","v":""},{"$f":"IF(Stammdaten!$A$2=\"\",\"\",IF(I178>35%,1,\"\"))","v":""},{"$f":"IF(Stammdaten!$A$2=\"\",\"\",MONTH(A178))","v":""},{"$f":"IF(Stammdaten!$A$2=\"\",\"\",YEAR(A178))","v":""}]
[{"$f":"Analysedaten!A179","v":""},{"$f":"Berechnungsblatt!C180","v":""},{"$f":"Berechnungsblatt!X180","v":""},{"$f":"Berechnungsblatt!C182","v":""},{"$f":"IF(Stammdaten!$A$2=\"\",\"\",D179-B179)","v":""},{"$f":"IF(Stammdaten!$A$2=\"\",\"\",E179/B179)","v":""},{"$f":"IF(Stammdaten!$A$2=\"\",\"\",ABS(E179))","v":""},{"$f":"IF(Stammdaten!$A$2=\"\",\"\",D179-C179)","v":""},{"$f":"IF(Stammdaten!$A$2=\"\",\"\",H179/C179)","v":""},{"$f":"IF(Stammdaten!$A$2=\"\",\"\",ABS(H179))","v":""},{"$f":"IF(Stammdaten!$A$2=\"\",\"\",IF(F179>35%,1,\"\"))","v":""},{"$f":"IF(Stammdaten!$A$2=\"\",\"\",IF(I179>35%,1,\"\"))","v":""},{"$f":"IF(Stammdaten!$A$2=\"\",\"\",MONTH(A179))","v":""},{"$f":"IF(Stammdaten!$A$2=\"\",\"\",YEAR(A179))","v":""}]
[{"$f":"Analysedaten!A180","v":""},{"$f":"Berechnungsblatt!C181","v":""},{"$f":"Berechnungsblatt!X181","v":""},{"$f":"Berechnungsblatt!C183","v":""},{"$f":"IF(Stammdaten!$A$2=\"\",\"\",D180-B180)","v":""},{"$f":"IF(Stammdaten!$A$2=\"\",\"\",E180/B180)","v":""},{"$f":"IF(Stammdaten!$A$2=\"\",\"\",ABS(E180))","v":""},{"$f":"IF(Stammdaten!$A$2=\"\",\"\",D180-C180)","v":""},{"$f":"IF(Stammdaten!$A$2=\"\",\"\",H180/C180)","v":""},{"$f":"IF(Stammdaten!$A$2=\"\",\"\",ABS(H180))","v":""},{"$f":"IF(Stammdaten!$A$2=\"\",\"\",IF(F180>35%,1,\"\"))","v":""},{"$f":"IF(Stammdaten!$A$2=\"\",\"\",IF(I180>35%,1,\"\"))","v":""},{"$f":"IF(Stammdaten!$A$2=\"\",\"\",MONTH(A180))","v":""},{"$f":"IF(Stammdaten!$A$2=\"\",\"\",YEAR(A180))","v":""}]
[{"$f":"Analysedaten!A181","v":""},{"$f":"Berechnungsblatt!C182","v":""},{"$f":"Berechnungsblatt!X182","v":""},{"$f":"Berechnungsblatt!C184","v":""},{"$f":"IF(Stammdaten!$A$2=\"\",\"\",D181-B181)","v":""},{"$f":"IF(Stammdaten!$A$2=\"\",\"\",E181/B181)","v":""},{"$f":"IF(Stammdaten!$A$2=\"\",\"\",ABS(E181))","v":""},{"$f":"IF(Stammdaten!$A$2=\"\",\"\",D181-C181)","v":""},{"$f":"IF(Stammdaten!$A$2=\"\",\"\",H181/C181)","v":""},{"$f":"IF(Stammdaten!$A$2=\"\",\"\",ABS(H181))","v":""},{"$f":"IF(Stammdaten!$A$2=\"\",\"\",IF(F181>35%,1,\"\"))","v":""},{"$f":"IF(Stammdaten!$A$2=\"\",\"\",IF(I181>35%,1,\"\"))","v":""},{"$f":"IF(Stammdaten!$A$2=\"\",\"\",MONTH(A181))","v":""},{"$f":"IF(Stammdaten!$A$2=\"\",\"\",YEAR(A181))","v":""}]
[{"$f":"Analysedaten!A182","v":""},{"$f":"Berechnungsblatt!C183","v":""},{"$f":"Berechnungsblatt!X183","v":""},{"$f":"Berechnungsblatt!C185","v":""},{"$f":"IF(Stammdaten!$A$2=\"\",\"\",D182-B182)","v":""},{"$f":"IF(Stammdaten!$A$2=\"\",\"\",E182/B182)","v":""},{"$f":"IF(Stammdaten!$A$2=\"\",\"\",ABS(E182))","v":""},{"$f":"IF(Stammdaten!$A$2=\"\",\"\",D182-C182)","v":""},{"$f":"IF(Stammdaten!$A$2=\"\",\"\",H182/C182)","v":""},{"$f":"IF(Stammdaten!$A$2=\"\",\"\",ABS(H182))","v":""},{"$f":"IF(Stammdaten!$A$2=\"\",\"\",IF(F182>35%,1,\"\"))","v":""},{"$f":"IF(Stammdaten!$A$2=\"\",\"\",IF(I182>35%,1,\"\"))","v":""},{"$f":"IF(Stammdaten!$A$2=\"\",\"\",MONTH(A182))","v":""},{"$f":"IF(Stammdaten!$A$2=\"\",\"\",YEAR(A182))","v":""}]
[{"$f":"Analysedaten!A183","v":""},{"$f":"Berechnungsblatt!C184","v":""},{"$f":"Berechnungsblatt!X184","v":""},{"$f":"Berechnungsblatt!C186","v":""},{"$f":"IF(Stammdaten!$A$2=\"\",\"\",D183-B183)","v":""},{"$f":"IF(Stammdaten!$A$2=\"\",\"\",E183/B183)","v":""},{"$f":"IF(Stammdaten!$A$2=\"\",\"\",ABS(E183))","v":""},{"$f":"IF(Stammdaten!$A$2=\"\",\"\",D183-C183)","v":""},{"$f":"IF(Stammdaten!$A$2=\"\",\"\",H183/C183)","v":""},{"$f":"IF(Stammdaten!$A$2=\"\",\"\",ABS(H183))","v":""},{"$f":"IF(Stammdaten!$A$2=\"\",\"\",IF(F183>35%,1,\"\"))","v":""},{"$f":"IF(Stammdaten!$A$2=\"\",\"\",IF(I183>35%,1,\"\"))","v":""},{"$f":"IF(Stammdaten!$A$2=\"\",\"\",MONTH(A183))","v":""},{"$f":"IF(Stammdaten!$A$2=\"\",\"\",YEAR(A183))","v":""}]
[{"$f":"Analysedaten!A184","v":""},{"$f":"Berechnungsblatt!C185","v":""},{"$f":"Berechnungsblatt!X185","v":""},{"$f":"Berechnungsblatt!C187","v":""},{"$f":"IF(Stammdaten!$A$2=\"\",\"\",D184-B184)","v":""},{"$f":"IF(Stammdaten!$A$2=\"\",\"\",E184/B184)","v":""},{"$f":"IF(Stammdaten!$A$2=\"\",\"\",ABS(E184))","v":""},{"$f":"IF(Stammdaten!$A$2=\"\",\"\",D184-C184)","v":""},{"$f":"IF(Stammdaten!$A$2=\"\",\"\",H184/C184)","v":""},{"$f":"IF(Stammdaten!$A$2=\"\",\"\",ABS(H184))","v":""},{"$f":"IF(Stammdaten!$A$2=\"\",\"\",IF(F184>35%,1,\"\"))","v":""},{"$f":"IF(Stammdaten!$A$2=\"\",\"\",IF(I184>35%,1,\"\"))","v":""},{"$f":"IF(Stammdaten!$A$2=\"\",\"\",MONTH(A184))","v":""},{"$f":"IF(Stammdaten!$A$2=\"\",\"\",YEAR(A184))","v":""}]
[{"$f":"Analysedaten!A185","v":""},{"$f":"Berechnungsblatt!C186","v":""},{"$f":"Berechnungsblatt!X186","v":""},{"$f":"Berechnungsblatt!C188","v":""},{"$f":"IF(Stammdaten!$A$2=\"\",\"\",D185-B185)","v":""},{"$f":"IF(Stammdaten!$A$2=\"\",\"\",E185/B185)","v":""},{"$f":"IF(Stammdaten!$A$2=\"\",\"\",ABS(E185))","v":""},{"$f":"IF(Stammdaten!$A$2=\"\",\"\",D185-C185)","v":""},{"$f":"IF(Stammdaten!$A$2=\"\",\"\",H185/C185)","v":""},{"$f":"IF(Stammdaten!$A$2=\"\",\"\",ABS(H185))","v":""},{"$f":"IF(Stammdaten!$A$2=\"\",\"\",IF(F185>35%,1,\"\"))","v":""},{"$f":"IF(Stammdaten!$A$2=\"\",\"\",IF(I185>35%,1,\"\"))","v":""},{"$f":"IF(Stammdaten!$A$2=\"\",\"\",MONTH(A185))","v":""},{"$f":"IF(Stammdaten!$A$2=\"\",\"\",YEAR(A185))","v":""}]
[{"$f":"Analysedaten!A186","v":""},{"$f":"Berechnungsblatt!C187","v":""},{"$f":"Berechnungsblatt!X187","v":""},{"$f":"Berechnungsblatt!C189","v":""},{"$f":"IF(Stammdaten!$A$2=\"\",\"\",D186-B186)","v":""},{"$f":"IF(Stammdaten!$A$2=\"\",\"\",E186/B186)","v":""},{"$f":"IF(Stammdaten!$A$2=\"\",\"\",ABS(E186))","v":""},{"$f":"IF(Stammdaten!$A$2=\"\",\"\",D186-C186)","v":""},{"$f":"IF(Stammdaten!$A$2=\"\",\"\",H186/C186)","v":""},{"$f":"IF(Stammdaten!$A$2=\"\",\"\",ABS(H186))","v":""},{"$f":"IF(Stammdaten!$A$2=\"\",\"\",IF(F186>35%,1,\"\"))","v":""},{"$f":"IF(Stammdaten!$A$2=\"\",\"\",IF(I186>35%,1,\"\"))","v":""},{"$f":"IF(Stammdaten!$A$2=\"\",\"\",MONTH(A186))","v":""},{"$f":"IF(Stammdaten!$A$2=\"\",\"\",YEAR(A186))","v":""}]
[{"$f":"Analysedaten!A187","v":""},{"$f":"Berechnungsblatt!C188","v":""},{"$f":"Berechnungsblatt!X188","v":""},{"$f":"Berechnungsblatt!C190","v":""},{"$f":"IF(Stammdaten!$A$2=\"\",\"\",D187-B187)","v":""},{"$f":"IF(Stammdaten!$A$2=\"\",\"\",E187/B187)","v":""},{"$f":"IF(Stammdaten!$A$2=\"\",\"\",ABS(E187))","v":""},{"$f":"IF(Stammdaten!$A$2=\"\",\"\",D187-C187)","v":""},{"$f":"IF(Stammdaten!$A$2=\"\",\"\",H187/C187)","v":""},{"$f":"IF(Stammdaten!$A$2=\"\",\"\",ABS(H187))","v":""},{"$f":"IF(Stammdaten!$A$2=\"\",\"\",IF(F187>35%,1,\"\"))","v":""},{"$f":"IF(Stammdaten!$A$2=\"\",\"\",IF(I187>35%,1,\"\"))","v":""},{"$f":"IF(Stammdaten!$A$2=\"\",\"\",MONTH(A187))","v":""},{"$f":"IF(Stammdaten!$A$2=\"\",\"\",YEAR(A187))","v":""}]
[{"$f":"Analysedaten!A188","v":""},{"$f":"Berechnungsblatt!C189","v":""},{"$f":"Berechnungsblatt!X189","v":""},{"$f":"Berechnungsblatt!C191","v":""},{"$f":"IF(Stammdaten!$A$2=\"\",\"\",D188-B188)","v":""},{"$f":"IF(Stammdaten!$A$2=\"\",\"\",E188/B188)","v":""},{"$f":"IF(Stammdaten!$A$2=\"\",\"\",ABS(E188))","v":""},{"$f":"IF(Stammdaten!$A$2=\"\",\"\",D188-C188)","v":""},{"$f":"IF(Stammdaten!$A$2=\"\",\"\",H188/C188)","v":""},{"$f":"IF(Stammdaten!$A$2=\"\",\"\",ABS(H188))","v":""},{"$f":"IF(Stammdaten!$A$2=\"\",\"\",IF(F188>35%,1,\"\"))","v":""},{"$f":"IF(Stammdaten!$A$2=\"\",\"\",IF(I188>35%,1,\"\"))","v":""},{"$f":"IF(Stammdaten!$A$2=\"\",\"\",MONTH(A188))","v":""},{"$f":"IF(Stammdaten!$A$2=\"\",\"\",YEAR(A188))","v":""}]
[{"$f":"Analysedaten!A189","v":""},{"$f":"Berechnungsblatt!C190","v":""},{"$f":"Berechnungsblatt!X190","v":""},{"$f":"Berechnungsblatt!C192","v":""},{"$f":"IF(Stammdaten!$A$2=\"\",\"\",D189-B189)","v":""},{"$f":"IF(Stammdaten!$A$2=\"\",\"\",E189/B189)","v":""},{"$f":"IF(Stammdaten!$A$2=\"\",\"\",ABS(E189))","v":""},{"$f":"IF(Stammdaten!$A$2=\"\",\"\",D189-C189)","v":""},{"$f":"IF(Stammdaten!$A$2=\"\",\"\",H189/C189)","v":""},{"$f":"IF(Stammdaten!$A$2=\"\",\"\",ABS(H189))","v":""},{"$f":"IF(Stammdaten!$A$2=\"\",\"\",IF(F189>35%,1,\"\"))","v":""},{"$f":"IF(Stammdaten!$A$2=\"\",\"\",IF(I189>35%,1,\"\"))","v":""},{"$f":"IF(Stammdaten!$A$2=\"\",\"\",MONTH(A189))","v":""},{"$f":"IF(Stammdaten!$A$2=\"\",\"\",YEAR(A189))","v":""}]
[{"$f":"Analysedaten!A190","v":""},{"$f":"Berechnungsblatt!C191","v":""},{"$f":"Berechnungsblatt!X191","v":""},{"$f":"Berechnungsblatt!C193","v":""},{"$f":"IF(Stammdaten!$A$2=\"\",\"\",D190-B190)","v":""},{"$f":"IF(Stammdaten!$A$2=\"\",\"\",E190/B190)","v":""},{"$f":"IF(Stammdaten!$A$2=\"\",\"\",ABS(E190))","v":""},{"$f":"IF(Stammdaten!$A$2=\"\",\"\",D190-C190)","v":""},{"$f":"IF(Stammdaten!$A$2=\"\",\"\",H190/C190)","v":""},{"$f":"IF(Stammdaten!$A$2=\"\",\"\",ABS(H190))","v":""},{"$f":"IF(Stammdaten!$A$2=\"\",\"\",IF(F190>35%,1,\"\"))","v":""},{"$f":"IF(Stammdaten!$A$2=\"\",\"\",IF(I190>35%,1,\"\"))","v":""},{"$f":"IF(Stammdaten!$A$2=\"\",\"\",MONTH(A190))","v":""},{"$f":"IF(Stammdaten!$A$2=\"\",\"\",YEAR(A190))","v":""}]
[{"$f":"Analysedaten!A191","v":""},{"$f":"Berechnungsblatt!C192","v":""},{"$f":"Berechnungsblatt!X192","v":""},{"$f":"Berechnungsblatt!C194","v":""},{"$f":"IF(Stammdaten!$A$2=\"\",\"\",D191-B191)","v":""},{"$f":"IF(Stammdaten!$A$2=\"\",\"\",E191/B191)","v":""},{"$f":"IF(Stammdaten!$A$2=\"\",\"\",ABS(E191))","v":""},{"$f":"IF(Stammdaten!$A$2=\"\",\"\",D191-C191)","v":""},{"$f":"IF(Stammdaten!$A$2=\"\",\"\",H191/C191)","v":""},{"$f":"IF(Stammdaten!$A$2=\"\",\"\",ABS(H191))","v":""},{"$f":"IF(Stammdaten!$A$2=\"\",\"\",IF(F191>35%,1,\"\"))","v":""},{"$f":"IF(Stammdaten!$A$2=\"\",\"\",IF(I191>35%,1,\"\"))","v":""},{"$f":"IF(Stammdaten!$A$2=\"\",\"\",MONTH(A191))","v":""},{"$f":"IF(Stammdaten!$A$2=\"\",\"\",YEAR(A191))","v":""}]
[{"$f":"Analysedaten!A192","v":""},{"$f":"Berechnungsblatt!C193","v":""},{"$f":"Berechnungsblatt!X193","v":""},{"$f":"Berechnungsblatt!C195","v":""},{"$f":"IF(Stammdaten!$A$2=\"\",\"\",D192-B192)","v":""},{"$f":"IF(Stammdaten!$A$2=\"\",\"\",E192/B192)","v":""},{"$f":"IF(Stammdaten!$A$2=\"\",\"\",ABS(E192))","v":""},{"$f":"IF(Stammdaten!$A$2=\"\",\"\",D192-C192)","v":""},{"$f":"IF(Stammdaten!$A$2=\"\",\"\",H192/C192)","v":""},{"$f":"IF(Stammdaten!$A$2=\"\",\"\",ABS(H192))","v":""},{"$f":"IF(Stammdaten!$A$2=\"\",\"\",IF(F192>35%,1,\"\"))","v":""},{"$f":"IF(Stammdaten!$A$2=\"\",\"\",IF(I192>35%,1,\"\"))","v":""},{"$f":"IF(Stammdaten!$A$2=\"\",\"\",MONTH(A192))","v":""},{"$f":"IF(Stammdaten!$A$2=\"\",\"\",YEAR(A192))","v":""}]
[{"$f":"Analysedaten!A193","v":""},{"$f":"Berechnungsblatt!C194","v":""},{"$f":"Berechnungsblatt!X194","v":""},{"$f":"Berechnungsblatt!C196","v":""},{"$f":"IF(Stammdaten!$A$2=\"\",\"\",D193-B193)","v":""},{"$f":"IF(Stammdaten!$A$2=\"\",\"\",E193/B193)","v":""},{"$f":"IF(Stammdaten!$A$2=\"\",\"\",ABS(E193))","v":""},{"$f":"IF(Stammdaten!$A$2=\"\",\"\",D193-C193)","v":""},{"$f":"IF(Stammdaten!$A$2=\"\",\"\",H193/C193)","v":""},{"$f":"IF(Stammdaten!$A$2=\"\",\"\",ABS(H193))","v":""},{"$f":"IF(Stammdaten!$A$2=\"\",\"\",IF(F193>35%,1,\"\"))","v":""},{"$f":"IF(Stammdaten!$A$2=\"\",\"\",IF(I193>35%,1,\"\"))","v":""},{"$f":"IF(Stammdaten!$A$2=\"\",\"\",MONTH(A193))","v":""},{"$f":"IF(Stammdaten!$A$2=\"\",\"\",YEAR(A193))","v":""}]
[{"$f":"Analysedaten!A194","v":""},{"$f":"Berechnungsblatt!C195","v":""},{"$f":"Berechnungsblatt!X195","v":""},{"$f":"Berechnungsblatt!C197","v":""},{"$f":"IF(Stammdaten!$A$2=\"\",\"\",D194-B194)","v":""},{"$f":"IF(Stammdaten!$A$2=\"\",\"\",E194/B194)","v":""},{"$f":"IF(Stammdaten!$A$2=\"\",\"\",ABS(E194))","v":""},{"$f":"IF(Stammdaten!$A$2=\"\",\"\",D194-C194)","v":""},{"$f":"IF(Stammdaten!$A$2=\"\",\"\",H194/C194)","v":""},{"$f":"IF(Stammdaten!$A$2=\"\",\"\",ABS(H194))","v":""},{"$f":"IF(Stammdaten!$A$2=\"\",\"\",IF(F194>35%,1,\"\"))","v":""},{"$f":"IF(Stammdaten!$A$2=\"\",\"\",IF(I194>35%,1,\"\"))","v":""},{"$f":"IF(Stammdaten!$A$2=\"\",\"\",MONTH(A194))","v":""},{"$f":"IF(Stammdaten!$A$2=\"\",\"\",YEAR(A194))","v":""}]
[{"$f":"Analysedaten!A195","v":""},{"$f":"Berechnungsblatt!C196","v":""},{"$f":"Berechnungsblatt!X196","v":""},{"$f":"Berechnungsblatt!C198","v":""},{"$f":"IF(Stammdaten!$A$2=\"\",\"\",D195-B195)","v":""},{"$f":"IF(Stammdaten!$A$2=\"\",\"\",E195/B195)","v":""},{"$f":"IF(Stammdaten!$A$2=\"\",\"\",ABS(E195))","v":""},{"$f":"IF(Stammdaten!$A$2=\"\",\"\",D195-C195)","v":""},{"$f":"IF(Stammdaten!$A$2=\"\",\"\",H195/C195)","v":""},{"$f":"IF(Stammdaten!$A$2=\"\",\"\",ABS(H195))","v":""},{"$f":"IF(Stammdaten!$A$2=\"\",\"\",IF(F195>35%,1,\"\"))","v":""},{"$f":"IF(Stammdaten!$A$2=\"\",\"\",IF(I195>35%,1,\"\"))","v":""},{"$f":"IF(Stammdaten!$A$2=\"\",\"\",MONTH(A195))","v":""},{"$f":"IF(Stammdaten!$A$2=\"\",\"\",YEAR(A195))","v":""}]
[{"$f":"Analysedaten!A196","v":""},{"$f":"Berechnungsblatt!C197","v":""},{"$f":"Berechnungsblatt!X197","v":""},{"$f":"Berechnungsblatt!C199","v":""},{"$f":"IF(Stammdaten!$A$2=\"\",\"\",D196-B196)","v":""},{"$f":"IF(Stammdaten!$A$2=\"\",\"\",E196/B196)","v":""},{"$f":"IF(Stammdaten!$A$2=\"\",\"\",ABS(E196))","v":""},{"$f":"IF(Stammdaten!$A$2=\"\",\"\",D196-C196)","v":""},{"$f":"IF(Stammdaten!$A$2=\"\",\"\",H196/C196)","v":""},{"$f":"IF(Stammdaten!$A$2=\"\",\"\",ABS(H196))","v":""},{"$f":"IF(Stammdaten!$A$2=\"\",\"\",IF(F196>35%,1,\"\"))","v":""},{"$f":"IF(Stammdaten!$A$2=\"\",\"\",IF(I196>35%,1,\"\"))","v":""},{"$f":"IF(Stammdaten!$A$2=\"\",\"\",MONTH(A196))","v":""},{"$f":"IF(Stammdaten!$A$2=\"\",\"\",YEAR(A196))","v":""}]
[{"$f":"Analysedaten!A197","v":""},{"$f":"Berechnungsblatt!C198","v":""},{"$f":"Berechnungsblatt!X198","v":""},{"$f":"Berechnungsblatt!C200","v":""},{"$f":"IF(Stammdaten!$A$2=\"\",\"\",D197-B197)","v":""},{"$f":"IF(Stammdaten!$A$2=\"\",\"\",E197/B197)","v":""},{"$f":"IF(Stammdaten!$A$2=\"\",\"\",ABS(E197))","v":""},{"$f":"IF(Stammdaten!$A$2=\"\",\"\",D197-C197)","v":""},{"$f":"IF(Stammdaten!$A$2=\"\",\"\",H197/C197)","v":""},{"$f":"IF(Stammdaten!$A$2=\"\",\"\",ABS(H197))","v":""},{"$f":"IF(Stammdaten!$A$2=\"\",\"\",IF(F197>35%,1,\"\"))","v":""},{"$f":"IF(Stammdaten!$A$2=\"\",\"\",IF(I197>35%,1,\"\"))","v":""},{"$f":"IF(Stammdaten!$A$2=\"\",\"\",MONTH(A197))","v":""},{"$f":"IF(Stammdaten!$A$2=\"\",\"\",YEAR(A197))","v":""}]
[{"$f":"Analysedaten!A198","v":""},{"$f":"Berechnungsblatt!C199","v":""},{"$f":"Berechnungsblatt!X199","v":""},{"$f":"Berechnungsblatt!C201","v":""},{"$f":"IF(Stammdaten!$A$2=\"\",\"\",D198-B198)","v":""},{"$f":"IF(Stammdaten!$A$2=\"\",\"\",E198/B198)","v":""},{"$f":"IF(Stammdaten!$A$2=\"\",\"\",ABS(E198))","v":""},{"$f":"IF(Stammdaten!$A$2=\"\",\"\",D198-C198)","v":""},{"$f":"IF(Stammdaten!$A$2=\"\",\"\",H198/C198)","v":""},{"$f":"IF(Stammdaten!$A$2=\"\",\"\",ABS(H198))","v":""},{"$f":"IF(Stammdaten!$A$2=\"\",\"\",IF(F198>35%,1,\"\"))","v":""},{"$f":"IF(Stammdaten!$A$2=\"\",\"\",IF(I198>35%,1,\"\"))","v":""},{"$f":"IF(Stammdaten!$A$2=\"\",\"\",MONTH(A198))","v":""},{"$f":"IF(Stammdaten!$A$2=\"\",\"\",YEAR(A198))","v":""}]
[{"$f":"Analysedaten!A199","v":""},{"$f":"Berechnungsblatt!C200","v":""},{"$f":"Berechnungsblatt!X200","v":""},{"$f":"Berechnungsblatt!C202","v":""},{"$f":"IF(Stammdaten!$A$2=\"\",\"\",D199-B199)","v":""},{"$f":"IF(Stammdaten!$A$2=\"\",\"\",E199/B199)","v":""},{"$f":"IF(Stammdaten!$A$2=\"\",\"\",ABS(E199))","v":""},{"$f":"IF(Stammdaten!$A$2=\"\",\"\",D199-C199)","v":""},{"$f":"IF(Stammdaten!$A$2=\"\",\"\",H199/C199)","v":""},{"$f":"IF(Stammdaten!$A$2=\"\",\"\",ABS(H199))","v":""},{"$f":"IF(Stammdaten!$A$2=\"\",\"\",IF(F199>35%,1,\"\"))","v":""},{"$f":"IF(Stammdaten!$A$2=\"\",\"\",IF(I199>35%,1,\"\"))","v":""},{"$f":"IF(Stammdaten!$A$2=\"\",\"\",MONTH(A199))","v":""},{"$f":"IF(Stammdaten!$A$2=\"\",\"\",YEAR(A199))","v":""}]
[{"$f":"Analysedaten!A200","v":""},{"$f":"Berechnungsblatt!C201","v":""},{"$f":"Berechnungsblatt!X201","v":""},{"$f":"Berechnungsblatt!C203","v":""},{"$f":"IF(Stammdaten!$A$2=\"\",\"\",D200-B200)","v":""},{"$f":"IF(Stammdaten!$A$2=\"\",\"\",E200/B200)","v":""},{"$f":"IF(Stammdaten!$A$2=\"\",\"\",ABS(E200))","v":""},{"$f":"IF(Stammdaten!$A$2=\"\",\"\",D200-C200)","v":""},{"$f":"IF(Stammdaten!$A$2=\"\",\"\",H200/C200)","v":""},{"$f":"IF(Stammdaten!$A$2=\"\",\"\",ABS(H200))","v":""},{"$f":"IF(Stammdaten!$A$2=\"\",\"\",IF(F200>35%,1,\"\"))","v":""},{"$f":"IF(Stammdaten!$A$2=\"\",\"\",IF(I200>35%,1,\"\"))","v":""},{"$f":"IF(Stammdaten!$A$2=\"\",\"\",MONTH(A200))","v":""},{"$f":"IF(Stammdaten!$A$2=\"\",\"\",YEAR(A200))","v":""}]
[{"$f":"Analysedaten!A201","v":""},{"$f":"Berechnungsblatt!C202","v":""},{"$f":"Berechnungsblatt!X202","v":""},{"$f":"Berechnungsblatt!C204","v":""},{"$f":"IF(Stammdaten!$A$2=\"\",\"\",D201-B201)","v":""},{"$f":"IF(Stammdaten!$A$2=\"\",\"\",E201/B201)","v":""},{"$f":"IF(Stammdaten!$A$2=\"\",\"\",ABS(E201))","v":""},{"$f":"IF(Stammdaten!$A$2=\"\",\"\",D201-C201)","v":""},{"$f":"IF(Stammdaten!$A$2=\"\",\"\",H201/C201)","v":""},{"$f":"IF(Stammdaten!$A$2=\"\",\"\",ABS(H201))","v":""},{"$f":"IF(Stammdaten!$A$2=\"\",\"\",IF(F201>35%,1,\"\"))","v":""},{"$f":"IF(Stammdaten!$A$2=\"\",\"\",IF(I201>35%,1,\"\"))","v":""},{"$f":"IF(Stammdaten!$A$2=\"\",\"\",MONTH(A201))","v":""},{"$f":"IF(Stammdaten!$A$2=\"\",\"\",YEAR(A201))","v":""}]
[{"$f":"Analysedaten!A202","v":""},{"$f":"Berechnungsblatt!C203","v":""},{"$f":"Berechnungsblatt!X203","v":""},{"$f":"Berechnungsblatt!C205","v":""},{"$f":"IF(Stammdaten!$A$2=\"\",\"\",D202-B202)","v":""},{"$f":"IF(Stammdaten!$A$2=\"\",\"\",E202/B202)","v":""},{"$f":"IF(Stammdaten!$A$2=\"\",\"\",ABS(E202))","v":""},{"$f":"IF(Stammdaten!$A$2=\"\",\"\",D202-C202)","v":""},{"$f":"IF(Stammdaten!$A$2=\"\",\"\",H202/C202)","v":""},{"$f":"IF(Stammdaten!$A$2=\"\",\"\",ABS(H202))","v":""},{"$f":"IF(Stammdaten!$A$2=\"\",\"\",IF(F202>35%,1,\"\"))","v":""},{"$f":"IF(Stammdaten!$A$2=\"\",\"\",IF(I202>35%,1,\"\"))","v":""},{"$f":"IF(Stammdaten!$A$2=\"\",\"\",MONTH(A202))","v":""},{"$f":"IF(Stammdaten!$A$2=\"\",\"\",YEAR(A202))","v":""}]
[{"$f":"Analysedaten!A203","v":""},{"$f":"Berechnungsblatt!C204","v":""},{"$f":"Berechnungsblatt!X204","v":""},{"$f":"Berechnungsblatt!C206","v":""},{"$f":"IF(Stammdaten!$A$2=\"\",\"\",D203-B203)","v":""},{"$f":"IF(Stammdaten!$A$2=\"\",\"\",E203/B203)","v":""},{"$f":"IF(Stammdaten!$A$2=\"\",\"\",ABS(E203))","v":""},{"$f":"IF(Stammdaten!$A$2=\"\",\"\",D203-C203)","v":""},{"$f":"IF(Stammdaten!$A$2=\"\",\"\",H203/C203)","v":""},{"$f":"IF(Stammdaten!$A$2=\"\",\"\",ABS(H203))","v":""},{"$f":"IF(Stammdaten!$A$2=\"\",\"\",IF(F203>35%,1,\"\"))","v":""},{"$f":"IF(Stammdaten!$A$2=\"\",\"\",IF(I203>35%,1,\"\"))","v":""},{"$f":"IF(Stammdaten!$A$2=\"\",\"\",MONTH(A203))","v":""},{"$f":"IF(Stammdaten!$A$2=\"\",\"\",YEAR(A203))","v":""}]
[{"$f":"Analysedaten!A204","v":""},{"$f":"Berechnungsblatt!C205","v":""},{"$f":"Berechnungsblatt!X205","v":""},{"$f":"Berechnungsblatt!C207","v":""},{"$f":"IF(Stammdaten!$A$2=\"\",\"\",D204-B204)","v":""},{"$f":"IF(Stammdaten!$A$2=\"\",\"\",E204/B204)","v":""},{"$f":"IF(Stammdaten!$A$2=\"\",\"\",ABS(E204))","v":""},{"$f":"IF(Stammdaten!$A$2=\"\",\"\",D204-C204)","v":""},{"$f":"IF(Stammdaten!$A$2=\"\",\"\",H204/C204)","v":""},{"$f":"IF(Stammdaten!$A$2=\"\",\"\",ABS(H204))","v":""},{"$f":"IF(Stammdaten!$A$2=\"\",\"\",IF(F204>35%,1,\"\"))","v":""},{"$f":"IF(Stammdaten!$A$2=\"\",\"\",IF(I204>35%,1,\"\"))","v":""},{"$f":"IF(Stammdaten!$A$2=\"\",\"\",MONTH(A204))","v":""},{"$f":"IF(Stammdaten!$A$2=\"\",\"\",YEAR(A204))","v":""}]
[{"$f":"Analysedaten!A205","v":""},{"$f":"Berechnungsblatt!C206","v":""},{"$f":"Berechnungsblatt!X206","v":""},{"$f":"Berechnungsblatt!C208","v":""},{"$f":"IF(Stammdaten!$A$2=\"\",\"\",D205-B205)","v":""},{"$f":"IF(Stammdaten!$A$2=\"\",\"\",E205/B205)","v":""},{"$f":"IF(Stammdaten!$A$2=\"\",\"\",ABS(E205))","v":""},{"$f":"IF(Stammdaten!$A$2=\"\",\"\",D205-C205)","v":""},{"$f":"IF(Stammdaten!$A$2=\"\",\"\",H205/C205)","v":""},{"$f":"IF(Stammdaten!$A$2=\"\",\"\",ABS(H205))","v":""},{"$f":"IF(Stammdaten!$A$2=\"\",\"\",IF(F205>35%,1,\"\"))","v":""},{"$f":"IF(Stammdaten!$A$2=\"\",\"\",IF(I205>35%,1,\"\"))","v":""},{"$f":"IF(Stammdaten!$A$2=\"\",\"\",MONTH(A205))","v":""},{"$f":"IF(Stammdaten!$A$2=\"\",\"\",YEAR(A205))","v":""}]
[{"$f":"Analysedaten!A206","v":""},{"$f":"Berechnungsblatt!C207","v":""},{"$f":"Berechnungsblatt!X207","v":""},{"$f":"Berechnungsblatt!C209","v":""},{"$f":"IF(Stammdaten!$A$2=\"\",\"\",D206-B206)","v":""},{"$f":"IF(Stammdaten!$A$2=\"\",\"\",E206/B206)","v":""},{"$f":"IF(Stammdaten!$A$2=\"\",\"\",ABS(E206))","v":""},{"$f":"IF(Stammdaten!$A$2=\"\",\"\",D206-C206)","v":""},{"$f":"IF(Stammdaten!$A$2=\"\",\"\",H206/C206)","v":""},{"$f":"IF(Stammdaten!$A$2=\"\",\"\",ABS(H206))","v":""},{"$f":"IF(Stammdaten!$A$2=\"\",\"\",IF(F206>35%,1,\"\"))","v":""},{"$f":"IF(Stammdaten!$A$2=\"\",\"\",IF(I206>35%,1,\"\"))","v":""},{"$f":"IF(Stammdaten!$A$2=\"\",\"\",MONTH(A206))","v":""},{"$f":"IF(Stammdaten!$A$2=\"\",\"\",YEAR(A206))","v":""}]
[{"$f":"Analysedaten!A207","v":""},{"$f":"Berechnungsblatt!C208","v":""},{"$f":"Berechnungsblatt!X208","v":""},{"$f":"Berechnungsblatt!C210","v":""},{"$f":"IF(Stammdaten!$A$2=\"\",\"\",D207-B207)","v":""},{"$f":"IF(Stammdaten!$A$2=\"\",\"\",E207/B207)","v":""},{"$f":"IF(Stammdaten!$A$2=\"\",\"\",ABS(E207))","v":""},{"$f":"IF(Stammdaten!$A$2=\"\",\"\",D207-C207)","v":""},{"$f":"IF(Stammdaten!$A$2=\"\",\"\",H207/C207)","v":""},{"$f":"IF(Stammdaten!$A$2=\"\",\"\",ABS(H207))","v":""},{"$f":"IF(Stammdaten!$A$2=\"\",\"\",IF(F207>35%,1,\"\"))","v":""},{"$f":"IF(Stammdaten!$A$2=\"\",\"\",IF(I207>35%,1,\"\"))","v":""},{"$f":"IF(Stammdaten!$A$2=\"\",\"\",MONTH(A207))","v":""},{"$f":"IF(Stammdaten!$A$2=\"\",\"\",YEAR(A207))","v":""}]
[{"$f":"Analysedaten!A208","v":""},{"$f":"Berechnungsblatt!C209","v":""},{"$f":"Berechnungsblatt!X209","v":""},{"$f":"Berechnungsblatt!C211","v":""},{"$f":"IF(Stammdaten!$A$2=\"\",\"\",D208-B208)","v":""},{"$f":"IF(Stammdaten!$A$2=\"\",\"\",E208/B208)","v":""},{"$f":"IF(Stammdaten!$A$2=\"\",\"\",ABS(E208))","v":""},{"$f":"IF(Stammdaten!$A$2=\"\",\"\",D208-C208)","v":""},{"$f":"IF(Stammdaten!$A$2=\"\",\"\",H208/C208)","v":""},{"$f":"IF(Stammdaten!$A$2=\"\",\"\",ABS(H208))","v":""},{"$f":"IF(Stammdaten!$A$2=\"\",\"\",IF(F208>35%,1,\"\"))","v":""},{"$f":"IF(Stammdaten!$A$2=\"\",\"\",IF(I208>35%,1,\"\"))","v":""},{"$f":"IF(Stammdaten!$A$2=\"\",\"\",MONTH(A208))","v":""},{"$f":"IF(Stammdaten!$A$2=\"\",\"\",YEAR(A208))","v":""}]
[{"$f":"Analysedaten!A209","v":""},{"$f":"Berechnungsblatt!C210","v":""},{"$f":"Berechnungsblatt!X210","v":""},{"$f":"Berechnungsblatt!C212","v":""},{"$f":"IF(Stammdaten!$A$2=\"\",\"\",D209-B209)","v":""},{"$f":"IF(Stammdaten!$A$2=\"\",\"\",E209/B209)","v":""},{"$f":"IF(Stammdaten!$A$2=\"\",\"\",ABS(E209))","v":""},{"$f":"IF(Stammdaten!$A$2=\"\",\"\",D209-C209)","v":""},{"$f":"IF(Stammdaten!$A$2=\"\",\"\",H209/C209)","v":""},{"$f":"IF(Stammdaten!$A$2=\"\",\"\",ABS(H209))","v":""},{"$f":"IF(Stammdaten!$A$2=\"\",\"\",IF(F209>35%,1,\"\"))","v":""},{"$f":"IF(Stammdaten!$A$2=\"\",\"\",IF(I209>35%,1,\"\"))","v":""},{"$f":"IF(Stammdaten!$A$2=\"\",\"\",MONTH(A209))","v":""},{"$f":"IF(Stammdaten!$A$2=\"\",\"\",YEAR(A209))","v":""}]
[{"$f":"Analysedaten!A210","v":""},{"$f":"Berechnungsblatt!C211","v":""},{"$f":"Berechnungsblatt!X211","v":""},{"$f":"Berechnungsblatt!C213","v":""},{"$f":"IF(Stammdaten!$A$2=\"\",\"\",D210-B210)","v":""},{"$f":"IF(Stammdaten!$A$2=\"\",\"\",E210/B210)","v":""},{"$f":"IF(Stammdaten!$A$2=\"\",\"\",ABS(E210))","v":""},{"$f":"IF(Stammdaten!$A$2=\"\",\"\",D210-C210)","v":""},{"$f":"IF(Stammdaten!$A$2=\"\",\"\",H210/C210)","v":""},{"$f":"IF(Stammdaten!$A$2=\"\",\"\",ABS(H210))","v":""},{"$f":"IF(Stammdaten!$A$2=\"\",\"\",IF(F210>35%,1,\"\"))","v":""},{"$f":"IF(Stammdaten!$A$2=\"\",\"\",IF(I210>35%,1,\"\"))","v":""},{"$f":"IF(Stammdaten!$A$2=\"\",\"\",MONTH(A210))","v":""},{"$f":"IF(Stammdaten!$A$2=\"\",\"\",YEAR(A210))","v":""}]
[{"$f":"Analysedaten!A211","v":""},{"$f":"Berechnungsblatt!C212","v":""},{"$f":"Berechnungsblatt!X212","v":""},{"$f":"Berechnungsblatt!C214","v":""},{"$f":"IF(Stammdaten!$A$2=\"\",\"\",D211-B211)","v":""},{"$f":"IF(Stammdaten!$A$2=\"\",\"\",E211/B211)","v":""},{"$f":"IF(Stammdaten!$A$2=\"\",\"\",ABS(E211))","v":""},{"$f":"IF(Stammdaten!$A$2=\"\",\"\",D211-C211)","v":""},{"$f":"IF(Stammdaten!$A$2=\"\",\"\",H211/C211)","v":""},{"$f":"IF(Stammdaten!$A$2=\"\",\"\",ABS(H211))","v":""},{"$f":"IF(Stammdaten!$A$2=\"\",\"\",IF(F211>35%,1,\"\"))","v":""},{"$f":"IF(Stammdaten!$A$2=\"\",\"\",IF(I211>35%,1,\"\"))","v":""},{"$f":"IF(Stammdaten!$A$2=\"\",\"\",MONTH(A211))","v":""},{"$f":"IF(Stammdaten!$A$2=\"\",\"\",YEAR(A211))","v":""}]
[{"$f":"Analysedaten!A212","v":""},{"$f":"Berechnungsblatt!C213","v":""},{"$f":"Berechnungsblatt!X213","v":""},{"$f":"Berechnungsblatt!C215","v":""},{"$f":"IF(Stammdaten!$A$2=\"\",\"\",D212-B212)","v":""},{"$f":"IF(Stammdaten!$A$2=\"\",\"\",E212/B212)","v":""},{"$f":"IF(Stammdaten!$A$2=\"\",\"\",ABS(E212))","v":""},{"$f":"IF(Stammdaten!$A$2=\"\",\"\",D212-C212)","v":""},{"$f":"IF(Stammdaten!$A$2=\"\",\"\",H212/C212)","v":""},{"$f":"IF(Stammdaten!$A$2=\"\",\"\",ABS(H212))","v":""},{"$f":"IF(Stammdaten!$A$2=\"\",\"\",IF(F212>35%,1,\"\"))","v":""},{"$f":"IF(Stammdaten!$A$2=\"\",\"\",IF(I212>35%,1,\"\"))","v":""},{"$f":"IF(Stammdaten!$A$2=\"\",\"\",MONTH(A212))","v":""},{"$f":"IF(Stammdaten!$A$2=\"\",\"\",YEAR(A212))","v":""}]
[{"$f":"Analysedaten!A213","v":""},{"$f":"Berechnungsblatt!C214","v":""},{"$f":"Berechnungsblatt!X214","v":""},{"$f":"Berechnungsblatt!C216","v":""},{"$f":"IF(Stammdaten!$A$2=\"\",\"\",D213-B213)","v":""},{"$f":"IF(Stammdaten!$A$2=\"\",\"\",E213/B213)","v":""},{"$f":"IF(Stammdaten!$A$2=\"\",\"\",ABS(E213))","v":""},{"$f":"IF(Stammdaten!$A$2=\"\",\"\",D213-C213)","v":""},{"$f":"IF(Stammdaten!$A$2=\"\",\"\",H213/C213)","v":""},{"$f":"IF(Stammdaten!$A$2=\"\",\"\",ABS(H213))","v":""},{"$f":"IF(Stammdaten!$A$2=\"\",\"\",IF(F213>35%,1,\"\"))","v":""},{"$f":"IF(Stammdaten!$A$2=\"\",\"\",IF(I213>35%,1,\"\"))","v":""},{"$f":"IF(Stammdaten!$A$2=\"\",\"\",MONTH(A213))","v":""},{"$f":"IF(Stammdaten!$A$2=\"\",\"\",YEAR(A213))","v":""}]
[{"$f":"Analysedaten!A214","v":""},{"$f":"Berechnungsblatt!C215","v":""},{"$f":"Berechnungsblatt!X215","v":""},{"$f":"Berechnungsblatt!C217","v":""},{"$f":"IF(Stammdaten!$A$2=\"\",\"\",D214-B214)","v":""},{"$f":"IF(Stammdaten!$A$2=\"\",\"\",E214/B214)","v":""},{"$f":"IF(Stammdaten!$A$2=\"\",\"\",ABS(E214))","v":""},{"$f":"IF(Stammdaten!$A$2=\"\",\"\",D214-C214)","v":""},{"$f":"IF(Stammdaten!$A$2=\"\",\"\",H214/C214)","v":""},{"$f":"IF(Stammdaten!$A$2=\"\",\"\",ABS(H214))","v":""},{"$f":"IF(Stammdaten!$A$2=\"\",\"\",IF(F214>35%,1,\"\"))","v":""},{"$f":"IF(Stammdaten!$A$2=\"\",\"\",IF(I214>35%,1,\"\"))","v":""},{"$f":"IF(Stammdaten!$A$2=\"\",\"\",MONTH(A214))","v":""},{"$f":"IF(Stammdaten!$A$2=\"\",\"\",YEAR(A214))","v":""}]
[{"$f":"Analysedaten!A215","v":""},{"$f":"Berechnungsblatt!C216","v":""},{"$f":"Berechnungsblatt!X216","v":""},{"$f":"Berechnungsblatt!C218","v":""},{"$f":"IF(Stammdaten!$A$2=\"\",\"\",D215-B215)","v":""},{"$f":"IF(Stammdaten!$A$2=\"\",\"\",E215/B215)","v":""},{"$f":"IF(Stammdaten!$A$2=\"\",\"\",ABS(E215))","v":""},{"$f":"IF(Stammdaten!$A$2=\"\",\"\",D215-C215)","v":""},{"$f":"IF(Stammdaten!$A$2=\"\",\"\",H215/C215)","v":""},{"$f":"IF(Stammdaten!$A$2=\"\",\"\",ABS(H215))","v":""},{"$f":"IF(Stammdaten!$A$2=\"\",\"\",IF(F215>35%,1,\"\"))","v":""},{"$f":"IF(Stammdaten!$A$2=\"\",\"\",IF(I215>35%,1,\"\"))","v":""},{"$f":"IF(Stammdaten!$A$2=\"\",\"\",MONTH(A215))","v":""},{"$f":"IF(Stammdaten!$A$2=\"\",\"\",YEAR(A215))","v":""}]
[{"$f":"Analysedaten!A216","v":""},{"$f":"Berechnungsblatt!C217","v":""},{"$f":"Berechnungsblatt!X217","v":""},{"$f":"Berechnungsblatt!C219","v":""},{"$f":"IF(Stammdaten!$A$2=\"\",\"\",D216-B216)","v":""},{"$f":"IF(Stammdaten!$A$2=\"\",\"\",E216/B216)","v":""},{"$f":"IF(Stammdaten!$A$2=\"\",\"\",ABS(E216))","v":""},{"$f":"IF(Stammdaten!$A$2=\"\",\"\",D216-C216)","v":""},{"$f":"IF(Stammdaten!$A$2=\"\",\"\",H216/C216)","v":""},{"$f":"IF(Stammdaten!$A$2=\"\",\"\",ABS(H216))","v":""},{"$f":"IF(Stammdaten!$A$2=\"\",\"\",IF(F216>35%,1,\"\"))","v":""},{"$f":"IF(Stammdaten!$A$2=\"\",\"\",IF(I216>35%,1,\"\"))","v":""},{"$f":"IF(Stammdaten!$A$2=\"\",\"\",MONTH(A216))","v":""},{"$f":"IF(Stammdaten!$A$2=\"\",\"\",YEAR(A216))","v":""}]
[{"$f":"Analysedaten!A217","v":""},{"$f":"Berechnungsblatt!C218","v":""},{"$f":"Berechnungsblatt!X218","v":""},{"$f":"Berechnungsblatt!C220","v":""},{"$f":"IF(Stammdaten!$A$2=\"\",\"\",D217-B217)","v":""},{"$f":"IF(Stammdaten!$A$2=\"\",\"\",E217/B217)","v":""},{"$f":"IF(Stammdaten!$A$2=\"\",\"\",ABS(E217))","v":""},{"$f":"IF(Stammdaten!$A$2=\"\",\"\",D217-C217)","v":""},{"$f":"IF(Stammdaten!$A$2=\"\",\"\",H217/C217)","v":""},{"$f":"IF(Stammdaten!$A$2=\"\",\"\",ABS(H217))","v":""},{"$f":"IF(Stammdaten!$A$2=\"\",\"\",IF(F217>35%,1,\"\"))","v":""},{"$f":"IF(Stammdaten!$A$2=\"\",\"\",IF(I217>35%,1,\"\"))","v":""},{"$f":"IF(Stammdaten!$A$2=\"\",\"\",MONTH(A217))","v":""},{"$f":"IF(Stammdaten!$A$2=\"\",\"\",YEAR(A217))","v":""}]
[{"$f":"Analysedaten!A218","v":""},{"$f":"Berechnungsblatt!C219","v":""},{"$f":"Berechnungsblatt!X219","v":""},{"$f":"Berechnungsblatt!C221","v":""},{"$f":"IF(Stammdaten!$A$2=\"\",\"\",D218-B218)","v":""},{"$f":"IF(Stammdaten!$A$2=\"\",\"\",E218/B218)","v":""},{"$f":"IF(Stammdaten!$A$2=\"\",\"\",ABS(E218))","v":""},{"$f":"IF(Stammdaten!$A$2=\"\",\"\",D218-C218)","v":""},{"$f":"IF(Stammdaten!$A$2=\"\",\"\",H218/C218)","v":""},{"$f":"IF(Stammdaten!$A$2=\"\",\"\",ABS(H218))","v":""},{"$f":"IF(Stammdaten!$A$2=\"\",\"\",IF(F218>35%,1,\"\"))","v":""},{"$f":"IF(Stammdaten!$A$2=\"\",\"\",IF(I218>35%,1,\"\"))","v":""},{"$f":"IF(Stammdaten!$A$2=\"\",\"\",MONTH(A218))","v":""},{"$f":"IF(Stammdaten!$A$2=\"\",\"\",YEAR(A218))","v":""}]
[{"$f":"Analysedaten!A219","v":""},{"$f":"Berechnungsblatt!C220","v":""},{"$f":"Berechnungsblatt!X220","v":""},{"$f":"Berechnungsblatt!C222","v":""},{"$f":"IF(Stammdaten!$A$2=\"\",\"\",D219-B219)","v":""},{"$f":"IF(Stammdaten!$A$2=\"\",\"\",E219/B219)","v":""},{"$f":"IF(Stammdaten!$A$2=\"\",\"\",ABS(E219))","v":""},{"$f":"IF(Stammdaten!$A$2=\"\",\"\",D219-C219)","v":""},{"$f":"IF(Stammdaten!$A$2=\"\",\"\",H219/C219)","v":""},{"$f":"IF(Stammdaten!$A$2=\"\",\"\",ABS(H219))","v":""},{"$f":"IF(Stammdaten!$A$2=\"\",\"\",IF(F219>35%,1,\"\"))","v":""},{"$f":"IF(Stammdaten!$A$2=\"\",\"\",IF(I219>35%,1,\"\"))","v":""},{"$f":"IF(Stammdaten!$A$2=\"\",\"\",MONTH(A219))","v":""},{"$f":"IF(Stammdaten!$A$2=\"\",\"\",YEAR(A219))","v":""}]
[{"$f":"Analysedaten!A220","v":""},{"$f":"Berechnungsblatt!C221","v":""},{"$f":"Berechnungsblatt!X221","v":""},{"$f":"Berechnungsblatt!C223","v":""},{"$f":"IF(Stammdaten!$A$2=\"\",\"\",D220-B220)","v":""},{"$f":"IF(Stammdaten!$A$2=\"\",\"\",E220/B220)","v":""},{"$f":"IF(Stammdaten!$A$2=\"\",\"\",ABS(E220))","v":""},{"$f":"IF(Stammdaten!$A$2=\"\",\"\",D220-C220)","v":""},{"$f":"IF(Stammdaten!$A$2=\"\",\"\",H220/C220)","v":""},{"$f":"IF(Stammdaten!$A$2=\"\",\"\",ABS(H220))","v":""},{"$f":"IF(Stammdaten!$A$2=\"\",\"\",IF(F220>35%,1,\"\"))","v":""},{"$f":"IF(Stammdaten!$A$2=\"\",\"\",IF(I220>35%,1,\"\"))","v":""},{"$f":"IF(Stammdaten!$A$2=\"\",\"\",MONTH(A220))","v":""},{"$f":"IF(Stammdaten!$A$2=\"\",\"\",YEAR(A220))","v":""}]
[{"$f":"Analysedaten!A221","v":""},{"$f":"Berechnungsblatt!C222","v":""},{"$f":"Berechnungsblatt!X222","v":""},{"$f":"Berechnungsblatt!C224","v":""},{"$f":"IF(Stammdaten!$A$2=\"\",\"\",D221-B221)","v":""},{"$f":"IF(Stammdaten!$A$2=\"\",\"\",E221/B221)","v":""},{"$f":"IF(Stammdaten!$A$2=\"\",\"\",ABS(E221))","v":""},{"$f":"IF(Stammdaten!$A$2=\"\",\"\",D221-C221)","v":""},{"$f":"IF(Stammdaten!$A$2=\"\",\"\",H221/C221)","v":""},{"$f":"IF(Stammdaten!$A$2=\"\",\"\",ABS(H221))","v":""},{"$f":"IF(Stammdaten!$A$2=\"\",\"\",IF(F221>35%,1,\"\"))","v":""},{"$f":"IF(Stammdaten!$A$2=\"\",\"\",IF(I221>35%,1,\"\"))","v":""},{"$f":"IF(Stammdaten!$A$2=\"\",\"\",MONTH(A221))","v":""},{"$f":"IF(Stammdaten!$A$2=\"\",\"\",YEAR(A221))","v":""}]
[{"$f":"Analysedaten!A222","v":""},{"$f":"Berechnungsblatt!C223","v":""},{"$f":"Berechnungsblatt!X223","v":""},{"$f":"Berechnungsblatt!C225","v":""},{"$f":"IF(Stammdaten!$A$2=\"\",\"\",D222-B222)","v":""},{"$f":"IF(Stammdaten!$A$2=\"\",\"\",E222/B222)","v":""},{"$f":"IF(Stammdaten!$A$2=\"\",\"\",ABS(E222))","v":""},{"$f":"IF(Stammdaten!$A$2=\"\",\"\",D222-C222)","v":""},{"$f":"IF(Stammdaten!$A$2=\"\",\"\",H222/C222)","v":""},{"$f":"IF(Stammdaten!$A$2=\"\",\"\",ABS(H222))","v":""},{"$f":"IF(Stammdaten!$A$2=\"\",\"\",IF(F222>35%,1,\"\"))","v":""},{"$f":"IF(Stammdaten!$A$2=\"\",\"\",IF(I222>35%,1,\"\"))","v":""},{"$f":"IF(Stammdaten!$A$2=\"\",\"\",MONTH(A222))","v":""},{"$f":"IF(Stammdaten!$A$2=\"\",\"\",YEAR(A222))","v":""}]
[{"$f":"Analysedaten!A223","v":""},{"$f":"Berechnungsblatt!C224","v":""},{"$f":"Berechnungsblatt!X224","v":""},{"$f":"Berechnungsblatt!C226","v":""},{"$f":"IF(Stammdaten!$A$2=\"\",\"\",D223-B223)","v":""},{"$f":"IF(Stammdaten!$A$2=\"\",\"\",E223/B223)","v":""},{"$f":"IF(Stammdaten!$A$2=\"\",\"\",ABS(E223))","v":""},{"$f":"IF(Stammdaten!$A$2=\"\",\"\",D223-C223)","v":""},{"$f":"IF(Stammdaten!$A$2=\"\",\"\",H223/C223)","v":""},{"$f":"IF(Stammdaten!$A$2=\"\",\"\",ABS(H223))","v":""},{"$f":"IF(Stammdaten!$A$2=\"\",\"\",IF(F223>35%,1,\"\"))","v":""},{"$f":"IF(Stammdaten!$A$2=\"\",\"\",IF(I223>35%,1,\"\"))","v":""},{"$f":"IF(Stammdaten!$A$2=\"\",\"\",MONTH(A223))","v":""},{"$f":"IF(Stammdaten!$A$2=\"\",\"\",YEAR(A223))","v":""}]
[{"$f":"Analysedaten!A224","v":""},{"$f":"Berechnungsblatt!C225","v":""},{"$f":"Berechnungsblatt!X225","v":""},{"$f":"Berechnungsblatt!C227","v":""},{"$f":"IF(Stammdaten!$A$2=\"\",\"\",D224-B224)","v":""},{"$f":"IF(Stammdaten!$A$2=\"\",\"\",E224/B224)","v":""},{"$f":"IF(Stammdaten!$A$2=\"\",\"\",ABS(E224))","v":""},{"$f":"IF(Stammdaten!$A$2=\"\",\"\",D224-C224)","v":""},{"$f":"IF(Stammdaten!$A$2=\"\",\"\",H224/C224)","v":""},{"$f":"IF(Stammdaten!$A$2=\"\",\"\",ABS(H224))","v":""},{"$f":"IF(Stammdaten!$A$2=\"\",\"\",IF(F224>35%,1,\"\"))","v":""},{"$f":"IF(Stammdaten!$A$2=\"\",\"\",IF(I224>35%,1,\"\"))","v":""},{"$f":"IF(Stammdaten!$A$2=\"\",\"\",MONTH(A224))","v":""},{"$f":"IF(Stammdaten!$A$2=\"\",\"\",YEAR(A224))","v":""}]
[{"$f":"Analysedaten!A225","v":""},{"$f":"Berechnungsblatt!C226","v":""},{"$f":"Berechnungsblatt!X226","v":""},{"$f":"Berechnungsblatt!C228","v":""},{"$f":"IF(Stammdaten!$A$2=\"\",\"\",D225-B225)","v":""},{"$f":"IF(Stammdaten!$A$2=\"\",\"\",E225/B225)","v":""},{"$f":"IF(Stammdaten!$A$2=\"\",\"\",ABS(E225))","v":""},{"$f":"IF(Stammdaten!$A$2=\"\",\"\",D225-C225)","v":""},{"$f":"IF(Stammdaten!$A$2=\"\",\"\",H225/C225)","v":""},{"$f":"IF(Stammdaten!$A$2=\"\",\"\",ABS(H225))","v":""},{"$f":"IF(Stammdaten!$A$2=\"\",\"\",IF(F225>35%,1,\"\"))","v":""},{"$f":"IF(Stammdaten!$A$2=\"\",\"\",IF(I225>35%,1,\"\"))","v":""},{"$f":"IF(Stammdaten!$A$2=\"\",\"\",MONTH(A225))","v":""},{"$f":"IF(Stammdaten!$A$2=\"\",\"\",YEAR(A225))","v":""}]
[{"$f":"Analysedaten!A226","v":""},{"$f":"Berechnungsblatt!C227","v":""},{"$f":"Berechnungsblatt!X227","v":""},{"$f":"Berechnungsblatt!C229","v":""},{"$f":"IF(Stammdaten!$A$2=\"\",\"\",D226-B226)","v":""},{"$f":"IF(Stammdaten!$A$2=\"\",\"\",E226/B226)","v":""},{"$f":"IF(Stammdaten!$A$2=\"\",\"\",ABS(E226))","v":""},{"$f":"IF(Stammdaten!$A$2=\"\",\"\",D226-C226)","v":""},{"$f":"IF(Stammdaten!$A$2=\"\",\"\",H226/C226)","v":""},{"$f":"IF(Stammdaten!$A$2=\"\",\"\",ABS(H226))","v":""},{"$f":"IF(Stammdaten!$A$2=\"\",\"\",IF(F226>35%,1,\"\"))","v":""},{"$f":"IF(Stammdaten!$A$2=\"\",\"\",IF(I226>35%,1,\"\"))","v":""},{"$f":"IF(Stammdaten!$A$2=\"\",\"\",MONTH(A226))","v":""},{"$f":"IF(Stammdaten!$A$2=\"\",\"\",YEAR(A226))","v":""}]
[{"$f":"Analysedaten!A227","v":""},{"$f":"Berechnungsblatt!C228","v":""},{"$f":"Berechnungsblatt!X228","v":""},{"$f":"Berechnungsblatt!C230","v":""},{"$f":"IF(Stammdaten!$A$2=\"\",\"\",D227-B227)","v":""},{"$f":"IF(Stammdaten!$A$2=\"\",\"\",E227/B227)","v":""},{"$f":"IF(Stammdaten!$A$2=\"\",\"\",ABS(E227))","v":""},{"$f":"IF(Stammdaten!$A$2=\"\",\"\",D227-C227)","v":""},{"$f":"IF(Stammdaten!$A$2=\"\",\"\",H227/C227)","v":""},{"$f":"IF(Stammdaten!$A$2=\"\",\"\",ABS(H227))","v":""},{"$f":"IF(Stammdaten!$A$2=\"\",\"\",IF(F227>35%,1,\"\"))","v":""},{"$f":"IF(Stammdaten!$A$2=\"\",\"\",IF(I227>35%,1,\"\"))","v":""},{"$f":"IF(Stammdaten!$A$2=\"\",\"\",MONTH(A227))","v":""},{"$f":"IF(Stammdaten!$A$2=\"\",\"\",YEAR(A227))","v":""}]
[{"$f":"Analysedaten!A228","v":""},{"$f":"Berechnungsblatt!C229","v":""},{"$f":"Berechnungsblatt!X229","v":""},{"$f":"Berechnungsblatt!C231","v":""},{"$f":"IF(Stammdaten!$A$2=\"\",\"\",D228-B228)","v":""},{"$f":"IF(Stammdaten!$A$2=\"\",\"\",E228/B228)","v":""},{"$f":"IF(Stammdaten!$A$2=\"\",\"\",ABS(E228))","v":""},{"$f":"IF(Stammdaten!$A$2=\"\",\"\",D228-C228)","v":""},{"$f":"IF(Stammdaten!$A$2=\"\",\"\",H228/C228)","v":""},{"$f":"IF(Stammdaten!$A$2=\"\",\"\",ABS(H228))","v":""},{"$f":"IF(Stammdaten!$A$2=\"\",\"\",IF(F228>35%,1,\"\"))","v":""},{"$f":"IF(Stammdaten!$A$2=\"\",\"\",IF(I228>35%,1,\"\"))","v":""},{"$f":"IF(Stammdaten!$A$2=\"\",\"\",MONTH(A228))","v":""},{"$f":"IF(Stammdaten!$A$2=\"\",\"\",YEAR(A228))","v":""}]
[{"$f":"Analysedaten!A229","v":""},{"$f":"Berechnungsblatt!C230","v":""},{"$f":"Berechnungsblatt!X230","v":""},{"$f":"Berechnungsblatt!C232","v":""},{"$f":"IF(Stammdaten!$A$2=\"\",\"\",D229-B229)","v":""},{"$f":"IF(Stammdaten!$A$2=\"\",\"\",E229/B229)","v":""},{"$f":"IF(Stammdaten!$A$2=\"\",\"\",ABS(E229))","v":""},{"$f":"IF(Stammdaten!$A$2=\"\",\"\",D229-C229)","v":""},{"$f":"IF(Stammdaten!$A$2=\"\",\"\",H229/C229)","v":""},{"$f":"IF(Stammdaten!$A$2=\"\",\"\",ABS(H229))","v":""},{"$f":"IF(Stammdaten!$A$2=\"\",\"\",IF(F229>35%,1,\"\"))","v":""},{"$f":"IF(Stammdaten!$A$2=\"\",\"\",IF(I229>35%,1,\"\"))","v":""},{"$f":"IF(Stammdaten!$A$2=\"\",\"\",MONTH(A229))","v":""},{"$f":"IF(Stammdaten!$A$2=\"\",\"\",YEAR(A229))","v":""}]
[{"$f":"Analysedaten!A230","v":""},{"$f":"Berechnungsblatt!C231","v":""},{"$f":"Berechnungsblatt!X231","v":""},{"$f":"Berechnungsblatt!C233","v":""},{"$f":"IF(Stammdaten!$A$2=\"\",\"\",D230-B230)","v":""},{"$f":"IF(Stammdaten!$A$2=\"\",\"\",E230/B230)","v":""},{"$f":"IF(Stammdaten!$A$2=\"\",\"\",ABS(E230))","v":""},{"$f":"IF(Stammdaten!$A$2=\"\",\"\",D230-C230)","v":""},{"$f":"IF(Stammdaten!$A$2=\"\",\"\",H230/C230)","v":""},{"$f":"IF(Stammdaten!$A$2=\"\",\"\",ABS(H230))","v":""},{"$f":"IF(Stammdaten!$A$2=\"\",\"\",IF(F230>35%,1,\"\"))","v":""},{"$f":"IF(Stammdaten!$A$2=\"\",\"\",IF(I230>35%,1,\"\"))","v":""},{"$f":"IF(Stammdaten!$A$2=\"\",\"\",MONTH(A230))","v":""},{"$f":"IF(Stammdaten!$A$2=\"\",\"\",YEAR(A230))","v":""}]
[{"$f":"Analysedaten!A231","v":""},{"$f":"Berechnungsblatt!C232","v":""},{"$f":"Berechnungsblatt!X232","v":""},{"$f":"Berechnungsblatt!C234","v":""},{"$f":"IF(Stammdaten!$A$2=\"\",\"\",D231-B231)","v":""},{"$f":"IF(Stammdaten!$A$2=\"\",\"\",E231/B231)","v":""},{"$f":"IF(Stammdaten!$A$2=\"\",\"\",ABS(E231))","v":""},{"$f":"IF(Stammdaten!$A$2=\"\",\"\",D231-C231)","v":""},{"$f":"IF(Stammdaten!$A$2=\"\",\"\",H231/C231)","v":""},{"$f":"IF(Stammdaten!$A$2=\"\",\"\",ABS(H231))","v":""},{"$f":"IF(Stammdaten!$A$2=\"\",\"\",IF(F231>35%,1,\"\"))","v":""},{"$f":"IF(Stammdaten!$A$2=\"\",\"\",IF(I231>35%,1,\"\"))","v":""},{"$f":"IF(Stammdaten!$A$2=\"\",\"\",MONTH(A231))","v":""},{"$f":"IF(Stammdaten!$A$2=\"\",\"\",YEAR(A231))","v":""}]
[{"$f":"Analysedaten!A232","v":""},{"$f":"Berechnungsblatt!C233","v":""},{"$f":"Berechnungsblatt!X233","v":""},{"$f":"Berechnungsblatt!C235","v":""},{"$f":"IF(Stammdaten!$A$2=\"\",\"\",D232-B232)","v":""},{"$f":"IF(Stammdaten!$A$2=\"\",\"\",E232/B232)","v":""},{"$f":"IF(Stammdaten!$A$2=\"\",\"\",ABS(E232))","v":""},{"$f":"IF(Stammdaten!$A$2=\"\",\"\",D232-C232)","v":""},{"$f":"IF(Stammdaten!$A$2=\"\",\"\",H232/C232)","v":""},{"$f":"IF(Stammdaten!$A$2=\"\",\"\",ABS(H232))","v":""},{"$f":"IF(Stammdaten!$A$2=\"\",\"\",IF(F232>35%,1,\"\"))","v":""},{"$f":"IF(Stammdaten!$A$2=\"\",\"\",IF(I232>35%,1,\"\"))","v":""},{"$f":"IF(Stammdaten!$A$2=\"\",\"\",MONTH(A232))","v":""},{"$f":"IF(Stammdaten!$A$2=\"\",\"\",YEAR(A232))","v":""}]
[{"$f":"Analysedaten!A233","v":""},{"$f":"Berechnungsblatt!C234","v":""},{"$f":"Berechnungsblatt!X234","v":""},{"$f":"Berechnungsblatt!C236","v":""},{"$f":"IF(Stammdaten!$A$2=\"\",\"\",D233-B233)","v":""},{"$f":"IF(Stammdaten!$A$2=\"\",\"\",E233/B233)","v":""},{"$f":"IF(Stammdaten!$A$2=\"\",\"\",ABS(E233))","v":""},{"$f":"IF(Stammdaten!$A$2=\"\",\"\",D233-C233)","v":""},{"$f":"IF(Stammdaten!$A$2=\"\",\"\",H233/C233)","v":""},{"$f":"IF(Stammdaten!$A$2=\"\",\"\",ABS(H233))","v":""},{"$f":"IF(Stammdaten!$A$2=\"\",\"\",IF(F233>35%,1,\"\"))","v":""},{"$f":"IF(Stammdaten!$A$2=\"\",\"\",IF(I233>35%,1,\"\"))","v":""},{"$f":"IF(Stammdaten!$A$2=\"\",\"\",MONTH(A233))","v":""},{"$f":"IF(Stammdaten!$A$2=\"\",\"\",YEAR(A233))","v":""}]
[{"$f":"Analysedaten!A234","v":""},{"$f":"Berechnungsblatt!C235","v":""},{"$f":"Berechnungsblatt!X235","v":""},{"$f":"Berechnungsblatt!C237","v":""},{"$f":"IF(Stammdaten!$A$2=\"\",\"\",D234-B234)","v":""},{"$f":"IF(Stammdaten!$A$2=\"\",\"\",E234/B234)","v":""},{"$f":"IF(Stammdaten!$A$2=\"\",\"\",ABS(E234))","v":""},{"$f":"IF(Stammdaten!$A$2=\"\",\"\",D234-C234)","v":""},{"$f":"IF(Stammdaten!$A$2=\"\",\"\",H234/C234)","v":""},{"$f":"IF(Stammdaten!$A$2=\"\",\"\",ABS(H234))","v":""},{"$f":"IF(Stammdaten!$A$2=\"\",\"\",IF(F234>35%,1,\"\"))","v":""},{"$f":"IF(Stammdaten!$A$2=\"\",\"\",IF(I234>35%,1,\"\"))","v":""},{"$f":"IF(Stammdaten!$A$2=\"\",\"\",MONTH(A234))","v":""},{"$f":"IF(Stammdaten!$A$2=\"\",\"\",YEAR(A234))","v":""}]
[{"$f":"Analysedaten!A235","v":""},{"$f":"Berechnungsblatt!C236","v":""},{"$f":"Berechnungsblatt!X236","v":""},{"$f":"Berechnungsblatt!C238","v":""},{"$f":"IF(Stammdaten!$A$2=\"\",\"\",D235-B235)","v":""},{"$f":"IF(Stammdaten!$A$2=\"\",\"\",E235/B235)","v":""},{"$f":"IF(Stammdaten!$A$2=\"\",\"\",ABS(E235))","v":""},{"$f":"IF(Stammdaten!$A$2=\"\",\"\",D235-C235)","v":""},{"$f":"IF(Stammdaten!$A$2=\"\",\"\",H235/C235)","v":""},{"$f":"IF(Stammdaten!$A$2=\"\",\"\",ABS(H235))","v":""},{"$f":"IF(Stammdaten!$A$2=\"\",\"\",IF(F235>35%,1,\"\"))","v":""},{"$f":"IF(Stammdaten!$A$2=\"\",\"\",IF(I235>35%,1,\"\"))","v":""},{"$f":"IF(Stammdaten!$A$2=\"\",\"\",MONTH(A235))","v":""},{"$f":"IF(Stammdaten!$A$2=\"\",\"\",YEAR(A235))","v":""}]
[{"$f":"Analysedaten!A236","v":""},{"$f":"Berechnungsblatt!C237","v":""},{"$f":"Berechnungsblatt!X237","v":""},{"$f":"Berechnungsblatt!C239","v":""},{"$f":"IF(Stammdaten!$A$2=\"\",\"\",D236-B236)","v":""},{"$f":"IF(Stammdaten!$A$2=\"\",\"\",E236/B236)","v":""},{"$f":"IF(Stammdaten!$A$2=\"\",\"\",ABS(E236))","v":""},{"$f":"IF(Stammdaten!$A$2=\"\",\"\",D236-C236)","v":""},{"$f":"IF(Stammdaten!$A$2=\"\",\"\",H236/C236)","v":""},{"$f":"IF(Stammdaten!$A$2=\"\",\"\",ABS(H236))","v":""},{"$f":"IF(Stammdaten!$A$2=\"\",\"\",IF(F236>35%,1,\"\"))","v":""},{"$f":"IF(Stammdaten!$A$2=\"\",\"\",IF(I236>35%,1,\"\"))","v":""},{"$f":"IF(Stammdaten!$A$2=\"\",\"\",MONTH(A236))","v":""},{"$f":"IF(Stammdaten!$A$2=\"\",\"\",YEAR(A236))","v":""}]
[{"$f":"Analysedaten!A237","v":""},{"$f":"Berechnungsblatt!C238","v":""},{"$f":"Berechnungsblatt!X238","v":""},{"$f":"Berechnungsblatt!C240","v":""},{"$f":"IF(Stammdaten!$A$2=\"\",\"\",D237-B237)","v":""},{"$f":"IF(Stammdaten!$A$2=\"\",\"\",E237/B237)","v":""},{"$f":"IF(Stammdaten!$A$2=\"\",\"\",ABS(E237))","v":""},{"$f":"IF(Stammdaten!$A$2=\"\",\"\",D237-C237)","v":""},{"$f":"IF(Stammdaten!$A$2=\"\",\"\",H237/C237)","v":""},{"$f":"IF(Stammdaten!$A$2=\"\",\"\",ABS(H237))","v":""},{"$f":"IF(Stammdaten!$A$2=\"\",\"\",IF(F237>35%,1,\"\"))","v":""},{"$f":"IF(Stammdaten!$A$2=\"\",\"\",IF(I237>35%,1,\"\"))","v":""},{"$f":"IF(Stammdaten!$A$2=\"\",\"\",MONTH(A237))","v":""},{"$f":"IF(Stammdaten!$A$2=\"\",\"\",YEAR(A237))","v":""}]
[{"$f":"Analysedaten!A238","v":""},{"$f":"Berechnungsblatt!C239","v":""},{"$f":"Berechnungsblatt!X239","v":""},{"$f":"Berechnungsblatt!C241","v":""},{"$f":"IF(Stammdaten!$A$2=\"\",\"\",D238-B238)","v":""},{"$f":"IF(Stammdaten!$A$2=\"\",\"\",E238/B238)","v":""},{"$f":"IF(Stammdaten!$A$2=\"\",\"\",ABS(E238))","v":""},{"$f":"IF(Stammdaten!$A$2=\"\",\"\",D238-C238)","v":""},{"$f":"IF(Stammdaten!$A$2=\"\",\"\",H238/C238)","v":""},{"$f":"IF(Stammdaten!$A$2=\"\",\"\",ABS(H238))","v":""},{"$f":"IF(Stammdaten!$A$2=\"\",\"\",IF(F238>35%,1,\"\"))","v":""},{"$f":"IF(Stammdaten!$A$2=\"\",\"\",IF(I238>35%,1,\"\"))","v":""},{"$f":"IF(Stammdaten!$A$2=\"\",\"\",MONTH(A238))","v":""},{"$f":"IF(Stammdaten!$A$2=\"\",\"\",YEAR(A238))","v":""}]
[{"$f":"Analysedaten!A239","v":""},{"$f":"Berechnungsblatt!C240","v":""},{"$f":"Berechnungsblatt!X240","v":""},{"$f":"Berechnungsblatt!C242","v":""},{"$f":"IF(Stammdaten!$A$2=\"\",\"\",D239-B239)","v":""},{"$f":"IF(Stammdaten!$A$2=\"\",\"\",E239/B239)","v":""},{"$f":"IF(Stammdaten!$A$2=\"\",\"\",ABS(E239))","v":""},{"$f":"IF(Stammdaten!$A$2=\"\",\"\",D239-C239)","v":""},{"$f":"IF(Stammdaten!$A$2=\"\",\"\",H239/C239)","v":""},{"$f":"IF(Stammdaten!$A$2=\"\",\"\",ABS(H239))","v":""},{"$f":"IF(Stammdaten!$A$2=\"\",\"\",IF(F239>35%,1,\"\"))","v":""},{"$f":"IF(Stammdaten!$A$2=\"\",\"\",IF(I239>35%,1,\"\"))","v":""},{"$f":"IF(Stammdaten!$A$2=\"\",\"\",MONTH(A239))","v":""},{"$f":"IF(Stammdaten!$A$2=\"\",\"\",YEAR(A239))","v":""}]
[{"$f":"Analysedaten!A240","v":""},{"$f":"Berechnungsblatt!C241","v":""},{"$f":"Berechnungsblatt!X241","v":""},{"$f":"Berechnungsblatt!C243","v":""},{"$f":"IF(Stammdaten!$A$2=\"\",\"\",D240-B240)","v":""},{"$f":"IF(Stammdaten!$A$2=\"\",\"\",E240/B240)","v":""},{"$f":"IF(Stammdaten!$A$2=\"\",\"\",ABS(E240))","v":""},{"$f":"IF(Stammdaten!$A$2=\"\",\"\",D240-C240)","v":""},{"$f":"IF(Stammdaten!$A$2=\"\",\"\",H240/C240)","v":""},{"$f":"IF(Stammdaten!$A$2=\"\",\"\",ABS(H240))","v":""},{"$f":"IF(Stammdaten!$A$2=\"\",\"\",IF(F240>35%,1,\"\"))","v":""},{"$f":"IF(Stammdaten!$A$2=\"\",\"\",IF(I240>35%,1,\"\"))","v":""},{"$f":"IF(Stammdaten!$A$2=\"\",\"\",MONTH(A240))","v":""},{"$f":"IF(Stammdaten!$A$2=\"\",\"\",YEAR(A240))","v":""}]
[{"$f":"Analysedaten!A241","v":""},{"$f":"Berechnungsblatt!C242","v":""},{"$f":"Berechnungsblatt!X242","v":""},{"$f":"Berechnungsblatt!C244","v":""},{"$f":"IF(Stammdaten!$A$2=\"\",\"\",D241-B241)","v":""},{"$f":"IF(Stammdaten!$A$2=\"\",\"\",E241/B241)","v":""},{"$f":"IF(Stammdaten!$A$2=\"\",\"\",ABS(E241))","v":""},{"$f":"IF(Stammdaten!$A$2=\"\",\"\",D241-C241)","v":""},{"$f":"IF(Stammdaten!$A$2=\"\",\"\",H241/C241)","v":""},{"$f":"IF(Stammdaten!$A$2=\"\",\"\",ABS(H241))","v":""},{"$f":"IF(Stammdaten!$A$2=\"\",\"\",IF(F241>35%,1,\"\"))","v":""},{"$f":"IF(Stammdaten!$A$2=\"\",\"\",IF(I241>35%,1,\"\"))","v":""},{"$f":"IF(Stammdaten!$A$2=\"\",\"\",MONTH(A241))","v":""},{"$f":"IF(Stammdaten!$A$2=\"\",\"\",YEAR(A241))","v":""}]
[{"$f":"Analysedaten!A242","v":""},{"$f":"Berechnungsblatt!C243","v":""},{"$f":"Berechnungsblatt!X243","v":""},{"$f":"Berechnungsblatt!C245","v":""},{"$f":"IF(Stammdaten!$A$2=\"\",\"\",D242-B242)","v":""},{"$f":"IF(Stammdaten!$A$2=\"\",\"\",E242/B242)","v":""},{"$f":"IF(Stammdaten!$A$2=\"\",\"\",ABS(E242))","v":""},{"$f":"IF(Stammdaten!$A$2=\"\",\"\",D242-C242)","v":""},{"$f":"IF(Stammdaten!$A$2=\"\",\"\",H242/C242)","v":""},{"$f":"IF(Stammdaten!$A$2=\"\",\"\",ABS(H242))","v":""},{"$f":"IF(Stammdaten!$A$2=\"\",\"\",IF(F242>35%,1,\"\"))","v":""},{"$f":"IF(Stammdaten!$A$2=\"\",\"\",IF(I242>35%,1,\"\"))","v":""},{"$f":"IF(Stammdaten!$A$2=\"\",\"\",MONTH(A242))","v":""},{"$f":"IF(Stammdaten!$A$2=\"\",\"\",YEAR(A242))","v":""}]
[{"$f":"Analysedaten!A243","v":""},{"$f":"Berechnungsblatt!C244","v":""},{"$f":"Berechnungsblatt!X244","v":""},{"$f":"Berechnungsblatt!C246","v":""},{"$f":"IF(Stammdaten!$A$2=\"\",\"\",D243-B243)","v":""},{"$f":"IF(Stammdaten!$A$2=\"\",\"\",E243/B243)","v":""},{"$f":"IF(Stammdaten!$A$2=\"\",\"\",ABS(E243))","v":""},{"$f":"IF(Stammdaten!$A$2=\"\",\"\",D243-C243)","v":""},{"$f":"IF(Stammdaten!$A$2=\"\",\"\",H243/C243)","v":""},{"$f":"IF(Stammdaten!$A$2=\"\",\"\",ABS(H243))","v":""},{"$f":"IF(Stammdaten!$A$2=\"\",\"\",IF(F243>35%,1,\"\"))","v":""},{"$f":"IF(Stammdaten!$A$2=\"\",\"\",IF(I243>35%,1,\"\"))","v":""},{"$f":"IF(Stammdaten!$A$2=\"\",\"\",MONTH(A243))","v":""},{"$f":"IF(Stammdaten!$A$2=\"\",\"\",YEAR(A243))","v":""}]
[{"$f":"Analysedaten!A244","v":""},{"$f":"Berechnungsblatt!C245","v":""},{"$f":"Berechnungsblatt!X245","v":""},{"$f":"Berechnungsblatt!C247","v":""},{"$f":"IF(Stammdaten!$A$2=\"\",\"\",D244-B244)","v":""},{"$f":"IF(Stammdaten!$A$2=\"\",\"\",E244/B244)","v":""},{"$f":"IF(Stammdaten!$A$2=\"\",\"\",ABS(E244))","v":""},{"$f":"IF(Stammdaten!$A$2=\"\",\"\",D244-C244)","v":""},{"$f":"IF(Stammdaten!$A$2=\"\",\"\",H244/C244)","v":""},{"$f":"IF(Stammdaten!$A$2=\"\",\"\",ABS(H244))","v":""},{"$f":"IF(Stammdaten!$A$2=\"\",\"\",IF(F244>35%,1,\"\"))","v":""},{"$f":"IF(Stammdaten!$A$2=\"\",\"\",IF(I244>35%,1,\"\"))","v":""},{"$f":"IF(Stammdaten!$A$2=\"\",\"\",MONTH(A244))","v":""},{"$f":"IF(Stammdaten!$A$2=\"\",\"\",YEAR(A244))","v":""}]
[{"$f":"Analysedaten!A245","v":""},{"$f":"Berechnungsblatt!C246","v":""},{"$f":"Berechnungsblatt!X246","v":""},{"$f":"Berechnungsblatt!C248","v":""},{"$f":"IF(Stammdaten!$A$2=\"\",\"\",D245-B245)","v":""},{"$f":"IF(Stammdaten!$A$2=\"\",\"\",E245/B245)","v":""},{"$f":"IF(Stammdaten!$A$2=\"\",\"\",ABS(E245))","v":""},{"$f":"IF(Stammdaten!$A$2=\"\",\"\",D245-C245)","v":""},{"$f":"IF(Stammdaten!$A$2=\"\",\"\",H245/C245)","v":""},{"$f":"IF(Stammdaten!$A$2=\"\",\"\",ABS(H245))","v":""},{"$f":"IF(Stammdaten!$A$2=\"\",\"\",IF(F245>35%,1,\"\"))","v":""},{"$f":"IF(Stammdaten!$A$2=\"\",\"\",IF(I245>35%,1,\"\"))","v":""},{"$f":"IF(Stammdaten!$A$2=\"\",\"\",MONTH(A245))","v":""},{"$f":"IF(Stammdaten!$A$2=\"\",\"\",YEAR(A245))","v":""}]
[{"$f":"Analysedaten!A246","v":""},{"$f":"Berechnungsblatt!C247","v":""},{"$f":"Berechnungsblatt!X247","v":""},{"$f":"Berechnungsblatt!C249","v":""},{"$f":"IF(Stammdaten!$A$2=\"\",\"\",D246-B246)","v":""},{"$f":"IF(Stammdaten!$A$2=\"\",\"\",E246/B246)","v":""},{"$f":"IF(Stammdaten!$A$2=\"\",\"\",ABS(E246))","v":""},{"$f":"IF(Stammdaten!$A$2=\"\",\"\",D246-C246)","v":""},{"$f":"IF(Stammdaten!$A$2=\"\",\"\",H246/C246)","v":""},{"$f":"IF(Stammdaten!$A$2=\"\",\"\",ABS(H246))","v":""},{"$f":"IF(Stammdaten!$A$2=\"\",\"\",IF(F246>35%,1,\"\"))","v":""},{"$f":"IF(Stammdaten!$A$2=\"\",\"\",IF(I246>35%,1,\"\"))","v":""},{"$f":"IF(Stammdaten!$A$2=\"\",\"\",MONTH(A246))","v":""},{"$f":"IF(Stammdaten!$A$2=\"\",\"\",YEAR(A246))","v":""}]
[{"$f":"Analysedaten!A247","v":""},{"$f":"Berechnungsblatt!C248","v":""},{"$f":"Berechnungsblatt!X248","v":""},{"$f":"Berechnungsblatt!C250","v":""},{"$f":"IF(Stammdaten!$A$2=\"\",\"\",D247-B247)","v":""},{"$f":"IF(Stammdaten!$A$2=\"\",\"\",E247/B247)","v":""},{"$f":"IF(Stammdaten!$A$2=\"\",\"\",ABS(E247))","v":""},{"$f":"IF(Stammdaten!$A$2=\"\",\"\",D247-C247)","v":""},{"$f":"IF(Stammdaten!$A$2=\"\",\"\",H247/C247)","v":""},{"$f":"IF(Stammdaten!$A$2=\"\",\"\",ABS(H247))","v":""},{"$f":"IF(Stammdaten!$A$2=\"\",\"\",IF(F247>35%,1,\"\"))","v":""},{"$f":"IF(Stammdaten!$A$2=\"\",\"\",IF(I247>35%,1,\"\"))","v":""},{"$f":"IF(Stammdaten!$A$2=\"\",\"\",MONTH(A247))","v":""},{"$f":"IF(Stammdaten!$A$2=\"\",\"\",YEAR(A247))","v":""}]
[{"$f":"Analysedaten!A248","v":""},{"$f":"Berechnungsblatt!C249","v":""},{"$f":"Berechnungsblatt!X249","v":""},{"$f":"Berechnungsblatt!C251","v":""},{"$f":"IF(Stammdaten!$A$2=\"\",\"\",D248-B248)","v":""},{"$f":"IF(Stammdaten!$A$2=\"\",\"\",E248/B248)","v":""},{"$f":"IF(Stammdaten!$A$2=\"\",\"\",ABS(E248))","v":""},{"$f":"IF(Stammdaten!$A$2=\"\",\"\",D248-C248)","v":""},{"$f":"IF(Stammdaten!$A$2=\"\",\"\",H248/C248)","v":""},{"$f":"IF(Stammdaten!$A$2=\"\",\"\",ABS(H248))","v":""},{"$f":"IF(Stammdaten!$A$2=\"\",\"\",IF(F248>35%,1,\"\"))","v":""},{"$f":"IF(Stammdaten!$A$2=\"\",\"\",IF(I248>35%,1,\"\"))","v":""},{"$f":"IF(Stammdaten!$A$2=\"\",\"\",MONTH(A248))","v":""},{"$f":"IF(Stammdaten!$A$2=\"\",\"\",YEAR(A248))","v":""}]
[{"$f":"Analysedaten!A249","v":""},{"$f":"Berechnungsblatt!C250","v":""},{"$f":"Berechnungsblatt!X250","v":""},{"$f":"Berechnungsblatt!C252","v":""},{"$f":"IF(Stammdaten!$A$2=\"\",\"\",D249-B249)","v":""},{"$f":"IF(Stammdaten!$A$2=\"\",\"\",E249/B249)","v":""},{"$f":"IF(Stammdaten!$A$2=\"\",\"\",ABS(E249))","v":""},{"$f":"IF(Stammdaten!$A$2=\"\",\"\",D249-C249)","v":""},{"$f":"IF(Stammdaten!$A$2=\"\",\"\",H249/C249)","v":""},{"$f":"IF(Stammdaten!$A$2=\"\",\"\",ABS(H249))","v":""},{"$f":"IF(Stammdaten!$A$2=\"\",\"\",IF(F249>35%,1,\"\"))","v":""},{"$f":"IF(Stammdaten!$A$2=\"\",\"\",IF(I249>35%,1,\"\"))","v":""},{"$f":"IF(Stammdaten!$A$2=\"\",\"\",MONTH(A249))","v":""},{"$f":"IF(Stammdaten!$A$2=\"\",\"\",YEAR(A249))","v":""}]
[{"$f":"Analysedaten!A250","v":""},{"$f":"Berechnungsblatt!C251","v":""},{"$f":"Berechnungsblatt!X251","v":""},{"$f":"Berechnungsblatt!C253","v":""},{"$f":"IF(Stammdaten!$A$2=\"\",\"\",D250-B250)","v":""},{"$f":"IF(Stammdaten!$A$2=\"\",\"\",E250/B250)","v":""},{"$f":"IF(Stammdaten!$A$2=\"\",\"\",ABS(E250))","v":""},{"$f":"IF(Stammdaten!$A$2=\"\",\"\",D250-C250)","v":""},{"$f":"IF(Stammdaten!$A$2=\"\",\"\",H250/C250)","v":""},{"$f":"IF(Stammdaten!$A$2=\"\",\"\",ABS(H250))","v":""},{"$f":"IF(Stammdaten!$A$2=\"\",\"\",IF(F250>35%,1,\"\"))","v":""},{"$f":"IF(Stammdaten!$A$2=\"\",\"\",IF(I250>35%,1,\"\"))","v":""},{"$f":"IF(Stammdaten!$A$2=\"\",\"\",MONTH(A250))","v":""},{"$f":"IF(Stammdaten!$A$2=\"\",\"\",YEAR(A250))","v":""}]
[{"$f":"Analysedaten!A251","v":""},{"$f":"Berechnungsblatt!C252","v":""},{"$f":"Berechnungsblatt!X252","v":""},{"$f":"Berechnungsblatt!C254","v":""},{"$f":"IF(Stammdaten!$A$2=\"\",\"\",D251-B251)","v":""},{"$f":"IF(Stammdaten!$A$2=\"\",\"\",E251/B251)","v":""},{"$f":"IF(Stammdaten!$A$2=\"\",\"\",ABS(E251))","v":""},{"$f":"IF(Stammdaten!$A$2=\"\",\"\",D251-C251)","v":""},{"$f":"IF(Stammdaten!$A$2=\"\",\"\",H251/C251)","v":""},{"$f":"IF(Stammdaten!$A$2=\"\",\"\",ABS(H251))","v":""},{"$f":"IF(Stammdaten!$A$2=\"\",\"\",IF(F251>35%,1,\"\"))","v":""},{"$f":"IF(Stammdaten!$A$2=\"\",\"\",IF(I251>35%,1,\"\"))","v":""},{"$f":"IF(Stammdaten!$A$2=\"\",\"\",MONTH(A251))","v":""},{"$f":"IF(Stammdaten!$A$2=\"\",\"\",YEAR(A251))","v":""}]
[{"$f":"Analysedaten!A252","v":""},{"$f":"Berechnungsblatt!C253","v":""},{"$f":"Berechnungsblatt!X253","v":""},{"$f":"Berechnungsblatt!C255","v":""},{"$f":"IF(Stammdaten!$A$2=\"\",\"\",D252-B252)","v":""},{"$f":"IF(Stammdaten!$A$2=\"\",\"\",E252/B252)","v":""},{"$f":"IF(Stammdaten!$A$2=\"\",\"\",ABS(E252))","v":""},{"$f":"IF(Stammdaten!$A$2=\"\",\"\",D252-C252)","v":""},{"$f":"IF(Stammdaten!$A$2=\"\",\"\",H252/C252)","v":""},{"$f":"IF(Stammdaten!$A$2=\"\",\"\",ABS(H252))","v":""},{"$f":"IF(Stammdaten!$A$2=\"\",\"\",IF(F252>35%,1,\"\"))","v":""},{"$f":"IF(Stammdaten!$A$2=\"\",\"\",IF(I252>35%,1,\"\"))","v":""},{"$f":"IF(Stammdaten!$A$2=\"\",\"\",MONTH(A252))","v":""},{"$f":"IF(Stammdaten!$A$2=\"\",\"\",YEAR(A252))","v":""}]
[{"$f":"Analysedaten!A253","v":""},{"$f":"Berechnungsblatt!C254","v":""},{"$f":"Berechnungsblatt!X254","v":""},{"$f":"Berechnungsblatt!C256","v":""},{"$f":"IF(Stammdaten!$A$2=\"\",\"\",D253-B253)","v":""},{"$f":"IF(Stammdaten!$A$2=\"\",\"\",E253/B253)","v":""},{"$f":"IF(Stammdaten!$A$2=\"\",\"\",ABS(E253))","v":""},{"$f":"IF(Stammdaten!$A$2=\"\",\"\",D253-C253)","v":""},{"$f":"IF(Stammdaten!$A$2=\"\",\"\",H253/C253)","v":""},{"$f":"IF(Stammdaten!$A$2=\"\",\"\",ABS(H253))","v":""},{"$f":"IF(Stammdaten!$A$2=\"\",\"\",IF(F253>35%,1,\"\"))","v":""},{"$f":"IF(Stammdaten!$A$2=\"\",\"\",IF(I253>35%,1,\"\"))","v":""},{"$f":"IF(Stammdaten!$A$2=\"\",\"\",MONTH(A253))","v":""},{"$f":"IF(Stammdaten!$A$2=\"\",\"\",YEAR(A253))","v":""}]
[{"$f":"Analysedaten!A254","v":""},{"$f":"Berechnungsblatt!C255","v":""},{"$f":"Berechnungsblatt!X255","v":""},{"$f":"Berechnungsblatt!C257","v":""},{"$f":"IF(Stammdaten!$A$2=\"\",\"\",D254-B254)","v":""},{"$f":"IF(Stammdaten!$A$2=\"\",\"\",E254/B254)","v":""},{"$f":"IF(Stammdaten!$A$2=\"\",\"\",ABS(E254))","v":""},{"$f":"IF(Stammdaten!$A$2=\"\",\"\",D254-C254)","v":""},{"$f":"IF(Stammdaten!$A$2=\"\",\"\",H254/C254)","v":""},{"$f":"IF(Stammdaten!$A$2=\"\",\"\",ABS(H254))","v":""},{"$f":"IF(Stammdaten!$A$2=\"\",\"\",IF(F254>35%,1,\"\"))","v":""},{"$f":"IF(Stammdaten!$A$2=\"\",\"\",IF(I254>35%,1,\"\"))","v":""},{"$f":"IF(Stammdaten!$A$2=\"\",\"\",MONTH(A254))","v":""},{"$f":"IF(Stammdaten!$A$2=\"\",\"\",YEAR(A254))","v":""}]
[{"$f":"Analysedaten!A255","v":""},{"$f":"Berechnungsblatt!C256","v":""},{"$f":"Berechnungsblatt!X256","v":""},{"$f":"Berechnungsblatt!C258","v":""},{"$f":"IF(Stammdaten!$A$2=\"\",\"\",D255-B255)","v":""},{"$f":"IF(Stammdaten!$A$2=\"\",\"\",E255/B255)","v":""},{"$f":"IF(Stammdaten!$A$2=\"\",\"\",ABS(E255))","v":""},{"$f":"IF(Stammdaten!$A$2=\"\",\"\",D255-C255)","v":""},{"$f":"IF(Stammdaten!$A$2=\"\",\"\",H255/C255)","v":""},{"$f":"IF(Stammdaten!$A$2=\"\",\"\",ABS(H255))","v":""},{"$f":"IF(Stammdaten!$A$2=\"\",\"\",IF(F255>35%,1,\"\"))","v":""},{"$f":"IF(Stammdaten!$A$2=\"\",\"\",IF(I255>35%,1,\"\"))","v":""},{"$f":"IF(Stammdaten!$A$2=\"\",\"\",MONTH(A255))","v":""},{"$f":"IF(Stammdaten!$A$2=\"\",\"\",YEAR(A255))","v":""}]
[{"$f":"Analysedaten!A256","v":""},{"$f":"Berechnungsblatt!C257","v":""},{"$f":"Berechnungsblatt!X257","v":""},{"$f":"Berechnungsblatt!C259","v":""},{"$f":"IF(Stammdaten!$A$2=\"\",\"\",D256-B256)","v":""},{"$f":"IF(Stammdaten!$A$2=\"\",\"\",E256/B256)","v":""},{"$f":"IF(Stammdaten!$A$2=\"\",\"\",ABS(E256))","v":""},{"$f":"IF(Stammdaten!$A$2=\"\",\"\",D256-C256)","v":""},{"$f":"IF(Stammdaten!$A$2=\"\",\"\",H256/C256)","v":""},{"$f":"IF(Stammdaten!$A$2=\"\",\"\",ABS(H256))","v":""},{"$f":"IF(Stammdaten!$A$2=\"\",\"\",IF(F256>35%,1,\"\"))","v":""},{"$f":"IF(Stammdaten!$A$2=\"\",\"\",IF(I256>35%,1,\"\"))","v":""},{"$f":"IF(Stammdaten!$A$2=\"\",\"\",MONTH(A256))","v":""},{"$f":"IF(Stammdaten!$A$2=\"\",\"\",YEAR(A256))","v":""}]
[{"$f":"Analysedaten!A257","v":""},{"$f":"Berechnungsblatt!C258","v":""},{"$f":"Berechnungsblatt!X258","v":""},{"$f":"Berechnungsblatt!C260","v":""},{"$f":"IF(Stammdaten!$A$2=\"\",\"\",D257-B257)","v":""},{"$f":"IF(Stammdaten!$A$2=\"\",\"\",E257/B257)","v":""},{"$f":"IF(Stammdaten!$A$2=\"\",\"\",ABS(E257))","v":""},{"$f":"IF(Stammdaten!$A$2=\"\",\"\",D257-C257)","v":""},{"$f":"IF(Stammdaten!$A$2=\"\",\"\",H257/C257)","v":""},{"$f":"IF(Stammdaten!$A$2=\"\",\"\",ABS(H257))","v":""},{"$f":"IF(Stammdaten!$A$2=\"\",\"\",IF(F257>35%,1,\"\"))","v":""},{"$f":"IF(Stammdaten!$A$2=\"\",\"\",IF(I257>35%,1,\"\"))","v":""},{"$f":"IF(Stammdaten!$A$2=\"\",\"\",MONTH(A257))","v":""},{"$f":"IF(Stammdaten!$A$2=\"\",\"\",YEAR(A257))","v":""}]
[{"$f":"Analysedaten!A258","v":""},{"$f":"Berechnungsblatt!C259","v":""},{"$f":"Berechnungsblatt!X259","v":""},{"$f":"Berechnungsblatt!C261","v":""},{"$f":"IF(Stammdaten!$A$2=\"\",\"\",D258-B258)","v":""},{"$f":"IF(Stammdaten!$A$2=\"\",\"\",E258/B258)","v":""},{"$f":"IF(Stammdaten!$A$2=\"\",\"\",ABS(E258))","v":""},{"$f":"IF(Stammdaten!$A$2=\"\",\"\",D258-C258)","v":""},{"$f":"IF(Stammdaten!$A$2=\"\",\"\",H258/C258)","v":""},{"$f":"IF(Stammdaten!$A$2=\"\",\"\",ABS(H258))","v":""},{"$f":"IF(Stammdaten!$A$2=\"\",\"\",IF(F258>35%,1,\"\"))","v":""},{"$f":"IF(Stammdaten!$A$2=\"\",\"\",IF(I258>35%,1,\"\"))","v":""},{"$f":"IF(Stammdaten!$A$2=\"\",\"\",MONTH(A258))","v":""},{"$f":"IF(Stammdaten!$A$2=\"\",\"\",YEAR(A258))","v":""}]
[{"$f":"Analysedaten!A259","v":""},{"$f":"Berechnungsblatt!C260","v":""},{"$f":"Berechnungsblatt!X260","v":""},{"$f":"Berechnungsblatt!C262","v":""},{"$f":"IF(Stammdaten!$A$2=\"\",\"\",D259-B259)","v":""},{"$f":"IF(Stammdaten!$A$2=\"\",\"\",E259/B259)","v":""},{"$f":"IF(Stammdaten!$A$2=\"\",\"\",ABS(E259))","v":""},{"$f":"IF(Stammdaten!$A$2=\"\",\"\",D259-C259)","v":""},{"$f":"IF(Stammdaten!$A$2=\"\",\"\",H259/C259)","v":""},{"$f":"IF(Stammdaten!$A$2=\"\",\"\",ABS(H259))","v":""},{"$f":"IF(Stammdaten!$A$2=\"\",\"\",IF(F259>35%,1,\"\"))","v":""},{"$f":"IF(Stammdaten!$A$2=\"\",\"\",IF(I259>35%,1,\"\"))","v":""},{"$f":"IF(Stammdaten!$A$2=\"\",\"\",MONTH(A259))","v":""},{"$f":"IF(Stammdaten!$A$2=\"\",\"\",YEAR(A259))","v":""}]
[{"$f":"Analysedaten!A260","v":""},{"$f":"Berechnungsblatt!C261","v":""},{"$f":"Berechnungsblatt!X261","v":""},{"$f":"Berechnungsblatt!C263","v":""},{"$f":"IF(Stammdaten!$A$2=\"\",\"\",D260-B260)","v":""},{"$f":"IF(Stammdaten!$A$2=\"\",\"\",E260/B260)","v":""},{"$f":"IF(Stammdaten!$A$2=\"\",\"\",ABS(E260))","v":""},{"$f":"IF(Stammdaten!$A$2=\"\",\"\",D260-C260)","v":""},{"$f":"IF(Stammdaten!$A$2=\"\",\"\",H260/C260)","v":""},{"$f":"IF(Stammdaten!$A$2=\"\",\"\",ABS(H260))","v":""},{"$f":"IF(Stammdaten!$A$2=\"\",\"\",IF(F260>35%,1,\"\"))","v":""},{"$f":"IF(Stammdaten!$A$2=\"\",\"\",IF(I260>35%,1,\"\"))","v":""},{"$f":"IF(Stammdaten!$A$2=\"\",\"\",MONTH(A260))","v":""},{"$f":"IF(Stammdaten!$A$2=\"\",\"\",YEAR(A260))","v":""}]
[{"$f":"Analysedaten!A261","v":""},{"$f":"Berechnungsblatt!C262","v":""},{"$f":"Berechnungsblatt!X262","v":""},{"$f":"Berechnungsblatt!C264","v":""},{"$f":"IF(Stammdaten!$A$2=\"\",\"\",D261-B261)","v":""},{"$f":"IF(Stammdaten!$A$2=\"\",\"\",E261/B261)","v":""},{"$f":"IF(Stammdaten!$A$2=\"\",\"\",ABS(E261))","v":""},{"$f":"IF(Stammdaten!$A$2=\"\",\"\",D261-C261)","v":""},{"$f":"IF(Stammdaten!$A$2=\"\",\"\",H261/C261)","v":""},{"$f":"IF(Stammdaten!$A$2=\"\",\"\",ABS(H261))","v":""},{"$f":"IF(Stammdaten!$A$2=\"\",\"\",IF(F261>35%,1,\"\"))","v":""},{"$f":"IF(Stammdaten!$A$2=\"\",\"\",IF(I261>35%,1,\"\"))","v":""},{"$f":"IF(Stammdaten!$A$2=\"\",\"\",MONTH(A261))","v":""},{"$f":"IF(Stammdaten!$A$2=\"\",\"\",YEAR(A261))","v":""}]
[{"$f":"Analysedaten!A262","v":""},{"$f":"Berechnungsblatt!C263","v":""},{"$f":"Berechnungsblatt!X263","v":""},{"$f":"Berechnungsblatt!C265","v":""},{"$f":"IF(Stammdaten!$A$2=\"\",\"\",D262-B262)","v":""},{"$f":"IF(Stammdaten!$A$2=\"\",\"\",E262/B262)","v":""},{"$f":"IF(Stammdaten!$A$2=\"\",\"\",ABS(E262))","v":""},{"$f":"IF(Stammdaten!$A$2=\"\",\"\",D262-C262)","v":""},{"$f":"IF(Stammdaten!$A$2=\"\",\"\",H262/C262)","v":""},{"$f":"IF(Stammdaten!$A$2=\"\",\"\",ABS(H262))","v":""},{"$f":"IF(Stammdaten!$A$2=\"\",\"\",IF(F262>35%,1,\"\"))","v":""},{"$f":"IF(Stammdaten!$A$2=\"\",\"\",IF(I262>35%,1,\"\"))","v":""},{"$f":"IF(Stammdaten!$A$2=\"\",\"\",MONTH(A262))","v":""},{"$f":"IF(Stammdaten!$A$2=\"\",\"\",YEAR(A262))","v":""}]
[{"$f":"Analysedaten!A263","v":""},{"$f":"Berechnungsblatt!C264","v":""},{"$f":"Berechnungsblatt!X264","v":""},{"$f":"Berechnungsblatt!C266","v":""},{"$f":"IF(Stammdaten!$A$2=\"\",\"\",D263-B263)","v":""},{"$f":"IF(Stammdaten!$A$2=\"\",\"\",E263/B263)","v":""},{"$f":"IF(Stammdaten!$A$2=\"\",\"\",ABS(E263))","v":""},{"$f":"IF(Stammdaten!$A$2=\"\",\"\",D263-C263)","v":""},{"$f":"IF(Stammdaten!$A$2=\"\",\"\",H263/C263)","v":""},{"$f":"IF(Stammdaten!$A$2=\"\",\"\",ABS(H263))","v":""},{"$f":"IF(Stammdaten!$A$2=\"\",\"\",IF(F263>35%,1,\"\"))","v":""},{"$f":"IF(Stammdaten!$A$2=\"\",\"\",IF(I263>35%,1,\"\"))","v":""},{"$f":"IF(Stammdaten!$A$2=\"\",\"\",MONTH(A263))","v":""},{"$f":"IF(Stammdaten!$A$2=\"\",\"\",YEAR(A263))","v":""}]
[{"$f":"Analysedaten!A264","v":""},{"$f":"Berechnungsblatt!C265","v":""},{"$f":"Berechnungsblatt!X265","v":""},{"$f":"Berechnungsblatt!C267","v":""},{"$f":"IF(Stammdaten!$A$2=\"\",\"\",D264-B264)","v":""},{"$f":"IF(Stammdaten!$A$2=\"\",\"\",E264/B264)","v":""},{"$f":"IF(Stammdaten!$A$2=\"\",\"\",ABS(E264))","v":""},{"$f":"IF(Stammdaten!$A$2=\"\",\"\",D264-C264)","v":""},{"$f":"IF(Stammdaten!$A$2=\"\",\"\",H264/C264)","v":""},{"$f":"IF(Stammdaten!$A$2=\"\",\"\",ABS(H264))","v":""},{"$f":"IF(Stammdaten!$A$2=\"\",\"\",IF(F264>35%,1,\"\"))","v":""},{"$f":"IF(Stammdaten!$A$2=\"\",\"\",IF(I264>35%,1,\"\"))","v":""},{"$f":"IF(Stammdaten!$A$2=\"\",\"\",MONTH(A264))","v":""},{"$f":"IF(Stammdaten!$A$2=\"\",\"\",YEAR(A264))","v":""}]
[{"$f":"Analysedaten!A265","v":""},{"$f":"Berechnungsblatt!C266","v":""},{"$f":"Berechnungsblatt!X266","v":""},{"$f":"Berechnungsblatt!C268","v":""},{"$f":"IF(Stammdaten!$A$2=\"\",\"\",D265-B265)","v":""},{"$f":"IF(Stammdaten!$A$2=\"\",\"\",E265/B265)","v":""},{"$f":"IF(Stammdaten!$A$2=\"\",\"\",ABS(E265))","v":""},{"$f":"IF(Stammdaten!$A$2=\"\",\"\",D265-C265)","v":""},{"$f":"IF(Stammdaten!$A$2=\"\",\"\",H265/C265)","v":""},{"$f":"IF(Stammdaten!$A$2=\"\",\"\",ABS(H265))","v":""},{"$f":"IF(Stammdaten!$A$2=\"\",\"\",IF(F265>35%,1,\"\"))","v":""},{"$f":"IF(Stammdaten!$A$2=\"\",\"\",IF(I265>35%,1,\"\"))","v":""},{"$f":"IF(Stammdaten!$A$2=\"\",\"\",MONTH(A265))","v":""},{"$f":"IF(Stammdaten!$A$2=\"\",\"\",YEAR(A265))","v":""}]
[{"$f":"Analysedaten!A266","v":""},{"$f":"Berechnungsblatt!C267","v":""},{"$f":"Berechnungsblatt!X267","v":""},{"$f":"Berechnungsblatt!C269","v":""},{"$f":"IF(Stammdaten!$A$2=\"\",\"\",D266-B266)","v":""},{"$f":"IF(Stammdaten!$A$2=\"\",\"\",E266/B266)","v":""},{"$f":"IF(Stammdaten!$A$2=\"\",\"\",ABS(E266))","v":""},{"$f":"IF(Stammdaten!$A$2=\"\",\"\",D266-C266)","v":""},{"$f":"IF(Stammdaten!$A$2=\"\",\"\",H266/C266)","v":""},{"$f":"IF(Stammdaten!$A$2=\"\",\"\",ABS(H266))","v":""},{"$f":"IF(Stammdaten!$A$2=\"\",\"\",IF(F266>35%,1,\"\"))","v":""},{"$f":"IF(Stammdaten!$A$2=\"\",\"\",IF(I266>35%,1,\"\"))","v":""},{"$f":"IF(Stammdaten!$A$2=\"\",\"\",MONTH(A266))","v":""},{"$f":"IF(Stammdaten!$A$2=\"\",\"\",YEAR(A266))","v":""}]
[{"$f":"Analysedaten!A267","v":""},{"$f":"Berechnungsblatt!C268","v":""},{"$f":"Berechnungsblatt!X268","v":""},{"$f":"Berechnungsblatt!C270","v":""},{"$f":"IF(Stammdaten!$A$2=\"\",\"\",D267-B267)","v":""},{"$f":"IF(Stammdaten!$A$2=\"\",\"\",E267/B267)","v":""},{"$f":"IF(Stammdaten!$A$2=\"\",\"\",ABS(E267))","v":""},{"$f":"IF(Stammdaten!$A$2=\"\",\"\",D267-C267)","v":""},{"$f":"IF(Stammdaten!$A$2=\"\",\"\",H267/C267)","v":""},{"$f":"IF(Stammdaten!$A$2=\"\",\"\",ABS(H267))","v":""},{"$f":"IF(Stammdaten!$A$2=\"\",\"\",IF(F267>35%,1,\"\"))","v":""},{"$f":"IF(Stammdaten!$A$2=\"\",\"\",IF(I267>35%,1,\"\"))","v":""},{"$f":"IF(Stammdaten!$A$2=\"\",\"\",MONTH(A267))","v":""},{"$f":"IF(Stammdaten!$A$2=\"\",\"\",YEAR(A267))","v":""}]
[{"$f":"Analysedaten!A268","v":""},{"$f":"Berechnungsblatt!C269","v":""},{"$f":"Berechnungsblatt!X269","v":""},{"$f":"Berechnungsblatt!C271","v":""},{"$f":"IF(Stammdaten!$A$2=\"\",\"\",D268-B268)","v":""},{"$f":"IF(Stammdaten!$A$2=\"\",\"\",E268/B268)","v":""},{"$f":"IF(Stammdaten!$A$2=\"\",\"\",ABS(E268))","v":""},{"$f":"IF(Stammdaten!$A$2=\"\",\"\",D268-C268)","v":""},{"$f":"IF(Stammdaten!$A$2=\"\",\"\",H268/C268)","v":""},{"$f":"IF(Stammdaten!$A$2=\"\",\"\",ABS(H268))","v":""},{"$f":"IF(Stammdaten!$A$2=\"\",\"\",IF(F268>35%,1,\"\"))","v":""},{"$f":"IF(Stammdaten!$A$2=\"\",\"\",IF(I268>35%,1,\"\"))","v":""},{"$f":"IF(Stammdaten!$A$2=\"\",\"\",MONTH(A268))","v":""},{"$f":"IF(Stammdaten!$A$2=\"\",\"\",YEAR(A268))","v":""}]
[{"$f":"Analysedaten!A269","v":""},{"$f":"Berechnungsblatt!C270","v":""},{"$f":"Berechnungsblatt!X270","v":""},{"$f":"Berechnungsblatt!C272","v":""},{"$f":"IF(Stammdaten!$A$2=\"\",\"\",D269-B269)","v":""},{"$f":"IF(Stammdaten!$A$2=\"\",\"\",E269/B269)","v":""},{"$f":"IF(Stammdaten!$A$2=\"\",\"\",ABS(E269))","v":""},{"$f":"IF(Stammdaten!$A$2=\"\",\"\",D269-C269)","v":""},{"$f":"IF(Stammdaten!$A$2=\"\",\"\",H269/C269)","v":""},{"$f":"IF(Stammdaten!$A$2=\"\",\"\",ABS(H269))","v":""},{"$f":"IF(Stammdaten!$A$2=\"\",\"\",IF(F269>35%,1,\"\"))","v":""},{"$f":"IF(Stammdaten!$A$2=\"\",\"\",IF(I269>35%,1,\"\"))","v":""},{"$f":"IF(Stammdaten!$A$2=\"\",\"\",MONTH(A269))","v":""},{"$f":"IF(Stammdaten!$A$2=\"\",\"\",YEAR(A269))","v":""}]
[{"$f":"Analysedaten!A270","v":""},{"$f":"Berechnungsblatt!C271","v":""},{"$f":"Berechnungsblatt!X271","v":""},{"$f":"Berechnungsblatt!C273","v":""},{"$f":"IF(Stammdaten!$A$2=\"\",\"\",D270-B270)","v":""},{"$f":"IF(Stammdaten!$A$2=\"\",\"\",E270/B270)","v":""},{"$f":"IF(Stammdaten!$A$2=\"\",\"\",ABS(E270))","v":""},{"$f":"IF(Stammdaten!$A$2=\"\",\"\",D270-C270)","v":""},{"$f":"IF(Stammdaten!$A$2=\"\",\"\",H270/C270)","v":""},{"$f":"IF(Stammdaten!$A$2=\"\",\"\",ABS(H270))","v":""},{"$f":"IF(Stammdaten!$A$2=\"\",\"\",IF(F270>35%,1,\"\"))","v":""},{"$f":"IF(Stammdaten!$A$2=\"\",\"\",IF(I270>35%,1,\"\"))","v":""},{"$f":"IF(Stammdaten!$A$2=\"\",\"\",MONTH(A270))","v":""},{"$f":"IF(Stammdaten!$A$2=\"\",\"\",YEAR(A270))","v":""}]
[{"$f":"Analysedaten!A271","v":""},{"$f":"Berechnungsblatt!C272","v":""},{"$f":"Berechnungsblatt!X272","v":""},{"$f":"Berechnungsblatt!C274","v":""},{"$f":"IF(Stammdaten!$A$2=\"\",\"\",D271-B271)","v":""},{"$f":"IF(Stammdaten!$A$2=\"\",\"\",E271/B271)","v":""},{"$f":"IF(Stammdaten!$A$2=\"\",\"\",ABS(E271))","v":""},{"$f":"IF(Stammdaten!$A$2=\"\",\"\",D271-C271)","v":""},{"$f":"IF(Stammdaten!$A$2=\"\",\"\",H271/C271)","v":""},{"$f":"IF(Stammdaten!$A$2=\"\",\"\",ABS(H271))","v":""},{"$f":"IF(Stammdaten!$A$2=\"\",\"\",IF(F271>35%,1,\"\"))","v":""},{"$f":"IF(Stammdaten!$A$2=\"\",\"\",IF(I271>35%,1,\"\"))","v":""},{"$f":"IF(Stammdaten!$A$2=\"\",\"\",MONTH(A271))","v":""},{"$f":"IF(Stammdaten!$A$2=\"\",\"\",YEAR(A271))","v":""}]
[{"$f":"Analysedaten!A272","v":""},{"$f":"Berechnungsblatt!C273","v":""},{"$f":"Berechnungsblatt!X273","v":""},{"$f":"Berechnungsblatt!C275","v":""},{"$f":"IF(Stammdaten!$A$2=\"\",\"\",D272-B272)","v":""},{"$f":"IF(Stammdaten!$A$2=\"\",\"\",E272/B272)","v":""},{"$f":"IF(Stammdaten!$A$2=\"\",\"\",ABS(E272))","v":""},{"$f":"IF(Stammdaten!$A$2=\"\",\"\",D272-C272)","v":""},{"$f":"IF(Stammdaten!$A$2=\"\",\"\",H272/C272)","v":""},{"$f":"IF(Stammdaten!$A$2=\"\",\"\",ABS(H272))","v":""},{"$f":"IF(Stammdaten!$A$2=\"\",\"\",IF(F272>35%,1,\"\"))","v":""},{"$f":"IF(Stammdaten!$A$2=\"\",\"\",IF(I272>35%,1,\"\"))","v":""},{"$f":"IF(Stammdaten!$A$2=\"\",\"\",MONTH(A272))","v":""},{"$f":"IF(Stammdaten!$A$2=\"\",\"\",YEAR(A272))","v":""}]
[{"$f":"Analysedaten!A273","v":""},{"$f":"Berechnungsblatt!C274","v":""},{"$f":"Berechnungsblatt!X274","v":""},{"$f":"Berechnungsblatt!C276","v":""},{"$f":"IF(Stammdaten!$A$2=\"\",\"\",D273-B273)","v":""},{"$f":"IF(Stammdaten!$A$2=\"\",\"\",E273/B273)","v":""},{"$f":"IF(Stammdaten!$A$2=\"\",\"\",ABS(E273))","v":""},{"$f":"IF(Stammdaten!$A$2=\"\",\"\",D273-C273)","v":""},{"$f":"IF(Stammdaten!$A$2=\"\",\"\",H273/C273)","v":""},{"$f":"IF(Stammdaten!$A$2=\"\",\"\",ABS(H273))","v":""},{"$f":"IF(Stammdaten!$A$2=\"\",\"\",IF(F273>35%,1,\"\"))","v":""},{"$f":"IF(Stammdaten!$A$2=\"\",\"\",IF(I273>35%,1,\"\"))","v":""},{"$f":"IF(Stammdaten!$A$2=\"\",\"\",MONTH(A273))","v":""},{"$f":"IF(Stammdaten!$A$2=\"\",\"\",YEAR(A273))","v":""}]
[{"$f":"Analysedaten!A274","v":""},{"$f":"Berechnungsblatt!C275","v":""},{"$f":"Berechnungsblatt!X275","v":""},{"$f":"Berechnungsblatt!C277","v":""},{"$f":"IF(Stammdaten!$A$2=\"\",\"\",D274-B274)","v":""},{"$f":"IF(Stammdaten!$A$2=\"\",\"\",E274/B274)","v":""},{"$f":"IF(Stammdaten!$A$2=\"\",\"\",ABS(E274))","v":""},{"$f":"IF(Stammdaten!$A$2=\"\",\"\",D274-C274)","v":""},{"$f":"IF(Stammdaten!$A$2=\"\",\"\",H274/C274)","v":""},{"$f":"IF(Stammdaten!$A$2=\"\",\"\",ABS(H274))","v":""},{"$f":"IF(Stammdaten!$A$2=\"\",\"\",IF(F274>35%,1,\"\"))","v":""},{"$f":"IF(Stammdaten!$A$2=\"\",\"\",IF(I274>35%,1,\"\"))","v":""},{"$f":"IF(Stammdaten!$A$2=\"\",\"\",MONTH(A274))","v":""},{"$f":"IF(Stammdaten!$A$2=\"\",\"\",YEAR(A274))","v":""}]
[{"$f":"Analysedaten!A275","v":""},{"$f":"Berechnungsblatt!C276","v":""},{"$f":"Berechnungsblatt!X276","v":""},{"$f":"Berechnungsblatt!C278","v":""},{"$f":"IF(Stammdaten!$A$2=\"\",\"\",D275-B275)","v":""},{"$f":"IF(Stammdaten!$A$2=\"\",\"\",E275/B275)","v":""},{"$f":"IF(Stammdaten!$A$2=\"\",\"\",ABS(E275))","v":""},{"$f":"IF(Stammdaten!$A$2=\"\",\"\",D275-C275)","v":""},{"$f":"IF(Stammdaten!$A$2=\"\",\"\",H275/C275)","v":""},{"$f":"IF(Stammdaten!$A$2=\"\",\"\",ABS(H275))","v":""},{"$f":"IF(Stammdaten!$A$2=\"\",\"\",IF(F275>35%,1,\"\"))","v":""},{"$f":"IF(Stammdaten!$A$2=\"\",\"\",IF(I275>35%,1,\"\"))","v":""},{"$f":"IF(Stammdaten!$A$2=\"\",\"\",MONTH(A275))","v":""},{"$f":"IF(Stammdaten!$A$2=\"\",\"\",YEAR(A275))","v":""}]
[{"$f":"Analysedaten!A276","v":""},{"$f":"Berechnungsblatt!C277","v":""},{"$f":"Berechnungsblatt!X277","v":""},{"$f":"Berechnungsblatt!C279","v":""},{"$f":"IF(Stammdaten!$A$2=\"\",\"\",D276-B276)","v":""},{"$f":"IF(Stammdaten!$A$2=\"\",\"\",E276/B276)","v":""},{"$f":"IF(Stammdaten!$A$2=\"\",\"\",ABS(E276))","v":""},{"$f":"IF(Stammdaten!$A$2=\"\",\"\",D276-C276)","v":""},{"$f":"IF(Stammdaten!$A$2=\"\",\"\",H276/C276)","v":""},{"$f":"IF(Stammdaten!$A$2=\"\",\"\",ABS(H276))","v":""},{"$f":"IF(Stammdaten!$A$2=\"\",\"\",IF(F276>35%,1,\"\"))","v":""},{"$f":"IF(Stammdaten!$A$2=\"\",\"\",IF(I276>35%,1,\"\"))","v":""},{"$f":"IF(Stammdaten!$A$2=\"\",\"\",MONTH(A276))","v":""},{"$f":"IF(Stammdaten!$A$2=\"\",\"\",YEAR(A276))","v":""}]
[{"$f":"Analysedaten!A277","v":""},{"$f":"Berechnungsblatt!C278","v":""},{"$f":"Berechnungsblatt!X278","v":""},{"$f":"Berechnungsblatt!C280","v":""},{"$f":"IF(Stammdaten!$A$2=\"\",\"\",D277-B277)","v":""},{"$f":"IF(Stammdaten!$A$2=\"\",\"\",E277/B277)","v":""},{"$f":"IF(Stammdaten!$A$2=\"\",\"\",ABS(E277))","v":""},{"$f":"IF(Stammdaten!$A$2=\"\",\"\",D277-C277)","v":""},{"$f":"IF(Stammdaten!$A$2=\"\",\"\",H277/C277)","v":""},{"$f":"IF(Stammdaten!$A$2=\"\",\"\",ABS(H277))","v":""},{"$f":"IF(Stammdaten!$A$2=\"\",\"\",IF(F277>35%,1,\"\"))","v":""},{"$f":"IF(Stammdaten!$A$2=\"\",\"\",IF(I277>35%,1,\"\"))","v":""},{"$f":"IF(Stammdaten!$A$2=\"\",\"\",MONTH(A277))","v":""},{"$f":"IF(Stammdaten!$A$2=\"\",\"\",YEAR(A277))","v":""}]
[{"$f":"Analysedaten!A278","v":""},{"$f":"Berechnungsblatt!C279","v":""},{"$f":"Berechnungsblatt!X279","v":""},{"$f":"Berechnungsblatt!C281","v":""},{"$f":"IF(Stammdaten!$A$2=\"\",\"\",D278-B278)","v":""},{"$f":"IF(Stammdaten!$A$2=\"\",\"\",E278/B278)","v":""},{"$f":"IF(Stammdaten!$A$2=\"\",\"\",ABS(E278))","v":""},{"$f":"IF(Stammdaten!$A$2=\"\",\"\",D278-C278)","v":""},{"$f":"IF(Stammdaten!$A$2=\"\",\"\",H278/C278)","v":""},{"$f":"IF(Stammdaten!$A$2=\"\",\"\",ABS(H278))","v":""},{"$f":"IF(Stammdaten!$A$2=\"\",\"\",IF(F278>35%,1,\"\"))","v":""},{"$f":"IF(Stammdaten!$A$2=\"\",\"\",IF(I278>35%,1,\"\"))","v":""},{"$f":"IF(Stammdaten!$A$2=\"\",\"\",MONTH(A278))","v":""},{"$f":"IF(Stammdaten!$A$2=\"\",\"\",YEAR(A278))","v":""}]
[{"$f":"Analysedaten!A279","v":""},{"$f":"Berechnungsblatt!C280","v":""},{"$f":"Berechnungsblatt!X280","v":""},{"$f":"Berechnungsblatt!C282","v":""},{"$f":"IF(Stammdaten!$A$2=\"\",\"\",D279-B279)","v":""},{"$f":"IF(Stammdaten!$A$2=\"\",\"\",E279/B279)","v":""},{"$f":"IF(Stammdaten!$A$2=\"\",\"\",ABS(E279))","v":""},{"$f":"IF(Stammdaten!$A$2=\"\",\"\",D279-C279)","v":""},{"$f":"IF(Stammdaten!$A$2=\"\",\"\",H279/C279)","v":""},{"$f":"IF(Stammdaten!$A$2=\"\",\"\",ABS(H279))","v":""},{"$f":"IF(Stammdaten!$A$2=\"\",\"\",IF(F279>35%,1,\"\"))","v":""},{"$f":"IF(Stammdaten!$A$2=\"\",\"\",IF(I279>35%,1,\"\"))","v":""},{"$f":"IF(Stammdaten!$A$2=\"\",\"\",MONTH(A279))","v":""},{"$f":"IF(Stammdaten!$A$2=\"\",\"\",YEAR(A279))","v":""}]
[{"$f":"Analysedaten!A280","v":""},{"$f":"Berechnungsblatt!C281","v":""},{"$f":"Berechnungsblatt!X281","v":""},{"$f":"Berechnungsblatt!C283","v":""},{"$f":"IF(Stammdaten!$A$2=\"\",\"\",D280-B280)","v":""},{"$f":"IF(Stammdaten!$A$2=\"\",\"\",E280/B280)","v":""},{"$f":"IF(Stammdaten!$A$2=\"\",\"\",ABS(E280))","v":""},{"$f":"IF(Stammdaten!$A$2=\"\",\"\",D280-C280)","v":""},{"$f":"IF(Stammdaten!$A$2=\"\",\"\",H280/C280)","v":""},{"$f":"IF(Stammdaten!$A$2=\"\",\"\",ABS(H280))","v":""},{"$f":"IF(Stammdaten!$A$2=\"\",\"\",IF(F280>35%,1,\"\"))","v":""},{"$f":"IF(Stammdaten!$A$2=\"\",\"\",IF(I280>35%,1,\"\"))","v":""},{"$f":"IF(Stammdaten!$A$2=\"\",\"\",MONTH(A280))","v":""},{"$f":"IF(Stammdaten!$A$2=\"\",\"\",YEAR(A280))","v":""}]
[{"$f":"Analysedaten!A281","v":""},{"$f":"Berechnungsblatt!C282","v":""},{"$f":"Berechnungsblatt!X282","v":""},{"$f":"Berechnungsblatt!C284","v":""},{"$f":"IF(Stammdaten!$A$2=\"\",\"\",D281-B281)","v":""},{"$f":"IF(Stammdaten!$A$2=\"\",\"\",E281/B281)","v":""},{"$f":"IF(Stammdaten!$A$2=\"\",\"\",ABS(E281))","v":""},{"$f":"IF(Stammdaten!$A$2=\"\",\"\",D281-C281)","v":""},{"$f":"IF(Stammdaten!$A$2=\"\",\"\",H281/C281)","v":""},{"$f":"IF(Stammdaten!$A$2=\"\",\"\",ABS(H281))","v":""},{"$f":"IF(Stammdaten!$A$2=\"\",\"\",IF(F281>35%,1,\"\"))","v":""},{"$f":"IF(Stammdaten!$A$2=\"\",\"\",IF(I281>35%,1,\"\"))","v":""},{"$f":"IF(Stammdaten!$A$2=\"\",\"\",MONTH(A281))","v":""},{"$f":"IF(Stammdaten!$A$2=\"\",\"\",YEAR(A281))","v":""}]
[{"$f":"Analysedaten!A282","v":""},{"$f":"Berechnungsblatt!C283","v":""},{"$f":"Berechnungsblatt!X283","v":""},{"$f":"Berechnungsblatt!C285","v":""},{"$f":"IF(Stammdaten!$A$2=\"\",\"\",D282-B282)","v":""},{"$f":"IF(Stammdaten!$A$2=\"\",\"\",E282/B282)","v":""},{"$f":"IF(Stammdaten!$A$2=\"\",\"\",ABS(E282))","v":""},{"$f":"IF(Stammdaten!$A$2=\"\",\"\",D282-C282)","v":""},{"$f":"IF(Stammdaten!$A$2=\"\",\"\",H282/C282)","v":""},{"$f":"IF(Stammdaten!$A$2=\"\",\"\",ABS(H282))","v":""},{"$f":"IF(Stammdaten!$A$2=\"\",\"\",IF(F282>35%,1,\"\"))","v":""},{"$f":"IF(Stammdaten!$A$2=\"\",\"\",IF(I282>35%,1,\"\"))","v":""},{"$f":"IF(Stammdaten!$A$2=\"\",\"\",MONTH(A282))","v":""},{"$f":"IF(Stammdaten!$A$2=\"\",\"\",YEAR(A282))","v":""}]
[{"$f":"Analysedaten!A283","v":""},{"$f":"Berechnungsblatt!C284","v":""},{"$f":"Berechnungsblatt!X284","v":""},{"$f":"Berechnungsblatt!C286","v":""},{"$f":"IF(Stammdaten!$A$2=\"\",\"\",D283-B283)","v":""},{"$f":"IF(Stammdaten!$A$2=\"\",\"\",E283/B283)","v":""},{"$f":"IF(Stammdaten!$A$2=\"\",\"\",ABS(E283))","v":""},{"$f":"IF(Stammdaten!$A$2=\"\",\"\",D283-C283)","v":""},{"$f":"IF(Stammdaten!$A$2=\"\",\"\",H283/C283)","v":""},{"$f":"IF(Stammdaten!$A$2=\"\",\"\",ABS(H283))","v":""},{"$f":"IF(Stammdaten!$A$2=\"\",\"\",IF(F283>35%,1,\"\"))","v":""},{"$f":"IF(Stammdaten!$A$2=\"\",\"\",IF(I283>35%,1,\"\"))","v":""},{"$f":"IF(Stammdaten!$A$2=\"\",\"\",MONTH(A283))","v":""},{"$f":"IF(Stammdaten!$A$2=\"\",\"\",YEAR(A283))","v":""}]
[{"$f":"Analysedaten!A284","v":""},{"$f":"Berechnungsblatt!C285","v":""},{"$f":"Berechnungsblatt!X285","v":""},{"$f":"Berechnungsblatt!C287","v":""},{"$f":"IF(Stammdaten!$A$2=\"\",\"\",D284-B284)","v":""},{"$f":"IF(Stammdaten!$A$2=\"\",\"\",E284/B284)","v":""},{"$f":"IF(Stammdaten!$A$2=\"\",\"\",ABS(E284))","v":""},{"$f":"IF(Stammdaten!$A$2=\"\",\"\",D284-C284)","v":""},{"$f":"IF(Stammdaten!$A$2=\"\",\"\",H284/C284)","v":""},{"$f":"IF(Stammdaten!$A$2=\"\",\"\",ABS(H284))","v":""},{"$f":"IF(Stammdaten!$A$2=\"\",\"\",IF(F284>35%,1,\"\"))","v":""},{"$f":"IF(Stammdaten!$A$2=\"\",\"\",IF(I284>35%,1,\"\"))","v":""},{"$f":"IF(Stammdaten!$A$2=\"\",\"\",MONTH(A284))","v":""},{"$f":"IF(Stammdaten!$A$2=\"\",\"\",YEAR(A284))","v":""}]
[{"$f":"Analysedaten!A285","v":""},{"$f":"Berechnungsblatt!C286","v":""},{"$f":"Berechnungsblatt!X286","v":""},{"$f":"Berechnungsblatt!C288","v":""},{"$f":"IF(Stammdaten!$A$2=\"\",\"\",D285-B285)","v":""},{"$f":"IF(Stammdaten!$A$2=\"\",\"\",E285/B285)","v":""},{"$f":"IF(Stammdaten!$A$2=\"\",\"\",ABS(E285))","v":""},{"$f":"IF(Stammdaten!$A$2=\"\",\"\",D285-C285)","v":""},{"$f":"IF(Stammdaten!$A$2=\"\",\"\",H285/C285)","v":""},{"$f":"IF(Stammdaten!$A$2=\"\",\"\",ABS(H285))","v":""},{"$f":"IF(Stammdaten!$A$2=\"\",\"\",IF(F285>35%,1,\"\"))","v":""},{"$f":"IF(Stammdaten!$A$2=\"\",\"\",IF(I285>35%,1,\"\"))","v":""},{"$f":"IF(Stammdaten!$A$2=\"\",\"\",MONTH(A285))","v":""},{"$f":"IF(Stammdaten!$A$2=\"\",\"\",YEAR(A285))","v":""}]
[{"$f":"Analysedaten!A286","v":""},{"$f":"Berechnungsblatt!C287","v":""},{"$f":"Berechnungsblatt!X287","v":""},{"$f":"Berechnungsblatt!C289","v":""},{"$f":"IF(Stammdaten!$A$2=\"\",\"\",D286-B286)","v":""},{"$f":"IF(Stammdaten!$A$2=\"\",\"\",E286/B286)","v":""},{"$f":"IF(Stammdaten!$A$2=\"\",\"\",ABS(E286))","v":""},{"$f":"IF(Stammdaten!$A$2=\"\",\"\",D286-C286)","v":""},{"$f":"IF(Stammdaten!$A$2=\"\",\"\",H286/C286)","v":""},{"$f":"IF(Stammdaten!$A$2=\"\",\"\",ABS(H286))","v":""},{"$f":"IF(Stammdaten!$A$2=\"\",\"\",IF(F286>35%,1,\"\"))","v":""},{"$f":"IF(Stammdaten!$A$2=\"\",\"\",IF(I286>35%,1,\"\"))","v":""},{"$f":"IF(Stammdaten!$A$2=\"\",\"\",MONTH(A286))","v":""},{"$f":"IF(Stammdaten!$A$2=\"\",\"\",YEAR(A286))","v":""}]
[{"$f":"Analysedaten!A287","v":""},{"$f":"Berechnungsblatt!C288","v":""},{"$f":"Berechnungsblatt!X288","v":""},{"$f":"Berechnungsblatt!C290","v":""},{"$f":"IF(Stammdaten!$A$2=\"\",\"\",D287-B287)","v":""},{"$f":"IF(Stammdaten!$A$2=\"\",\"\",E287/B287)","v":""},{"$f":"IF(Stammdaten!$A$2=\"\",\"\",ABS(E287))","v":""},{"$f":"IF(Stammdaten!$A$2=\"\",\"\",D287-C287)","v":""},{"$f":"IF(Stammdaten!$A$2=\"\",\"\",H287/C287)","v":""},{"$f":"IF(Stammdaten!$A$2=\"\",\"\",ABS(H287))","v":""},{"$f":"IF(Stammdaten!$A$2=\"\",\"\",IF(F287>35%,1,\"\"))","v":""},{"$f":"IF(Stammdaten!$A$2=\"\",\"\",IF(I287>35%,1,\"\"))","v":""},{"$f":"IF(Stammdaten!$A$2=\"\",\"\",MONTH(A287))","v":""},{"$f":"IF(Stammdaten!$A$2=\"\",\"\",YEAR(A287))","v":""}]
[{"$f":"Analysedaten!A288","v":""},{"$f":"Berechnungsblatt!C289","v":""},{"$f":"Berechnungsblatt!X289","v":""},{"$f":"Berechnungsblatt!C291","v":""},{"$f":"IF(Stammdaten!$A$2=\"\",\"\",D288-B288)","v":""},{"$f":"IF(Stammdaten!$A$2=\"\",\"\",E288/B288)","v":""},{"$f":"IF(Stammdaten!$A$2=\"\",\"\",ABS(E288))","v":""},{"$f":"IF(Stammdaten!$A$2=\"\",\"\",D288-C288)","v":""},{"$f":"IF(Stammdaten!$A$2=\"\",\"\",H288/C288)","v":""},{"$f":"IF(Stammdaten!$A$2=\"\",\"\",ABS(H288))","v":""},{"$f":"IF(Stammdaten!$A$2=\"\",\"\",IF(F288>35%,1,\"\"))","v":""},{"$f":"IF(Stammdaten!$A$2=\"\",\"\",IF(I288>35%,1,\"\"))","v":""},{"$f":"IF(Stammdaten!$A$2=\"\",\"\",MONTH(A288))","v":""},{"$f":"IF(Stammdaten!$A$2=\"\",\"\",YEAR(A288))","v":""}]
[{"$f":"Analysedaten!A289","v":""},{"$f":"Berechnungsblatt!C290","v":""},{"$f":"Berechnungsblatt!X290","v":""},{"$f":"Berechnungsblatt!C292","v":""},{"$f":"IF(Stammdaten!$A$2=\"\",\"\",D289-B289)","v":""},{"$f":"IF(Stammdaten!$A$2=\"\",\"\",E289/B289)","v":""},{"$f":"IF(Stammdaten!$A$2=\"\",\"\",ABS(E289))","v":""},{"$f":"IF(Stammdaten!$A$2=\"\",\"\",D289-C289)","v":""},{"$f":"IF(Stammdaten!$A$2=\"\",\"\",H289/C289)","v":""},{"$f":"IF(Stammdaten!$A$2=\"\",\"\",ABS(H289))","v":""},{"$f":"IF(Stammdaten!$A$2=\"\",\"\",IF(F289>35%,1,\"\"))","v":""},{"$f":"IF(Stammdaten!$A$2=\"\",\"\",IF(I289>35%,1,\"\"))","v":""},{"$f":"IF(Stammdaten!$A$2=\"\",\"\",MONTH(A289))","v":""},{"$f":"IF(Stammdaten!$A$2=\"\",\"\",YEAR(A289))","v":""}]
[{"$f":"Analysedaten!A290","v":""},{"$f":"Berechnungsblatt!C291","v":""},{"$f":"Berechnungsblatt!X291","v":""},{"$f":"Berechnungsblatt!C293","v":""},{"$f":"IF(Stammdaten!$A$2=\"\",\"\",D290-B290)","v":""},{"$f":"IF(Stammdaten!$A$2=\"\",\"\",E290/B290)","v":""},{"$f":"IF(Stammdaten!$A$2=\"\",\"\",ABS(E290))","v":""},{"$f":"IF(Stammdaten!$A$2=\"\",\"\",D290-C290)","v":""},{"$f":"IF(Stammdaten!$A$2=\"\",\"\",H290/C290)","v":""},{"$f":"IF(Stammdaten!$A$2=\"\",\"\",ABS(H290))","v":""},{"$f":"IF(Stammdaten!$A$2=\"\",\"\",IF(F290>35%,1,\"\"))","v":""},{"$f":"IF(Stammdaten!$A$2=\"\",\"\",IF(I290>35%,1,\"\"))","v":""},{"$f":"IF(Stammdaten!$A$2=\"\",\"\",MONTH(A290))","v":""},{"$f":"IF(Stammdaten!$A$2=\"\",\"\",YEAR(A290))","v":""}]
[{"$f":"Analysedaten!A291","v":""},{"$f":"Berechnungsblatt!C292","v":""},{"$f":"Berechnungsblatt!X292","v":""},{"$f":"Berechnungsblatt!C294","v":""},{"$f":"IF(Stammdaten!$A$2=\"\",\"\",D291-B291)","v":""},{"$f":"IF(Stammdaten!$A$2=\"\",\"\",E291/B291)","v":""},{"$f":"IF(Stammdaten!$A$2=\"\",\"\",ABS(E291))","v":""},{"$f":"IF(Stammdaten!$A$2=\"\",\"\",D291-C291)","v":""},{"$f":"IF(Stammdaten!$A$2=\"\",\"\",H291/C291)","v":""},{"$f":"IF(Stammdaten!$A$2=\"\",\"\",ABS(H291))","v":""},{"$f":"IF(Stammdaten!$A$2=\"\",\"\",IF(F291>35%,1,\"\"))","v":""},{"$f":"IF(Stammdaten!$A$2=\"\",\"\",IF(I291>35%,1,\"\"))","v":""},{"$f":"IF(Stammdaten!$A$2=\"\",\"\",MONTH(A291))","v":""},{"$f":"IF(Stammdaten!$A$2=\"\",\"\",YEAR(A291))","v":""}]
[{"$f":"Analysedaten!A292","v":""},{"$f":"Berechnungsblatt!C293","v":""},{"$f":"Berechnungsblatt!X293","v":""},{"$f":"Berechnungsblatt!C295","v":""},{"$f":"IF(Stammdaten!$A$2=\"\",\"\",D292-B292)","v":""},{"$f":"IF(Stammdaten!$A$2=\"\",\"\",E292/B292)","v":""},{"$f":"IF(Stammdaten!$A$2=\"\",\"\",ABS(E292))","v":""},{"$f":"IF(Stammdaten!$A$2=\"\",\"\",D292-C292)","v":""},{"$f":"IF(Stammdaten!$A$2=\"\",\"\",H292/C292)","v":""},{"$f":"IF(Stammdaten!$A$2=\"\",\"\",ABS(H292))","v":""},{"$f":"IF(Stammdaten!$A$2=\"\",\"\",IF(F292>35%,1,\"\"))","v":""},{"$f":"IF(Stammdaten!$A$2=\"\",\"\",IF(I292>35%,1,\"\"))","v":""},{"$f":"IF(Stammdaten!$A$2=\"\",\"\",MONTH(A292))","v":""},{"$f":"IF(Stammdaten!$A$2=\"\",\"\",YEAR(A292))","v":""}]
[{"$f":"Analysedaten!A293","v":""},{"$f":"Berechnungsblatt!C294","v":""},{"$f":"Berechnungsblatt!X294","v":""},{"$f":"Berechnungsblatt!C296","v":""},{"$f":"IF(Stammdaten!$A$2=\"\",\"\",D293-B293)","v":""},{"$f":"IF(Stammdaten!$A$2=\"\",\"\",E293/B293)","v":""},{"$f":"IF(Stammdaten!$A$2=\"\",\"\",ABS(E293))","v":""},{"$f":"IF(Stammdaten!$A$2=\"\",\"\",D293-C293)","v":""},{"$f":"IF(Stammdaten!$A$2=\"\",\"\",H293/C293)","v":""},{"$f":"IF(Stammdaten!$A$2=\"\",\"\",ABS(H293))","v":""},{"$f":"IF(Stammdaten!$A$2=\"\",\"\",IF(F293>35%,1,\"\"))","v":""},{"$f":"IF(Stammdaten!$A$2=\"\",\"\",IF(I293>35%,1,\"\"))","v":""},{"$f":"IF(Stammdaten!$A$2=\"\",\"\",MONTH(A293))","v":""},{"$f":"IF(Stammdaten!$A$2=\"\",\"\",YEAR(A293))","v":""}]
[{"$f":"Analysedaten!A294","v":""},{"$f":"Berechnungsblatt!C295","v":""},{"$f":"Berechnungsblatt!X295","v":""},{"$f":"Berechnungsblatt!C297","v":""},{"$f":"IF(Stammdaten!$A$2=\"\",\"\",D294-B294)","v":""},{"$f":"IF(Stammdaten!$A$2=\"\",\"\",E294/B294)","v":""},{"$f":"IF(Stammdaten!$A$2=\"\",\"\",ABS(E294))","v":""},{"$f":"IF(Stammdaten!$A$2=\"\",\"\",D294-C294)","v":""},{"$f":"IF(Stammdaten!$A$2=\"\",\"\",H294/C294)","v":""},{"$f":"IF(Stammdaten!$A$2=\"\",\"\",ABS(H294))","v":""},{"$f":"IF(Stammdaten!$A$2=\"\",\"\",IF(F294>35%,1,\"\"))","v":""},{"$f":"IF(Stammdaten!$A$2=\"\",\"\",IF(I294>35%,1,\"\"))","v":""},{"$f":"IF(Stammdaten!$A$2=\"\",\"\",MONTH(A294))","v":""},{"$f":"IF(Stammdaten!$A$2=\"\",\"\",YEAR(A294))","v":""}]
[{"$f":"Analysedaten!A295","v":""},{"$f":"Berechnungsblatt!C296","v":""},{"$f":"Berechnungsblatt!X296","v":""},{"$f":"Berechnungsblatt!C298","v":""},{"$f":"IF(Stammdaten!$A$2=\"\",\"\",D295-B295)","v":""},{"$f":"IF(Stammdaten!$A$2=\"\",\"\",E295/B295)","v":""},{"$f":"IF(Stammdaten!$A$2=\"\",\"\",ABS(E295))","v":""},{"$f":"IF(Stammdaten!$A$2=\"\",\"\",D295-C295)","v":""},{"$f":"IF(Stammdaten!$A$2=\"\",\"\",H295/C295)","v":""},{"$f":"IF(Stammdaten!$A$2=\"\",\"\",ABS(H295))","v":""},{"$f":"IF(Stammdaten!$A$2=\"\",\"\",IF(F295>35%,1,\"\"))","v":""},{"$f":"IF(Stammdaten!$A$2=\"\",\"\",IF(I295>35%,1,\"\"))","v":""},{"$f":"IF(Stammdaten!$A$2=\"\",\"\",MONTH(A295))","v":""},{"$f":"IF(Stammdaten!$A$2=\"\",\"\",YEAR(A295))","v":""}]
[{"$f":"Analysedaten!A296","v":""},{"$f":"Berechnungsblatt!C297","v":""},{"$f":"Berechnungsblatt!X297","v":""},{"$f":"Berechnungsblatt!C299","v":""},{"$f":"IF(Stammdaten!$A$2=\"\",\"\",D296-B296)","v":""},{"$f":"IF(Stammdaten!$A$2=\"\",\"\",E296/B296)","v":""},{"$f":"IF(Stammdaten!$A$2=\"\",\"\",ABS(E296))","v":""},{"$f":"IF(Stammdaten!$A$2=\"\",\"\",D296-C296)","v":""},{"$f":"IF(Stammdaten!$A$2=\"\",\"\",H296/C296)","v":""},{"$f":"IF(Stammdaten!$A$2=\"\",\"\",ABS(H296))","v":""},{"$f":"IF(Stammdaten!$A$2=\"\",\"\",IF(F296>35%,1,\"\"))","v":""},{"$f":"IF(Stammdaten!$A$2=\"\",\"\",IF(I296>35%,1,\"\"))","v":""},{"$f":"IF(Stammdaten!$A$2=\"\",\"\",MONTH(A296))","v":""},{"$f":"IF(Stammdaten!$A$2=\"\",\"\",YEAR(A296))","v":""}]
[{"$f":"Analysedaten!A297","v":""},{"$f":"Berechnungsblatt!C298","v":""},{"$f":"Berechnungsblatt!X298","v":""},{"$f":"Berechnungsblatt!C300","v":""},{"$f":"IF(Stammdaten!$A$2=\"\",\"\",D297-B297)","v":""},{"$f":"IF(Stammdaten!$A$2=\"\",\"\",E297/B297)","v":""},{"$f":"IF(Stammdaten!$A$2=\"\",\"\",ABS(E297))","v":""},{"$f":"IF(Stammdaten!$A$2=\"\",\"\",D297-C297)","v":""},{"$f":"IF(Stammdaten!$A$2=\"\",\"\",H297/C297)","v":""},{"$f":"IF(Stammdaten!$A$2=\"\",\"\",ABS(H297))","v":""},{"$f":"IF(Stammdaten!$A$2=\"\",\"\",IF(F297>35%,1,\"\"))","v":""},{"$f":"IF(Stammdaten!$A$2=\"\",\"\",IF(I297>35%,1,\"\"))","v":""},{"$f":"IF(Stammdaten!$A$2=\"\",\"\",MONTH(A297))","v":""},{"$f":"IF(Stammdaten!$A$2=\"\",\"\",YEAR(A297))","v":""}]
[{"$f":"Analysedaten!A298","v":""},{"$f":"Berechnungsblatt!C299","v":""},{"$f":"Berechnungsblatt!X299","v":""},{"$f":"Berechnungsblatt!C301","v":""},{"$f":"IF(Stammdaten!$A$2=\"\",\"\",D298-B298)","v":""},{"$f":"IF(Stammdaten!$A$2=\"\",\"\",E298/B298)","v":""},{"$f":"IF(Stammdaten!$A$2=\"\",\"\",ABS(E298))","v":""},{"$f":"IF(Stammdaten!$A$2=\"\",\"\",D298-C298)","v":""},{"$f":"IF(Stammdaten!$A$2=\"\",\"\",H298/C298)","v":""},{"$f":"IF(Stammdaten!$A$2=\"\",\"\",ABS(H298))","v":""},{"$f":"IF(Stammdaten!$A$2=\"\",\"\",IF(F298>35%,1,\"\"))","v":""},{"$f":"IF(Stammdaten!$A$2=\"\",\"\",IF(I298>35%,1,\"\"))","v":""},{"$f":"IF(Stammdaten!$A$2=\"\",\"\",MONTH(A298))","v":""},{"$f":"IF(Stammdaten!$A$2=\"\",\"\",YEAR(A298))","v":""}]
[{"$f":"Analysedaten!A299","v":""},{"$f":"Berechnungsblatt!C300","v":""},{"$f":"Berechnungsblatt!X300","v":""},{"$f":"Berechnungsblatt!C302","v":""},{"$f":"IF(Stammdaten!$A$2=\"\",\"\",D299-B299)","v":""},{"$f":"IF(Stammdaten!$A$2=\"\",\"\",E299/B299)","v":""},{"$f":"IF(Stammdaten!$A$2=\"\",\"\",ABS(E299))","v":""},{"$f":"IF(Stammdaten!$A$2=\"\",\"\",D299-C299)","v":""},{"$f":"IF(Stammdaten!$A$2=\"\",\"\",H299/C299)","v":""},{"$f":"IF(Stammdaten!$A$2=\"\",\"\",ABS(H299))","v":""},{"$f":"IF(Stammdaten!$A$2=\"\",\"\",IF(F299>35%,1,\"\"))","v":""},{"$f":"IF(Stammdaten!$A$2=\"\",\"\",IF(I299>35%,1,\"\"))","v":""},{"$f":"IF(Stammdaten!$A$2=\"\",\"\",MONTH(A299))","v":""},{"$f":"IF(Stammdaten!$A$2=\"\",\"\",YEAR(A299))","v":""}]
[{"$f":"Analysedaten!A300","v":""},{"$f":"Berechnungsblatt!C301","v":""},{"$f":"Berechnungsblatt!X301","v":""},{"$f":"Berechnungsblatt!C303","v":""},{"$f":"IF(Stammdaten!$A$2=\"\",\"\",D300-B300)","v":""},{"$f":"IF(Stammdaten!$A$2=\"\",\"\",E300/B300)","v":""},{"$f":"IF(Stammdaten!$A$2=\"\",\"\",ABS(E300))","v":""},{"$f":"IF(Stammdaten!$A$2=\"\",\"\",D300-C300)","v":""},{"$f":"IF(Stammdaten!$A$2=\"\",\"\",H300/C300)","v":""},{"$f":"IF(Stammdaten!$A$2=\"\",\"\",ABS(H300))","v":""},{"$f":"IF(Stammdaten!$A$2=\"\",\"\",IF(F300>35%,1,\"\"))","v":""},{"$f":"IF(Stammdaten!$A$2=\"\",\"\",IF(I300>35%,1,\"\"))","v":""},{"$f":"IF(Stammdaten!$A$2=\"\",\"\",MONTH(A300))","v":""},{"$f":"IF(Stammdaten!$A$2=\"\",\"\",YEAR(A300))","v":""}]
[{"$f":"Analysedaten!A301","v":""},{"$f":"Berechnungsblatt!C302","v":""},{"$f":"Berechnungsblatt!X302","v":""},{"$f":"Berechnungsblatt!C304","v":""},{"$f":"IF(Stammdaten!$A$2=\"\",\"\",D301-B301)","v":""},{"$f":"IF(Stammdaten!$A$2=\"\",\"\",E301/B301)","v":""},{"$f":"IF(Stammdaten!$A$2=\"\",\"\",ABS(E301))","v":""},{"$f":"IF(Stammdaten!$A$2=\"\",\"\",D301-C301)","v":""},{"$f":"IF(Stammdaten!$A$2=\"\",\"\",H301/C301)","v":""},{"$f":"IF(Stammdaten!$A$2=\"\",\"\",ABS(H301))","v":""},{"$f":"IF(Stammdaten!$A$2=\"\",\"\",IF(F301>35%,1,\"\"))","v":""},{"$f":"IF(Stammdaten!$A$2=\"\",\"\",IF(I301>35%,1,\"\"))","v":""},{"$f":"IF(Stammdaten!$A$2=\"\",\"\",MONTH(A301))","v":""},{"$f":"IF(Stammdaten!$A$2=\"\",\"\",YEAR(A301))","v":""}]
[{"$f":"Analysedaten!A302","v":""},{"$f":"Berechnungsblatt!C303","v":""},{"$f":"Berechnungsblatt!X303","v":""},{"$f":"Berechnungsblatt!C305","v":""},{"$f":"IF(Stammdaten!$A$2=\"\",\"\",D302-B302)","v":""},{"$f":"IF(Stammdaten!$A$2=\"\",\"\",E302/B302)","v":""},{"$f":"IF(Stammdaten!$A$2=\"\",\"\",ABS(E302))","v":""},{"$f":"IF(Stammdaten!$A$2=\"\",\"\",D302-C302)","v":""},{"$f":"IF(Stammdaten!$A$2=\"\",\"\",H302/C302)","v":""},{"$f":"IF(Stammdaten!$A$2=\"\",\"\",ABS(H302))","v":""},{"$f":"IF(Stammdaten!$A$2=\"\",\"\",IF(F302>35%,1,\"\"))","v":""},{"$f":"IF(Stammdaten!$A$2=\"\",\"\",IF(I302>35%,1,\"\"))","v":""},{"$f":"IF(Stammdaten!$A$2=\"\",\"\",MONTH(A302))","v":""},{"$f":"IF(Stammdaten!$A$2=\"\",\"\",YEAR(A302))","v":""}]
[{"$f":"Analysedaten!A303","v":""},{"$f":"Berechnungsblatt!C304","v":""},{"$f":"Berechnungsblatt!X304","v":""},{"$f":"Berechnungsblatt!C306","v":""},{"$f":"IF(Stammdaten!$A$2=\"\",\"\",D303-B303)","v":""},{"$f":"IF(Stammdaten!$A$2=\"\",\"\",E303/B303)","v":""},{"$f":"IF(Stammdaten!$A$2=\"\",\"\",ABS(E303))","v":""},{"$f":"IF(Stammdaten!$A$2=\"\",\"\",D303-C303)","v":""},{"$f":"IF(Stammdaten!$A$2=\"\",\"\",H303/C303)","v":""},{"$f":"IF(Stammdaten!$A$2=\"\",\"\",ABS(H303))","v":""},{"$f":"IF(Stammdaten!$A$2=\"\",\"\",IF(F303>35%,1,\"\"))","v":""},{"$f":"IF(Stammdaten!$A$2=\"\",\"\",IF(I303>35%,1,\"\"))","v":""},{"$f":"IF(Stammdaten!$A$2=\"\",\"\",MONTH(A303))","v":""},{"$f":"IF(Stammdaten!$A$2=\"\",\"\",YEAR(A303))","v":""}]
[{"$f":"Analysedaten!A304","v":""},{"$f":"Berechnungsblatt!C305","v":""},{"$f":"Berechnungsblatt!X305","v":""},{"$f":"Berechnungsblatt!C307","v":""},{"$f":"IF(Stammdaten!$A$2=\"\",\"\",D304-B304)","v":""},{"$f":"IF(Stammdaten!$A$2=\"\",\"\",E304/B304)","v":""},{"$f":"IF(Stammdaten!$A$2=\"\",\"\",ABS(E304))","v":""},{"$f":"IF(Stammdaten!$A$2=\"\",\"\",D304-C304)","v":""},{"$f":"IF(Stammdaten!$A$2=\"\",\"\",H304/C304)","v":""},{"$f":"IF(Stammdaten!$A$2=\"\",\"\",ABS(H304))","v":""},{"$f":"IF(Stammdaten!$A$2=\"\",\"\",IF(F304>35%,1,\"\"))","v":""},{"$f":"IF(Stammdaten!$A$2=\"\",\"\",IF(I304>35%,1,\"\"))","v":""},{"$f":"IF(Stammdaten!$A$2=\"\",\"\",MONTH(A304))","v":""},{"$f":"IF(Stammdaten!$A$2=\"\",\"\",YEAR(A304))","v":""}]
[{"$f":"Analysedaten!A305","v":""},{"$f":"Berechnungsblatt!C306","v":""},{"$f":"Berechnungsblatt!X306","v":""},{"$f":"Berechnungsblatt!C308","v":""},{"$f":"IF(Stammdaten!$A$2=\"\",\"\",D305-B305)","v":""},{"$f":"IF(Stammdaten!$A$2=\"\",\"\",E305/B305)","v":""},{"$f":"IF(Stammdaten!$A$2=\"\",\"\",ABS(E305))","v":""},{"$f":"IF(Stammdaten!$A$2=\"\",\"\",D305-C305)","v":""},{"$f":"IF(Stammdaten!$A$2=\"\",\"\",H305/C305)","v":""},{"$f":"IF(Stammdaten!$A$2=\"\",\"\",ABS(H305))","v":""},{"$f":"IF(Stammdaten!$A$2=\"\",\"\",IF(F305>35%,1,\"\"))","v":""},{"$f":"IF(Stammdaten!$A$2=\"\",\"\",IF(I305>35%,1,\"\"))","v":""},{"$f":"IF(Stammdaten!$A$2=\"\",\"\",MONTH(A305))","v":""},{"$f":"IF(Stammdaten!$A$2=\"\",\"\",YEAR(A305))","v":""}]
[{"$f":"Analysedaten!A306","v":""},{"$f":"Berechnungsblatt!C307","v":""},{"$f":"Berechnungsblatt!X307","v":""},{"$f":"Berechnungsblatt!C309","v":""},{"$f":"IF(Stammdaten!$A$2=\"\",\"\",D306-B306)","v":""},{"$f":"IF(Stammdaten!$A$2=\"\",\"\",E306/B306)","v":""},{"$f":"IF(Stammdaten!$A$2=\"\",\"\",ABS(E306))","v":""},{"$f":"IF(Stammdaten!$A$2=\"\",\"\",D306-C306)","v":""},{"$f":"IF(Stammdaten!$A$2=\"\",\"\",H306/C306)","v":""},{"$f":"IF(Stammdaten!$A$2=\"\",\"\",ABS(H306))","v":""},{"$f":"IF(Stammdaten!$A$2=\"\",\"\",IF(F306>35%,1,\"\"))","v":""},{"$f":"IF(Stammdaten!$A$2=\"\",\"\",IF(I306>35%,1,\"\"))","v":""},{"$f":"IF(Stammdaten!$A$2=\"\",\"\",MONTH(A306))","v":""},{"$f":"IF(Stammdaten!$A$2=\"\",\"\",YEAR(A306))","v":""}]
[{"$f":"Analysedaten!A307","v":""},{"$f":"Berechnungsblatt!C308","v":""},{"$f":"Berechnungsblatt!X308","v":""},{"$f":"Berechnungsblatt!C310","v":""},{"$f":"IF(Stammdaten!$A$2=\"\",\"\",D307-B307)","v":""},{"$f":"IF(Stammdaten!$A$2=\"\",\"\",E307/B307)","v":""},{"$f":"IF(Stammdaten!$A$2=\"\",\"\",ABS(E307))","v":""},{"$f":"IF(Stammdaten!$A$2=\"\",\"\",D307-C307)","v":""},{"$f":"IF(Stammdaten!$A$2=\"\",\"\",H307/C307)","v":""},{"$f":"IF(Stammdaten!$A$2=\"\",\"\",ABS(H307))","v":""},{"$f":"IF(Stammdaten!$A$2=\"\",\"\",IF(F307>35%,1,\"\"))","v":""},{"$f":"IF(Stammdaten!$A$2=\"\",\"\",IF(I307>35%,1,\"\"))","v":""},{"$f":"IF(Stammdaten!$A$2=\"\",\"\",MONTH(A307))","v":""},{"$f":"IF(Stammdaten!$A$2=\"\",\"\",YEAR(A307))","v":""}]
[{"$f":"Analysedaten!A308","v":""},{"$f":"Berechnungsblatt!C309","v":""},{"$f":"Berechnungsblatt!X309","v":""},{"$f":"Berechnungsblatt!C311","v":""},{"$f":"IF(Stammdaten!$A$2=\"\",\"\",D308-B308)","v":""},{"$f":"IF(Stammdaten!$A$2=\"\",\"\",E308/B308)","v":""},{"$f":"IF(Stammdaten!$A$2=\"\",\"\",ABS(E308))","v":""},{"$f":"IF(Stammdaten!$A$2=\"\",\"\",D308-C308)","v":""},{"$f":"IF(Stammdaten!$A$2=\"\",\"\",H308/C308)","v":""},{"$f":"IF(Stammdaten!$A$2=\"\",\"\",ABS(H308))","v":""},{"$f":"IF(Stammdaten!$A$2=\"\",\"\",IF(F308>35%,1,\"\"))","v":""},{"$f":"IF(Stammdaten!$A$2=\"\",\"\",IF(I308>35%,1,\"\"))","v":""},{"$f":"IF(Stammdaten!$A$2=\"\",\"\",MONTH(A308))","v":""},{"$f":"IF(Stammdaten!$A$2=\"\",\"\",YEAR(A308))","v":""}]
[{"$f":"Analysedaten!A309","v":""},{"$f":"Berechnungsblatt!C310","v":""},{"$f":"Berechnungsblatt!X310","v":""},{"$f":"Berechnungsblatt!C312","v":""},{"$f":"IF(Stammdaten!$A$2=\"\",\"\",D309-B309)","v":""},{"$f":"IF(Stammdaten!$A$2=\"\",\"\",E309/B309)","v":""},{"$f":"IF(Stammdaten!$A$2=\"\",\"\",ABS(E309))","v":""},{"$f":"IF(Stammdaten!$A$2=\"\",\"\",D309-C309)","v":""},{"$f":"IF(Stammdaten!$A$2=\"\",\"\",H309/C309)","v":""},{"$f":"IF(Stammdaten!$A$2=\"\",\"\",ABS(H309))","v":""},{"$f":"IF(Stammdaten!$A$2=\"\",\"\",IF(F309>35%,1,\"\"))","v":""},{"$f":"IF(Stammdaten!$A$2=\"\",\"\",IF(I309>35%,1,\"\"))","v":""},{"$f":"IF(Stammdaten!$A$2=\"\",\"\",MONTH(A309))","v":""},{"$f":"IF(Stammdaten!$A$2=\"\",\"\",YEAR(A309))","v":""}]
[{"$f":"Analysedaten!A310","v":""},{"$f":"Berechnungsblatt!C311","v":""},{"$f":"Berechnungsblatt!X311","v":""},{"$f":"Berechnungsblatt!C313","v":""},{"$f":"IF(Stammdaten!$A$2=\"\",\"\",D310-B310)","v":""},{"$f":"IF(Stammdaten!$A$2=\"\",\"\",E310/B310)","v":""},{"$f":"IF(Stammdaten!$A$2=\"\",\"\",ABS(E310))","v":""},{"$f":"IF(Stammdaten!$A$2=\"\",\"\",D310-C310)","v":""},{"$f":"IF(Stammdaten!$A$2=\"\",\"\",H310/C310)","v":""},{"$f":"IF(Stammdaten!$A$2=\"\",\"\",ABS(H310))","v":""},{"$f":"IF(Stammdaten!$A$2=\"\",\"\",IF(F310>35%,1,\"\"))","v":""},{"$f":"IF(Stammdaten!$A$2=\"\",\"\",IF(I310>35%,1,\"\"))","v":""},{"$f":"IF(Stammdaten!$A$2=\"\",\"\",MONTH(A310))","v":""},{"$f":"IF(Stammdaten!$A$2=\"\",\"\",YEAR(A310))","v":""}]
[{"$f":"Analysedaten!A311","v":""},{"$f":"Berechnungsblatt!C312","v":""},{"$f":"Berechnungsblatt!X312","v":""},{"$f":"Berechnungsblatt!C314","v":""},{"$f":"IF(Stammdaten!$A$2=\"\",\"\",D311-B311)","v":""},{"$f":"IF(Stammdaten!$A$2=\"\",\"\",E311/B311)","v":""},{"$f":"IF(Stammdaten!$A$2=\"\",\"\",ABS(E311))","v":""},{"$f":"IF(Stammdaten!$A$2=\"\",\"\",D311-C311)","v":""},{"$f":"IF(Stammdaten!$A$2=\"\",\"\",H311/C311)","v":""},{"$f":"IF(Stammdaten!$A$2=\"\",\"\",ABS(H311))","v":""},{"$f":"IF(Stammdaten!$A$2=\"\",\"\",IF(F311>35%,1,\"\"))","v":""},{"$f":"IF(Stammdaten!$A$2=\"\",\"\",IF(I311>35%,1,\"\"))","v":""},{"$f":"IF(Stammdaten!$A$2=\"\",\"\",MONTH(A311))","v":""},{"$f":"IF(Stammdaten!$A$2=\"\",\"\",YEAR(A311))","v":""}]
[{"$f":"Analysedaten!A312","v":""},{"$f":"Berechnungsblatt!C313","v":""},{"$f":"Berechnungsblatt!X313","v":""},{"$f":"Berechnungsblatt!C315","v":""},{"$f":"IF(Stammdaten!$A$2=\"\",\"\",D312-B312)","v":""},{"$f":"IF(Stammdaten!$A$2=\"\",\"\",E312/B312)","v":""},{"$f":"IF(Stammdaten!$A$2=\"\",\"\",ABS(E312))","v":""},{"$f":"IF(Stammdaten!$A$2=\"\",\"\",D312-C312)","v":""},{"$f":"IF(Stammdaten!$A$2=\"\",\"\",H312/C312)","v":""},{"$f":"IF(Stammdaten!$A$2=\"\",\"\",ABS(H312))","v":""},{"$f":"IF(Stammdaten!$A$2=\"\",\"\",IF(F312>35%,1,\"\"))","v":""},{"$f":"IF(Stammdaten!$A$2=\"\",\"\",IF(I312>35%,1,\"\"))","v":""},{"$f":"IF(Stammdaten!$A$2=\"\",\"\",MONTH(A312))","v":""},{"$f":"IF(Stammdaten!$A$2=\"\",\"\",YEAR(A312))","v":""}]
[{"$f":"Analysedaten!A313","v":""},{"$f":"Berechnungsblatt!C314","v":""},{"$f":"Berechnungsblatt!X314","v":""},{"$f":"Berechnungsblatt!C316","v":""},{"$f":"IF(Stammdaten!$A$2=\"\",\"\",D313-B313)","v":""},{"$f":"IF(Stammdaten!$A$2=\"\",\"\",E313/B313)","v":""},{"$f":"IF(Stammdaten!$A$2=\"\",\"\",ABS(E313))","v":""},{"$f":"IF(Stammdaten!$A$2=\"\",\"\",D313-C313)","v":""},{"$f":"IF(Stammdaten!$A$2=\"\",\"\",H313/C313)","v":""},{"$f":"IF(Stammdaten!$A$2=\"\",\"\",ABS(H313))","v":""},{"$f":"IF(Stammdaten!$A$2=\"\",\"\",IF(F313>35%,1,\"\"))","v":""},{"$f":"IF(Stammdaten!$A$2=\"\",\"\",IF(I313>35%,1,\"\"))","v":""},{"$f":"IF(Stammdaten!$A$2=\"\",\"\",MONTH(A313))","v":""},{"$f":"IF(Stammdaten!$A$2=\"\",\"\",YEAR(A313))","v":""}]
[{"$f":"Analysedaten!A314","v":""},{"$f":"Berechnungsblatt!C315","v":""},{"$f":"Berechnungsblatt!X315","v":""},{"$f":"Berechnungsblatt!C317","v":""},{"$f":"IF(Stammdaten!$A$2=\"\",\"\",D314-B314)","v":""},{"$f":"IF(Stammdaten!$A$2=\"\",\"\",E314/B314)","v":""},{"$f":"IF(Stammdaten!$A$2=\"\",\"\",ABS(E314))","v":""},{"$f":"IF(Stammdaten!$A$2=\"\",\"\",D314-C314)","v":""},{"$f":"IF(Stammdaten!$A$2=\"\",\"\",H314/C314)","v":""},{"$f":"IF(Stammdaten!$A$2=\"\",\"\",ABS(H314))","v":""},{"$f":"IF(Stammdaten!$A$2=\"\",\"\",IF(F314>35%,1,\"\"))","v":""},{"$f":"IF(Stammdaten!$A$2=\"\",\"\",IF(I314>35%,1,\"\"))","v":""},{"$f":"IF(Stammdaten!$A$2=\"\",\"\",MONTH(A314))","v":""},{"$f":"IF(Stammdaten!$A$2=\"\",\"\",YEAR(A314))","v":""}]
[{"$f":"Analysedaten!A315","v":""},{"$f":"Berechnungsblatt!C316","v":""},{"$f":"Berechnungsblatt!X316","v":""},{"$f":"Berechnungsblatt!C318","v":""},{"$f":"IF(Stammdaten!$A$2=\"\",\"\",D315-B315)","v":""},{"$f":"IF(Stammdaten!$A$2=\"\",\"\",E315/B315)","v":""},{"$f":"IF(Stammdaten!$A$2=\"\",\"\",ABS(E315))","v":""},{"$f":"IF(Stammdaten!$A$2=\"\",\"\",D315-C315)","v":""},{"$f":"IF(Stammdaten!$A$2=\"\",\"\",H315/C315)","v":""},{"$f":"IF(Stammdaten!$A$2=\"\",\"\",ABS(H315))","v":""},{"$f":"IF(Stammdaten!$A$2=\"\",\"\",IF(F315>35%,1,\"\"))","v":""},{"$f":"IF(Stammdaten!$A$2=\"\",\"\",IF(I315>35%,1,\"\"))","v":""},{"$f":"IF(Stammdaten!$A$2=\"\",\"\",MONTH(A315))","v":""},{"$f":"IF(Stammdaten!$A$2=\"\",\"\",YEAR(A315))","v":""}]
[{"$f":"Analysedaten!A316","v":""},{"$f":"Berechnungsblatt!C317","v":""},{"$f":"Berechnungsblatt!X317","v":""},{"$f":"Berechnungsblatt!C319","v":""},{"$f":"IF(Stammdaten!$A$2=\"\",\"\",D316-B316)","v":""},{"$f":"IF(Stammdaten!$A$2=\"\",\"\",E316/B316)","v":""},{"$f":"IF(Stammdaten!$A$2=\"\",\"\",ABS(E316))","v":""},{"$f":"IF(Stammdaten!$A$2=\"\",\"\",D316-C316)","v":""},{"$f":"IF(Stammdaten!$A$2=\"\",\"\",H316/C316)","v":""},{"$f":"IF(Stammdaten!$A$2=\"\",\"\",ABS(H316))","v":""},{"$f":"IF(Stammdaten!$A$2=\"\",\"\",IF(F316>35%,1,\"\"))","v":""},{"$f":"IF(Stammdaten!$A$2=\"\",\"\",IF(I316>35%,1,\"\"))","v":""},{"$f":"IF(Stammdaten!$A$2=\"\",\"\",MONTH(A316))","v":""},{"$f":"IF(Stammdaten!$A$2=\"\",\"\",YEAR(A316))","v":""}]
[{"$f":"Analysedaten!A317","v":""},{"$f":"Berechnungsblatt!C318","v":""},{"$f":"Berechnungsblatt!X318","v":""},{"$f":"Berechnungsblatt!C320","v":""},{"$f":"IF(Stammdaten!$A$2=\"\",\"\",D317-B317)","v":""},{"$f":"IF(Stammdaten!$A$2=\"\",\"\",E317/B317)","v":""},{"$f":"IF(Stammdaten!$A$2=\"\",\"\",ABS(E317))","v":""},{"$f":"IF(Stammdaten!$A$2=\"\",\"\",D317-C317)","v":""},{"$f":"IF(Stammdaten!$A$2=\"\",\"\",H317/C317)","v":""},{"$f":"IF(Stammdaten!$A$2=\"\",\"\",ABS(H317))","v":""},{"$f":"IF(Stammdaten!$A$2=\"\",\"\",IF(F317>35%,1,\"\"))","v":""},{"$f":"IF(Stammdaten!$A$2=\"\",\"\",IF(I317>35%,1,\"\"))","v":""},{"$f":"IF(Stammdaten!$A$2=\"\",\"\",MONTH(A317))","v":""},{"$f":"IF(Stammdaten!$A$2=\"\",\"\",YEAR(A317))","v":""}]
[{"$f":"Analysedaten!A318","v":""},{"$f":"Berechnungsblatt!C319","v":""},{"$f":"Berechnungsblatt!X319","v":""},{"$f":"Berechnungsblatt!C321","v":""},{"$f":"IF(Stammdaten!$A$2=\"\",\"\",D318-B318)","v":""},{"$f":"IF(Stammdaten!$A$2=\"\",\"\",E318/B318)","v":""},{"$f":"IF(Stammdaten!$A$2=\"\",\"\",ABS(E318))","v":""},{"$f":"IF(Stammdaten!$A$2=\"\",\"\",D318-C318)","v":""},{"$f":"IF(Stammdaten!$A$2=\"\",\"\",H318/C318)","v":""},{"$f":"IF(Stammdaten!$A$2=\"\",\"\",ABS(H318))","v":""},{"$f":"IF(Stammdaten!$A$2=\"\",\"\",IF(F318>35%,1,\"\"))","v":""},{"$f":"IF(Stammdaten!$A$2=\"\",\"\",IF(I318>35%,1,\"\"))","v":""},{"$f":"IF(Stammdaten!$A$2=\"\",\"\",MONTH(A318))","v":""},{"$f":"IF(Stammdaten!$A$2=\"\",\"\",YEAR(A318))","v":""}]
[{"$f":"Analysedaten!A319","v":""},{"$f":"Berechnungsblatt!C320","v":""},{"$f":"Berechnungsblatt!X320","v":""},{"$f":"Berechnungsblatt!C322","v":""},{"$f":"IF(Stammdaten!$A$2=\"\",\"\",D319-B319)","v":""},{"$f":"IF(Stammdaten!$A$2=\"\",\"\",E319/B319)","v":""},{"$f":"IF(Stammdaten!$A$2=\"\",\"\",ABS(E319))","v":""},{"$f":"IF(Stammdaten!$A$2=\"\",\"\",D319-C319)","v":""},{"$f":"IF(Stammdaten!$A$2=\"\",\"\",H319/C319)","v":""},{"$f":"IF(Stammdaten!$A$2=\"\",\"\",ABS(H319))","v":""},{"$f":"IF(Stammdaten!$A$2=\"\",\"\",IF(F319>35%,1,\"\"))","v":""},{"$f":"IF(Stammdaten!$A$2=\"\",\"\",IF(I319>35%,1,\"\"))","v":""},{"$f":"IF(Stammdaten!$A$2=\"\",\"\",MONTH(A319))","v":""},{"$f":"IF(Stammdaten!$A$2=\"\",\"\",YEAR(A319))","v":""}]
[{"$f":"Analysedaten!A320","v":""},{"$f":"Berechnungsblatt!C321","v":""},{"$f":"Berechnungsblatt!X321","v":""},{"$f":"Berechnungsblatt!C323","v":""},{"$f":"IF(Stammdaten!$A$2=\"\",\"\",D320-B320)","v":""},{"$f":"IF(Stammdaten!$A$2=\"\",\"\",E320/B320)","v":""},{"$f":"IF(Stammdaten!$A$2=\"\",\"\",ABS(E320))","v":""},{"$f":"IF(Stammdaten!$A$2=\"\",\"\",D320-C320)","v":""},{"$f":"IF(Stammdaten!$A$2=\"\",\"\",H320/C320)","v":""},{"$f":"IF(Stammdaten!$A$2=\"\",\"\",ABS(H320))","v":""},{"$f":"IF(Stammdaten!$A$2=\"\",\"\",IF(F320>35%,1,\"\"))","v":""},{"$f":"IF(Stammdaten!$A$2=\"\",\"\",IF(I320>35%,1,\"\"))","v":""},{"$f":"IF(Stammdaten!$A$2=\"\",\"\",MONTH(A320))","v":""},{"$f":"IF(Stammdaten!$A$2=\"\",\"\",YEAR(A320))","v":""}]
[{"$f":"Analysedaten!A321","v":""},{"$f":"Berechnungsblatt!C322","v":""},{"$f":"Berechnungsblatt!X322","v":""},{"$f":"Berechnungsblatt!C324","v":""},{"$f":"IF(Stammdaten!$A$2=\"\",\"\",D321-B321)","v":""},{"$f":"IF(Stammdaten!$A$2=\"\",\"\",E321/B321)","v":""},{"$f":"IF(Stammdaten!$A$2=\"\",\"\",ABS(E321))","v":""},{"$f":"IF(Stammdaten!$A$2=\"\",\"\",D321-C321)","v":""},{"$f":"IF(Stammdaten!$A$2=\"\",\"\",H321/C321)","v":""},{"$f":"IF(Stammdaten!$A$2=\"\",\"\",ABS(H321))","v":""},{"$f":"IF(Stammdaten!$A$2=\"\",\"\",IF(F321>35%,1,\"\"))","v":""},{"$f":"IF(Stammdaten!$A$2=\"\",\"\",IF(I321>35%,1,\"\"))","v":""},{"$f":"IF(Stammdaten!$A$2=\"\",\"\",MONTH(A321))","v":""},{"$f":"IF(Stammdaten!$A$2=\"\",\"\",YEAR(A321))","v":""}]
[{"$f":"Analysedaten!A322","v":""},{"$f":"Berechnungsblatt!C323","v":""},{"$f":"Berechnungsblatt!X323","v":""},{"$f":"Berechnungsblatt!C325","v":""},{"$f":"IF(Stammdaten!$A$2=\"\",\"\",D322-B322)","v":""},{"$f":"IF(Stammdaten!$A$2=\"\",\"\",E322/B322)","v":""},{"$f":"IF(Stammdaten!$A$2=\"\",\"\",ABS(E322))","v":""},{"$f":"IF(Stammdaten!$A$2=\"\",\"\",D322-C322)","v":""},{"$f":"IF(Stammdaten!$A$2=\"\",\"\",H322/C322)","v":""},{"$f":"IF(Stammdaten!$A$2=\"\",\"\",ABS(H322))","v":""},{"$f":"IF(Stammdaten!$A$2=\"\",\"\",IF(F322>35%,1,\"\"))","v":""},{"$f":"IF(Stammdaten!$A$2=\"\",\"\",IF(I322>35%,1,\"\"))","v":""},{"$f":"IF(Stammdaten!$A$2=\"\",\"\",MONTH(A322))","v":""},{"$f":"IF(Stammdaten!$A$2=\"\",\"\",YEAR(A322))","v":""}]
[{"$f":"Analysedaten!A323","v":""},{"$f":"Berechnungsblatt!C324","v":""},{"$f":"Berechnungsblatt!X324","v":""},{"$f":"Berechnungsblatt!C326","v":""},{"$f":"IF(Stammdaten!$A$2=\"\",\"\",D323-B323)","v":""},{"$f":"IF(Stammdaten!$A$2=\"\",\"\",E323/B323)","v":""},{"$f":"IF(Stammdaten!$A$2=\"\",\"\",ABS(E323))","v":""},{"$f":"IF(Stammdaten!$A$2=\"\",\"\",D323-C323)","v":""},{"$f":"IF(Stammdaten!$A$2=\"\",\"\",H323/C323)","v":""},{"$f":"IF(Stammdaten!$A$2=\"\",\"\",ABS(H323))","v":""},{"$f":"IF(Stammdaten!$A$2=\"\",\"\",IF(F323>35%,1,\"\"))","v":""},{"$f":"IF(Stammdaten!$A$2=\"\",\"\",IF(I323>35%,1,\"\"))","v":""},{"$f":"IF(Stammdaten!$A$2=\"\",\"\",MONTH(A323))","v":""},{"$f":"IF(Stammdaten!$A$2=\"\",\"\",YEAR(A323))","v":""}]
[{"$f":"Analysedaten!A324","v":""},{"$f":"Berechnungsblatt!C325","v":""},{"$f":"Berechnungsblatt!X325","v":""},{"$f":"Berechnungsblatt!C327","v":""},{"$f":"IF(Stammdaten!$A$2=\"\",\"\",D324-B324)","v":""},{"$f":"IF(Stammdaten!$A$2=\"\",\"\",E324/B324)","v":""},{"$f":"IF(Stammdaten!$A$2=\"\",\"\",ABS(E324))","v":""},{"$f":"IF(Stammdaten!$A$2=\"\",\"\",D324-C324)","v":""},{"$f":"IF(Stammdaten!$A$2=\"\",\"\",H324/C324)","v":""},{"$f":"IF(Stammdaten!$A$2=\"\",\"\",ABS(H324))","v":""},{"$f":"IF(Stammdaten!$A$2=\"\",\"\",IF(F324>35%,1,\"\"))","v":""},{"$f":"IF(Stammdaten!$A$2=\"\",\"\",IF(I324>35%,1,\"\"))","v":""},{"$f":"IF(Stammdaten!$A$2=\"\",\"\",MONTH(A324))","v":""},{"$f":"IF(Stammdaten!$A$2=\"\",\"\",YEAR(A324))","v":""}]
[{"$f":"Analysedaten!A325","v":""},{"$f":"Berechnungsblatt!C326","v":""},{"$f":"Berechnungsblatt!X326","v":""},{"$f":"Berechnungsblatt!C328","v":""},{"$f":"IF(Stammdaten!$A$2=\"\",\"\",D325-B325)","v":""},{"$f":"IF(Stammdaten!$A$2=\"\",\"\",E325/B325)","v":""},{"$f":"IF(Stammdaten!$A$2=\"\",\"\",ABS(E325))","v":""},{"$f":"IF(Stammdaten!$A$2=\"\",\"\",D325-C325)","v":""},{"$f":"IF(Stammdaten!$A$2=\"\",\"\",H325/C325)","v":""},{"$f":"IF(Stammdaten!$A$2=\"\",\"\",ABS(H325))","v":""},{"$f":"IF(Stammdaten!$A$2=\"\",\"\",IF(F325>35%,1,\"\"))","v":""},{"$f":"IF(Stammdaten!$A$2=\"\",\"\",IF(I325>35%,1,\"\"))","v":""},{"$f":"IF(Stammdaten!$A$2=\"\",\"\",MONTH(A325))","v":""},{"$f":"IF(Stammdaten!$A$2=\"\",\"\",YEAR(A325))","v":""}]
[{"$f":"Analysedaten!A326","v":""},{"$f":"Berechnungsblatt!C327","v":""},{"$f":"Berechnungsblatt!X327","v":""},{"$f":"Berechnungsblatt!C329","v":""},{"$f":"IF(Stammdaten!$A$2=\"\",\"\",D326-B326)","v":""},{"$f":"IF(Stammdaten!$A$2=\"\",\"\",E326/B326)","v":""},{"$f":"IF(Stammdaten!$A$2=\"\",\"\",ABS(E326))","v":""},{"$f":"IF(Stammdaten!$A$2=\"\",\"\",D326-C326)","v":""},{"$f":"IF(Stammdaten!$A$2=\"\",\"\",H326/C326)","v":""},{"$f":"IF(Stammdaten!$A$2=\"\",\"\",ABS(H326))","v":""},{"$f":"IF(Stammdaten!$A$2=\"\",\"\",IF(F326>35%,1,\"\"))","v":""},{"$f":"IF(Stammdaten!$A$2=\"\",\"\",IF(I326>35%,1,\"\"))","v":""},{"$f":"IF(Stammdaten!$A$2=\"\",\"\",MONTH(A326))","v":""},{"$f":"IF(Stammdaten!$A$2=\"\",\"\",YEAR(A326))","v":""}]
[{"$f":"Analysedaten!A327","v":""},{"$f":"Berechnungsblatt!C328","v":""},{"$f":"Berechnungsblatt!X328","v":""},{"$f":"Berechnungsblatt!C330","v":""},{"$f":"IF(Stammdaten!$A$2=\"\",\"\",D327-B327)","v":""},{"$f":"IF(Stammdaten!$A$2=\"\",\"\",E327/B327)","v":""},{"$f":"IF(Stammdaten!$A$2=\"\",\"\",ABS(E327))","v":""},{"$f":"IF(Stammdaten!$A$2=\"\",\"\",D327-C327)","v":""},{"$f":"IF(Stammdaten!$A$2=\"\",\"\",H327/C327)","v":""},{"$f":"IF(Stammdaten!$A$2=\"\",\"\",ABS(H327))","v":""},{"$f":"IF(Stammdaten!$A$2=\"\",\"\",IF(F327>35%,1,\"\"))","v":""},{"$f":"IF(Stammdaten!$A$2=\"\",\"\",IF(I327>35%,1,\"\"))","v":""},{"$f":"IF(Stammdaten!$A$2=\"\",\"\",MONTH(A327))","v":""},{"$f":"IF(Stammdaten!$A$2=\"\",\"\",YEAR(A327))","v":""}]
[{"$f":"Analysedaten!A328","v":""},{"$f":"Berechnungsblatt!C329","v":""},{"$f":"Berechnungsblatt!X329","v":""},{"$f":"Berechnungsblatt!C331","v":""},{"$f":"IF(Stammdaten!$A$2=\"\",\"\",D328-B328)","v":""},{"$f":"IF(Stammdaten!$A$2=\"\",\"\",E328/B328)","v":""},{"$f":"IF(Stammdaten!$A$2=\"\",\"\",ABS(E328))","v":""},{"$f":"IF(Stammdaten!$A$2=\"\",\"\",D328-C328)","v":""},{"$f":"IF(Stammdaten!$A$2=\"\",\"\",H328/C328)","v":""},{"$f":"IF(Stammdaten!$A$2=\"\",\"\",ABS(H328))","v":""},{"$f":"IF(Stammdaten!$A$2=\"\",\"\",IF(F328>35%,1,\"\"))","v":""},{"$f":"IF(Stammdaten!$A$2=\"\",\"\",IF(I328>35%,1,\"\"))","v":""},{"$f":"IF(Stammdaten!$A$2=\"\",\"\",MONTH(A328))","v":""},{"$f":"IF(Stammdaten!$A$2=\"\",\"\",YEAR(A328))","v":""}]
[{"$f":"Analysedaten!A329","v":""},{"$f":"Berechnungsblatt!C330","v":""},{"$f":"Berechnungsblatt!X330","v":""},{"$f":"Berechnungsblatt!C332","v":""},{"$f":"IF(Stammdaten!$A$2=\"\",\"\",D329-B329)","v":""},{"$f":"IF(Stammdaten!$A$2=\"\",\"\",E329/B329)","v":""},{"$f":"IF(Stammdaten!$A$2=\"\",\"\",ABS(E329))","v":""},{"$f":"IF(Stammdaten!$A$2=\"\",\"\",D329-C329)","v":""},{"$f":"IF(Stammdaten!$A$2=\"\",\"\",H329/C329)","v":""},{"$f":"IF(Stammdaten!$A$2=\"\",\"\",ABS(H329))","v":""},{"$f":"IF(Stammdaten!$A$2=\"\",\"\",IF(F329>35%,1,\"\"))","v":""},{"$f":"IF(Stammdaten!$A$2=\"\",\"\",IF(I329>35%,1,\"\"))","v":""},{"$f":"IF(Stammdaten!$A$2=\"\",\"\",MONTH(A329))","v":""},{"$f":"IF(Stammdaten!$A$2=\"\",\"\",YEAR(A329))","v":""}]
[{"$f":"Analysedaten!A330","v":""},{"$f":"Berechnungsblatt!C331","v":""},{"$f":"Berechnungsblatt!X331","v":""},{"$f":"Berechnungsblatt!C333","v":""},{"$f":"IF(Stammdaten!$A$2=\"\",\"\",D330-B330)","v":""},{"$f":"IF(Stammdaten!$A$2=\"\",\"\",E330/B330)","v":""},{"$f":"IF(Stammdaten!$A$2=\"\",\"\",ABS(E330))","v":""},{"$f":"IF(Stammdaten!$A$2=\"\",\"\",D330-C330)","v":""},{"$f":"IF(Stammdaten!$A$2=\"\",\"\",H330/C330)","v":""},{"$f":"IF(Stammdaten!$A$2=\"\",\"\",ABS(H330))","v":""},{"$f":"IF(Stammdaten!$A$2=\"\",\"\",IF(F330>35%,1,\"\"))","v":""},{"$f":"IF(Stammdaten!$A$2=\"\",\"\",IF(I330>35%,1,\"\"))","v":""},{"$f":"IF(Stammdaten!$A$2=\"\",\"\",MONTH(A330))","v":""},{"$f":"IF(Stammdaten!$A$2=\"\",\"\",YEAR(A330))","v":""}]
[{"$f":"Analysedaten!A331","v":""},{"$f":"Berechnungsblatt!C332","v":""},{"$f":"Berechnungsblatt!X332","v":""},{"$f":"Berechnungsblatt!C334","v":""},{"$f":"IF(Stammdaten!$A$2=\"\",\"\",D331-B331)","v":""},{"$f":"IF(Stammdaten!$A$2=\"\",\"\",E331/B331)","v":""},{"$f":"IF(Stammdaten!$A$2=\"\",\"\",ABS(E331))","v":""},{"$f":"IF(Stammdaten!$A$2=\"\",\"\",D331-C331)","v":""},{"$f":"IF(Stammdaten!$A$2=\"\",\"\",H331/C331)","v":""},{"$f":"IF(Stammdaten!$A$2=\"\",\"\",ABS(H331))","v":""},{"$f":"IF(Stammdaten!$A$2=\"\",\"\",IF(F331>35%,1,\"\"))","v":""},{"$f":"IF(Stammdaten!$A$2=\"\",\"\",IF(I331>35%,1,\"\"))","v":""},{"$f":"IF(Stammdaten!$A$2=\"\",\"\",MONTH(A331))","v":""},{"$f":"IF(Stammdaten!$A$2=\"\",\"\",YEAR(A331))","v":""}]
[{"$f":"Analysedaten!A332","v":""},{"$f":"Berechnungsblatt!C333","v":""},{"$f":"Berechnungsblatt!X333","v":""},{"$f":"Berechnungsblatt!C335","v":""},{"$f":"IF(Stammdaten!$A$2=\"\",\"\",D332-B332)","v":""},{"$f":"IF(Stammdaten!$A$2=\"\",\"\",E332/B332)","v":""},{"$f":"IF(Stammdaten!$A$2=\"\",\"\",ABS(E332))","v":""},{"$f":"IF(Stammdaten!$A$2=\"\",\"\",D332-C332)","v":""},{"$f":"IF(Stammdaten!$A$2=\"\",\"\",H332/C332)","v":""},{"$f":"IF(Stammdaten!$A$2=\"\",\"\",ABS(H332))","v":""},{"$f":"IF(Stammdaten!$A$2=\"\",\"\",IF(F332>35%,1,\"\"))","v":""},{"$f":"IF(Stammdaten!$A$2=\"\",\"\",IF(I332>35%,1,\"\"))","v":""},{"$f":"IF(Stammdaten!$A$2=\"\",\"\",MONTH(A332))","v":""},{"$f":"IF(Stammdaten!$A$2=\"\",\"\",YEAR(A332))","v":""}]
[{"$f":"Analysedaten!A333","v":""},{"$f":"Berechnungsblatt!C334","v":""},{"$f":"Berechnungsblatt!X334","v":""},{"$f":"Berechnungsblatt!C336","v":""},{"$f":"IF(Stammdaten!$A$2=\"\",\"\",D333-B333)","v":""},{"$f":"IF(Stammdaten!$A$2=\"\",\"\",E333/B333)","v":""},{"$f":"IF(Stammdaten!$A$2=\"\",\"\",ABS(E333))","v":""},{"$f":"IF(Stammdaten!$A$2=\"\",\"\",D333-C333)","v":""},{"$f":"IF(Stammdaten!$A$2=\"\",\"\",H333/C333)","v":""},{"$f":"IF(Stammdaten!$A$2=\"\",\"\",ABS(H333))","v":""},{"$f":"IF(Stammdaten!$A$2=\"\",\"\",IF(F333>35%,1,\"\"))","v":""},{"$f":"IF(Stammdaten!$A$2=\"\",\"\",IF(I333>35%,1,\"\"))","v":""},{"$f":"IF(Stammdaten!$A$2=\"\",\"\",MONTH(A333))","v":""},{"$f":"IF(Stammdaten!$A$2=\"\",\"\",YEAR(A333))","v":""}]
[{"$f":"Analysedaten!A334","v":""},{"$f":"Berechnungsblatt!C335","v":""},{"$f":"Berechnungsblatt!X335","v":""},{"$f":"Berechnungsblatt!C337","v":""},{"$f":"IF(Stammdaten!$A$2=\"\",\"\",D334-B334)","v":""},{"$f":"IF(Stammdaten!$A$2=\"\",\"\",E334/B334)","v":""},{"$f":"IF(Stammdaten!$A$2=\"\",\"\",ABS(E334))","v":""},{"$f":"IF(Stammdaten!$A$2=\"\",\"\",D334-C334)","v":""},{"$f":"IF(Stammdaten!$A$2=\"\",\"\",H334/C334)","v":""},{"$f":"IF(Stammdaten!$A$2=\"\",\"\",ABS(H334))","v":""},{"$f":"IF(Stammdaten!$A$2=\"\",\"\",IF(F334>35%,1,\"\"))","v":""},{"$f":"IF(Stammdaten!$A$2=\"\",\"\",IF(I334>35%,1,\"\"))","v":""},{"$f":"IF(Stammdaten!$A$2=\"\",\"\",MONTH(A334))","v":""},{"$f":"IF(Stammdaten!$A$2=\"\",\"\",YEAR(A334))","v":""}]
[{"$f":"Analysedaten!A335","v":""},{"$f":"Berechnungsblatt!C336","v":""},{"$f":"Berechnungsblatt!X336","v":""},{"$f":"Berechnungsblatt!C338","v":""},{"$f":"IF(Stammdaten!$A$2=\"\",\"\",D335-B335)","v":""},{"$f":"IF(Stammdaten!$A$2=\"\",\"\",E335/B335)","v":""},{"$f":"IF(Stammdaten!$A$2=\"\",\"\",ABS(E335))","v":""},{"$f":"IF(Stammdaten!$A$2=\"\",\"\",D335-C335)","v":""},{"$f":"IF(Stammdaten!$A$2=\"\",\"\",H335/C335)","v":""},{"$f":"IF(Stammdaten!$A$2=\"\",\"\",ABS(H335))","v":""},{"$f":"IF(Stammdaten!$A$2=\"\",\"\",IF(F335>35%,1,\"\"))","v":""},{"$f":"IF(Stammdaten!$A$2=\"\",\"\",IF(I335>35%,1,\"\"))","v":""},{"$f":"IF(Stammdaten!$A$2=\"\",\"\",MONTH(A335))","v":""},{"$f":"IF(Stammdaten!$A$2=\"\",\"\",YEAR(A335))","v":""}]
[{"$f":"Analysedaten!A336","v":""},{"$f":"Berechnungsblatt!C337","v":""},{"$f":"Berechnungsblatt!X337","v":""},{"$f":"Berechnungsblatt!C339","v":""},{"$f":"IF(Stammdaten!$A$2=\"\",\"\",D336-B336)","v":""},{"$f":"IF(Stammdaten!$A$2=\"\",\"\",E336/B336)","v":""},{"$f":"IF(Stammdaten!$A$2=\"\",\"\",ABS(E336))","v":""},{"$f":"IF(Stammdaten!$A$2=\"\",\"\",D336-C336)","v":""},{"$f":"IF(Stammdaten!$A$2=\"\",\"\",H336/C336)","v":""},{"$f":"IF(Stammdaten!$A$2=\"\",\"\",ABS(H336))","v":""},{"$f":"IF(Stammdaten!$A$2=\"\",\"\",IF(F336>35%,1,\"\"))","v":""},{"$f":"IF(Stammdaten!$A$2=\"\",\"\",IF(I336>35%,1,\"\"))","v":""},{"$f":"IF(Stammdaten!$A$2=\"\",\"\",MONTH(A336))","v":""},{"$f":"IF(Stammdaten!$A$2=\"\",\"\",YEAR(A336))","v":""}]
[{"$f":"Analysedaten!A337","v":""},{"$f":"Berechnungsblatt!C338","v":""},{"$f":"Berechnungsblatt!X338","v":""},{"$f":"Berechnungsblatt!C340","v":""},{"$f":"IF(Stammdaten!$A$2=\"\",\"\",D337-B337)","v":""},{"$f":"IF(Stammdaten!$A$2=\"\",\"\",E337/B337)","v":""},{"$f":"IF(Stammdaten!$A$2=\"\",\"\",ABS(E337))","v":""},{"$f":"IF(Stammdaten!$A$2=\"\",\"\",D337-C337)","v":""},{"$f":"IF(Stammdaten!$A$2=\"\",\"\",H337/C337)","v":""},{"$f":"IF(Stammdaten!$A$2=\"\",\"\",ABS(H337))","v":""},{"$f":"IF(Stammdaten!$A$2=\"\",\"\",IF(F337>35%,1,\"\"))","v":""},{"$f":"IF(Stammdaten!$A$2=\"\",\"\",IF(I337>35%,1,\"\"))","v":""},{"$f":"IF(Stammdaten!$A$2=\"\",\"\",MONTH(A337))","v":""},{"$f":"IF(Stammdaten!$A$2=\"\",\"\",YEAR(A337))","v":""}]
[{"$f":"Analysedaten!A338","v":""},{"$f":"Berechnungsblatt!C339","v":""},{"$f":"Berechnungsblatt!X339","v":""},{"$f":"Berechnungsblatt!C341","v":""},{"$f":"IF(Stammdaten!$A$2=\"\",\"\",D338-B338)","v":""},{"$f":"IF(Stammdaten!$A$2=\"\",\"\",E338/B338)","v":""},{"$f":"IF(Stammdaten!$A$2=\"\",\"\",ABS(E338))","v":""},{"$f":"IF(Stammdaten!$A$2=\"\",\"\",D338-C338)","v":""},{"$f":"IF(Stammdaten!$A$2=\"\",\"\",H338/C338)","v":""},{"$f":"IF(Stammdaten!$A$2=\"\",\"\",ABS(H338))","v":""},{"$f":"IF(Stammdaten!$A$2=\"\",\"\",IF(F338>35%,1,\"\"))","v":""},{"$f":"IF(Stammdaten!$A$2=\"\",\"\",IF(I338>35%,1,\"\"))","v":""},{"$f":"IF(Stammdaten!$A$2=\"\",\"\",MONTH(A338))","v":""},{"$f":"IF(Stammdaten!$A$2=\"\",\"\",YEAR(A338))","v":""}]
[{"$f":"Analysedaten!A339","v":""},{"$f":"Berechnungsblatt!C340","v":""},{"$f":"Berechnungsblatt!X340","v":""},{"$f":"Berechnungsblatt!C342","v":""},{"$f":"IF(Stammdaten!$A$2=\"\",\"\",D339-B339)","v":""},{"$f":"IF(Stammdaten!$A$2=\"\",\"\",E339/B339)","v":""},{"$f":"IF(Stammdaten!$A$2=\"\",\"\",ABS(E339))","v":""},{"$f":"IF(Stammdaten!$A$2=\"\",\"\",D339-C339)","v":""},{"$f":"IF(Stammdaten!$A$2=\"\",\"\",H339/C339)","v":""},{"$f":"IF(Stammdaten!$A$2=\"\",\"\",ABS(H339))","v":""},{"$f":"IF(Stammdaten!$A$2=\"\",\"\",IF(F339>35%,1,\"\"))","v":""},{"$f":"IF(Stammdaten!$A$2=\"\",\"\",IF(I339>35%,1,\"\"))","v":""},{"$f":"IF(Stammdaten!$A$2=\"\",\"\",MONTH(A339))","v":""},{"$f":"IF(Stammdaten!$A$2=\"\",\"\",YEAR(A339))","v":""}]
[{"$f":"Analysedaten!A340","v":""},{"$f":"Berechnungsblatt!C341","v":""},{"$f":"Berechnungsblatt!X341","v":""},{"$f":"Berechnungsblatt!C343","v":""},{"$f":"IF(Stammdaten!$A$2=\"\",\"\",D340-B340)","v":""},{"$f":"IF(Stammdaten!$A$2=\"\",\"\",E340/B340)","v":""},{"$f":"IF(Stammdaten!$A$2=\"\",\"\",ABS(E340))","v":""},{"$f":"IF(Stammdaten!$A$2=\"\",\"\",D340-C340)","v":""},{"$f":"IF(Stammdaten!$A$2=\"\",\"\",H340/C340)","v":""},{"$f":"IF(Stammdaten!$A$2=\"\",\"\",ABS(H340))","v":""},{"$f":"IF(Stammdaten!$A$2=\"\",\"\",IF(F340>35%,1,\"\"))","v":""},{"$f":"IF(Stammdaten!$A$2=\"\",\"\",IF(I340>35%,1,\"\"))","v":""},{"$f":"IF(Stammdaten!$A$2=\"\",\"\",MONTH(A340))","v":""},{"$f":"IF(Stammdaten!$A$2=\"\",\"\",YEAR(A340))","v":""}]
[{"$f":"Analysedaten!A341","v":""},{"$f":"Berechnungsblatt!C342","v":""},{"$f":"Berechnungsblatt!X342","v":""},{"$f":"Berechnungsblatt!C344","v":""},{"$f":"IF(Stammdaten!$A$2=\"\",\"\",D341-B341)","v":""},{"$f":"IF(Stammdaten!$A$2=\"\",\"\",E341/B341)","v":""},{"$f":"IF(Stammdaten!$A$2=\"\",\"\",ABS(E341))","v":""},{"$f":"IF(Stammdaten!$A$2=\"\",\"\",D341-C341)","v":""},{"$f":"IF(Stammdaten!$A$2=\"\",\"\",H341/C341)","v":""},{"$f":"IF(Stammdaten!$A$2=\"\",\"\",ABS(H341))","v":""},{"$f":"IF(Stammdaten!$A$2=\"\",\"\",IF(F341>35%,1,\"\"))","v":""},{"$f":"IF(Stammdaten!$A$2=\"\",\"\",IF(I341>35%,1,\"\"))","v":""},{"$f":"IF(Stammdaten!$A$2=\"\",\"\",MONTH(A341))","v":""},{"$f":"IF(Stammdaten!$A$2=\"\",\"\",YEAR(A341))","v":""}]
[{"$f":"Analysedaten!A342","v":""},{"$f":"Berechnungsblatt!C343","v":""},{"$f":"Berechnungsblatt!X343","v":""},{"$f":"Berechnungsblatt!C345","v":""},{"$f":"IF(Stammdaten!$A$2=\"\",\"\",D342-B342)","v":""},{"$f":"IF(Stammdaten!$A$2=\"\",\"\",E342/B342)","v":""},{"$f":"IF(Stammdaten!$A$2=\"\",\"\",ABS(E342))","v":""},{"$f":"IF(Stammdaten!$A$2=\"\",\"\",D342-C342)","v":""},{"$f":"IF(Stammdaten!$A$2=\"\",\"\",H342/C342)","v":""},{"$f":"IF(Stammdaten!$A$2=\"\",\"\",ABS(H342))","v":""},{"$f":"IF(Stammdaten!$A$2=\"\",\"\",IF(F342>35%,1,\"\"))","v":""},{"$f":"IF(Stammdaten!$A$2=\"\",\"\",IF(I342>35%,1,\"\"))","v":""},{"$f":"IF(Stammdaten!$A$2=\"\",\"\",MONTH(A342))","v":""},{"$f":"IF(Stammdaten!$A$2=\"\",\"\",YEAR(A342))","v":""}]
[{"$f":"Analysedaten!A343","v":""},{"$f":"Berechnungsblatt!C344","v":""},{"$f":"Berechnungsblatt!X344","v":""},{"$f":"Berechnungsblatt!C346","v":""},{"$f":"IF(Stammdaten!$A$2=\"\",\"\",D343-B343)","v":""},{"$f":"IF(Stammdaten!$A$2=\"\",\"\",E343/B343)","v":""},{"$f":"IF(Stammdaten!$A$2=\"\",\"\",ABS(E343))","v":""},{"$f":"IF(Stammdaten!$A$2=\"\",\"\",D343-C343)","v":""},{"$f":"IF(Stammdaten!$A$2=\"\",\"\",H343/C343)","v":""},{"$f":"IF(Stammdaten!$A$2=\"\",\"\",ABS(H343))","v":""},{"$f":"IF(Stammdaten!$A$2=\"\",\"\",IF(F343>35%,1,\"\"))","v":""},{"$f":"IF(Stammdaten!$A$2=\"\",\"\",IF(I343>35%,1,\"\"))","v":""},{"$f":"IF(Stammdaten!$A$2=\"\",\"\",MONTH(A343))","v":""},{"$f":"IF(Stammdaten!$A$2=\"\",\"\",YEAR(A343))","v":""}]
[{"$f":"Analysedaten!A344","v":""},{"$f":"Berechnungsblatt!C345","v":""},{"$f":"Berechnungsblatt!X345","v":""},{"$f":"Berechnungsblatt!C347","v":""},{"$f":"IF(Stammdaten!$A$2=\"\",\"\",D344-B344)","v":""},{"$f":"IF(Stammdaten!$A$2=\"\",\"\",E344/B344)","v":""},{"$f":"IF(Stammdaten!$A$2=\"\",\"\",ABS(E344))","v":""},{"$f":"IF(Stammdaten!$A$2=\"\",\"\",D344-C344)","v":""},{"$f":"IF(Stammdaten!$A$2=\"\",\"\",H344/C344)","v":""},{"$f":"IF(Stammdaten!$A$2=\"\",\"\",ABS(H344))","v":""},{"$f":"IF(Stammdaten!$A$2=\"\",\"\",IF(F344>35%,1,\"\"))","v":""},{"$f":"IF(Stammdaten!$A$2=\"\",\"\",IF(I344>35%,1,\"\"))","v":""},{"$f":"IF(Stammdaten!$A$2=\"\",\"\",MONTH(A344))","v":""},{"$f":"IF(Stammdaten!$A$2=\"\",\"\",YEAR(A344))","v":""}]
[{"$f":"Analysedaten!A345","v":""},{"$f":"Berechnungsblatt!C346","v":""},{"$f":"Berechnungsblatt!X346","v":""},{"$f":"Berechnungsblatt!C348","v":""},{"$f":"IF(Stammdaten!$A$2=\"\",\"\",D345-B345)","v":""},{"$f":"IF(Stammdaten!$A$2=\"\",\"\",E345/B345)","v":""},{"$f":"IF(Stammdaten!$A$2=\"\",\"\",ABS(E345))","v":""},{"$f":"IF(Stammdaten!$A$2=\"\",\"\",D345-C345)","v":""},{"$f":"IF(Stammdaten!$A$2=\"\",\"\",H345/C345)","v":""},{"$f":"IF(Stammdaten!$A$2=\"\",\"\",ABS(H345))","v":""},{"$f":"IF(Stammdaten!$A$2=\"\",\"\",IF(F345>35%,1,\"\"))","v":""},{"$f":"IF(Stammdaten!$A$2=\"\",\"\",IF(I345>35%,1,\"\"))","v":""},{"$f":"IF(Stammdaten!$A$2=\"\",\"\",MONTH(A345))","v":""},{"$f":"IF(Stammdaten!$A$2=\"\",\"\",YEAR(A345))","v":""}]
[{"$f":"Analysedaten!A346","v":""},{"$f":"Berechnungsblatt!C347","v":""},{"$f":"Berechnungsblatt!X347","v":""},{"$f":"Berechnungsblatt!C349","v":""},{"$f":"IF(Stammdaten!$A$2=\"\",\"\",D346-B346)","v":""},{"$f":"IF(Stammdaten!$A$2=\"\",\"\",E346/B346)","v":""},{"$f":"IF(Stammdaten!$A$2=\"\",\"\",ABS(E346))","v":""},{"$f":"IF(Stammdaten!$A$2=\"\",\"\",D346-C346)","v":""},{"$f":"IF(Stammdaten!$A$2=\"\",\"\",H346/C346)","v":""},{"$f":"IF(Stammdaten!$A$2=\"\",\"\",ABS(H346))","v":""},{"$f":"IF(Stammdaten!$A$2=\"\",\"\",IF(F346>35%,1,\"\"))","v":""},{"$f":"IF(Stammdaten!$A$2=\"\",\"\",IF(I346>35%,1,\"\"))","v":""},{"$f":"IF(Stammdaten!$A$2=\"\",\"\",MONTH(A346))","v":""},{"$f":"IF(Stammdaten!$A$2=\"\",\"\",YEAR(A346))","v":""}]
[{"$f":"Analysedaten!A347","v":""},{"$f":"Berechnungsblatt!C348","v":""},{"$f":"Berechnungsblatt!X348","v":""},{"$f":"Berechnungsblatt!C350","v":""},{"$f":"IF(Stammdaten!$A$2=\"\",\"\",D347-B347)","v":""},{"$f":"IF(Stammdaten!$A$2=\"\",\"\",E347/B347)","v":""},{"$f":"IF(Stammdaten!$A$2=\"\",\"\",ABS(E347))","v":""},{"$f":"IF(Stammdaten!$A$2=\"\",\"\",D347-C347)","v":""},{"$f":"IF(Stammdaten!$A$2=\"\",\"\",H347/C347)","v":""},{"$f":"IF(Stammdaten!$A$2=\"\",\"\",ABS(H347))","v":""},{"$f":"IF(Stammdaten!$A$2=\"\",\"\",IF(F347>35%,1,\"\"))","v":""},{"$f":"IF(Stammdaten!$A$2=\"\",\"\",IF(I347>35%,1,\"\"))","v":""},{"$f":"IF(Stammdaten!$A$2=\"\",\"\",MONTH(A347))","v":""},{"$f":"IF(Stammdaten!$A$2=\"\",\"\",YEAR(A347))","v":""}]
[{"$f":"Analysedaten!A348","v":""},{"$f":"Berechnungsblatt!C349","v":""},{"$f":"Berechnungsblatt!X349","v":""},{"$f":"Berechnungsblatt!C351","v":""},{"$f":"IF(Stammdaten!$A$2=\"\",\"\",D348-B348)","v":""},{"$f":"IF(Stammdaten!$A$2=\"\",\"\",E348/B348)","v":""},{"$f":"IF(Stammdaten!$A$2=\"\",\"\",ABS(E348))","v":""},{"$f":"IF(Stammdaten!$A$2=\"\",\"\",D348-C348)","v":""},{"$f":"IF(Stammdaten!$A$2=\"\",\"\",H348/C348)","v":""},{"$f":"IF(Stammdaten!$A$2=\"\",\"\",ABS(H348))","v":""},{"$f":"IF(Stammdaten!$A$2=\"\",\"\",IF(F348>35%,1,\"\"))","v":""},{"$f":"IF(Stammdaten!$A$2=\"\",\"\",IF(I348>35%,1,\"\"))","v":""},{"$f":"IF(Stammdaten!$A$2=\"\",\"\",MONTH(A348))","v":""},{"$f":"IF(Stammdaten!$A$2=\"\",\"\",YEAR(A348))","v":""}]
[{"$f":"Analysedaten!A349","v":""},{"$f":"Berechnungsblatt!C350","v":""},{"$f":"Berechnungsblatt!X350","v":""},{"$f":"Berechnungsblatt!C352","v":""},{"$f":"IF(Stammdaten!$A$2=\"\",\"\",D349-B349)","v":""},{"$f":"IF(Stammdaten!$A$2=\"\",\"\",E349/B349)","v":""},{"$f":"IF(Stammdaten!$A$2=\"\",\"\",ABS(E349))","v":""},{"$f":"IF(Stammdaten!$A$2=\"\",\"\",D349-C349)","v":""},{"$f":"IF(Stammdaten!$A$2=\"\",\"\",H349/C349)","v":""},{"$f":"IF(Stammdaten!$A$2=\"\",\"\",ABS(H349))","v":""},{"$f":"IF(Stammdaten!$A$2=\"\",\"\",IF(F349>35%,1,\"\"))","v":""},{"$f":"IF(Stammdaten!$A$2=\"\",\"\",IF(I349>35%,1,\"\"))","v":""},{"$f":"IF(Stammdaten!$A$2=\"\",\"\",MONTH(A349))","v":""},{"$f":"IF(Stammdaten!$A$2=\"\",\"\",YEAR(A349))","v":""}]
[{"$f":"Analysedaten!A350","v":""},{"$f":"Berechnungsblatt!C351","v":""},{"$f":"Berechnungsblatt!X351","v":""},{"$f":"Berechnungsblatt!C353","v":""},{"$f":"IF(Stammdaten!$A$2=\"\",\"\",D350-B350)","v":""},{"$f":"IF(Stammdaten!$A$2=\"\",\"\",E350/B350)","v":""},{"$f":"IF(Stammdaten!$A$2=\"\",\"\",ABS(E350))","v":""},{"$f":"IF(Stammdaten!$A$2=\"\",\"\",D350-C350)","v":""},{"$f":"IF(Stammdaten!$A$2=\"\",\"\",H350/C350)","v":""},{"$f":"IF(Stammdaten!$A$2=\"\",\"\",ABS(H350))","v":""},{"$f":"IF(Stammdaten!$A$2=\"\",\"\",IF(F350>35%,1,\"\"))","v":""},{"$f":"IF(Stammdaten!$A$2=\"\",\"\",IF(I350>35%,1,\"\"))","v":""},{"$f":"IF(Stammdaten!$A$2=\"\",\"\",MONTH(A350))","v":""},{"$f":"IF(Stammdaten!$A$2=\"\",\"\",YEAR(A350))","v":""}]
[{"$f":"Analysedaten!A351","v":""},{"$f":"Berechnungsblatt!C352","v":""},{"$f":"Berechnungsblatt!X352","v":""},{"$f":"Berechnungsblatt!C354","v":""},{"$f":"IF(Stammdaten!$A$2=\"\",\"\",D351-B351)","v":""},{"$f":"IF(Stammdaten!$A$2=\"\",\"\",E351/B351)","v":""},{"$f":"IF(Stammdaten!$A$2=\"\",\"\",ABS(E351))","v":""},{"$f":"IF(Stammdaten!$A$2=\"\",\"\",D351-C351)","v":""},{"$f":"IF(Stammdaten!$A$2=\"\",\"\",H351/C351)","v":""},{"$f":"IF(Stammdaten!$A$2=\"\",\"\",ABS(H351))","v":""},{"$f":"IF(Stammdaten!$A$2=\"\",\"\",IF(F351>35%,1,\"\"))","v":""},{"$f":"IF(Stammdaten!$A$2=\"\",\"\",IF(I351>35%,1,\"\"))","v":""},{"$f":"IF(Stammdaten!$A$2=\"\",\"\",MONTH(A351))","v":""},{"$f":"IF(Stammdaten!$A$2=\"\",\"\",YEAR(A351))","v":""}]
[{"$f":"Analysedaten!A352","v":""},{"$f":"Berechnungsblatt!C353","v":""},{"$f":"Berechnungsblatt!X353","v":""},{"$f":"Berechnungsblatt!C355","v":""},{"$f":"IF(Stammdaten!$A$2=\"\",\"\",D352-B352)","v":""},{"$f":"IF(Stammdaten!$A$2=\"\",\"\",E352/B352)","v":""},{"$f":"IF(Stammdaten!$A$2=\"\",\"\",ABS(E352))","v":""},{"$f":"IF(Stammdaten!$A$2=\"\",\"\",D352-C352)","v":""},{"$f":"IF(Stammdaten!$A$2=\"\",\"\",H352/C352)","v":""},{"$f":"IF(Stammdaten!$A$2=\"\",\"\",ABS(H352))","v":""},{"$f":"IF(Stammdaten!$A$2=\"\",\"\",IF(F352>35%,1,\"\"))","v":""},{"$f":"IF(Stammdaten!$A$2=\"\",\"\",IF(I352>35%,1,\"\"))","v":""},{"$f":"IF(Stammdaten!$A$2=\"\",\"\",MONTH(A352))","v":""},{"$f":"IF(Stammdaten!$A$2=\"\",\"\",YEAR(A352))","v":""}]
[{"$f":"Analysedaten!A353","v":""},{"$f":"Berechnungsblatt!C354","v":""},{"$f":"Berechnungsblatt!X354","v":""},{"$f":"Berechnungsblatt!C356","v":""},{"$f":"IF(Stammdaten!$A$2=\"\",\"\",D353-B353)","v":""},{"$f":"IF(Stammdaten!$A$2=\"\",\"\",E353/B353)","v":""},{"$f":"IF(Stammdaten!$A$2=\"\",\"\",ABS(E353))","v":""},{"$f":"IF(Stammdaten!$A$2=\"\",\"\",D353-C353)","v":""},{"$f":"IF(Stammdaten!$A$2=\"\",\"\",H353/C353)","v":""},{"$f":"IF(Stammdaten!$A$2=\"\",\"\",ABS(H353))","v":""},{"$f":"IF(Stammdaten!$A$2=\"\",\"\",IF(F353>35%,1,\"\"))","v":""},{"$f":"IF(Stammdaten!$A$2=\"\",\"\",IF(I353>35%,1,\"\"))","v":""},{"$f":"IF(Stammdaten!$A$2=\"\",\"\",MONTH(A353))","v":""},{"$f":"IF(Stammdaten!$A$2=\"\",\"\",YEAR(A353))","v":""}]
[{"$f":"Analysedaten!A354","v":""},{"$f":"Berechnungsblatt!C355","v":""},{"$f":"Berechnungsblatt!X355","v":""},{"$f":"Berechnungsblatt!C357","v":""},{"$f":"IF(Stammdaten!$A$2=\"\",\"\",D354-B354)","v":""},{"$f":"IF(Stammdaten!$A$2=\"\",\"\",E354/B354)","v":""},{"$f":"IF(Stammdaten!$A$2=\"\",\"\",ABS(E354))","v":""},{"$f":"IF(Stammdaten!$A$2=\"\",\"\",D354-C354)","v":""},{"$f":"IF(Stammdaten!$A$2=\"\",\"\",H354/C354)","v":""},{"$f":"IF(Stammdaten!$A$2=\"\",\"\",ABS(H354))","v":""},{"$f":"IF(Stammdaten!$A$2=\"\",\"\",IF(F354>35%,1,\"\"))","v":""},{"$f":"IF(Stammdaten!$A$2=\"\",\"\",IF(I354>35%,1,\"\"))","v":""},{"$f":"IF(Stammdaten!$A$2=\"\",\"\",MONTH(A354))","v":""},{"$f":"IF(Stammdaten!$A$2=\"\",\"\",YEAR(A354))","v":""}]
[{"$f":"Analysedaten!A355","v":""},{"$f":"Berechnungsblatt!C356","v":""},{"$f":"Berechnungsblatt!X356","v":""},{"$f":"Berechnungsblatt!C358","v":""},{"$f":"IF(Stammdaten!$A$2=\"\",\"\",D355-B355)","v":""},{"$f":"IF(Stammdaten!$A$2=\"\",\"\",E355/B355)","v":""},{"$f":"IF(Stammdaten!$A$2=\"\",\"\",ABS(E355))","v":""},{"$f":"IF(Stammdaten!$A$2=\"\",\"\",D355-C355)","v":""},{"$f":"IF(Stammdaten!$A$2=\"\",\"\",H355/C355)","v":""},{"$f":"IF(Stammdaten!$A$2=\"\",\"\",ABS(H355))","v":""},{"$f":"IF(Stammdaten!$A$2=\"\",\"\",IF(F355>35%,1,\"\"))","v":""},{"$f":"IF(Stammdaten!$A$2=\"\",\"\",IF(I355>35%,1,\"\"))","v":""},{"$f":"IF(Stammdaten!$A$2=\"\",\"\",MONTH(A355))","v":""},{"$f":"IF(Stammdaten!$A$2=\"\",\"\",YEAR(A355))","v":""}]
[{"$f":"Analysedaten!A356","v":""},{"$f":"Berechnungsblatt!C357","v":""},{"$f":"Berechnungsblatt!X357","v":""},{"$f":"Berechnungsblatt!C359","v":""},{"$f":"IF(Stammdaten!$A$2=\"\",\"\",D356-B356)","v":""},{"$f":"IF(Stammdaten!$A$2=\"\",\"\",E356/B356)","v":""},{"$f":"IF(Stammdaten!$A$2=\"\",\"\",ABS(E356))","v":""},{"$f":"IF(Stammdaten!$A$2=\"\",\"\",D356-C356)","v":""},{"$f":"IF(Stammdaten!$A$2=\"\",\"\",H356/C356)","v":""},{"$f":"IF(Stammdaten!$A$2=\"\",\"\",ABS(H356))","v":""},{"$f":"IF(Stammdaten!$A$2=\"\",\"\",IF(F356>35%,1,\"\"))","v":""},{"$f":"IF(Stammdaten!$A$2=\"\",\"\",IF(I356>35%,1,\"\"))","v":""},{"$f":"IF(Stammdaten!$A$2=\"\",\"\",MONTH(A356))","v":""},{"$f":"IF(Stammdaten!$A$2=\"\",\"\",YEAR(A356))","v":""}]
[{"$f":"Analysedaten!A357","v":""},{"$f":"Berechnungsblatt!C358","v":""},{"$f":"Berechnungsblatt!X358","v":""},{"$f":"Berechnungsblatt!C360","v":""},{"$f":"IF(Stammdaten!$A$2=\"\",\"\",D357-B357)","v":""},{"$f":"IF(Stammdaten!$A$2=\"\",\"\",E357/B357)","v":""},{"$f":"IF(Stammdaten!$A$2=\"\",\"\",ABS(E357))","v":""},{"$f":"IF(Stammdaten!$A$2=\"\",\"\",D357-C357)","v":""},{"$f":"IF(Stammdaten!$A$2=\"\",\"\",H357/C357)","v":""},{"$f":"IF(Stammdaten!$A$2=\"\",\"\",ABS(H357))","v":""},{"$f":"IF(Stammdaten!$A$2=\"\",\"\",IF(F357>35%,1,\"\"))","v":""},{"$f":"IF(Stammdaten!$A$2=\"\",\"\",IF(I357>35%,1,\"\"))","v":""},{"$f":"IF(Stammdaten!$A$2=\"\",\"\",MONTH(A357))","v":""},{"$f":"IF(Stammdaten!$A$2=\"\",\"\",YEAR(A357))","v":""}]
[{"$f":"Analysedaten!A358","v":""},{"$f":"Berechnungsblatt!C359","v":""},{"$f":"Berechnungsblatt!X359","v":""},{"$f":"Berechnungsblatt!C361","v":""},{"$f":"IF(Stammdaten!$A$2=\"\",\"\",D358-B358)","v":""},{"$f":"IF(Stammdaten!$A$2=\"\",\"\",E358/B358)","v":""},{"$f":"IF(Stammdaten!$A$2=\"\",\"\",ABS(E358))","v":""},{"$f":"IF(Stammdaten!$A$2=\"\",\"\",D358-C358)","v":""},{"$f":"IF(Stammdaten!$A$2=\"\",\"\",H358/C358)","v":""},{"$f":"IF(Stammdaten!$A$2=\"\",\"\",ABS(H358))","v":""},{"$f":"IF(Stammdaten!$A$2=\"\",\"\",IF(F358>35%,1,\"\"))","v":""},{"$f":"IF(Stammdaten!$A$2=\"\",\"\",IF(I358>35%,1,\"\"))","v":""},{"$f":"IF(Stammdaten!$A$2=\"\",\"\",MONTH(A358))","v":""},{"$f":"IF(Stammdaten!$A$2=\"\",\"\",YEAR(A358))","v":""}]
[{"$f":"Analysedaten!A359","v":""},{"$f":"Berechnungsblatt!C360","v":""},{"$f":"Berechnungsblatt!X360","v":""},{"$f":"Berechnungsblatt!C362","v":""},{"$f":"IF(Stammdaten!$A$2=\"\",\"\",D359-B359)","v":""},{"$f":"IF(Stammdaten!$A$2=\"\",\"\",E359/B359)","v":""},{"$f":"IF(Stammdaten!$A$2=\"\",\"\",ABS(E359))","v":""},{"$f":"IF(Stammdaten!$A$2=\"\",\"\",D359-C359)","v":""},{"$f":"IF(Stammdaten!$A$2=\"\",\"\",H359/C359)","v":""},{"$f":"IF(Stammdaten!$A$2=\"\",\"\",ABS(H359))","v":""},{"$f":"IF(Stammdaten!$A$2=\"\",\"\",IF(F359>35%,1,\"\"))","v":""},{"$f":"IF(Stammdaten!$A$2=\"\",\"\",IF(I359>35%,1,\"\"))","v":""},{"$f":"IF(Stammdaten!$A$2=\"\",\"\",MONTH(A359))","v":""},{"$f":"IF(Stammdaten!$A$2=\"\",\"\",YEAR(A359))","v":""}]
[{"$f":"Analysedaten!A360","v":""},{"$f":"Berechnungsblatt!C361","v":""},{"$f":"Berechnungsblatt!X361","v":""},{"$f":"Berechnungsblatt!C363","v":""},{"$f":"IF(Stammdaten!$A$2=\"\",\"\",D360-B360)","v":""},{"$f":"IF(Stammdaten!$A$2=\"\",\"\",E360/B360)","v":""},{"$f":"IF(Stammdaten!$A$2=\"\",\"\",ABS(E360))","v":""},{"$f":"IF(Stammdaten!$A$2=\"\",\"\",D360-C360)","v":""},{"$f":"IF(Stammdaten!$A$2=\"\",\"\",H360/C360)","v":""},{"$f":"IF(Stammdaten!$A$2=\"\",\"\",ABS(H360))","v":""},{"$f":"IF(Stammdaten!$A$2=\"\",\"\",IF(F360>35%,1,\"\"))","v":""},{"$f":"IF(Stammdaten!$A$2=\"\",\"\",IF(I360>35%,1,\"\"))","v":""},{"$f":"IF(Stammdaten!$A$2=\"\",\"\",MONTH(A360))","v":""},{"$f":"IF(Stammdaten!$A$2=\"\",\"\",YEAR(A360))","v":""}]
[{"$f":"Analysedaten!A361","v":""},{"$f":"Berechnungsblatt!C362","v":""},{"$f":"Berechnungsblatt!X362","v":""},{"$f":"Berechnungsblatt!C364","v":""},{"$f":"IF(Stammdaten!$A$2=\"\",\"\",D361-B361)","v":""},{"$f":"IF(Stammdaten!$A$2=\"\",\"\",E361/B361)","v":""},{"$f":"IF(Stammdaten!$A$2=\"\",\"\",ABS(E361))","v":""},{"$f":"IF(Stammdaten!$A$2=\"\",\"\",D361-C361)","v":""},{"$f":"IF(Stammdaten!$A$2=\"\",\"\",H361/C361)","v":""},{"$f":"IF(Stammdaten!$A$2=\"\",\"\",ABS(H361))","v":""},{"$f":"IF(Stammdaten!$A$2=\"\",\"\",IF(F361>35%,1,\"\"))","v":""},{"$f":"IF(Stammdaten!$A$2=\"\",\"\",IF(I361>35%,1,\"\"))","v":""},{"$f":"IF(Stammdaten!$A$2=\"\",\"\",MONTH(A361))","v":""},{"$f":"IF(Stammdaten!$A$2=\"\",\"\",YEAR(A361))","v":""}]
[{"$f":"Analysedaten!A362","v":""},{"$f":"Berechnungsblatt!C363","v":""},{"$f":"Berechnungsblatt!X363","v":""},{"$f":"Berechnungsblatt!C365","v":""},{"$f":"IF(Stammdaten!$A$2=\"\",\"\",D362-B362)","v":""},{"$f":"IF(Stammdaten!$A$2=\"\",\"\",E362/B362)","v":""},{"$f":"IF(Stammdaten!$A$2=\"\",\"\",ABS(E362))","v":""},{"$f":"IF(Stammdaten!$A$2=\"\",\"\",D362-C362)","v":""},{"$f":"IF(Stammdaten!$A$2=\"\",\"\",H362/C362)","v":""},{"$f":"IF(Stammdaten!$A$2=\"\",\"\",ABS(H362))","v":""},{"$f":"IF(Stammdaten!$A$2=\"\",\"\",IF(F362>35%,1,\"\"))","v":""},{"$f":"IF(Stammdaten!$A$2=\"\",\"\",IF(I362>35%,1,\"\"))","v":""},{"$f":"IF(Stammdaten!$A$2=\"\",\"\",MONTH(A362))","v":""},{"$f":"IF(Stammdaten!$A$2=\"\",\"\",YEAR(A362))","v":""}]
[{"$f":"Analysedaten!A363","v":""},{"$f":"Berechnungsblatt!C364","v":""},{"$f":"Berechnungsblatt!X364","v":""},{"$f":"Berechnungsblatt!C366","v":""},{"$f":"IF(Stammdaten!$A$2=\"\",\"\",D363-B363)","v":""},{"$f":"IF(Stammdaten!$A$2=\"\",\"\",E363/B363)","v":""},{"$f":"IF(Stammdaten!$A$2=\"\",\"\",ABS(E363))","v":""},{"$f":"IF(Stammdaten!$A$2=\"\",\"\",D363-C363)","v":""},{"$f":"IF(Stammdaten!$A$2=\"\",\"\",H363/C363)","v":""},{"$f":"IF(Stammdaten!$A$2=\"\",\"\",ABS(H363))","v":""},{"$f":"IF(Stammdaten!$A$2=\"\",\"\",IF(F363>35%,1,\"\"))","v":""},{"$f":"IF(Stammdaten!$A$2=\"\",\"\",IF(I363>35%,1,\"\"))","v":""},{"$f":"IF(Stammdaten!$A$2=\"\",\"\",MONTH(A363))","v":""},{"$f":"IF(Stammdaten!$A$2=\"\",\"\",YEAR(A363))","v":""}]
[{"$f":"Analysedaten!A364","v":""},{"$f":"Berechnungsblatt!C365","v":""},{"$f":"Berechnungsblatt!X365","v":""},{"$f":"Berechnungsblatt!C367","v":""},{"$f":"IF(Stammdaten!$A$2=\"\",\"\",D364-B364)","v":""},{"$f":"IF(Stammdaten!$A$2=\"\",\"\",E364/B364)","v":""},{"$f":"IF(Stammdaten!$A$2=\"\",\"\",ABS(E364))","v":""},{"$f":"IF(Stammdaten!$A$2=\"\",\"\",D364-C364)","v":""},{"$f":"IF(Stammdaten!$A$2=\"\",\"\",H364/C364)","v":""},{"$f":"IF(Stammdaten!$A$2=\"\",\"\",ABS(H364))","v":""},{"$f":"IF(Stammdaten!$A$2=\"\",\"\",IF(F364>35%,1,\"\"))","v":""},{"$f":"IF(Stammdaten!$A$2=\"\",\"\",IF(I364>35%,1,\"\"))","v":""},{"$f":"IF(Stammdaten!$A$2=\"\",\"\",MONTH(A364))","v":""},{"$f":"IF(Stammdaten!$A$2=\"\",\"\",YEAR(A364))","v":""}]
[{"$f":"Analysedaten!A365","v":""},{"$f":"Berechnungsblatt!C366","v":""},{"$f":"Berechnungsblatt!X366","v":""},{"$f":"Berechnungsblatt!C368","v":""},{"$f":"IF(Stammdaten!$A$2=\"\",\"\",D365-B365)","v":""},{"$f":"IF(Stammdaten!$A$2=\"\",\"\",E365/B365)","v":""},{"$f":"IF(Stammdaten!$A$2=\"\",\"\",ABS(E365))","v":""},{"$f":"IF(Stammdaten!$A$2=\"\",\"\",D365-C365)","v":""},{"$f":"IF(Stammdaten!$A$2=\"\",\"\",H365/C365)","v":""},{"$f":"IF(Stammdaten!$A$2=\"\",\"\",ABS(H365))","v":""},{"$f":"IF(Stammdaten!$A$2=\"\",\"\",IF(F365>35%,1,\"\"))","v":""},{"$f":"IF(Stammdaten!$A$2=\"\",\"\",IF(I365>35%,1,\"\"))","v":""},{"$f":"IF(Stammdaten!$A$2=\"\",\"\",MONTH(A365))","v":""},{"$f":"IF(Stammdaten!$A$2=\"\",\"\",YEAR(A365))","v":""}]
[{"$f":"Analysedaten!A366","v":""},{"$f":"Berechnungsblatt!C367","v":""},{"$f":"Berechnungsblatt!X367","v":""},{"$f":"Berechnungsblatt!C369","v":""},{"$f":"IF(Stammdaten!$A$2=\"\",\"\",D366-B366)","v":""},{"$f":"IF(Stammdaten!$A$2=\"\",\"\",E366/B366)","v":""},{"$f":"IF(Stammdaten!$A$2=\"\",\"\",ABS(E366))","v":""},{"$f":"IF(Stammdaten!$A$2=\"\",\"\",D366-C366)","v":""},{"$f":"IF(Stammdaten!$A$2=\"\",\"\",H366/C366)","v":""},{"$f":"IF(Stammdaten!$A$2=\"\",\"\",ABS(H366))","v":""},{"$f":"IF(Stammdaten!$A$2=\"\",\"\",IF(F366>35%,1,\"\"))","v":""},{"$f":"IF(Stammdaten!$A$2=\"\",\"\",IF(I366>35%,1,\"\"))","v":""},{"$f":"IF(Stammdaten!$A$2=\"\",\"\",MONTH(A366))","v":""},{"$f":"IF(Stammdaten!$A$2=\"\",\"\",YEAR(A366))","v":""}]
[{"$f":"Analysedaten!A367","v":""},{"$f":"Berechnungsblatt!C368","v":""},{"$f":"Berechnungsblatt!X368","v":""},{"$f":"Berechnungsblatt!C370","v":""},{"$f":"IF(Stammdaten!$A$2=\"\",\"\",D367-B367)","v":""},{"$f":"IF(Stammdaten!$A$2=\"\",\"\",E367/B367)","v":""},{"$f":"IF(Stammdaten!$A$2=\"\",\"\",ABS(E367))","v":""},{"$f":"IF(Stammdaten!$A$2=\"\",\"\",D367-C367)","v":""},{"$f":"IF(Stammdaten!$A$2=\"\",\"\",H367/C367)","v":""},{"$f":"IF(Stammdaten!$A$2=\"\",\"\",ABS(H367))","v":""},{"$f":"IF(Stammdaten!$A$2=\"\",\"\",IF(F367>35%,1,\"\"))","v":""},{"$f":"IF(Stammdaten!$A$2=\"\",\"\",IF(I367>35%,1,\"\"))","v":""},{"$f":"IF(Stammdaten!$A$2=\"\",\"\",MONTH(A367))","v":""},{"$f":"IF(Stammdaten!$A$2=\"\",\"\",YEAR(A367))","v":""}]
[{"$f":"Analysedaten!A368","v":""},{"$f":"Berechnungsblatt!C369","v":""},{"$f":"Berechnungsblatt!X369","v":""},{"$f":"Berechnungsblatt!C371","v":""},{"$f":"IF(Stammdaten!$A$2=\"\",\"\",D368-B368)","v":""},{"$f":"IF(Stammdaten!$A$2=\"\",\"\",E368/B368)","v":""},{"$f":"IF(Stammdaten!$A$2=\"\",\"\",ABS(E368))","v":""},{"$f":"IF(Stammdaten!$A$2=\"\",\"\",D368-C368)","v":""},{"$f":"IF(Stammdaten!$A$2=\"\",\"\",H368/C368)","v":""},{"$f":"IF(Stammdaten!$A$2=\"\",\"\",ABS(H368))","v":""},{"$f":"IF(Stammdaten!$A$2=\"\",\"\",IF(F368>35%,1,\"\"))","v":""},{"$f":"IF(Stammdaten!$A$2=\"\",\"\",IF(I368>35%,1,\"\"))","v":""},{"$f":"IF(Stammdaten!$A$2=\"\",\"\",MONTH(A368))","v":""},{"$f":"IF(Stammdaten!$A$2=\"\",\"\",YEAR(A368))","v":""}]
[{"$f":"Analysedaten!A369","v":""},{"$f":"Berechnungsblatt!C370","v":""},{"$f":"Berechnungsblatt!X370","v":""},{"$f":"Berechnungsblatt!C372","v":""},{"$f":"IF(Stammdaten!$A$2=\"\",\"\",D369-B369)","v":""},{"$f":"IF(Stammdaten!$A$2=\"\",\"\",E369/B369)","v":""},{"$f":"IF(Stammdaten!$A$2=\"\",\"\",ABS(E369))","v":""},{"$f":"IF(Stammdaten!$A$2=\"\",\"\",D369-C369)","v":""},{"$f":"IF(Stammdaten!$A$2=\"\",\"\",H369/C369)","v":""},{"$f":"IF(Stammdaten!$A$2=\"\",\"\",ABS(H369))","v":""},{"$f":"IF(Stammdaten!$A$2=\"\",\"\",IF(F369>35%,1,\"\"))","v":""},{"$f":"IF(Stammdaten!$A$2=\"\",\"\",IF(I369>35%,1,\"\"))","v":""},{"$f":"IF(Stammdaten!$A$2=\"\",\"\",MONTH(A369))","v":""},{"$f":"IF(Stammdaten!$A$2=\"\",\"\",YEAR(A369))","v":""}]
[{"$f":"Analysedaten!A370","v":""},{"$f":"Berechnungsblatt!C371","v":""},{"$f":"Berechnungsblatt!X371","v":""},{"$f":"Berechnungsblatt!C373","v":""},{"$f":"IF(Stammdaten!$A$2=\"\",\"\",D370-B370)","v":""},{"$f":"IF(Stammdaten!$A$2=\"\",\"\",E370/B370)","v":""},{"$f":"IF(Stammdaten!$A$2=\"\",\"\",ABS(E370))","v":""},{"$f":"IF(Stammdaten!$A$2=\"\",\"\",D370-C370)","v":""},{"$f":"IF(Stammdaten!$A$2=\"\",\"\",H370/C370)","v":""},{"$f":"IF(Stammdaten!$A$2=\"\",\"\",ABS(H370))","v":""},{"$f":"IF(Stammdaten!$A$2=\"\",\"\",IF(F370>35%,1,\"\"))","v":""},{"$f":"IF(Stammdaten!$A$2=\"\",\"\",IF(I370>35%,1,\"\"))","v":""},{"$f":"IF(Stammdaten!$A$2=\"\",\"\",MONTH(A370))","v":""},{"$f":"IF(Stammdaten!$A$2=\"\",\"\",YEAR(A370))","v":""}]
[{"$f":"Analysedaten!A371","v":""},{"$f":"Berechnungsblatt!C372","v":""},{"$f":"Berechnungsblatt!X372","v":""},{"$f":"Berechnungsblatt!C374","v":""},{"$f":"IF(Stammdaten!$A$2=\"\",\"\",D371-B371)","v":""},{"$f":"IF(Stammdaten!$A$2=\"\",\"\",E371/B371)","v":""},{"$f":"IF(Stammdaten!$A$2=\"\",\"\",ABS(E371))","v":""},{"$f":"IF(Stammdaten!$A$2=\"\",\"\",D371-C371)","v":""},{"$f":"IF(Stammdaten!$A$2=\"\",\"\",H371/C371)","v":""},{"$f":"IF(Stammdaten!$A$2=\"\",\"\",ABS(H371))","v":""},{"$f":"IF(Stammdaten!$A$2=\"\",\"\",IF(F371>35%,1,\"\"))","v":""},{"$f":"IF(Stammdaten!$A$2=\"\",\"\",IF(I371>35%,1,\"\"))","v":""},{"$f":"IF(Stammdaten!$A$2=\"\",\"\",MONTH(A371))","v":""},{"$f":"IF(Stammdaten!$A$2=\"\",\"\",YEAR(A371))","v":""}]
[{"$f":"Analysedaten!A372","v":""},{"$f":"Berechnungsblatt!C373","v":""},{"$f":"Berechnungsblatt!X373","v":""},{"$f":"Berechnungsblatt!C375","v":""},{"$f":"IF(Stammdaten!$A$2=\"\",\"\",D372-B372)","v":""},{"$f":"IF(Stammdaten!$A$2=\"\",\"\",E372/B372)","v":""},{"$f":"IF(Stammdaten!$A$2=\"\",\"\",ABS(E372))","v":""},{"$f":"IF(Stammdaten!$A$2=\"\",\"\",D372-C372)","v":""},{"$f":"IF(Stammdaten!$A$2=\"\",\"\",H372/C372)","v":""},{"$f":"IF(Stammdaten!$A$2=\"\",\"\",ABS(H372))","v":""},{"$f":"IF(Stammdaten!$A$2=\"\",\"\",IF(F372>35%,1,\"\"))","v":""},{"$f":"IF(Stammdaten!$A$2=\"\",\"\",IF(I372>35%,1,\"\"))","v":""},{"$f":"IF(Stammdaten!$A$2=\"\",\"\",MONTH(A372))","v":""},{"$f":"IF(Stammdaten!$A$2=\"\",\"\",YEAR(A372))","v":""}]
[{"$f":"Analysedaten!A373","v":""},{"$f":"Berechnungsblatt!C374","v":""},{"$f":"Berechnungsblatt!X374","v":""},{"$f":"Berechnungsblatt!C376","v":""},{"$f":"IF(Stammdaten!$A$2=\"\",\"\",D373-B373)","v":""},{"$f":"IF(Stammdaten!$A$2=\"\",\"\",E373/B373)","v":""},{"$f":"IF(Stammdaten!$A$2=\"\",\"\",ABS(E373))","v":""},{"$f":"IF(Stammdaten!$A$2=\"\",\"\",D373-C373)","v":""},{"$f":"IF(Stammdaten!$A$2=\"\",\"\",H373/C373)","v":""},{"$f":"IF(Stammdaten!$A$2=\"\",\"\",ABS(H373))","v":""},{"$f":"IF(Stammdaten!$A$2=\"\",\"\",IF(F373>35%,1,\"\"))","v":""},{"$f":"IF(Stammdaten!$A$2=\"\",\"\",IF(I373>35%,1,\"\"))","v":""},{"$f":"IF(Stammdaten!$A$2=\"\",\"\",MONTH(A373))","v":""},{"$f":"IF(Stammdaten!$A$2=\"\",\"\",YEAR(A373))","v":""}]
[{"$f":"Analysedaten!A374","v":""},{"$f":"Berechnungsblatt!C375","v":""},{"$f":"Berechnungsblatt!X375","v":""},{"$f":"Berechnungsblatt!C377","v":""},{"$f":"IF(Stammdaten!$A$2=\"\",\"\",D374-B374)","v":""},{"$f":"IF(Stammdaten!$A$2=\"\",\"\",E374/B374)","v":""},{"$f":"IF(Stammdaten!$A$2=\"\",\"\",ABS(E374))","v":""},{"$f":"IF(Stammdaten!$A$2=\"\",\"\",D374-C374)","v":""},{"$f":"IF(Stammdaten!$A$2=\"\",\"\",H374/C374)","v":""},{"$f":"IF(Stammdaten!$A$2=\"\",\"\",ABS(H374))","v":""},{"$f":"IF(Stammdaten!$A$2=\"\",\"\",IF(F374>35%,1,\"\"))","v":""},{"$f":"IF(Stammdaten!$A$2=\"\",\"\",IF(I374>35%,1,\"\"))","v":""},{"$f":"IF(Stammdaten!$A$2=\"\",\"\",MONTH(A374))","v":""},{"$f":"IF(Stammdaten!$A$2=\"\",\"\",YEAR(A374))","v":""}]
[{"$f":"Analysedaten!A375","v":""},{"$f":"Berechnungsblatt!C376","v":""},{"$f":"Berechnungsblatt!X376","v":""},{"$f":"Berechnungsblatt!C378","v":""},{"$f":"IF(Stammdaten!$A$2=\"\",\"\",D375-B375)","v":""},{"$f":"IF(Stammdaten!$A$2=\"\",\"\",E375/B375)","v":""},{"$f":"IF(Stammdaten!$A$2=\"\",\"\",ABS(E375))","v":""},{"$f":"IF(Stammdaten!$A$2=\"\",\"\",D375-C375)","v":""},{"$f":"IF(Stammdaten!$A$2=\"\",\"\",H375/C375)","v":""},{"$f":"IF(Stammdaten!$A$2=\"\",\"\",ABS(H375))","v":""},{"$f":"IF(Stammdaten!$A$2=\"\",\"\",IF(F375>35%,1,\"\"))","v":""},{"$f":"IF(Stammdaten!$A$2=\"\",\"\",IF(I375>35%,1,\"\"))","v":""},{"$f":"IF(Stammdaten!$A$2=\"\",\"\",MONTH(A375))","v":""},{"$f":"IF(Stammdaten!$A$2=\"\",\"\",YEAR(A375))","v":""}]
[{"$f":"Analysedaten!A376","v":""},{"$f":"Berechnungsblatt!C377","v":""},{"$f":"Berechnungsblatt!X377","v":""},{"$f":"Berechnungsblatt!C379","v":""},{"$f":"IF(Stammdaten!$A$2=\"\",\"\",D376-B376)","v":""},{"$f":"IF(Stammdaten!$A$2=\"\",\"\",E376/B376)","v":""},{"$f":"IF(Stammdaten!$A$2=\"\",\"\",ABS(E376))","v":""},{"$f":"IF(Stammdaten!$A$2=\"\",\"\",D376-C376)","v":""},{"$f":"IF(Stammdaten!$A$2=\"\",\"\",H376/C376)","v":""},{"$f":"IF(Stammdaten!$A$2=\"\",\"\",ABS(H376))","v":""},{"$f":"IF(Stammdaten!$A$2=\"\",\"\",IF(F376>35%,1,\"\"))","v":""},{"$f":"IF(Stammdaten!$A$2=\"\",\"\",IF(I376>35%,1,\"\"))","v":""},{"$f":"IF(Stammdaten!$A$2=\"\",\"\",MONTH(A376))","v":""},{"$f":"IF(Stammdaten!$A$2=\"\",\"\",YEAR(A376))","v":""}]
[{"$f":"Analysedaten!A377","v":""},{"$f":"Berechnungsblatt!C378","v":""},{"$f":"Berechnungsblatt!X378","v":""},{"$f":"Berechnungsblatt!C380","v":""},{"$f":"IF(Stammdaten!$A$2=\"\",\"\",D377-B377)","v":""},{"$f":"IF(Stammdaten!$A$2=\"\",\"\",E377/B377)","v":""},{"$f":"IF(Stammdaten!$A$2=\"\",\"\",ABS(E377))","v":""},{"$f":"IF(Stammdaten!$A$2=\"\",\"\",D377-C377)","v":""},{"$f":"IF(Stammdaten!$A$2=\"\",\"\",H377/C377)","v":""},{"$f":"IF(Stammdaten!$A$2=\"\",\"\",ABS(H377))","v":""},{"$f":"IF(Stammdaten!$A$2=\"\",\"\",IF(F377>35%,1,\"\"))","v":""},{"$f":"IF(Stammdaten!$A$2=\"\",\"\",IF(I377>35%,1,\"\"))","v":""},{"$f":"IF(Stammdaten!$A$2=\"\",\"\",MONTH(A377))","v":""},{"$f":"IF(Stammdaten!$A$2=\"\",\"\",YEAR(A377))","v":""}]
[{"$f":"Analysedaten!A378","v":""},{"$f":"Berechnungsblatt!C379","v":""},{"$f":"Berechnungsblatt!X379","v":""},{"$f":"Berechnungsblatt!C381","v":""},{"$f":"IF(Stammdaten!$A$2=\"\",\"\",D378-B378)","v":""},{"$f":"IF(Stammdaten!$A$2=\"\",\"\",E378/B378)","v":""},{"$f":"IF(Stammdaten!$A$2=\"\",\"\",ABS(E378))","v":""},{"$f":"IF(Stammdaten!$A$2=\"\",\"\",D378-C378)","v":""},{"$f":"IF(Stammdaten!$A$2=\"\",\"\",H378/C378)","v":""},{"$f":"IF(Stammdaten!$A$2=\"\",\"\",ABS(H378))","v":""},{"$f":"IF(Stammdaten!$A$2=\"\",\"\",IF(F378>35%,1,\"\"))","v":""},{"$f":"IF(Stammdaten!$A$2=\"\",\"\",IF(I378>35%,1,\"\"))","v":""},{"$f":"IF(Stammdaten!$A$2=\"\",\"\",MONTH(A378))","v":""},{"$f":"IF(Stammdaten!$A$2=\"\",\"\",YEAR(A378))","v":""}]
[{"$f":"Analysedaten!A379","v":""},{"$f":"Berechnungsblatt!C380","v":""},{"$f":"Berechnungsblatt!X380","v":""},{"$f":"Berechnungsblatt!C382","v":""},{"$f":"IF(Stammdaten!$A$2=\"\",\"\",D379-B379)","v":""},{"$f":"IF(Stammdaten!$A$2=\"\",\"\",E379/B379)","v":""},{"$f":"IF(Stammdaten!$A$2=\"\",\"\",ABS(E379))","v":""},{"$f":"IF(Stammdaten!$A$2=\"\",\"\",D379-C379)","v":""},{"$f":"IF(Stammdaten!$A$2=\"\",\"\",H379/C379)","v":""},{"$f":"IF(Stammdaten!$A$2=\"\",\"\",ABS(H379))","v":""},{"$f":"IF(Stammdaten!$A$2=\"\",\"\",IF(F379>35%,1,\"\"))","v":""},{"$f":"IF(Stammdaten!$A$2=\"\",\"\",IF(I379>35%,1,\"\"))","v":""},{"$f":"IF(Stammdaten!$A$2=\"\",\"\",MONTH(A379))","v":""},{"$f":"IF(Stammdaten!$A$2=\"\",\"\",YEAR(A379))","v":""}]
[{"$f":"Analysedaten!A380","v":""},{"$f":"Berechnungsblatt!C381","v":""},{"$f":"Berechnungsblatt!X381","v":""},{"$f":"Berechnungsblatt!C383","v":""},{"$f":"IF(Stammdaten!$A$2=\"\",\"\",D380-B380)","v":""},{"$f":"IF(Stammdaten!$A$2=\"\",\"\",E380/B380)","v":""},{"$f":"IF(Stammdaten!$A$2=\"\",\"\",ABS(E380))","v":""},{"$f":"IF(Stammdaten!$A$2=\"\",\"\",D380-C380)","v":""},{"$f":"IF(Stammdaten!$A$2=\"\",\"\",H380/C380)","v":""},{"$f":"IF(Stammdaten!$A$2=\"\",\"\",ABS(H380))","v":""},{"$f":"IF(Stammdaten!$A$2=\"\",\"\",IF(F380>35%,1,\"\"))","v":""},{"$f":"IF(Stammdaten!$A$2=\"\",\"\",IF(I380>35%,1,\"\"))","v":""},{"$f":"IF(Stammdaten!$A$2=\"\",\"\",MONTH(A380))","v":""},{"$f":"IF(Stammdaten!$A$2=\"\",\"\",YEAR(A380))","v":""}]
[{"$f":"Analysedaten!A381","v":""},{"$f":"Berechnungsblatt!C382","v":""},{"$f":"Berechnungsblatt!X382","v":""},{"$f":"Berechnungsblatt!C384","v":""},{"$f":"IF(Stammdaten!$A$2=\"\",\"\",D381-B381)","v":""},{"$f":"IF(Stammdaten!$A$2=\"\",\"\",E381/B381)","v":""},{"$f":"IF(Stammdaten!$A$2=\"\",\"\",ABS(E381))","v":""},{"$f":"IF(Stammdaten!$A$2=\"\",\"\",D381-C381)","v":""},{"$f":"IF(Stammdaten!$A$2=\"\",\"\",H381/C381)","v":""},{"$f":"IF(Stammdaten!$A$2=\"\",\"\",ABS(H381))","v":""},{"$f":"IF(Stammdaten!$A$2=\"\",\"\",IF(F381>35%,1,\"\"))","v":""},{"$f":"IF(Stammdaten!$A$2=\"\",\"\",IF(I381>35%,1,\"\"))","v":""},{"$f":"IF(Stammdaten!$A$2=\"\",\"\",MONTH(A381))","v":""},{"$f":"IF(Stammdaten!$A$2=\"\",\"\",YEAR(A381))","v":""}]
[{"$f":"Analysedaten!A382","v":""},{"$f":"Berechnungsblatt!C383","v":""},{"$f":"Berechnungsblatt!X383","v":""},{"$f":"Berechnungsblatt!C385","v":""},{"$f":"IF(Stammdaten!$A$2=\"\",\"\",D382-B382)","v":""},{"$f":"IF(Stammdaten!$A$2=\"\",\"\",E382/B382)","v":""},{"$f":"IF(Stammdaten!$A$2=\"\",\"\",ABS(E382))","v":""},{"$f":"IF(Stammdaten!$A$2=\"\",\"\",D382-C382)","v":""},{"$f":"IF(Stammdaten!$A$2=\"\",\"\",H382/C382)","v":""},{"$f":"IF(Stammdaten!$A$2=\"\",\"\",ABS(H382))","v":""},{"$f":"IF(Stammdaten!$A$2=\"\",\"\",IF(F382>35%,1,\"\"))","v":""},{"$f":"IF(Stammdaten!$A$2=\"\",\"\",IF(I382>35%,1,\"\"))","v":""},{"$f":"IF(Stammdaten!$A$2=\"\",\"\",MONTH(A382))","v":""},{"$f":"IF(Stammdaten!$A$2=\"\",\"\",YEAR(A382))","v":""}]
[{"$f":"Analysedaten!A383","v":""},{"$f":"Berechnungsblatt!C384","v":""},{"$f":"Berechnungsblatt!X384","v":""},{"$f":"Berechnungsblatt!C386","v":""},{"$f":"IF(Stammdaten!$A$2=\"\",\"\",D383-B383)","v":""},{"$f":"IF(Stammdaten!$A$2=\"\",\"\",E383/B383)","v":""},{"$f":"IF(Stammdaten!$A$2=\"\",\"\",ABS(E383))","v":""},{"$f":"IF(Stammdaten!$A$2=\"\",\"\",D383-C383)","v":""},{"$f":"IF(Stammdaten!$A$2=\"\",\"\",H383/C383)","v":""},{"$f":"IF(Stammdaten!$A$2=\"\",\"\",ABS(H383))","v":""},{"$f":"IF(Stammdaten!$A$2=\"\",\"\",IF(F383>35%,1,\"\"))","v":""},{"$f":"IF(Stammdaten!$A$2=\"\",\"\",IF(I383>35%,1,\"\"))","v":""},{"$f":"IF(Stammdaten!$A$2=\"\",\"\",MONTH(A383))","v":""},{"$f":"IF(Stammdaten!$A$2=\"\",\"\",YEAR(A383))","v":""}]
[{"$f":"Analysedaten!A384","v":""},{"$f":"Berechnungsblatt!C385","v":""},{"$f":"Berechnungsblatt!X385","v":""},{"$f":"Berechnungsblatt!C387","v":""},{"$f":"IF(Stammdaten!$A$2=\"\",\"\",D384-B384)","v":""},{"$f":"IF(Stammdaten!$A$2=\"\",\"\",E384/B384)","v":""},{"$f":"IF(Stammdaten!$A$2=\"\",\"\",ABS(E384))","v":""},{"$f":"IF(Stammdaten!$A$2=\"\",\"\",D384-C384)","v":""},{"$f":"IF(Stammdaten!$A$2=\"\",\"\",H384/C384)","v":""},{"$f":"IF(Stammdaten!$A$2=\"\",\"\",ABS(H384))","v":""},{"$f":"IF(Stammdaten!$A$2=\"\",\"\",IF(F384>35%,1,\"\"))","v":""},{"$f":"IF(Stammdaten!$A$2=\"\",\"\",IF(I384>35%,1,\"\"))","v":""},{"$f":"IF(Stammdaten!$A$2=\"\",\"\",MONTH(A384))","v":""},{"$f":"IF(Stammdaten!$A$2=\"\",\"\",YEAR(A384))","v":""}]
[{"$f":"Analysedaten!A385","v":""},{"$f":"Berechnungsblatt!C386","v":""},{"$f":"Berechnungsblatt!X386","v":""},{"$f":"Berechnungsblatt!C388","v":""},{"$f":"IF(Stammdaten!$A$2=\"\",\"\",D385-B385)","v":""},{"$f":"IF(Stammdaten!$A$2=\"\",\"\",E385/B385)","v":""},{"$f":"IF(Stammdaten!$A$2=\"\",\"\",ABS(E385))","v":""},{"$f":"IF(Stammdaten!$A$2=\"\",\"\",D385-C385)","v":""},{"$f":"IF(Stammdaten!$A$2=\"\",\"\",H385/C385)","v":""},{"$f":"IF(Stammdaten!$A$2=\"\",\"\",ABS(H385))","v":""},{"$f":"IF(Stammdaten!$A$2=\"\",\"\",IF(F385>35%,1,\"\"))","v":""},{"$f":"IF(Stammdaten!$A$2=\"\",\"\",IF(I385>35%,1,\"\"))","v":""},{"$f":"IF(Stammdaten!$A$2=\"\",\"\",MONTH(A385))","v":""},{"$f":"IF(Stammdaten!$A$2=\"\",\"\",YEAR(A385))","v":""}]
[{"$f":"Analysedaten!A386","v":""},{"$f":"Berechnungsblatt!C387","v":""},{"$f":"Berechnungsblatt!X387","v":""},{"$f":"Berechnungsblatt!C389","v":""},{"$f":"IF(Stammdaten!$A$2=\"\",\"\",D386-B386)","v":""},{"$f":"IF(Stammdaten!$A$2=\"\",\"\",E386/B386)","v":""},{"$f":"IF(Stammdaten!$A$2=\"\",\"\",ABS(E386))","v":""},{"$f":"IF(Stammdaten!$A$2=\"\",\"\",D386-C386)","v":""},{"$f":"IF(Stammdaten!$A$2=\"\",\"\",H386/C386)","v":""},{"$f":"IF(Stammdaten!$A$2=\"\",\"\",ABS(H386))","v":""},{"$f":"IF(Stammdaten!$A$2=\"\",\"\",IF(F386>35%,1,\"\"))","v":""},{"$f":"IF(Stammdaten!$A$2=\"\",\"\",IF(I386>35%,1,\"\"))","v":""},{"$f":"IF(Stammdaten!$A$2=\"\",\"\",MONTH(A386))","v":""},{"$f":"IF(Stammdaten!$A$2=\"\",\"\",YEAR(A386))","v":""}]
[{"$f":"Analysedaten!A387","v":""},{"$f":"Berechnungsblatt!C388","v":""},{"$f":"Berechnungsblatt!X388","v":""},{"$f":"Berechnungsblatt!C390","v":""},{"$f":"IF(Stammdaten!$A$2=\"\",\"\",D387-B387)","v":""},{"$f":"IF(Stammdaten!$A$2=\"\",\"\",E387/B387)","v":""},{"$f":"IF(Stammdaten!$A$2=\"\",\"\",ABS(E387))","v":""},{"$f":"IF(Stammdaten!$A$2=\"\",\"\",D387-C387)","v":""},{"$f":"IF(Stammdaten!$A$2=\"\",\"\",H387/C387)","v":""},{"$f":"IF(Stammdaten!$A$2=\"\",\"\",ABS(H387))","v":""},{"$f":"IF(Stammdaten!$A$2=\"\",\"\",IF(F387>35%,1,\"\"))","v":""},{"$f":"IF(Stammdaten!$A$2=\"\",\"\",IF(I387>35%,1,\"\"))","v":""},{"$f":"IF(Stammdaten!$A$2=\"\",\"\",MONTH(A387))","v":""},{"$f":"IF(Stammdaten!$A$2=\"\",\"\",YEAR(A387))","v":""}]
[{"$f":"Analysedaten!A388","v":""},{"$f":"Berechnungsblatt!C389","v":""},{"$f":"Berechnungsblatt!X389","v":""},{"$f":"Berechnungsblatt!C391","v":""},{"$f":"IF(Stammdaten!$A$2=\"\",\"\",D388-B388)","v":""},{"$f":"IF(Stammdaten!$A$2=\"\",\"\",E388/B388)","v":""},{"$f":"IF(Stammdaten!$A$2=\"\",\"\",ABS(E388))","v":""},{"$f":"IF(Stammdaten!$A$2=\"\",\"\",D388-C388)","v":""},{"$f":"IF(Stammdaten!$A$2=\"\",\"\",H388/C388)","v":""},{"$f":"IF(Stammdaten!$A$2=\"\",\"\",ABS(H388))","v":""},{"$f":"IF(Stammdaten!$A$2=\"\",\"\",IF(F388>35%,1,\"\"))","v":""},{"$f":"IF(Stammdaten!$A$2=\"\",\"\",IF(I388>35%,1,\"\"))","v":""},{"$f":"IF(Stammdaten!$A$2=\"\",\"\",MONTH(A388))","v":""},{"$f":"IF(Stammdaten!$A$2=\"\",\"\",YEAR(A388))","v":""}]
[{"$f":"Analysedaten!A389","v":""},{"$f":"Berechnungsblatt!C390","v":""},{"$f":"Berechnungsblatt!X390","v":""},{"$f":"Berechnungsblatt!C392","v":""},{"$f":"IF(Stammdaten!$A$2=\"\",\"\",D389-B389)","v":""},{"$f":"IF(Stammdaten!$A$2=\"\",\"\",E389/B389)","v":""},{"$f":"IF(Stammdaten!$A$2=\"\",\"\",ABS(E389))","v":""},{"$f":"IF(Stammdaten!$A$2=\"\",\"\",D389-C389)","v":""},{"$f":"IF(Stammdaten!$A$2=\"\",\"\",H389/C389)","v":""},{"$f":"IF(Stammdaten!$A$2=\"\",\"\",ABS(H389))","v":""},{"$f":"IF(Stammdaten!$A$2=\"\",\"\",IF(F389>35%,1,\"\"))","v":""},{"$f":"IF(Stammdaten!$A$2=\"\",\"\",IF(I389>35%,1,\"\"))","v":""},{"$f":"IF(Stammdaten!$A$2=\"\",\"\",MONTH(A389))","v":""},{"$f":"IF(Stammdaten!$A$2=\"\",\"\",YEAR(A389))","v":""}]
[{"$f":"Analysedaten!A390","v":""},{"$f":"Berechnungsblatt!C391","v":""},{"$f":"Berechnungsblatt!X391","v":""},{"$f":"Berechnungsblatt!C393","v":""},{"$f":"IF(Stammdaten!$A$2=\"\",\"\",D390-B390)","v":""},{"$f":"IF(Stammdaten!$A$2=\"\",\"\",E390/B390)","v":""},{"$f":"IF(Stammdaten!$A$2=\"\",\"\",ABS(E390))","v":""},{"$f":"IF(Stammdaten!$A$2=\"\",\"\",D390-C390)","v":""},{"$f":"IF(Stammdaten!$A$2=\"\",\"\",H390/C390)","v":""},{"$f":"IF(Stammdaten!$A$2=\"\",\"\",ABS(H390))","v":""},{"$f":"IF(Stammdaten!$A$2=\"\",\"\",IF(F390>35%,1,\"\"))","v":""},{"$f":"IF(Stammdaten!$A$2=\"\",\"\",IF(I390>35%,1,\"\"))","v":""},{"$f":"IF(Stammdaten!$A$2=\"\",\"\",MONTH(A390))","v":""},{"$f":"IF(Stammdaten!$A$2=\"\",\"\",YEAR(A390))","v":""}]
[{"$f":"Analysedaten!A391","v":""},{"$f":"Berechnungsblatt!C392","v":""},{"$f":"Berechnungsblatt!X392","v":""},{"$f":"Berechnungsblatt!C394","v":""},{"$f":"IF(Stammdaten!$A$2=\"\",\"\",D391-B391)","v":""},{"$f":"IF(Stammdaten!$A$2=\"\",\"\",E391/B391)","v":""},{"$f":"IF(Stammdaten!$A$2=\"\",\"\",ABS(E391))","v":""},{"$f":"IF(Stammdaten!$A$2=\"\",\"\",D391-C391)","v":""},{"$f":"IF(Stammdaten!$A$2=\"\",\"\",H391/C391)","v":""},{"$f":"IF(Stammdaten!$A$2=\"\",\"\",ABS(H391))","v":""},{"$f":"IF(Stammdaten!$A$2=\"\",\"\",IF(F391>35%,1,\"\"))","v":""},{"$f":"IF(Stammdaten!$A$2=\"\",\"\",IF(I391>35%,1,\"\"))","v":""},{"$f":"IF(Stammdaten!$A$2=\"\",\"\",MONTH(A391))","v":""},{"$f":"IF(Stammdaten!$A$2=\"\",\"\",YEAR(A391))","v":""}]
[{"$f":"Analysedaten!A392","v":""},{"$f":"Berechnungsblatt!C393","v":""},{"$f":"Berechnungsblatt!X393","v":""},{"$f":"Berechnungsblatt!C395","v":""},{"$f":"IF(Stammdaten!$A$2=\"\",\"\",D392-B392)","v":""},{"$f":"IF(Stammdaten!$A$2=\"\",\"\",E392/B392)","v":""},{"$f":"IF(Stammdaten!$A$2=\"\",\"\",ABS(E392))","v":""},{"$f":"IF(Stammdaten!$A$2=\"\",\"\",D392-C392)","v":""},{"$f":"IF(Stammdaten!$A$2=\"\",\"\",H392/C392)","v":""},{"$f":"IF(Stammdaten!$A$2=\"\",\"\",ABS(H392))","v":""},{"$f":"IF(Stammdaten!$A$2=\"\",\"\",IF(F392>35%,1,\"\"))","v":""},{"$f":"IF(Stammdaten!$A$2=\"\",\"\",IF(I392>35%,1,\"\"))","v":""},{"$f":"IF(Stammdaten!$A$2=\"\",\"\",MONTH(A392))","v":""},{"$f":"IF(Stammdaten!$A$2=\"\",\"\",YEAR(A392))","v":""}]
[{"$f":"Analysedaten!A393","v":""},{"$f":"Berechnungsblatt!C394","v":""},{"$f":"Berechnungsblatt!X394","v":""},{"$f":"Berechnungsblatt!C396","v":""},{"$f":"IF(Stammdaten!$A$2=\"\",\"\",D393-B393)","v":""},{"$f":"IF(Stammdaten!$A$2=\"\",\"\",E393/B393)","v":""},{"$f":"IF(Stammdaten!$A$2=\"\",\"\",ABS(E393))","v":""},{"$f":"IF(Stammdaten!$A$2=\"\",\"\",D393-C393)","v":""},{"$f":"IF(Stammdaten!$A$2=\"\",\"\",H393/C393)","v":""},{"$f":"IF(Stammdaten!$A$2=\"\",\"\",ABS(H393))","v":""},{"$f":"IF(Stammdaten!$A$2=\"\",\"\",IF(F393>35%,1,\"\"))","v":""},{"$f":"IF(Stammdaten!$A$2=\"\",\"\",IF(I393>35%,1,\"\"))","v":""},{"$f":"IF(Stammdaten!$A$2=\"\",\"\",MONTH(A393))","v":""},{"$f":"IF(Stammdaten!$A$2=\"\",\"\",YEAR(A393))","v":""}]
[{"$f":"Analysedaten!A394","v":""},{"$f":"Berechnungsblatt!C395","v":""},{"$f":"Berechnungsblatt!X395","v":""},{"$f":"Berechnungsblatt!C397","v":""},{"$f":"IF(Stammdaten!$A$2=\"\",\"\",D394-B394)","v":""},{"$f":"IF(Stammdaten!$A$2=\"\",\"\",E394/B394)","v":""},{"$f":"IF(Stammdaten!$A$2=\"\",\"\",ABS(E394))","v":""},{"$f":"IF(Stammdaten!$A$2=\"\",\"\",D394-C394)","v":""},{"$f":"IF(Stammdaten!$A$2=\"\",\"\",H394/C394)","v":""},{"$f":"IF(Stammdaten!$A$2=\"\",\"\",ABS(H394))","v":""},{"$f":"IF(Stammdaten!$A$2=\"\",\"\",IF(F394>35%,1,\"\"))","v":""},{"$f":"IF(Stammdaten!$A$2=\"\",\"\",IF(I394>35%,1,\"\"))","v":""},{"$f":"IF(Stammdaten!$A$2=\"\",\"\",MONTH(A394))","v":""},{"$f":"IF(Stammdaten!$A$2=\"\",\"\",YEAR(A394))","v":""}]
[{"$f":"Analysedaten!A395","v":""},{"$f":"Berechnungsblatt!C396","v":""},{"$f":"Berechnungsblatt!X396","v":""},{"$f":"Berechnungsblatt!C398","v":""},{"$f":"IF(Stammdaten!$A$2=\"\",\"\",D395-B395)","v":""},{"$f":"IF(Stammdaten!$A$2=\"\",\"\",E395/B395)","v":""},{"$f":"IF(Stammdaten!$A$2=\"\",\"\",ABS(E395))","v":""},{"$f":"IF(Stammdaten!$A$2=\"\",\"\",D395-C395)","v":""},{"$f":"IF(Stammdaten!$A$2=\"\",\"\",H395/C395)","v":""},{"$f":"IF(Stammdaten!$A$2=\"\",\"\",ABS(H395))","v":""},{"$f":"IF(Stammdaten!$A$2=\"\",\"\",IF(F395>35%,1,\"\"))","v":""},{"$f":"IF(Stammdaten!$A$2=\"\",\"\",IF(I395>35%,1,\"\"))","v":""},{"$f":"IF(Stammdaten!$A$2=\"\",\"\",MONTH(A395))","v":""},{"$f":"IF(Stammdaten!$A$2=\"\",\"\",YEAR(A395))","v":""}]
[{"$f":"Analysedaten!A396","v":""},{"$f":"Berechnungsblatt!C397","v":""},{"$f":"Berechnungsblatt!X397","v":""},{"$f":"Berechnungsblatt!C399","v":""},{"$f":"IF(Stammdaten!$A$2=\"\",\"\",D396-B396)","v":""},{"$f":"IF(Stammdaten!$A$2=\"\",\"\",E396/B396)","v":""},{"$f":"IF(Stammdaten!$A$2=\"\",\"\",ABS(E396))","v":""},{"$f":"IF(Stammdaten!$A$2=\"\",\"\",D396-C396)","v":""},{"$f":"IF(Stammdaten!$A$2=\"\",\"\",H396/C396)","v":""},{"$f":"IF(Stammdaten!$A$2=\"\",\"\",ABS(H396))","v":""},{"$f":"IF(Stammdaten!$A$2=\"\",\"\",IF(F396>35%,1,\"\"))","v":""},{"$f":"IF(Stammdaten!$A$2=\"\",\"\",IF(I396>35%,1,\"\"))","v":""},{"$f":"IF(Stammdaten!$A$2=\"\",\"\",MONTH(A396))","v":""},{"$f":"IF(Stammdaten!$A$2=\"\",\"\",YEAR(A396))","v":""}]
[{"$f":"Analysedaten!A397","v":""},{"$f":"Berechnungsblatt!C398","v":""},{"$f":"Berechnungsblatt!X398","v":""},{"$f":"Berechnungsblatt!C400","v":""},{"$f":"IF(Stammdaten!$A$2=\"\",\"\",D397-B397)","v":""},{"$f":"IF(Stammdaten!$A$2=\"\",\"\",E397/B397)","v":""},{"$f":"IF(Stammdaten!$A$2=\"\",\"\",ABS(E397))","v":""},{"$f":"IF(Stammdaten!$A$2=\"\",\"\",D397-C397)","v":""},{"$f":"IF(Stammdaten!$A$2=\"\",\"\",H397/C397)","v":""},{"$f":"IF(Stammdaten!$A$2=\"\",\"\",ABS(H397))","v":""},{"$f":"IF(Stammdaten!$A$2=\"\",\"\",IF(F397>35%,1,\"\"))","v":""},{"$f":"IF(Stammdaten!$A$2=\"\",\"\",IF(I397>35%,1,\"\"))","v":""},{"$f":"IF(Stammdaten!$A$2=\"\",\"\",MONTH(A397))","v":""},{"$f":"IF(Stammdaten!$A$2=\"\",\"\",YEAR(A397))","v":""}]
[{"$f":"Analysedaten!A398","v":""},{"$f":"Berechnungsblatt!C399","v":""},{"$f":"Berechnungsblatt!X399","v":""},{"$f":"Berechnungsblatt!C401","v":""},{"$f":"IF(Stammdaten!$A$2=\"\",\"\",D398-B398)","v":""},{"$f":"IF(Stammdaten!$A$2=\"\",\"\",E398/B398)","v":""},{"$f":"IF(Stammdaten!$A$2=\"\",\"\",ABS(E398))","v":""},{"$f":"IF(Stammdaten!$A$2=\"\",\"\",D398-C398)","v":""},{"$f":"IF(Stammdaten!$A$2=\"\",\"\",H398/C398)","v":""},{"$f":"IF(Stammdaten!$A$2=\"\",\"\",ABS(H398))","v":""},{"$f":"IF(Stammdaten!$A$2=\"\",\"\",IF(F398>35%,1,\"\"))","v":""},{"$f":"IF(Stammdaten!$A$2=\"\",\"\",IF(I398>35%,1,\"\"))","v":""},{"$f":"IF(Stammdaten!$A$2=\"\",\"\",MONTH(A398))","v":""},{"$f":"IF(Stammdaten!$A$2=\"\",\"\",YEAR(A398))","v":""}]
[{"$f":"Analysedaten!A399","v":""},{"$f":"Berechnungsblatt!C400","v":""},{"$f":"Berechnungsblatt!X400","v":""},{"$f":"Berechnungsblatt!C402","v":""},{"$f":"IF(Stammdaten!$A$2=\"\",\"\",D399-B399)","v":""},{"$f":"IF(Stammdaten!$A$2=\"\",\"\",E399/B399)","v":""},{"$f":"IF(Stammdaten!$A$2=\"\",\"\",ABS(E399))","v":""},{"$f":"IF(Stammdaten!$A$2=\"\",\"\",D399-C399)","v":""},{"$f":"IF(Stammdaten!$A$2=\"\",\"\",H399/C399)","v":""},{"$f":"IF(Stammdaten!$A$2=\"\",\"\",ABS(H399))","v":""},{"$f":"IF(Stammdaten!$A$2=\"\",\"\",IF(F399>35%,1,\"\"))","v":""},{"$f":"IF(Stammdaten!$A$2=\"\",\"\",IF(I399>35%,1,\"\"))","v":""},{"$f":"IF(Stammdaten!$A$2=\"\",\"\",MONTH(A399))","v":""},{"$f":"IF(Stammdaten!$A$2=\"\",\"\",YEAR(A399))","v":""}]
[{"$f":"Analysedaten!A400","v":""},{"$f":"Berechnungsblatt!C401","v":""},{"$f":"Berechnungsblatt!X401","v":""},{"$f":"Berechnungsblatt!C403","v":""},{"$f":"IF(Stammdaten!$A$2=\"\",\"\",D400-B400)","v":""},{"$f":"IF(Stammdaten!$A$2=\"\",\"\",E400/B400)","v":""},{"$f":"IF(Stammdaten!$A$2=\"\",\"\",ABS(E400))","v":""},{"$f":"IF(Stammdaten!$A$2=\"\",\"\",D400-C400)","v":""},{"$f":"IF(Stammdaten!$A$2=\"\",\"\",H400/C400)","v":""},{"$f":"IF(Stammdaten!$A$2=\"\",\"\",ABS(H400))","v":""},{"$f":"IF(Stammdaten!$A$2=\"\",\"\",IF(F400>35%,1,\"\"))","v":""},{"$f":"IF(Stammdaten!$A$2=\"\",\"\",IF(I400>35%,1,\"\"))","v":""},{"$f":"IF(Stammdaten!$A$2=\"\",\"\",MONTH(A400))","v":""},{"$f":"IF(Stammdaten!$A$2=\"\",\"\",YEAR(A400))","v":""}]
[{"$f":"Analysedaten!A401","v":""},{"$f":"Berechnungsblatt!C402","v":""},{"$f":"Berechnungsblatt!X402","v":""},{"$f":"Berechnungsblatt!C404","v":""},{"$f":"IF(Stammdaten!$A$2=\"\",\"\",D401-B401)","v":""},{"$f":"IF(Stammdaten!$A$2=\"\",\"\",E401/B401)","v":""},{"$f":"IF(Stammdaten!$A$2=\"\",\"\",ABS(E401))","v":""},{"$f":"IF(Stammdaten!$A$2=\"\",\"\",D401-C401)","v":""},{"$f":"IF(Stammdaten!$A$2=\"\",\"\",H401/C401)","v":""},{"$f":"IF(Stammdaten!$A$2=\"\",\"\",ABS(H401))","v":""},{"$f":"IF(Stammdaten!$A$2=\"\",\"\",IF(F401>35%,1,\"\"))","v":""},{"$f":"IF(Stammdaten!$A$2=\"\",\"\",IF(I401>35%,1,\"\"))","v":""},{"$f":"IF(Stammdaten!$A$2=\"\",\"\",MONTH(A401))","v":""},{"$f":"IF(Stammdaten!$A$2=\"\",\"\",YEAR(A401))","v":""}]
[{"$f":"Analysedaten!A402","v":""},{"$f":"Berechnungsblatt!C403","v":""},{"$f":"Berechnungsblatt!X403","v":""},{"$f":"Berechnungsblatt!C405","v":""},{"$f":"IF(Stammdaten!$A$2=\"\",\"\",D402-B402)","v":""},{"$f":"IF(Stammdaten!$A$2=\"\",\"\",E402/B402)","v":""},{"$f":"IF(Stammdaten!$A$2=\"\",\"\",ABS(E402))","v":""},{"$f":"IF(Stammdaten!$A$2=\"\",\"\",D402-C402)","v":""},{"$f":"IF(Stammdaten!$A$2=\"\",\"\",H402/C402)","v":""},{"$f":"IF(Stammdaten!$A$2=\"\",\"\",ABS(H402))","v":""},{"$f":"IF(Stammdaten!$A$2=\"\",\"\",IF(F402>35%,1,\"\"))","v":""},{"$f":"IF(Stammdaten!$A$2=\"\",\"\",IF(I402>35%,1,\"\"))","v":""},{"$f":"IF(Stammdaten!$A$2=\"\",\"\",MONTH(A402))","v":""},{"$f":"IF(Stammdaten!$A$2=\"\",\"\",YEAR(A402))","v":""}]
[{"$f":"Analysedaten!A403","v":""},{"$f":"Berechnungsblatt!C404","v":""},{"$f":"Berechnungsblatt!X404","v":""},{"$f":"Berechnungsblatt!C406","v":""},{"$f":"IF(Stammdaten!$A$2=\"\",\"\",D403-B403)","v":""},{"$f":"IF(Stammdaten!$A$2=\"\",\"\",E403/B403)","v":""},{"$f":"IF(Stammdaten!$A$2=\"\",\"\",ABS(E403))","v":""},{"$f":"IF(Stammdaten!$A$2=\"\",\"\",D403-C403)","v":""},{"$f":"IF(Stammdaten!$A$2=\"\",\"\",H403/C403)","v":""},{"$f":"IF(Stammdaten!$A$2=\"\",\"\",ABS(H403))","v":""},{"$f":"IF(Stammdaten!$A$2=\"\",\"\",IF(F403>35%,1,\"\"))","v":""},{"$f":"IF(Stammdaten!$A$2=\"\",\"\",IF(I403>35%,1,\"\"))","v":""},{"$f":"IF(Stammdaten!$A$2=\"\",\"\",MONTH(A403))","v":""},{"$f":"IF(Stammdaten!$A$2=\"\",\"\",YEAR(A403))","v":""}]
[{"$f":"Analysedaten!A404","v":""},{"$f":"Berechnungsblatt!C405","v":""},{"$f":"Berechnungsblatt!X405","v":""},{"$f":"Berechnungsblatt!C407","v":""},{"$f":"IF(Stammdaten!$A$2=\"\",\"\",D404-B404)","v":""},{"$f":"IF(Stammdaten!$A$2=\"\",\"\",E404/B404)","v":""},{"$f":"IF(Stammdaten!$A$2=\"\",\"\",ABS(E404))","v":""},{"$f":"IF(Stammdaten!$A$2=\"\",\"\",D404-C404)","v":""},{"$f":"IF(Stammdaten!$A$2=\"\",\"\",H404/C404)","v":""},{"$f":"IF(Stammdaten!$A$2=\"\",\"\",ABS(H404))","v":""},{"$f":"IF(Stammdaten!$A$2=\"\",\"\",IF(F404>35%,1,\"\"))","v":""},{"$f":"IF(Stammdaten!$A$2=\"\",\"\",IF(I404>35%,1,\"\"))","v":""},{"$f":"IF(Stammdaten!$A$2=\"\",\"\",MONTH(A404))","v":""},{"$f":"IF(Stammdaten!$A$2=\"\",\"\",YEAR(A404))","v":""}]
[{"$f":"Analysedaten!A405","v":""},{"$f":"Berechnungsblatt!C406","v":""},{"$f":"Berechnungsblatt!X406","v":""},{"$f":"Berechnungsblatt!C408","v":""},{"$f":"IF(Stammdaten!$A$2=\"\",\"\",D405-B405)","v":""},{"$f":"IF(Stammdaten!$A$2=\"\",\"\",E405/B405)","v":""},{"$f":"IF(Stammdaten!$A$2=\"\",\"\",ABS(E405))","v":""},{"$f":"IF(Stammdaten!$A$2=\"\",\"\",D405-C405)","v":""},{"$f":"IF(Stammdaten!$A$2=\"\",\"\",H405/C405)","v":""},{"$f":"IF(Stammdaten!$A$2=\"\",\"\",ABS(H405))","v":""},{"$f":"IF(Stammdaten!$A$2=\"\",\"\",IF(F405>35%,1,\"\"))","v":""},{"$f":"IF(Stammdaten!$A$2=\"\",\"\",IF(I405>35%,1,\"\"))","v":""},{"$f":"IF(Stammdaten!$A$2=\"\",\"\",MONTH(A405))","v":""},{"$f":"IF(Stammdaten!$A$2=\"\",\"\",YEAR(A405))","v":""}]
[{"$f":"Analysedaten!A406","v":""},{"$f":"Berechnungsblatt!C407","v":""},{"$f":"Berechnungsblatt!X407","v":""},{"$f":"Berechnungsblatt!C409","v":""},{"$f":"IF(Stammdaten!$A$2=\"\",\"\",D406-B406)","v":""},{"$f":"IF(Stammdaten!$A$2=\"\",\"\",E406/B406)","v":""},{"$f":"IF(Stammdaten!$A$2=\"\",\"\",ABS(E406))","v":""},{"$f":"IF(Stammdaten!$A$2=\"\",\"\",D406-C406)","v":""},{"$f":"IF(Stammdaten!$A$2=\"\",\"\",H406/C406)","v":""},{"$f":"IF(Stammdaten!$A$2=\"\",\"\",ABS(H406))","v":""},{"$f":"IF(Stammdaten!$A$2=\"\",\"\",IF(F406>35%,1,\"\"))","v":""},{"$f":"IF(Stammdaten!$A$2=\"\",\"\",IF(I406>35%,1,\"\"))","v":""},{"$f":"IF(Stammdaten!$A$2=\"\",\"\",MONTH(A406))","v":""},{"$f":"IF(Stammdaten!$A$2=\"\",\"\",YEAR(A406))","v":""}]
[{"$f":"Analysedaten!A407","v":""},{"$f":"Berechnungsblatt!C408","v":""},{"$f":"Berechnungsblatt!X408","v":""},{"$f":"Berechnungsblatt!C410","v":""},{"$f":"IF(Stammdaten!$A$2=\"\",\"\",D407-B407)","v":""},{"$f":"IF(Stammdaten!$A$2=\"\",\"\",E407/B407)","v":""},{"$f":"IF(Stammdaten!$A$2=\"\",\"\",ABS(E407))","v":""},{"$f":"IF(Stammdaten!$A$2=\"\",\"\",D407-C407)","v":""},{"$f":"IF(Stammdaten!$A$2=\"\",\"\",H407/C407)","v":""},{"$f":"IF(Stammdaten!$A$2=\"\",\"\",ABS(H407))","v":""},{"$f":"IF(Stammdaten!$A$2=\"\",\"\",IF(F407>35%,1,\"\"))","v":""},{"$f":"IF(Stammdaten!$A$2=\"\",\"\",IF(I407>35%,1,\"\"))","v":""},{"$f":"IF(Stammdaten!$A$2=\"\",\"\",MONTH(A407))","v":""},{"$f":"IF(Stammdaten!$A$2=\"\",\"\",YEAR(A407))","v":""}]
[{"$f":"Analysedaten!A408","v":""},{"$f":"Berechnungsblatt!C409","v":""},{"$f":"Berechnungsblatt!X409","v":""},{"$f":"Berechnungsblatt!C411","v":""},{"$f":"IF(Stammdaten!$A$2=\"\",\"\",D408-B408)","v":""},{"$f":"IF(Stammdaten!$A$2=\"\",\"\",E408/B408)","v":""},{"$f":"IF(Stammdaten!$A$2=\"\",\"\",ABS(E408))","v":""},{"$f":"IF(Stammdaten!$A$2=\"\",\"\",D408-C408)","v":""},{"$f":"IF(Stammdaten!$A$2=\"\",\"\",H408/C408)","v":""},{"$f":"IF(Stammdaten!$A$2=\"\",\"\",ABS(H408))","v":""},{"$f":"IF(Stammdaten!$A$2=\"\",\"\",IF(F408>35%,1,\"\"))","v":""},{"$f":"IF(Stammdaten!$A$2=\"\",\"\",IF(I408>35%,1,\"\"))","v":""},{"$f":"IF(Stammdaten!$A$2=\"\",\"\",MONTH(A408))","v":""},{"$f":"IF(Stammdaten!$A$2=\"\",\"\",YEAR(A408))","v":""}]
[{"$f":"Analysedaten!A409","v":""},{"$f":"Berechnungsblatt!C410","v":""},{"$f":"Berechnungsblatt!X410","v":""},{"$f":"Berechnungsblatt!C412","v":""},{"$f":"IF(Stammdaten!$A$2=\"\",\"\",D409-B409)","v":""},{"$f":"IF(Stammdaten!$A$2=\"\",\"\",E409/B409)","v":""},{"$f":"IF(Stammdaten!$A$2=\"\",\"\",ABS(E409))","v":""},{"$f":"IF(Stammdaten!$A$2=\"\",\"\",D409-C409)","v":""},{"$f":"IF(Stammdaten!$A$2=\"\",\"\",H409/C409)","v":""},{"$f":"IF(Stammdaten!$A$2=\"\",\"\",ABS(H409))","v":""},{"$f":"IF(Stammdaten!$A$2=\"\",\"\",IF(F409>35%,1,\"\"))","v":""},{"$f":"IF(Stammdaten!$A$2=\"\",\"\",IF(I409>35%,1,\"\"))","v":""},{"$f":"IF(Stammdaten!$A$2=\"\",\"\",MONTH(A409))","v":""},{"$f":"IF(Stammdaten!$A$2=\"\",\"\",YEAR(A409))","v":""}]
[{"$f":"Analysedaten!A410","v":""},{"$f":"Berechnungsblatt!C411","v":""},{"$f":"Berechnungsblatt!X411","v":""},{"$f":"Berechnungsblatt!C413","v":""},{"$f":"IF(Stammdaten!$A$2=\"\",\"\",D410-B410)","v":""},{"$f":"IF(Stammdaten!$A$2=\"\",\"\",E410/B410)","v":""},{"$f":"IF(Stammdaten!$A$2=\"\",\"\",ABS(E410))","v":""},{"$f":"IF(Stammdaten!$A$2=\"\",\"\",D410-C410)","v":""},{"$f":"IF(Stammdaten!$A$2=\"\",\"\",H410/C410)","v":""},{"$f":"IF(Stammdaten!$A$2=\"\",\"\",ABS(H410))","v":""},{"$f":"IF(Stammdaten!$A$2=\"\",\"\",IF(F410>35%,1,\"\"))","v":""},{"$f":"IF(Stammdaten!$A$2=\"\",\"\",IF(I410>35%,1,\"\"))","v":""},{"$f":"IF(Stammdaten!$A$2=\"\",\"\",MONTH(A410))","v":""},{"$f":"IF(Stammdaten!$A$2=\"\",\"\",YEAR(A410))","v":""}]
[{"$f":"Analysedaten!A411","v":""},{"$f":"Berechnungsblatt!C412","v":""},{"$f":"Berechnungsblatt!X412","v":""},{"$f":"Berechnungsblatt!C414","v":""},{"$f":"IF(Stammdaten!$A$2=\"\",\"\",D411-B411)","v":""},{"$f":"IF(Stammdaten!$A$2=\"\",\"\",E411/B411)","v":""},{"$f":"IF(Stammdaten!$A$2=\"\",\"\",ABS(E411))","v":""},{"$f":"IF(Stammdaten!$A$2=\"\",\"\",D411-C411)","v":""},{"$f":"IF(Stammdaten!$A$2=\"\",\"\",H411/C411)","v":""},{"$f":"IF(Stammdaten!$A$2=\"\",\"\",ABS(H411))","v":""},{"$f":"IF(Stammdaten!$A$2=\"\",\"\",IF(F411>35%,1,\"\"))","v":""},{"$f":"IF(Stammdaten!$A$2=\"\",\"\",IF(I411>35%,1,\"\"))","v":""},{"$f":"IF(Stammdaten!$A$2=\"\",\"\",MONTH(A411))","v":""},{"$f":"IF(Stammdaten!$A$2=\"\",\"\",YEAR(A411))","v":""}]
[{"$f":"Analysedaten!A412","v":""},{"$f":"Berechnungsblatt!C413","v":""},{"$f":"Berechnungsblatt!X413","v":""},{"$f":"Berechnungsblatt!C415","v":""},{"$f":"IF(Stammdaten!$A$2=\"\",\"\",D412-B412)","v":""},{"$f":"IF(Stammdaten!$A$2=\"\",\"\",E412/B412)","v":""},{"$f":"IF(Stammdaten!$A$2=\"\",\"\",ABS(E412))","v":""},{"$f":"IF(Stammdaten!$A$2=\"\",\"\",D412-C412)","v":""},{"$f":"IF(Stammdaten!$A$2=\"\",\"\",H412/C412)","v":""},{"$f":"IF(Stammdaten!$A$2=\"\",\"\",ABS(H412))","v":""},{"$f":"IF(Stammdaten!$A$2=\"\",\"\",IF(F412>35%,1,\"\"))","v":""},{"$f":"IF(Stammdaten!$A$2=\"\",\"\",IF(I412>35%,1,\"\"))","v":""},{"$f":"IF(Stammdaten!$A$2=\"\",\"\",MONTH(A412))","v":""},{"$f":"IF(Stammdaten!$A$2=\"\",\"\",YEAR(A412))","v":""}]
[{"$f":"Analysedaten!A413","v":""},{"$f":"Berechnungsblatt!C414","v":""},{"$f":"Berechnungsblatt!X414","v":""},{"$f":"Berechnungsblatt!C416","v":""},{"$f":"IF(Stammdaten!$A$2=\"\",\"\",D413-B413)","v":""},{"$f":"IF(Stammdaten!$A$2=\"\",\"\",E413/B413)","v":""},{"$f":"IF(Stammdaten!$A$2=\"\",\"\",ABS(E413))","v":""},{"$f":"IF(Stammdaten!$A$2=\"\",\"\",D413-C413)","v":""},{"$f":"IF(Stammdaten!$A$2=\"\",\"\",H413/C413)","v":""},{"$f":"IF(Stammdaten!$A$2=\"\",\"\",ABS(H413))","v":""},{"$f":"IF(Stammdaten!$A$2=\"\",\"\",IF(F413>35%,1,\"\"))","v":""},{"$f":"IF(Stammdaten!$A$2=\"\",\"\",IF(I413>35%,1,\"\"))","v":""},{"$f":"IF(Stammdaten!$A$2=\"\",\"\",MONTH(A413))","v":""},{"$f":"IF(Stammdaten!$A$2=\"\",\"\",YEAR(A413))","v":""}]
[{"$f":"Analysedaten!A414","v":""},{"$f":"Berechnungsblatt!C415","v":""},{"$f":"Berechnungsblatt!X415","v":""},{"$f":"Berechnungsblatt!C417","v":""},{"$f":"IF(Stammdaten!$A$2=\"\",\"\",D414-B414)","v":""},{"$f":"IF(Stammdaten!$A$2=\"\",\"\",E414/B414)","v":""},{"$f":"IF(Stammdaten!$A$2=\"\",\"\",ABS(E414))","v":""},{"$f":"IF(Stammdaten!$A$2=\"\",\"\",D414-C414)","v":""},{"$f":"IF(Stammdaten!$A$2=\"\",\"\",H414/C414)","v":""},{"$f":"IF(Stammdaten!$A$2=\"\",\"\",ABS(H414))","v":""},{"$f":"IF(Stammdaten!$A$2=\"\",\"\",IF(F414>35%,1,\"\"))","v":""},{"$f":"IF(Stammdaten!$A$2=\"\",\"\",IF(I414>35%,1,\"\"))","v":""},{"$f":"IF(Stammdaten!$A$2=\"\",\"\",MONTH(A414))","v":""},{"$f":"IF(Stammdaten!$A$2=\"\",\"\",YEAR(A414))","v":""}]
[{"$f":"Analysedaten!A415","v":""},{"$f":"Berechnungsblatt!C416","v":""},{"$f":"Berechnungsblatt!X416","v":""},{"$f":"Berechnungsblatt!C418","v":""},{"$f":"IF(Stammdaten!$A$2=\"\",\"\",D415-B415)","v":""},{"$f":"IF(Stammdaten!$A$2=\"\",\"\",E415/B415)","v":""},{"$f":"IF(Stammdaten!$A$2=\"\",\"\",ABS(E415))","v":""},{"$f":"IF(Stammdaten!$A$2=\"\",\"\",D415-C415)","v":""},{"$f":"IF(Stammdaten!$A$2=\"\",\"\",H415/C415)","v":""},{"$f":"IF(Stammdaten!$A$2=\"\",\"\",ABS(H415))","v":""},{"$f":"IF(Stammdaten!$A$2=\"\",\"\",IF(F415>35%,1,\"\"))","v":""},{"$f":"IF(Stammdaten!$A$2=\"\",\"\",IF(I415>35%,1,\"\"))","v":""},{"$f":"IF(Stammdaten!$A$2=\"\",\"\",MONTH(A415))","v":""},{"$f":"IF(Stammdaten!$A$2=\"\",\"\",YEAR(A415))","v":""}]
[{"$f":"Analysedaten!A416","v":""},{"$f":"Berechnungsblatt!C417","v":""},{"$f":"Berechnungsblatt!X417","v":""},{"$f":"Berechnungsblatt!C419","v":""},{"$f":"IF(Stammdaten!$A$2=\"\",\"\",D416-B416)","v":""},{"$f":"IF(Stammdaten!$A$2=\"\",\"\",E416/B416)","v":""},{"$f":"IF(Stammdaten!$A$2=\"\",\"\",ABS(E416))","v":""},{"$f":"IF(Stammdaten!$A$2=\"\",\"\",D416-C416)","v":""},{"$f":"IF(Stammdaten!$A$2=\"\",\"\",H416/C416)","v":""},{"$f":"IF(Stammdaten!$A$2=\"\",\"\",ABS(H416))","v":""},{"$f":"IF(Stammdaten!$A$2=\"\",\"\",IF(F416>35%,1,\"\"))","v":""},{"$f":"IF(Stammdaten!$A$2=\"\",\"\",IF(I416>35%,1,\"\"))","v":""},{"$f":"IF(Stammdaten!$A$2=\"\",\"\",MONTH(A416))","v":""},{"$f":"IF(Stammdaten!$A$2=\"\",\"\",YEAR(A416))","v":""}]
[{"$f":"Analysedaten!A417","v":""},{"$f":"Berechnungsblatt!C418","v":""},{"$f":"Berechnungsblatt!X418","v":""},{"$f":"Berechnungsblatt!C420","v":""},{"$f":"IF(Stammdaten!$A$2=\"\",\"\",D417-B417)","v":""},{"$f":"IF(Stammdaten!$A$2=\"\",\"\",E417/B417)","v":""},{"$f":"IF(Stammdaten!$A$2=\"\",\"\",ABS(E417))","v":""},{"$f":"IF(Stammdaten!$A$2=\"\",\"\",D417-C417)","v":""},{"$f":"IF(Stammdaten!$A$2=\"\",\"\",H417/C417)","v":""},{"$f":"IF(Stammdaten!$A$2=\"\",\"\",ABS(H417))","v":""},{"$f":"IF(Stammdaten!$A$2=\"\",\"\",IF(F417>35%,1,\"\"))","v":""},{"$f":"IF(Stammdaten!$A$2=\"\",\"\",IF(I417>35%,1,\"\"))","v":""},{"$f":"IF(Stammdaten!$A$2=\"\",\"\",MONTH(A417))","v":""},{"$f":"IF(Stammdaten!$A$2=\"\",\"\",YEAR(A417))","v":""}]
[{"$f":"Analysedaten!A418","v":""},{"$f":"Berechnungsblatt!C419","v":""},{"$f":"Berechnungsblatt!X419","v":""},{"$f":"Berechnungsblatt!C421","v":""},{"$f":"IF(Stammdaten!$A$2=\"\",\"\",D418-B418)","v":""},{"$f":"IF(Stammdaten!$A$2=\"\",\"\",E418/B418)","v":""},{"$f":"IF(Stammdaten!$A$2=\"\",\"\",ABS(E418))","v":""},{"$f":"IF(Stammdaten!$A$2=\"\",\"\",D418-C418)","v":""},{"$f":"IF(Stammdaten!$A$2=\"\",\"\",H418/C418)","v":""},{"$f":"IF(Stammdaten!$A$2=\"\",\"\",ABS(H418))","v":""},{"$f":"IF(Stammdaten!$A$2=\"\",\"\",IF(F418>35%,1,\"\"))","v":""},{"$f":"IF(Stammdaten!$A$2=\"\",\"\",IF(I418>35%,1,\"\"))","v":""},{"$f":"IF(Stammdaten!$A$2=\"\",\"\",MONTH(A418))","v":""},{"$f":"IF(Stammdaten!$A$2=\"\",\"\",YEAR(A418))","v":""}]
[{"$f":"Analysedaten!A419","v":""},{"$f":"Berechnungsblatt!C420","v":""},{"$f":"Berechnungsblatt!X420","v":""},{"$f":"Berechnungsblatt!C422","v":""},{"$f":"IF(Stammdaten!$A$2=\"\",\"\",D419-B419)","v":""},{"$f":"IF(Stammdaten!$A$2=\"\",\"\",E419/B419)","v":""},{"$f":"IF(Stammdaten!$A$2=\"\",\"\",ABS(E419))","v":""},{"$f":"IF(Stammdaten!$A$2=\"\",\"\",D419-C419)","v":""},{"$f":"IF(Stammdaten!$A$2=\"\",\"\",H419/C419)","v":""},{"$f":"IF(Stammdaten!$A$2=\"\",\"\",ABS(H419))","v":""},{"$f":"IF(Stammdaten!$A$2=\"\",\"\",IF(F419>35%,1,\"\"))","v":""},{"$f":"IF(Stammdaten!$A$2=\"\",\"\",IF(I419>35%,1,\"\"))","v":""},{"$f":"IF(Stammdaten!$A$2=\"\",\"\",MONTH(A419))","v":""},{"$f":"IF(Stammdaten!$A$2=\"\",\"\",YEAR(A419))","v":""}]
[{"$f":"Analysedaten!A420","v":""},{"$f":"Berechnungsblatt!C421","v":""},{"$f":"Berechnungsblatt!X421","v":""},{"$f":"Berechnungsblatt!C423","v":""},{"$f":"IF(Stammdaten!$A$2=\"\",\"\",D420-B420)","v":""},{"$f":"IF(Stammdaten!$A$2=\"\",\"\",E420/B420)","v":""},{"$f":"IF(Stammdaten!$A$2=\"\",\"\",ABS(E420))","v":""},{"$f":"IF(Stammdaten!$A$2=\"\",\"\",D420-C420)","v":""},{"$f":"IF(Stammdaten!$A$2=\"\",\"\",H420/C420)","v":""},{"$f":"IF(Stammdaten!$A$2=\"\",\"\",ABS(H420))","v":""},{"$f":"IF(Stammdaten!$A$2=\"\",\"\",IF(F420>35%,1,\"\"))","v":""},{"$f":"IF(Stammdaten!$A$2=\"\",\"\",IF(I420>35%,1,\"\"))","v":""},{"$f":"IF(Stammdaten!$A$2=\"\",\"\",MONTH(A420))","v":""},{"$f":"IF(Stammdaten!$A$2=\"\",\"\",YEAR(A420))","v":""}]
[{"$f":"Analysedaten!A421","v":""},{"$f":"Berechnungsblatt!C422","v":""},{"$f":"Berechnungsblatt!X422","v":""},{"$f":"Berechnungsblatt!C424","v":""},{"$f":"IF(Stammdaten!$A$2=\"\",\"\",D421-B421)","v":""},{"$f":"IF(Stammdaten!$A$2=\"\",\"\",E421/B421)","v":""},{"$f":"IF(Stammdaten!$A$2=\"\",\"\",ABS(E421))","v":""},{"$f":"IF(Stammdaten!$A$2=\"\",\"\",D421-C421)","v":""},{"$f":"IF(Stammdaten!$A$2=\"\",\"\",H421/C421)","v":""},{"$f":"IF(Stammdaten!$A$2=\"\",\"\",ABS(H421))","v":""},{"$f":"IF(Stammdaten!$A$2=\"\",\"\",IF(F421>35%,1,\"\"))","v":""},{"$f":"IF(Stammdaten!$A$2=\"\",\"\",IF(I421>35%,1,\"\"))","v":""},{"$f":"IF(Stammdaten!$A$2=\"\",\"\",MONTH(A421))","v":""},{"$f":"IF(Stammdaten!$A$2=\"\",\"\",YEAR(A421))","v":""}]
[{"$f":"Analysedaten!A422","v":""},{"$f":"Berechnungsblatt!C423","v":""},{"$f":"Berechnungsblatt!X423","v":""},{"$f":"Berechnungsblatt!C425","v":""},{"$f":"IF(Stammdaten!$A$2=\"\",\"\",D422-B422)","v":""},{"$f":"IF(Stammdaten!$A$2=\"\",\"\",E422/B422)","v":""},{"$f":"IF(Stammdaten!$A$2=\"\",\"\",ABS(E422))","v":""},{"$f":"IF(Stammdaten!$A$2=\"\",\"\",D422-C422)","v":""},{"$f":"IF(Stammdaten!$A$2=\"\",\"\",H422/C422)","v":""},{"$f":"IF(Stammdaten!$A$2=\"\",\"\",ABS(H422))","v":""},{"$f":"IF(Stammdaten!$A$2=\"\",\"\",IF(F422>35%,1,\"\"))","v":""},{"$f":"IF(Stammdaten!$A$2=\"\",\"\",IF(I422>35%,1,\"\"))","v":""},{"$f":"IF(Stammdaten!$A$2=\"\",\"\",MONTH(A422))","v":""},{"$f":"IF(Stammdaten!$A$2=\"\",\"\",YEAR(A422))","v":""}]
[{"$f":"Analysedaten!A423","v":""},{"$f":"Berechnungsblatt!C424","v":""},{"$f":"Berechnungsblatt!X424","v":""},{"$f":"Berechnungsblatt!C426","v":""},{"$f":"IF(Stammdaten!$A$2=\"\",\"\",D423-B423)","v":""},{"$f":"IF(Stammdaten!$A$2=\"\",\"\",E423/B423)","v":""},{"$f":"IF(Stammdaten!$A$2=\"\",\"\",ABS(E423))","v":""},{"$f":"IF(Stammdaten!$A$2=\"\",\"\",D423-C423)","v":""},{"$f":"IF(Stammdaten!$A$2=\"\",\"\",H423/C423)","v":""},{"$f":"IF(Stammdaten!$A$2=\"\",\"\",ABS(H423))","v":""},{"$f":"IF(Stammdaten!$A$2=\"\",\"\",IF(F423>35%,1,\"\"))","v":""},{"$f":"IF(Stammdaten!$A$2=\"\",\"\",IF(I423>35%,1,\"\"))","v":""},{"$f":"IF(Stammdaten!$A$2=\"\",\"\",MONTH(A423))","v":""},{"$f":"IF(Stammdaten!$A$2=\"\",\"\",YEAR(A423))","v":""}]
[{"$f":"Analysedaten!A424","v":""},{"$f":"Berechnungsblatt!C425","v":""},{"$f":"Berechnungsblatt!X425","v":""},{"$f":"Berechnungsblatt!C427","v":""},{"$f":"IF(Stammdaten!$A$2=\"\",\"\",D424-B424)","v":""},{"$f":"IF(Stammdaten!$A$2=\"\",\"\",E424/B424)","v":""},{"$f":"IF(Stammdaten!$A$2=\"\",\"\",ABS(E424))","v":""},{"$f":"IF(Stammdaten!$A$2=\"\",\"\",D424-C424)","v":""},{"$f":"IF(Stammdaten!$A$2=\"\",\"\",H424/C424)","v":""},{"$f":"IF(Stammdaten!$A$2=\"\",\"\",ABS(H424))","v":""},{"$f":"IF(Stammdaten!$A$2=\"\",\"\",IF(F424>35%,1,\"\"))","v":""},{"$f":"IF(Stammdaten!$A$2=\"\",\"\",IF(I424>35%,1,\"\"))","v":""},{"$f":"IF(Stammdaten!$A$2=\"\",\"\",MONTH(A424))","v":""},{"$f":"IF(Stammdaten!$A$2=\"\",\"\",YEAR(A424))","v":""}]
[{"$f":"Analysedaten!A425","v":""},{"$f":"Berechnungsblatt!C426","v":""},{"$f":"Berechnungsblatt!X426","v":""},{"$f":"Berechnungsblatt!C428","v":""},{"$f":"IF(Stammdaten!$A$2=\"\",\"\",D425-B425)","v":""},{"$f":"IF(Stammdaten!$A$2=\"\",\"\",E425/B425)","v":""},{"$f":"IF(Stammdaten!$A$2=\"\",\"\",ABS(E425))","v":""},{"$f":"IF(Stammdaten!$A$2=\"\",\"\",D425-C425)","v":""},{"$f":"IF(Stammdaten!$A$2=\"\",\"\",H425/C425)","v":""},{"$f":"IF(Stammdaten!$A$2=\"\",\"\",ABS(H425))","v":""},{"$f":"IF(Stammdaten!$A$2=\"\",\"\",IF(F425>35%,1,\"\"))","v":""},{"$f":"IF(Stammdaten!$A$2=\"\",\"\",IF(I425>35%,1,\"\"))","v":""},{"$f":"IF(Stammdaten!$A$2=\"\",\"\",MONTH(A425))","v":""},{"$f":"IF(Stammdaten!$A$2=\"\",\"\",YEAR(A425))","v":""}]
[{"$f":"Analysedaten!A426","v":""},{"$f":"Berechnungsblatt!C427","v":""},{"$f":"Berechnungsblatt!X427","v":""},{"$f":"Berechnungsblatt!C429","v":""},{"$f":"IF(Stammdaten!$A$2=\"\",\"\",D426-B426)","v":""},{"$f":"IF(Stammdaten!$A$2=\"\",\"\",E426/B426)","v":""},{"$f":"IF(Stammdaten!$A$2=\"\",\"\",ABS(E426))","v":""},{"$f":"IF(Stammdaten!$A$2=\"\",\"\",D426-C426)","v":""},{"$f":"IF(Stammdaten!$A$2=\"\",\"\",H426/C426)","v":""},{"$f":"IF(Stammdaten!$A$2=\"\",\"\",ABS(H426))","v":""},{"$f":"IF(Stammdaten!$A$2=\"\",\"\",IF(F426>35%,1,\"\"))","v":""},{"$f":"IF(Stammdaten!$A$2=\"\",\"\",IF(I426>35%,1,\"\"))","v":""},{"$f":"IF(Stammdaten!$A$2=\"\",\"\",MONTH(A426))","v":""},{"$f":"IF(Stammdaten!$A$2=\"\",\"\",YEAR(A426))","v":""}]
[{"$f":"Analysedaten!A427","v":""},{"$f":"Berechnungsblatt!C428","v":""},{"$f":"Berechnungsblatt!X428","v":""},{"$f":"Berechnungsblatt!C430","v":""},{"$f":"IF(Stammdaten!$A$2=\"\",\"\",D427-B427)","v":""},{"$f":"IF(Stammdaten!$A$2=\"\",\"\",E427/B427)","v":""},{"$f":"IF(Stammdaten!$A$2=\"\",\"\",ABS(E427))","v":""},{"$f":"IF(Stammdaten!$A$2=\"\",\"\",D427-C427)","v":""},{"$f":"IF(Stammdaten!$A$2=\"\",\"\",H427/C427)","v":""},{"$f":"IF(Stammdaten!$A$2=\"\",\"\",ABS(H427))","v":""},{"$f":"IF(Stammdaten!$A$2=\"\",\"\",IF(F427>35%,1,\"\"))","v":""},{"$f":"IF(Stammdaten!$A$2=\"\",\"\",IF(I427>35%,1,\"\"))","v":""},{"$f":"IF(Stammdaten!$A$2=\"\",\"\",MONTH(A427))","v":""},{"$f":"IF(Stammdaten!$A$2=\"\",\"\",YEAR(A427))","v":""}]
[{"$f":"Analysedaten!A428","v":""},{"$f":"Berechnungsblatt!C429","v":""},{"$f":"Berechnungsblatt!X429","v":""},{"$f":"Berechnungsblatt!C431","v":""},{"$f":"IF(Stammdaten!$A$2=\"\",\"\",D428-B428)","v":""},{"$f":"IF(Stammdaten!$A$2=\"\",\"\",E428/B428)","v":""},{"$f":"IF(Stammdaten!$A$2=\"\",\"\",ABS(E428))","v":""},{"$f":"IF(Stammdaten!$A$2=\"\",\"\",D428-C428)","v":""},{"$f":"IF(Stammdaten!$A$2=\"\",\"\",H428/C428)","v":""},{"$f":"IF(Stammdaten!$A$2=\"\",\"\",ABS(H428))","v":""},{"$f":"IF(Stammdaten!$A$2=\"\",\"\",IF(F428>35%,1,\"\"))","v":""},{"$f":"IF(Stammdaten!$A$2=\"\",\"\",IF(I428>35%,1,\"\"))","v":""},{"$f":"IF(Stammdaten!$A$2=\"\",\"\",MONTH(A428))","v":""},{"$f":"IF(Stammdaten!$A$2=\"\",\"\",YEAR(A428))","v":""}]
[{"$f":"Analysedaten!A429","v":""},{"$f":"Berechnungsblatt!C430","v":""},{"$f":"Berechnungsblatt!X430","v":""},{"$f":"Berechnungsblatt!C432","v":""},{"$f":"IF(Stammdaten!$A$2=\"\",\"\",D429-B429)","v":""},{"$f":"IF(Stammdaten!$A$2=\"\",\"\",E429/B429)","v":""},{"$f":"IF(Stammdaten!$A$2=\"\",\"\",ABS(E429))","v":""},{"$f":"IF(Stammdaten!$A$2=\"\",\"\",D429-C429)","v":""},{"$f":"IF(Stammdaten!$A$2=\"\",\"\",H429/C429)","v":""},{"$f":"IF(Stammdaten!$A$2=\"\",\"\",ABS(H429))","v":""},{"$f":"IF(Stammdaten!$A$2=\"\",\"\",IF(F429>35%,1,\"\"))","v":""},{"$f":"IF(Stammdaten!$A$2=\"\",\"\",IF(I429>35%,1,\"\"))","v":""},{"$f":"IF(Stammdaten!$A$2=\"\",\"\",MONTH(A429))","v":""},{"$f":"IF(Stammdaten!$A$2=\"\",\"\",YEAR(A429))","v":""}]
[{"$f":"Analysedaten!A430","v":""},{"$f":"Berechnungsblatt!C431","v":""},{"$f":"Berechnungsblatt!X431","v":""},{"$f":"Berechnungsblatt!C433","v":""},{"$f":"IF(Stammdaten!$A$2=\"\",\"\",D430-B430)","v":""},{"$f":"IF(Stammdaten!$A$2=\"\",\"\",E430/B430)","v":""},{"$f":"IF(Stammdaten!$A$2=\"\",\"\",ABS(E430))","v":""},{"$f":"IF(Stammdaten!$A$2=\"\",\"\",D430-C430)","v":""},{"$f":"IF(Stammdaten!$A$2=\"\",\"\",H430/C430)","v":""},{"$f":"IF(Stammdaten!$A$2=\"\",\"\",ABS(H430))","v":""},{"$f":"IF(Stammdaten!$A$2=\"\",\"\",IF(F430>35%,1,\"\"))","v":""},{"$f":"IF(Stammdaten!$A$2=\"\",\"\",IF(I430>35%,1,\"\"))","v":""},{"$f":"IF(Stammdaten!$A$2=\"\",\"\",MONTH(A430))","v":""},{"$f":"IF(Stammdaten!$A$2=\"\",\"\",YEAR(A430))","v":""}]
[{"$f":"Analysedaten!A431","v":""},{"$f":"Berechnungsblatt!C432","v":""},{"$f":"Berechnungsblatt!X432","v":""},{"$f":"Berechnungsblatt!C434","v":""},{"$f":"IF(Stammdaten!$A$2=\"\",\"\",D431-B431)","v":""},{"$f":"IF(Stammdaten!$A$2=\"\",\"\",E431/B431)","v":""},{"$f":"IF(Stammdaten!$A$2=\"\",\"\",ABS(E431))","v":""},{"$f":"IF(Stammdaten!$A$2=\"\",\"\",D431-C431)","v":""},{"$f":"IF(Stammdaten!$A$2=\"\",\"\",H431/C431)","v":""},{"$f":"IF(Stammdaten!$A$2=\"\",\"\",ABS(H431))","v":""},{"$f":"IF(Stammdaten!$A$2=\"\",\"\",IF(F431>35%,1,\"\"))","v":""},{"$f":"IF(Stammdaten!$A$2=\"\",\"\",IF(I431>35%,1,\"\"))","v":""},{"$f":"IF(Stammdaten!$A$2=\"\",\"\",MONTH(A431))","v":""},{"$f":"IF(Stammdaten!$A$2=\"\",\"\",YEAR(A431))","v":""}]
[{"$f":"Analysedaten!A432","v":""},{"$f":"Berechnungsblatt!C433","v":""},{"$f":"Berechnungsblatt!X433","v":""},{"$f":"Berechnungsblatt!C435","v":""},{"$f":"IF(Stammdaten!$A$2=\"\",\"\",D432-B432)","v":""},{"$f":"IF(Stammdaten!$A$2=\"\",\"\",E432/B432)","v":""},{"$f":"IF(Stammdaten!$A$2=\"\",\"\",ABS(E432))","v":""},{"$f":"IF(Stammdaten!$A$2=\"\",\"\",D432-C432)","v":""},{"$f":"IF(Stammdaten!$A$2=\"\",\"\",H432/C432)","v":""},{"$f":"IF(Stammdaten!$A$2=\"\",\"\",ABS(H432))","v":""},{"$f":"IF(Stammdaten!$A$2=\"\",\"\",IF(F432>35%,1,\"\"))","v":""},{"$f":"IF(Stammdaten!$A$2=\"\",\"\",IF(I432>35%,1,\"\"))","v":""},{"$f":"IF(Stammdaten!$A$2=\"\",\"\",MONTH(A432))","v":""},{"$f":"IF(Stammdaten!$A$2=\"\",\"\",YEAR(A432))","v":""}]
[{"$f":"Analysedaten!A433","v":""},{"$f":"Berechnungsblatt!C434","v":""},{"$f":"Berechnungsblatt!X434","v":""},{"$f":"Berechnungsblatt!C436","v":""},{"$f":"IF(Stammdaten!$A$2=\"\",\"\",D433-B433)","v":""},{"$f":"IF(Stammdaten!$A$2=\"\",\"\",E433/B433)","v":""},{"$f":"IF(Stammdaten!$A$2=\"\",\"\",ABS(E433))","v":""},{"$f":"IF(Stammdaten!$A$2=\"\",\"\",D433-C433)","v":""},{"$f":"IF(Stammdaten!$A$2=\"\",\"\",H433/C433)","v":""},{"$f":"IF(Stammdaten!$A$2=\"\",\"\",ABS(H433))","v":""},{"$f":"IF(Stammdaten!$A$2=\"\",\"\",IF(F433>35%,1,\"\"))","v":""},{"$f":"IF(Stammdaten!$A$2=\"\",\"\",IF(I433>35%,1,\"\"))","v":""},{"$f":"IF(Stammdaten!$A$2=\"\",\"\",MONTH(A433))","v":""},{"$f":"IF(Stammdaten!$A$2=\"\",\"\",YEAR(A433))","v":""}]
[{"$f":"Analysedaten!A434","v":""},{"$f":"Berechnungsblatt!C435","v":""},{"$f":"Berechnungsblatt!X435","v":""},{"$f":"Berechnungsblatt!C437","v":""},{"$f":"IF(Stammdaten!$A$2=\"\",\"\",D434-B434)","v":""},{"$f":"IF(Stammdaten!$A$2=\"\",\"\",E434/B434)","v":""},{"$f":"IF(Stammdaten!$A$2=\"\",\"\",ABS(E434))","v":""},{"$f":"IF(Stammdaten!$A$2=\"\",\"\",D434-C434)","v":""},{"$f":"IF(Stammdaten!$A$2=\"\",\"\",H434/C434)","v":""},{"$f":"IF(Stammdaten!$A$2=\"\",\"\",ABS(H434))","v":""},{"$f":"IF(Stammdaten!$A$2=\"\",\"\",IF(F434>35%,1,\"\"))","v":""},{"$f":"IF(Stammdaten!$A$2=\"\",\"\",IF(I434>35%,1,\"\"))","v":""},{"$f":"IF(Stammdaten!$A$2=\"\",\"\",MONTH(A434))","v":""},{"$f":"IF(Stammdaten!$A$2=\"\",\"\",YEAR(A434))","v":""}]
[{"$f":"Analysedaten!A435","v":""},{"$f":"Berechnungsblatt!C436","v":""},{"$f":"Berechnungsblatt!X436","v":""},{"$f":"Berechnungsblatt!C438","v":""},{"$f":"IF(Stammdaten!$A$2=\"\",\"\",D435-B435)","v":""},{"$f":"IF(Stammdaten!$A$2=\"\",\"\",E435/B435)","v":""},{"$f":"IF(Stammdaten!$A$2=\"\",\"\",ABS(E435))","v":""},{"$f":"IF(Stammdaten!$A$2=\"\",\"\",D435-C435)","v":""},{"$f":"IF(Stammdaten!$A$2=\"\",\"\",H435/C435)","v":""},{"$f":"IF(Stammdaten!$A$2=\"\",\"\",ABS(H435))","v":""},{"$f":"IF(Stammdaten!$A$2=\"\",\"\",IF(F435>35%,1,\"\"))","v":""},{"$f":"IF(Stammdaten!$A$2=\"\",\"\",IF(I435>35%,1,\"\"))","v":""},{"$f":"IF(Stammdaten!$A$2=\"\",\"\",MONTH(A435))","v":""},{"$f":"IF(Stammdaten!$A$2=\"\",\"\",YEAR(A435))","v":""}]
[{"$f":"Analysedaten!A436","v":""},{"$f":"Berechnungsblatt!C437","v":""},{"$f":"Berechnungsblatt!X437","v":""},{"$f":"Berechnungsblatt!C439","v":""},{"$f":"IF(Stammdaten!$A$2=\"\",\"\",D436-B436)","v":""},{"$f":"IF(Stammdaten!$A$2=\"\",\"\",E436/B436)","v":""},{"$f":"IF(Stammdaten!$A$2=\"\",\"\",ABS(E436))","v":""},{"$f":"IF(Stammdaten!$A$2=\"\",\"\",D436-C436)","v":""},{"$f":"IF(Stammdaten!$A$2=\"\",\"\",H436/C436)","v":""},{"$f":"IF(Stammdaten!$A$2=\"\",\"\",ABS(H436))","v":""},{"$f":"IF(Stammdaten!$A$2=\"\",\"\",IF(F436>35%,1,\"\"))","v":""},{"$f":"IF(Stammdaten!$A$2=\"\",\"\",IF(I436>35%,1,\"\"))","v":""},{"$f":"IF(Stammdaten!$A$2=\"\",\"\",MONTH(A436))","v":""},{"$f":"IF(Stammdaten!$A$2=\"\",\"\",YEAR(A436))","v":""}]
[{"$f":"Analysedaten!A437","v":""},{"$f":"Berechnungsblatt!C438","v":""},{"$f":"Berechnungsblatt!X438","v":""},{"$f":"Berechnungsblatt!C440","v":""},{"$f":"IF(Stammdaten!$A$2=\"\",\"\",D437-B437)","v":""},{"$f":"IF(Stammdaten!$A$2=\"\",\"\",E437/B437)","v":""},{"$f":"IF(Stammdaten!$A$2=\"\",\"\",ABS(E437))","v":""},{"$f":"IF(Stammdaten!$A$2=\"\",\"\",D437-C437)","v":""},{"$f":"IF(Stammdaten!$A$2=\"\",\"\",H437/C437)","v":""},{"$f":"IF(Stammdaten!$A$2=\"\",\"\",ABS(H437))","v":""},{"$f":"IF(Stammdaten!$A$2=\"\",\"\",IF(F437>35%,1,\"\"))","v":""},{"$f":"IF(Stammdaten!$A$2=\"\",\"\",IF(I437>35%,1,\"\"))","v":""},{"$f":"IF(Stammdaten!$A$2=\"\",\"\",MONTH(A437))","v":""},{"$f":"IF(Stammdaten!$A$2=\"\",\"\",YEAR(A437))","v":""}]
[{"$f":"Analysedaten!A438","v":""},{"$f":"Berechnungsblatt!C439","v":""},{"$f":"Berechnungsblatt!X439","v":""},{"$f":"Berechnungsblatt!C441","v":""},{"$f":"IF(Stammdaten!$A$2=\"\",\"\",D438-B438)","v":""},{"$f":"IF(Stammdaten!$A$2=\"\",\"\",E438/B438)","v":""},{"$f":"IF(Stammdaten!$A$2=\"\",\"\",ABS(E438))","v":""},{"$f":"IF(Stammdaten!$A$2=\"\",\"\",D438-C438)","v":""},{"$f":"IF(Stammdaten!$A$2=\"\",\"\",H438/C438)","v":""},{"$f":"IF(Stammdaten!$A$2=\"\",\"\",ABS(H438))","v":""},{"$f":"IF(Stammdaten!$A$2=\"\",\"\",IF(F438>35%,1,\"\"))","v":""},{"$f":"IF(Stammdaten!$A$2=\"\",\"\",IF(I438>35%,1,\"\"))","v":""},{"$f":"IF(Stammdaten!$A$2=\"\",\"\",MONTH(A438))","v":""},{"$f":"IF(Stammdaten!$A$2=\"\",\"\",YEAR(A438))","v":""}]
[{"$f":"Analysedaten!A439","v":""},{"$f":"Berechnungsblatt!C440","v":""},{"$f":"Berechnungsblatt!X440","v":""},{"$f":"Berechnungsblatt!C442","v":""},{"$f":"IF(Stammdaten!$A$2=\"\",\"\",D439-B439)","v":""},{"$f":"IF(Stammdaten!$A$2=\"\",\"\",E439/B439)","v":""},{"$f":"IF(Stammdaten!$A$2=\"\",\"\",ABS(E439))","v":""},{"$f":"IF(Stammdaten!$A$2=\"\",\"\",D439-C439)","v":""},{"$f":"IF(Stammdaten!$A$2=\"\",\"\",H439/C439)","v":""},{"$f":"IF(Stammdaten!$A$2=\"\",\"\",ABS(H439))","v":""},{"$f":"IF(Stammdaten!$A$2=\"\",\"\",IF(F439>35%,1,\"\"))","v":""},{"$f":"IF(Stammdaten!$A$2=\"\",\"\",IF(I439>35%,1,\"\"))","v":""},{"$f":"IF(Stammdaten!$A$2=\"\",\"\",MONTH(A439))","v":""},{"$f":"IF(Stammdaten!$A$2=\"\",\"\",YEAR(A439))","v":""}]
[{"$f":"Analysedaten!A440","v":""},{"$f":"Berechnungsblatt!C441","v":""},{"$f":"Berechnungsblatt!X441","v":""},{"$f":"Berechnungsblatt!C443","v":""},{"$f":"IF(Stammdaten!$A$2=\"\",\"\",D440-B440)","v":""},{"$f":"IF(Stammdaten!$A$2=\"\",\"\",E440/B440)","v":""},{"$f":"IF(Stammdaten!$A$2=\"\",\"\",ABS(E440))","v":""},{"$f":"IF(Stammdaten!$A$2=\"\",\"\",D440-C440)","v":""},{"$f":"IF(Stammdaten!$A$2=\"\",\"\",H440/C440)","v":""},{"$f":"IF(Stammdaten!$A$2=\"\",\"\",ABS(H440))","v":""},{"$f":"IF(Stammdaten!$A$2=\"\",\"\",IF(F440>35%,1,\"\"))","v":""},{"$f":"IF(Stammdaten!$A$2=\"\",\"\",IF(I440>35%,1,\"\"))","v":""},{"$f":"IF(Stammdaten!$A$2=\"\",\"\",MONTH(A440))","v":""},{"$f":"IF(Stammdaten!$A$2=\"\",\"\",YEAR(A440))","v":""}]
[{"$f":"Analysedaten!A441","v":""},{"$f":"Berechnungsblatt!C442","v":""},{"$f":"Berechnungsblatt!X442","v":""},{"$f":"Berechnungsblatt!C444","v":""},{"$f":"IF(Stammdaten!$A$2=\"\",\"\",D441-B441)","v":""},{"$f":"IF(Stammdaten!$A$2=\"\",\"\",E441/B441)","v":""},{"$f":"IF(Stammdaten!$A$2=\"\",\"\",ABS(E441))","v":""},{"$f":"IF(Stammdaten!$A$2=\"\",\"\",D441-C441)","v":""},{"$f":"IF(Stammdaten!$A$2=\"\",\"\",H441/C441)","v":""},{"$f":"IF(Stammdaten!$A$2=\"\",\"\",ABS(H441))","v":""},{"$f":"IF(Stammdaten!$A$2=\"\",\"\",IF(F441>35%,1,\"\"))","v":""},{"$f":"IF(Stammdaten!$A$2=\"\",\"\",IF(I441>35%,1,\"\"))","v":""},{"$f":"IF(Stammdaten!$A$2=\"\",\"\",MONTH(A441))","v":""},{"$f":"IF(Stammdaten!$A$2=\"\",\"\",YEAR(A441))","v":""}]
[{"$f":"Analysedaten!A442","v":""},{"$f":"Berechnungsblatt!C443","v":""},{"$f":"Berechnungsblatt!X443","v":""},{"$f":"Berechnungsblatt!C445","v":""},{"$f":"IF(Stammdaten!$A$2=\"\",\"\",D442-B442)","v":""},{"$f":"IF(Stammdaten!$A$2=\"\",\"\",E442/B442)","v":""},{"$f":"IF(Stammdaten!$A$2=\"\",\"\",ABS(E442))","v":""},{"$f":"IF(Stammdaten!$A$2=\"\",\"\",D442-C442)","v":""},{"$f":"IF(Stammdaten!$A$2=\"\",\"\",H442/C442)","v":""},{"$f":"IF(Stammdaten!$A$2=\"\",\"\",ABS(H442))","v":""},{"$f":"IF(Stammdaten!$A$2=\"\",\"\",IF(F442>35%,1,\"\"))","v":""},{"$f":"IF(Stammdaten!$A$2=\"\",\"\",IF(I442>35%,1,\"\"))","v":""},{"$f":"IF(Stammdaten!$A$2=\"\",\"\",MONTH(A442))","v":""},{"$f":"IF(Stammdaten!$A$2=\"\",\"\",YEAR(A442))","v":""}]
[{"$f":"Analysedaten!A443","v":""},{"$f":"Berechnungsblatt!C444","v":""},{"$f":"Berechnungsblatt!X444","v":""},{"$f":"Berechnungsblatt!C446","v":""},{"$f":"IF(Stammdaten!$A$2=\"\",\"\",D443-B443)","v":""},{"$f":"IF(Stammdaten!$A$2=\"\",\"\",E443/B443)","v":""},{"$f":"IF(Stammdaten!$A$2=\"\",\"\",ABS(E443))","v":""},{"$f":"IF(Stammdaten!$A$2=\"\",\"\",D443-C443)","v":""},{"$f":"IF(Stammdaten!$A$2=\"\",\"\",H443/C443)","v":""},{"$f":"IF(Stammdaten!$A$2=\"\",\"\",ABS(H443))","v":""},{"$f":"IF(Stammdaten!$A$2=\"\",\"\",IF(F443>35%,1,\"\"))","v":""},{"$f":"IF(Stammdaten!$A$2=\"\",\"\",IF(I443>35%,1,\"\"))","v":""},{"$f":"IF(Stammdaten!$A$2=\"\",\"\",MONTH(A443))","v":""},{"$f":"IF(Stammdaten!$A$2=\"\",\"\",YEAR(A443))","v":""}]
[{"$f":"Analysedaten!A444","v":""},{"$f":"Berechnungsblatt!C445","v":""},{"$f":"Berechnungsblatt!X445","v":""},{"$f":"Berechnungsblatt!C447","v":""},{"$f":"IF(Stammdaten!$A$2=\"\",\"\",D444-B444)","v":""},{"$f":"IF(Stammdaten!$A$2=\"\",\"\",E444/B444)","v":""},{"$f":"IF(Stammdaten!$A$2=\"\",\"\",ABS(E444))","v":""},{"$f":"IF(Stammdaten!$A$2=\"\",\"\",D444-C444)","v":""},{"$f":"IF(Stammdaten!$A$2=\"\",\"\",H444/C444)","v":""},{"$f":"IF(Stammdaten!$A$2=\"\",\"\",ABS(H444))","v":""},{"$f":"IF(Stammdaten!$A$2=\"\",\"\",IF(F444>35%,1,\"\"))","v":""},{"$f":"IF(Stammdaten!$A$2=\"\",\"\",IF(I444>35%,1,\"\"))","v":""},{"$f":"IF(Stammdaten!$A$2=\"\",\"\",MONTH(A444))","v":""},{"$f":"IF(Stammdaten!$A$2=\"\",\"\",YEAR(A444))","v":""}]
[{"$f":"Analysedaten!A445","v":""},{"$f":"Berechnungsblatt!C446","v":""},{"$f":"Berechnungsblatt!X446","v":""},{"$f":"Berechnungsblatt!C448","v":""},{"$f":"IF(Stammdaten!$A$2=\"\",\"\",D445-B445)","v":""},{"$f":"IF(Stammdaten!$A$2=\"\",\"\",E445/B445)","v":""},{"$f":"IF(Stammdaten!$A$2=\"\",\"\",ABS(E445))","v":""},{"$f":"IF(Stammdaten!$A$2=\"\",\"\",D445-C445)","v":""},{"$f":"IF(Stammdaten!$A$2=\"\",\"\",H445/C445)","v":""},{"$f":"IF(Stammdaten!$A$2=\"\",\"\",ABS(H445))","v":""},{"$f":"IF(Stammdaten!$A$2=\"\",\"\",IF(F445>35%,1,\"\"))","v":""},{"$f":"IF(Stammdaten!$A$2=\"\",\"\",IF(I445>35%,1,\"\"))","v":""},{"$f":"IF(Stammdaten!$A$2=\"\",\"\",MONTH(A445))","v":""},{"$f":"IF(Stammdaten!$A$2=\"\",\"\",YEAR(A445))","v":""}]
[{"$f":"Analysedaten!A446","v":""},{"$f":"Berechnungsblatt!C447","v":""},{"$f":"Berechnungsblatt!X447","v":""},{"$f":"Berechnungsblatt!C449","v":""},{"$f":"IF(Stammdaten!$A$2=\"\",\"\",D446-B446)","v":""},{"$f":"IF(Stammdaten!$A$2=\"\",\"\",E446/B446)","v":""},{"$f":"IF(Stammdaten!$A$2=\"\",\"\",ABS(E446))","v":""},{"$f":"IF(Stammdaten!$A$2=\"\",\"\",D446-C446)","v":""},{"$f":"IF(Stammdaten!$A$2=\"\",\"\",H446/C446)","v":""},{"$f":"IF(Stammdaten!$A$2=\"\",\"\",ABS(H446))","v":""},{"$f":"IF(Stammdaten!$A$2=\"\",\"\",IF(F446>35%,1,\"\"))","v":""},{"$f":"IF(Stammdaten!$A$2=\"\",\"\",IF(I446>35%,1,\"\"))","v":""},{"$f":"IF(Stammdaten!$A$2=\"\",\"\",MONTH(A446))","v":""},{"$f":"IF(Stammdaten!$A$2=\"\",\"\",YEAR(A446))","v":""}]
[{"$f":"Analysedaten!A447","v":""},{"$f":"Berechnungsblatt!C448","v":""},{"$f":"Berechnungsblatt!X448","v":""},{"$f":"Berechnungsblatt!C450","v":""},{"$f":"IF(Stammdaten!$A$2=\"\",\"\",D447-B447)","v":""},{"$f":"IF(Stammdaten!$A$2=\"\",\"\",E447/B447)","v":""},{"$f":"IF(Stammdaten!$A$2=\"\",\"\",ABS(E447))","v":""},{"$f":"IF(Stammdaten!$A$2=\"\",\"\",D447-C447)","v":""},{"$f":"IF(Stammdaten!$A$2=\"\",\"\",H447/C447)","v":""},{"$f":"IF(Stammdaten!$A$2=\"\",\"\",ABS(H447))","v":""},{"$f":"IF(Stammdaten!$A$2=\"\",\"\",IF(F447>35%,1,\"\"))","v":""},{"$f":"IF(Stammdaten!$A$2=\"\",\"\",IF(I447>35%,1,\"\"))","v":""},{"$f":"IF(Stammdaten!$A$2=\"\",\"\",MONTH(A447))","v":""},{"$f":"IF(Stammdaten!$A$2=\"\",\"\",YEAR(A447))","v":""}]
[{"$f":"Analysedaten!A448","v":""},{"$f":"Berechnungsblatt!C449","v":""},{"$f":"Berechnungsblatt!X449","v":""},{"$f":"Berechnungsblatt!C451","v":""},{"$f":"IF(Stammdaten!$A$2=\"\",\"\",D448-B448)","v":""},{"$f":"IF(Stammdaten!$A$2=\"\",\"\",E448/B448)","v":""},{"$f":"IF(Stammdaten!$A$2=\"\",\"\",ABS(E448))","v":""},{"$f":"IF(Stammdaten!$A$2=\"\",\"\",D448-C448)","v":""},{"$f":"IF(Stammdaten!$A$2=\"\",\"\",H448/C448)","v":""},{"$f":"IF(Stammdaten!$A$2=\"\",\"\",ABS(H448))","v":""},{"$f":"IF(Stammdaten!$A$2=\"\",\"\",IF(F448>35%,1,\"\"))","v":""},{"$f":"IF(Stammdaten!$A$2=\"\",\"\",IF(I448>35%,1,\"\"))","v":""},{"$f":"IF(Stammdaten!$A$2=\"\",\"\",MONTH(A448))","v":""},{"$f":"IF(Stammdaten!$A$2=\"\",\"\",YEAR(A448))","v":""}]
[{"$f":"Analysedaten!A449","v":""},{"$f":"Berechnungsblatt!C450","v":""},{"$f":"Berechnungsblatt!X450","v":""},{"$f":"Berechnungsblatt!C452","v":""},{"$f":"IF(Stammdaten!$A$2=\"\",\"\",D449-B449)","v":""},{"$f":"IF(Stammdaten!$A$2=\"\",\"\",E449/B449)","v":""},{"$f":"IF(Stammdaten!$A$2=\"\",\"\",ABS(E449))","v":""},{"$f":"IF(Stammdaten!$A$2=\"\",\"\",D449-C449)","v":""},{"$f":"IF(Stammdaten!$A$2=\"\",\"\",H449/C449)","v":""},{"$f":"IF(Stammdaten!$A$2=\"\",\"\",ABS(H449))","v":""},{"$f":"IF(Stammdaten!$A$2=\"\",\"\",IF(F449>35%,1,\"\"))","v":""},{"$f":"IF(Stammdaten!$A$2=\"\",\"\",IF(I449>35%,1,\"\"))","v":""},{"$f":"IF(Stammdaten!$A$2=\"\",\"\",MONTH(A449))","v":""},{"$f":"IF(Stammdaten!$A$2=\"\",\"\",YEAR(A449))","v":""}]
[{"$f":"Analysedaten!A450","v":""},{"$f":"Berechnungsblatt!C451","v":""},{"$f":"Berechnungsblatt!X451","v":""},{"$f":"Berechnungsblatt!C453","v":""},{"$f":"IF(Stammdaten!$A$2=\"\",\"\",D450-B450)","v":""},{"$f":"IF(Stammdaten!$A$2=\"\",\"\",E450/B450)","v":""},{"$f":"IF(Stammdaten!$A$2=\"\",\"\",ABS(E450))","v":""},{"$f":"IF(Stammdaten!$A$2=\"\",\"\",D450-C450)","v":""},{"$f":"IF(Stammdaten!$A$2=\"\",\"\",H450/C450)","v":""},{"$f":"IF(Stammdaten!$A$2=\"\",\"\",ABS(H450))","v":""},{"$f":"IF(Stammdaten!$A$2=\"\",\"\",IF(F450>35%,1,\"\"))","v":""},{"$f":"IF(Stammdaten!$A$2=\"\",\"\",IF(I450>35%,1,\"\"))","v":""},{"$f":"IF(Stammdaten!$A$2=\"\",\"\",MONTH(A450))","v":""},{"$f":"IF(Stammdaten!$A$2=\"\",\"\",YEAR(A450))","v":""}]
[{"$f":"Analysedaten!A451","v":""},{"$f":"Berechnungsblatt!C452","v":""},{"$f":"Berechnungsblatt!X452","v":""},{"$f":"Berechnungsblatt!C454","v":""},{"$f":"IF(Stammdaten!$A$2=\"\",\"\",D451-B451)","v":""},{"$f":"IF(Stammdaten!$A$2=\"\",\"\",E451/B451)","v":""},{"$f":"IF(Stammdaten!$A$2=\"\",\"\",ABS(E451))","v":""},{"$f":"IF(Stammdaten!$A$2=\"\",\"\",D451-C451)","v":""},{"$f":"IF(Stammdaten!$A$2=\"\",\"\",H451/C451)","v":""},{"$f":"IF(Stammdaten!$A$2=\"\",\"\",ABS(H451))","v":""},{"$f":"IF(Stammdaten!$A$2=\"\",\"\",IF(F451>35%,1,\"\"))","v":""},{"$f":"IF(Stammdaten!$A$2=\"\",\"\",IF(I451>35%,1,\"\"))","v":""},{"$f":"IF(Stammdaten!$A$2=\"\",\"\",MONTH(A451))","v":""},{"$f":"IF(Stammdaten!$A$2=\"\",\"\",YEAR(A451))","v":""}]
[{"$f":"Analysedaten!A452","v":""},{"$f":"Berechnungsblatt!C453","v":""},{"$f":"Berechnungsblatt!X453","v":""},{"$f":"Berechnungsblatt!C455","v":""},{"$f":"IF(Stammdaten!$A$2=\"\",\"\",D452-B452)","v":""},{"$f":"IF(Stammdaten!$A$2=\"\",\"\",E452/B452)","v":""},{"$f":"IF(Stammdaten!$A$2=\"\",\"\",ABS(E452))","v":""},{"$f":"IF(Stammdaten!$A$2=\"\",\"\",D452-C452)","v":""},{"$f":"IF(Stammdaten!$A$2=\"\",\"\",H452/C452)","v":""},{"$f":"IF(Stammdaten!$A$2=\"\",\"\",ABS(H452))","v":""},{"$f":"IF(Stammdaten!$A$2=\"\",\"\",IF(F452>35%,1,\"\"))","v":""},{"$f":"IF(Stammdaten!$A$2=\"\",\"\",IF(I452>35%,1,\"\"))","v":""},{"$f":"IF(Stammdaten!$A$2=\"\",\"\",MONTH(A452))","v":""},{"$f":"IF(Stammdaten!$A$2=\"\",\"\",YEAR(A452))","v":""}]
[{"$f":"Analysedaten!A453","v":""},{"$f":"Berechnungsblatt!C454","v":""},{"$f":"Berechnungsblatt!X454","v":""},{"$f":"Berechnungsblatt!C456","v":""},{"$f":"IF(Stammdaten!$A$2=\"\",\"\",D453-B453)","v":""},{"$f":"IF(Stammdaten!$A$2=\"\",\"\",E453/B453)","v":""},{"$f":"IF(Stammdaten!$A$2=\"\",\"\",ABS(E453))","v":""},{"$f":"IF(Stammdaten!$A$2=\"\",\"\",D453-C453)","v":""},{"$f":"IF(Stammdaten!$A$2=\"\",\"\",H453/C453)","v":""},{"$f":"IF(Stammdaten!$A$2=\"\",\"\",ABS(H453))","v":""},{"$f":"IF(Stammdaten!$A$2=\"\",\"\",IF(F453>35%,1,\"\"))","v":""},{"$f":"IF(Stammdaten!$A$2=\"\",\"\",IF(I453>35%,1,\"\"))","v":""},{"$f":"IF(Stammdaten!$A$2=\"\",\"\",MONTH(A453))","v":""},{"$f":"IF(Stammdaten!$A$2=\"\",\"\",YEAR(A453))","v":""}]
[{"$f":"Analysedaten!A454","v":""},{"$f":"Berechnungsblatt!C455","v":""},{"$f":"Berechnungsblatt!X455","v":""},{"$f":"Berechnungsblatt!C457","v":""},{"$f":"IF(Stammdaten!$A$2=\"\",\"\",D454-B454)","v":""},{"$f":"IF(Stammdaten!$A$2=\"\",\"\",E454/B454)","v":""},{"$f":"IF(Stammdaten!$A$2=\"\",\"\",ABS(E454))","v":""},{"$f":"IF(Stammdaten!$A$2=\"\",\"\",D454-C454)","v":""},{"$f":"IF(Stammdaten!$A$2=\"\",\"\",H454/C454)","v":""},{"$f":"IF(Stammdaten!$A$2=\"\",\"\",ABS(H454))","v":""},{"$f":"IF(Stammdaten!$A$2=\"\",\"\",IF(F454>35%,1,\"\"))","v":""},{"$f":"IF(Stammdaten!$A$2=\"\",\"\",IF(I454>35%,1,\"\"))","v":""},{"$f":"IF(Stammdaten!$A$2=\"\",\"\",MONTH(A454))","v":""},{"$f":"IF(Stammdaten!$A$2=\"\",\"\",YEAR(A454))","v":""}]
[{"$f":"Analysedaten!A455","v":""},{"$f":"Berechnungsblatt!C456","v":""},{"$f":"Berechnungsblatt!X456","v":""},{"$f":"Berechnungsblatt!C458","v":""},{"$f":"IF(Stammdaten!$A$2=\"\",\"\",D455-B455)","v":""},{"$f":"IF(Stammdaten!$A$2=\"\",\"\",E455/B455)","v":""},{"$f":"IF(Stammdaten!$A$2=\"\",\"\",ABS(E455))","v":""},{"$f":"IF(Stammdaten!$A$2=\"\",\"\",D455-C455)","v":""},{"$f":"IF(Stammdaten!$A$2=\"\",\"\",H455/C455)","v":""},{"$f":"IF(Stammdaten!$A$2=\"\",\"\",ABS(H455))","v":""},{"$f":"IF(Stammdaten!$A$2=\"\",\"\",IF(F455>35%,1,\"\"))","v":""},{"$f":"IF(Stammdaten!$A$2=\"\",\"\",IF(I455>35%,1,\"\"))","v":""},{"$f":"IF(Stammdaten!$A$2=\"\",\"\",MONTH(A455))","v":""},{"$f":"IF(Stammdaten!$A$2=\"\",\"\",YEAR(A455))","v":""}]
[{"$f":"Analysedaten!A456","v":""},{"$f":"Berechnungsblatt!C457","v":""},{"$f":"Berechnungsblatt!X457","v":""},{"$f":"Berechnungsblatt!C459","v":""},{"$f":"IF(Stammdaten!$A$2=\"\",\"\",D456-B456)","v":""},{"$f":"IF(Stammdaten!$A$2=\"\",\"\",E456/B456)","v":""},{"$f":"IF(Stammdaten!$A$2=\"\",\"\",ABS(E456))","v":""},{"$f":"IF(Stammdaten!$A$2=\"\",\"\",D456-C456)","v":""},{"$f":"IF(Stammdaten!$A$2=\"\",\"\",H456/C456)","v":""},{"$f":"IF(Stammdaten!$A$2=\"\",\"\",ABS(H456))","v":""},{"$f":"IF(Stammdaten!$A$2=\"\",\"\",IF(F456>35%,1,\"\"))","v":""},{"$f":"IF(Stammdaten!$A$2=\"\",\"\",IF(I456>35%,1,\"\"))","v":""},{"$f":"IF(Stammdaten!$A$2=\"\",\"\",MONTH(A456))","v":""},{"$f":"IF(Stammdaten!$A$2=\"\",\"\",YEAR(A456))","v":""}]
[{"$f":"Analysedaten!A457","v":""},{"$f":"Berechnungsblatt!C458","v":""},{"$f":"Berechnungsblatt!X458","v":""},{"$f":"Berechnungsblatt!C460","v":""},{"$f":"IF(Stammdaten!$A$2=\"\",\"\",D457-B457)","v":""},{"$f":"IF(Stammdaten!$A$2=\"\",\"\",E457/B457)","v":""},{"$f":"IF(Stammdaten!$A$2=\"\",\"\",ABS(E457))","v":""},{"$f":"IF(Stammdaten!$A$2=\"\",\"\",D457-C457)","v":""},{"$f":"IF(Stammdaten!$A$2=\"\",\"\",H457/C457)","v":""},{"$f":"IF(Stammdaten!$A$2=\"\",\"\",ABS(H457))","v":""},{"$f":"IF(Stammdaten!$A$2=\"\",\"\",IF(F457>35%,1,\"\"))","v":""},{"$f":"IF(Stammdaten!$A$2=\"\",\"\",IF(I457>35%,1,\"\"))","v":""},{"$f":"IF(Stammdaten!$A$2=\"\",\"\",MONTH(A457))","v":""},{"$f":"IF(Stammdaten!$A$2=\"\",\"\",YEAR(A457))","v":""}]
[{"$f":"Analysedaten!A458","v":""},{"$f":"Berechnungsblatt!C459","v":""},{"$f":"Berechnungsblatt!X459","v":""},{"$f":"Berechnungsblatt!C461","v":""},{"$f":"IF(Stammdaten!$A$2=\"\",\"\",D458-B458)","v":""},{"$f":"IF(Stammdaten!$A$2=\"\",\"\",E458/B458)","v":""},{"$f":"IF(Stammdaten!$A$2=\"\",\"\",ABS(E458))","v":""},{"$f":"IF(Stammdaten!$A$2=\"\",\"\",D458-C458)","v":""},{"$f":"IF(Stammdaten!$A$2=\"\",\"\",H458/C458)","v":""},{"$f":"IF(Stammdaten!$A$2=\"\",\"\",ABS(H458))","v":""},{"$f":"IF(Stammdaten!$A$2=\"\",\"\",IF(F458>35%,1,\"\"))","v":""},{"$f":"IF(Stammdaten!$A$2=\"\",\"\",IF(I458>35%,1,\"\"))","v":""},{"$f":"IF(Stammdaten!$A$2=\"\",\"\",MONTH(A458))","v":""},{"$f":"IF(Stammdaten!$A$2=\"\",\"\",YEAR(A458))","v":""}]
[{"$f":"Analysedaten!A459","v":""},{"$f":"Berechnungsblatt!C460","v":""},{"$f":"Berechnungsblatt!X460","v":""},{"$f":"Berechnungsblatt!C462","v":""},{"$f":"IF(Stammdaten!$A$2=\"\",\"\",D459-B459)","v":""},{"$f":"IF(Stammdaten!$A$2=\"\",\"\",E459/B459)","v":""},{"$f":"IF(Stammdaten!$A$2=\"\",\"\",ABS(E459))","v":""},{"$f":"IF(Stammdaten!$A$2=\"\",\"\",D459-C459)","v":""},{"$f":"IF(Stammdaten!$A$2=\"\",\"\",H459/C459)","v":""},{"$f":"IF(Stammdaten!$A$2=\"\",\"\",ABS(H459))","v":""},{"$f":"IF(Stammdaten!$A$2=\"\",\"\",IF(F459>35%,1,\"\"))","v":""},{"$f":"IF(Stammdaten!$A$2=\"\",\"\",IF(I459>35%,1,\"\"))","v":""},{"$f":"IF(Stammdaten!$A$2=\"\",\"\",MONTH(A459))","v":""},{"$f":"IF(Stammdaten!$A$2=\"\",\"\",YEAR(A459))","v":""}]
[{"$f":"Analysedaten!A460","v":""},{"$f":"Berechnungsblatt!C461","v":""},{"$f":"Berechnungsblatt!X461","v":""},{"$f":"Berechnungsblatt!C463","v":""},{"$f":"IF(Stammdaten!$A$2=\"\",\"\",D460-B460)","v":""},{"$f":"IF(Stammdaten!$A$2=\"\",\"\",E460/B460)","v":""},{"$f":"IF(Stammdaten!$A$2=\"\",\"\",ABS(E460))","v":""},{"$f":"IF(Stammdaten!$A$2=\"\",\"\",D460-C460)","v":""},{"$f":"IF(Stammdaten!$A$2=\"\",\"\",H460/C460)","v":""},{"$f":"IF(Stammdaten!$A$2=\"\",\"\",ABS(H460))","v":""},{"$f":"IF(Stammdaten!$A$2=\"\",\"\",IF(F460>35%,1,\"\"))","v":""},{"$f":"IF(Stammdaten!$A$2=\"\",\"\",IF(I460>35%,1,\"\"))","v":""},{"$f":"IF(Stammdaten!$A$2=\"\",\"\",MONTH(A460))","v":""},{"$f":"IF(Stammdaten!$A$2=\"\",\"\",YEAR(A460))","v":""}]
[{"$f":"Analysedaten!A461","v":""},{"$f":"Berechnungsblatt!C462","v":""},{"$f":"Berechnungsblatt!X462","v":""},{"$f":"Berechnungsblatt!C464","v":""},{"$f":"IF(Stammdaten!$A$2=\"\",\"\",D461-B461)","v":""},{"$f":"IF(Stammdaten!$A$2=\"\",\"\",E461/B461)","v":""},{"$f":"IF(Stammdaten!$A$2=\"\",\"\",ABS(E461))","v":""},{"$f":"IF(Stammdaten!$A$2=\"\",\"\",D461-C461)","v":""},{"$f":"IF(Stammdaten!$A$2=\"\",\"\",H461/C461)","v":""},{"$f":"IF(Stammdaten!$A$2=\"\",\"\",ABS(H461))","v":""},{"$f":"IF(Stammdaten!$A$2=\"\",\"\",IF(F461>35%,1,\"\"))","v":""},{"$f":"IF(Stammdaten!$A$2=\"\",\"\",IF(I461>35%,1,\"\"))","v":""},{"$f":"IF(Stammdaten!$A$2=\"\",\"\",MONTH(A461))","v":""},{"$f":"IF(Stammdaten!$A$2=\"\",\"\",YEAR(A461))","v":""}]
[{"$f":"Analysedaten!A462","v":""},{"$f":"Berechnungsblatt!C463","v":""},{"$f":"Berechnungsblatt!X463","v":""},{"$f":"Berechnungsblatt!C465","v":""},{"$f":"IF(Stammdaten!$A$2=\"\",\"\",D462-B462)","v":""},{"$f":"IF(Stammdaten!$A$2=\"\",\"\",E462/B462)","v":""},{"$f":"IF(Stammdaten!$A$2=\"\",\"\",ABS(E462))","v":""},{"$f":"IF(Stammdaten!$A$2=\"\",\"\",D462-C462)","v":""},{"$f":"IF(Stammdaten!$A$2=\"\",\"\",H462/C462)","v":""},{"$f":"IF(Stammdaten!$A$2=\"\",\"\",ABS(H462))","v":""},{"$f":"IF(Stammdaten!$A$2=\"\",\"\",IF(F462>35%,1,\"\"))","v":""},{"$f":"IF(Stammdaten!$A$2=\"\",\"\",IF(I462>35%,1,\"\"))","v":""},{"$f":"IF(Stammdaten!$A$2=\"\",\"\",MONTH(A462))","v":""},{"$f":"IF(Stammdaten!$A$2=\"\",\"\",YEAR(A462))","v":""}]
[{"$f":"Analysedaten!A463","v":""},{"$f":"Berechnungsblatt!C464","v":""},{"$f":"Berechnungsblatt!X464","v":""},{"$f":"Berechnungsblatt!C466","v":""},{"$f":"IF(Stammdaten!$A$2=\"\",\"\",D463-B463)","v":""},{"$f":"IF(Stammdaten!$A$2=\"\",\"\",E463/B463)","v":""},{"$f":"IF(Stammdaten!$A$2=\"\",\"\",ABS(E463))","v":""},{"$f":"IF(Stammdaten!$A$2=\"\",\"\",D463-C463)","v":""},{"$f":"IF(Stammdaten!$A$2=\"\",\"\",H463/C463)","v":""},{"$f":"IF(Stammdaten!$A$2=\"\",\"\",ABS(H463))","v":""},{"$f":"IF(Stammdaten!$A$2=\"\",\"\",IF(F463>35%,1,\"\"))","v":""},{"$f":"IF(Stammdaten!$A$2=\"\",\"\",IF(I463>35%,1,\"\"))","v":""},{"$f":"IF(Stammdaten!$A$2=\"\",\"\",MONTH(A463))","v":""},{"$f":"IF(Stammdaten!$A$2=\"\",\"\",YEAR(A463))","v":""}]
[{"$f":"Analysedaten!A464","v":""},{"$f":"Berechnungsblatt!C465","v":""},{"$f":"Berechnungsblatt!X465","v":""},{"$f":"Berechnungsblatt!C467","v":""},{"$f":"IF(Stammdaten!$A$2=\"\",\"\",D464-B464)","v":""},{"$f":"IF(Stammdaten!$A$2=\"\",\"\",E464/B464)","v":""},{"$f":"IF(Stammdaten!$A$2=\"\",\"\",ABS(E464))","v":""},{"$f":"IF(Stammdaten!$A$2=\"\",\"\",D464-C464)","v":""},{"$f":"IF(Stammdaten!$A$2=\"\",\"\",H464/C464)","v":""},{"$f":"IF(Stammdaten!$A$2=\"\",\"\",ABS(H464))","v":""},{"$f":"IF(Stammdaten!$A$2=\"\",\"\",IF(F464>35%,1,\"\"))","v":""},{"$f":"IF(Stammdaten!$A$2=\"\",\"\",IF(I464>35%,1,\"\"))","v":""},{"$f":"IF(Stammdaten!$A$2=\"\",\"\",MONTH(A464))","v":""},{"$f":"IF(Stammdaten!$A$2=\"\",\"\",YEAR(A464))","v":""}]
[{"$f":"Analysedaten!A465","v":""},{"$f":"Berechnungsblatt!C466","v":""},{"$f":"Berechnungsblatt!X466","v":""},{"$f":"Berechnungsblatt!C468","v":""},{"$f":"IF(Stammdaten!$A$2=\"\",\"\",D465-B465)","v":""},{"$f":"IF(Stammdaten!$A$2=\"\",\"\",E465/B465)","v":""},{"$f":"IF(Stammdaten!$A$2=\"\",\"\",ABS(E465))","v":""},{"$f":"IF(Stammdaten!$A$2=\"\",\"\",D465-C465)","v":""},{"$f":"IF(Stammdaten!$A$2=\"\",\"\",H465/C465)","v":""},{"$f":"IF(Stammdaten!$A$2=\"\",\"\",ABS(H465))","v":""},{"$f":"IF(Stammdaten!$A$2=\"\",\"\",IF(F465>35%,1,\"\"))","v":""},{"$f":"IF(Stammdaten!$A$2=\"\",\"\",IF(I465>35%,1,\"\"))","v":""},{"$f":"IF(Stammdaten!$A$2=\"\",\"\",MONTH(A465))","v":""},{"$f":"IF(Stammdaten!$A$2=\"\",\"\",YEAR(A465))","v":""}]
[{"$f":"Analysedaten!A466","v":""},{"$f":"Berechnungsblatt!C467","v":""},{"$f":"Berechnungsblatt!X467","v":""},{"$f":"Berechnungsblatt!C469","v":""},{"$f":"IF(Stammdaten!$A$2=\"\",\"\",D466-B466)","v":""},{"$f":"IF(Stammdaten!$A$2=\"\",\"\",E466/B466)","v":""},{"$f":"IF(Stammdaten!$A$2=\"\",\"\",ABS(E466))","v":""},{"$f":"IF(Stammdaten!$A$2=\"\",\"\",D466-C466)","v":""},{"$f":"IF(Stammdaten!$A$2=\"\",\"\",H466/C466)","v":""},{"$f":"IF(Stammdaten!$A$2=\"\",\"\",ABS(H466))","v":""},{"$f":"IF(Stammdaten!$A$2=\"\",\"\",IF(F466>35%,1,\"\"))","v":""},{"$f":"IF(Stammdaten!$A$2=\"\",\"\",IF(I466>35%,1,\"\"))","v":""},{"$f":"IF(Stammdaten!$A$2=\"\",\"\",MONTH(A466))","v":""},{"$f":"IF(Stammdaten!$A$2=\"\",\"\",YEAR(A466))","v":""}]
[{"$f":"Analysedaten!A467","v":""},{"$f":"Berechnungsblatt!C468","v":""},{"$f":"Berechnungsblatt!X468","v":""},{"$f":"Berechnungsblatt!C470","v":""},{"$f":"IF(Stammdaten!$A$2=\"\",\"\",D467-B467)","v":""},{"$f":"IF(Stammdaten!$A$2=\"\",\"\",E467/B467)","v":""},{"$f":"IF(Stammdaten!$A$2=\"\",\"\",ABS(E467))","v":""},{"$f":"IF(Stammdaten!$A$2=\"\",\"\",D467-C467)","v":""},{"$f":"IF(Stammdaten!$A$2=\"\",\"\",H467/C467)","v":""},{"$f":"IF(Stammdaten!$A$2=\"\",\"\",ABS(H467))","v":""},{"$f":"IF(Stammdaten!$A$2=\"\",\"\",IF(F467>35%,1,\"\"))","v":""},{"$f":"IF(Stammdaten!$A$2=\"\",\"\",IF(I467>35%,1,\"\"))","v":""},{"$f":"IF(Stammdaten!$A$2=\"\",\"\",MONTH(A467))","v":""},{"$f":"IF(Stammdaten!$A$2=\"\",\"\",YEAR(A467))","v":""}]
[{"$f":"Analysedaten!A468","v":""},{"$f":"Berechnungsblatt!C469","v":""},{"$f":"Berechnungsblatt!X469","v":""},{"$f":"Berechnungsblatt!C471","v":""},{"$f":"IF(Stammdaten!$A$2=\"\",\"\",D468-B468)","v":""},{"$f":"IF(Stammdaten!$A$2=\"\",\"\",E468/B468)","v":""},{"$f":"IF(Stammdaten!$A$2=\"\",\"\",ABS(E468))","v":""},{"$f":"IF(Stammdaten!$A$2=\"\",\"\",D468-C468)","v":""},{"$f":"IF(Stammdaten!$A$2=\"\",\"\",H468/C468)","v":""},{"$f":"IF(Stammdaten!$A$2=\"\",\"\",ABS(H468))","v":""},{"$f":"IF(Stammdaten!$A$2=\"\",\"\",IF(F468>35%,1,\"\"))","v":""},{"$f":"IF(Stammdaten!$A$2=\"\",\"\",IF(I468>35%,1,\"\"))","v":""},{"$f":"IF(Stammdaten!$A$2=\"\",\"\",MONTH(A468))","v":""},{"$f":"IF(Stammdaten!$A$2=\"\",\"\",YEAR(A468))","v":""}]
[{"$f":"Analysedaten!A469","v":""},{"$f":"Berechnungsblatt!C470","v":""},{"$f":"Berechnungsblatt!X470","v":""},{"$f":"Berechnungsblatt!C472","v":""},{"$f":"IF(Stammdaten!$A$2=\"\",\"\",D469-B469)","v":""},{"$f":"IF(Stammdaten!$A$2=\"\",\"\",E469/B469)","v":""},{"$f":"IF(Stammdaten!$A$2=\"\",\"\",ABS(E469))","v":""},{"$f":"IF(Stammdaten!$A$2=\"\",\"\",D469-C469)","v":""},{"$f":"IF(Stammdaten!$A$2=\"\",\"\",H469/C469)","v":""},{"$f":"IF(Stammdaten!$A$2=\"\",\"\",ABS(H469))","v":""},{"$f":"IF(Stammdaten!$A$2=\"\",\"\",IF(F469>35%,1,\"\"))","v":""},{"$f":"IF(Stammdaten!$A$2=\"\",\"\",IF(I469>35%,1,\"\"))","v":""},{"$f":"IF(Stammdaten!$A$2=\"\",\"\",MONTH(A469))","v":""},{"$f":"IF(Stammdaten!$A$2=\"\",\"\",YEAR(A469))","v":""}]
[{"$f":"Analysedaten!A470","v":""},{"$f":"Berechnungsblatt!C471","v":""},{"$f":"Berechnungsblatt!X471","v":""},{"$f":"Berechnungsblatt!C473","v":""},{"$f":"IF(Stammdaten!$A$2=\"\",\"\",D470-B470)","v":""},{"$f":"IF(Stammdaten!$A$2=\"\",\"\",E470/B470)","v":""},{"$f":"IF(Stammdaten!$A$2=\"\",\"\",ABS(E470))","v":""},{"$f":"IF(Stammdaten!$A$2=\"\",\"\",D470-C470)","v":""},{"$f":"IF(Stammdaten!$A$2=\"\",\"\",H470/C470)","v":""},{"$f":"IF(Stammdaten!$A$2=\"\",\"\",ABS(H470))","v":""},{"$f":"IF(Stammdaten!$A$2=\"\",\"\",IF(F470>35%,1,\"\"))","v":""},{"$f":"IF(Stammdaten!$A$2=\"\",\"\",IF(I470>35%,1,\"\"))","v":""},{"$f":"IF(Stammdaten!$A$2=\"\",\"\",MONTH(A470))","v":""},{"$f":"IF(Stammdaten!$A$2=\"\",\"\",YEAR(A470))","v":""}]
[{"$f":"Analysedaten!A471","v":""},{"$f":"Berechnungsblatt!C472","v":""},{"$f":"Berechnungsblatt!X472","v":""},{"$f":"Berechnungsblatt!C474","v":""},{"$f":"IF(Stammdaten!$A$2=\"\",\"\",D471-B471)","v":""},{"$f":"IF(Stammdaten!$A$2=\"\",\"\",E471/B471)","v":""},{"$f":"IF(Stammdaten!$A$2=\"\",\"\",ABS(E471))","v":""},{"$f":"IF(Stammdaten!$A$2=\"\",\"\",D471-C471)","v":""},{"$f":"IF(Stammdaten!$A$2=\"\",\"\",H471/C471)","v":""},{"$f":"IF(Stammdaten!$A$2=\"\",\"\",ABS(H471))","v":""},{"$f":"IF(Stammdaten!$A$2=\"\",\"\",IF(F471>35%,1,\"\"))","v":""},{"$f":"IF(Stammdaten!$A$2=\"\",\"\",IF(I471>35%,1,\"\"))","v":""},{"$f":"IF(Stammdaten!$A$2=\"\",\"\",MONTH(A471))","v":""},{"$f":"IF(Stammdaten!$A$2=\"\",\"\",YEAR(A471))","v":""}]
[{"$f":"Analysedaten!A472","v":""},{"$f":"Berechnungsblatt!C473","v":""},{"$f":"Berechnungsblatt!X473","v":""},{"$f":"Berechnungsblatt!C475","v":""},{"$f":"IF(Stammdaten!$A$2=\"\",\"\",D472-B472)","v":""},{"$f":"IF(Stammdaten!$A$2=\"\",\"\",E472/B472)","v":""},{"$f":"IF(Stammdaten!$A$2=\"\",\"\",ABS(E472))","v":""},{"$f":"IF(Stammdaten!$A$2=\"\",\"\",D472-C472)","v":""},{"$f":"IF(Stammdaten!$A$2=\"\",\"\",H472/C472)","v":""},{"$f":"IF(Stammdaten!$A$2=\"\",\"\",ABS(H472))","v":""},{"$f":"IF(Stammdaten!$A$2=\"\",\"\",IF(F472>35%,1,\"\"))","v":""},{"$f":"IF(Stammdaten!$A$2=\"\",\"\",IF(I472>35%,1,\"\"))","v":""},{"$f":"IF(Stammdaten!$A$2=\"\",\"\",MONTH(A472))","v":""},{"$f":"IF(Stammdaten!$A$2=\"\",\"\",YEAR(A472))","v":""}]
[{"$f":"Analysedaten!A473","v":""},{"$f":"Berechnungsblatt!C474","v":""},{"$f":"Berechnungsblatt!X474","v":""},{"$f":"Berechnungsblatt!C476","v":""},{"$f":"IF(Stammdaten!$A$2=\"\",\"\",D473-B473)","v":""},{"$f":"IF(Stammdaten!$A$2=\"\",\"\",E473/B473)","v":""},{"$f":"IF(Stammdaten!$A$2=\"\",\"\",ABS(E473))","v":""},{"$f":"IF(Stammdaten!$A$2=\"\",\"\",D473-C473)","v":""},{"$f":"IF(Stammdaten!$A$2=\"\",\"\",H473/C473)","v":""},{"$f":"IF(Stammdaten!$A$2=\"\",\"\",ABS(H473))","v":""},{"$f":"IF(Stammdaten!$A$2=\"\",\"\",IF(F473>35%,1,\"\"))","v":""},{"$f":"IF(Stammdaten!$A$2=\"\",\"\",IF(I473>35%,1,\"\"))","v":""},{"$f":"IF(Stammdaten!$A$2=\"\",\"\",MONTH(A473))","v":""},{"$f":"IF(Stammdaten!$A$2=\"\",\"\",YEAR(A473))","v":""}]
[{"$f":"Analysedaten!A474","v":""},{"$f":"Berechnungsblatt!C475","v":""},{"$f":"Berechnungsblatt!X475","v":""},{"$f":"Berechnungsblatt!C477","v":""},{"$f":"IF(Stammdaten!$A$2=\"\",\"\",D474-B474)","v":""},{"$f":"IF(Stammdaten!$A$2=\"\",\"\",E474/B474)","v":""},{"$f":"IF(Stammdaten!$A$2=\"\",\"\",ABS(E474))","v":""},{"$f":"IF(Stammdaten!$A$2=\"\",\"\",D474-C474)","v":""},{"$f":"IF(Stammdaten!$A$2=\"\",\"\",H474/C474)","v":""},{"$f":"IF(Stammdaten!$A$2=\"\",\"\",ABS(H474))","v":""},{"$f":"IF(Stammdaten!$A$2=\"\",\"\",IF(F474>35%,1,\"\"))","v":""},{"$f":"IF(Stammdaten!$A$2=\"\",\"\",IF(I474>35%,1,\"\"))","v":""},{"$f":"IF(Stammdaten!$A$2=\"\",\"\",MONTH(A474))","v":""},{"$f":"IF(Stammdaten!$A$2=\"\",\"\",YEAR(A474))","v":""}]
[{"$f":"Analysedaten!A475","v":""},{"$f":"Berechnungsblatt!C476","v":""},{"$f":"Berechnungsblatt!X476","v":""},{"$f":"Berechnungsblatt!C478","v":""},{"$f":"IF(Stammdaten!$A$2=\"\",\"\",D475-B475)","v":""},{"$f":"IF(Stammdaten!$A$2=\"\",\"\",E475/B475)","v":""},{"$f":"IF(Stammdaten!$A$2=\"\",\"\",ABS(E475))","v":""},{"$f":"IF(Stammdaten!$A$2=\"\",\"\",D475-C475)","v":""},{"$f":"IF(Stammdaten!$A$2=\"\",\"\",H475/C475)","v":""},{"$f":"IF(Stammdaten!$A$2=\"\",\"\",ABS(H475))","v":""},{"$f":"IF(Stammdaten!$A$2=\"\",\"\",IF(F475>35%,1,\"\"))","v":""},{"$f":"IF(Stammdaten!$A$2=\"\",\"\",IF(I475>35%,1,\"\"))","v":""},{"$f":"IF(Stammdaten!$A$2=\"\",\"\",MONTH(A475))","v":""},{"$f":"IF(Stammdaten!$A$2=\"\",\"\",YEAR(A475))","v":""}]
[{"$f":"Analysedaten!A476","v":""},{"$f":"Berechnungsblatt!C477","v":""},{"$f":"Berechnungsblatt!X477","v":""},{"$f":"Berechnungsblatt!C479","v":""},{"$f":"IF(Stammdaten!$A$2=\"\",\"\",D476-B476)","v":""},{"$f":"IF(Stammdaten!$A$2=\"\",\"\",E476/B476)","v":""},{"$f":"IF(Stammdaten!$A$2=\"\",\"\",ABS(E476))","v":""},{"$f":"IF(Stammdaten!$A$2=\"\",\"\",D476-C476)","v":""},{"$f":"IF(Stammdaten!$A$2=\"\",\"\",H476/C476)","v":""},{"$f":"IF(Stammdaten!$A$2=\"\",\"\",ABS(H476))","v":""},{"$f":"IF(Stammdaten!$A$2=\"\",\"\",IF(F476>35%,1,\"\"))","v":""},{"$f":"IF(Stammdaten!$A$2=\"\",\"\",IF(I476>35%,1,\"\"))","v":""},{"$f":"IF(Stammdaten!$A$2=\"\",\"\",MONTH(A476))","v":""},{"$f":"IF(Stammdaten!$A$2=\"\",\"\",YEAR(A476))","v":""}]
[{"$f":"Analysedaten!A477","v":""},{"$f":"Berechnungsblatt!C478","v":""},{"$f":"Berechnungsblatt!X478","v":""},{"$f":"Berechnungsblatt!C480","v":""},{"$f":"IF(Stammdaten!$A$2=\"\",\"\",D477-B477)","v":""},{"$f":"IF(Stammdaten!$A$2=\"\",\"\",E477/B477)","v":""},{"$f":"IF(Stammdaten!$A$2=\"\",\"\",ABS(E477))","v":""},{"$f":"IF(Stammdaten!$A$2=\"\",\"\",D477-C477)","v":""},{"$f":"IF(Stammdaten!$A$2=\"\",\"\",H477/C477)","v":""},{"$f":"IF(Stammdaten!$A$2=\"\",\"\",ABS(H477))","v":""},{"$f":"IF(Stammdaten!$A$2=\"\",\"\",IF(F477>35%,1,\"\"))","v":""},{"$f":"IF(Stammdaten!$A$2=\"\",\"\",IF(I477>35%,1,\"\"))","v":""},{"$f":"IF(Stammdaten!$A$2=\"\",\"\",MONTH(A477))","v":""},{"$f":"IF(Stammdaten!$A$2=\"\",\"\",YEAR(A477))","v":""}]
[{"$f":"Analysedaten!A478","v":""},{"$f":"Berechnungsblatt!C479","v":""},{"$f":"Berechnungsblatt!X479","v":""},{"$f":"Berechnungsblatt!C481","v":""},{"$f":"IF(Stammdaten!$A$2=\"\",\"\",D478-B478)","v":""},{"$f":"IF(Stammdaten!$A$2=\"\",\"\",E478/B478)","v":""},{"$f":"IF(Stammdaten!$A$2=\"\",\"\",ABS(E478))","v":""},{"$f":"IF(Stammdaten!$A$2=\"\",\"\",D478-C478)","v":""},{"$f":"IF(Stammdaten!$A$2=\"\",\"\",H478/C478)","v":""},{"$f":"IF(Stammdaten!$A$2=\"\",\"\",ABS(H478))","v":""},{"$f":"IF(Stammdaten!$A$2=\"\",\"\",IF(F478>35%,1,\"\"))","v":""},{"$f":"IF(Stammdaten!$A$2=\"\",\"\",IF(I478>35%,1,\"\"))","v":""},{"$f":"IF(Stammdaten!$A$2=\"\",\"\",MONTH(A478))","v":""},{"$f":"IF(Stammdaten!$A$2=\"\",\"\",YEAR(A478))","v":""}]
[{"$f":"Analysedaten!A479","v":""},{"$f":"Berechnungsblatt!C480","v":""},{"$f":"Berechnungsblatt!X480","v":""},{"$f":"Berechnungsblatt!C482","v":""},{"$f":"IF(Stammdaten!$A$2=\"\",\"\",D479-B479)","v":""},{"$f":"IF(Stammdaten!$A$2=\"\",\"\",E479/B479)","v":""},{"$f":"IF(Stammdaten!$A$2=\"\",\"\",ABS(E479))","v":""},{"$f":"IF(Stammdaten!$A$2=\"\",\"\",D479-C479)","v":""},{"$f":"IF(Stammdaten!$A$2=\"\",\"\",H479/C479)","v":""},{"$f":"IF(Stammdaten!$A$2=\"\",\"\",ABS(H479))","v":""},{"$f":"IF(Stammdaten!$A$2=\"\",\"\",IF(F479>35%,1,\"\"))","v":""},{"$f":"IF(Stammdaten!$A$2=\"\",\"\",IF(I479>35%,1,\"\"))","v":""},{"$f":"IF(Stammdaten!$A$2=\"\",\"\",MONTH(A479))","v":""},{"$f":"IF(Stammdaten!$A$2=\"\",\"\",YEAR(A479))","v":""}]
[{"$f":"Analysedaten!A480","v":""},{"$f":"Berechnungsblatt!C481","v":""},{"$f":"Berechnungsblatt!X481","v":""},{"$f":"Berechnungsblatt!C483","v":""},{"$f":"IF(Stammdaten!$A$2=\"\",\"\",D480-B480)","v":""},{"$f":"IF(Stammdaten!$A$2=\"\",\"\",E480/B480)","v":""},{"$f":"IF(Stammdaten!$A$2=\"\",\"\",ABS(E480))","v":""},{"$f":"IF(Stammdaten!$A$2=\"\",\"\",D480-C480)","v":""},{"$f":"IF(Stammdaten!$A$2=\"\",\"\",H480/C480)","v":""},{"$f":"IF(Stammdaten!$A$2=\"\",\"\",ABS(H480))","v":""},{"$f":"IF(Stammdaten!$A$2=\"\",\"\",IF(F480>35%,1,\"\"))","v":""},{"$f":"IF(Stammdaten!$A$2=\"\",\"\",IF(I480>35%,1,\"\"))","v":""},{"$f":"IF(Stammdaten!$A$2=\"\",\"\",MONTH(A480))","v":""},{"$f":"IF(Stammdaten!$A$2=\"\",\"\",YEAR(A480))","v":""}]
[{"$f":"Analysedaten!A481","v":""},{"$f":"Berechnungsblatt!C482","v":""},{"$f":"Berechnungsblatt!X482","v":""},{"$f":"Berechnungsblatt!C484","v":""},{"$f":"IF(Stammdaten!$A$2=\"\",\"\",D481-B481)","v":""},{"$f":"IF(Stammdaten!$A$2=\"\",\"\",E481/B481)","v":""},{"$f":"IF(Stammdaten!$A$2=\"\",\"\",ABS(E481))","v":""},{"$f":"IF(Stammdaten!$A$2=\"\",\"\",D481-C481)","v":""},{"$f":"IF(Stammdaten!$A$2=\"\",\"\",H481/C481)","v":""},{"$f":"IF(Stammdaten!$A$2=\"\",\"\",ABS(H481))","v":""},{"$f":"IF(Stammdaten!$A$2=\"\",\"\",IF(F481>35%,1,\"\"))","v":""},{"$f":"IF(Stammdaten!$A$2=\"\",\"\",IF(I481>35%,1,\"\"))","v":""},{"$f":"IF(Stammdaten!$A$2=\"\",\"\",MONTH(A481))","v":""},{"$f":"IF(Stammdaten!$A$2=\"\",\"\",YEAR(A481))","v":""}]
[{"$f":"Analysedaten!A482","v":""},{"$f":"Berechnungsblatt!C483","v":""},{"$f":"Berechnungsblatt!X483","v":""},{"$f":"Berechnungsblatt!C485","v":""},{"$f":"IF(Stammdaten!$A$2=\"\",\"\",D482-B482)","v":""},{"$f":"IF(Stammdaten!$A$2=\"\",\"\",E482/B482)","v":""},{"$f":"IF(Stammdaten!$A$2=\"\",\"\",ABS(E482))","v":""},{"$f":"IF(Stammdaten!$A$2=\"\",\"\",D482-C482)","v":""},{"$f":"IF(Stammdaten!$A$2=\"\",\"\",H482/C482)","v":""},{"$f":"IF(Stammdaten!$A$2=\"\",\"\",ABS(H482))","v":""},{"$f":"IF(Stammdaten!$A$2=\"\",\"\",IF(F482>35%,1,\"\"))","v":""},{"$f":"IF(Stammdaten!$A$2=\"\",\"\",IF(I482>35%,1,\"\"))","v":""},{"$f":"IF(Stammdaten!$A$2=\"\",\"\",MONTH(A482))","v":""},{"$f":"IF(Stammdaten!$A$2=\"\",\"\",YEAR(A482))","v":""}]
[{"$f":"Analysedaten!A483","v":""},{"$f":"Berechnungsblatt!C484","v":""},{"$f":"Berechnungsblatt!X484","v":""},{"$f":"Berechnungsblatt!C486","v":""},{"$f":"IF(Stammdaten!$A$2=\"\",\"\",D483-B483)","v":""},{"$f":"IF(Stammdaten!$A$2=\"\",\"\",E483/B483)","v":""},{"$f":"IF(Stammdaten!$A$2=\"\",\"\",ABS(E483))","v":""},{"$f":"IF(Stammdaten!$A$2=\"\",\"\",D483-C483)","v":""},{"$f":"IF(Stammdaten!$A$2=\"\",\"\",H483/C483)","v":""},{"$f":"IF(Stammdaten!$A$2=\"\",\"\",ABS(H483))","v":""},{"$f":"IF(Stammdaten!$A$2=\"\",\"\",IF(F483>35%,1,\"\"))","v":""},{"$f":"IF(Stammdaten!$A$2=\"\",\"\",IF(I483>35%,1,\"\"))","v":""},{"$f":"IF(Stammdaten!$A$2=\"\",\"\",MONTH(A483))","v":""},{"$f":"IF(Stammdaten!$A$2=\"\",\"\",YEAR(A483))","v":""}]
[{"$f":"Analysedaten!A484","v":""},{"$f":"Berechnungsblatt!C485","v":""},{"$f":"Berechnungsblatt!X485","v":""},{"$f":"Berechnungsblatt!C487","v":""},{"$f":"IF(Stammdaten!$A$2=\"\",\"\",D484-B484)","v":""},{"$f":"IF(Stammdaten!$A$2=\"\",\"\",E484/B484)","v":""},{"$f":"IF(Stammdaten!$A$2=\"\",\"\",ABS(E484))","v":""},{"$f":"IF(Stammdaten!$A$2=\"\",\"\",D484-C484)","v":""},{"$f":"IF(Stammdaten!$A$2=\"\",\"\",H484/C484)","v":""},{"$f":"IF(Stammdaten!$A$2=\"\",\"\",ABS(H484))","v":""},{"$f":"IF(Stammdaten!$A$2=\"\",\"\",IF(F484>35%,1,\"\"))","v":""},{"$f":"IF(Stammdaten!$A$2=\"\",\"\",IF(I484>35%,1,\"\"))","v":""},{"$f":"IF(Stammdaten!$A$2=\"\",\"\",MONTH(A484))","v":""},{"$f":"IF(Stammdaten!$A$2=\"\",\"\",YEAR(A484))","v":""}]
[{"$f":"Analysedaten!A485","v":""},{"$f":"Berechnungsblatt!C486","v":""},{"$f":"Berechnungsblatt!X486","v":""},{"$f":"Berechnungsblatt!C488","v":""},{"$f":"IF(Stammdaten!$A$2=\"\",\"\",D485-B485)","v":""},{"$f":"IF(Stammdaten!$A$2=\"\",\"\",E485/B485)","v":""},{"$f":"IF(Stammdaten!$A$2=\"\",\"\",ABS(E485))","v":""},{"$f":"IF(Stammdaten!$A$2=\"\",\"\",D485-C485)","v":""},{"$f":"IF(Stammdaten!$A$2=\"\",\"\",H485/C485)","v":""},{"$f":"IF(Stammdaten!$A$2=\"\",\"\",ABS(H485))","v":""},{"$f":"IF(Stammdaten!$A$2=\"\",\"\",IF(F485>35%,1,\"\"))","v":""},{"$f":"IF(Stammdaten!$A$2=\"\",\"\",IF(I485>35%,1,\"\"))","v":""},{"$f":"IF(Stammdaten!$A$2=\"\",\"\",MONTH(A485))","v":""},{"$f":"IF(Stammdaten!$A$2=\"\",\"\",YEAR(A485))","v":""}]
[{"$f":"Analysedaten!A486","v":""},{"$f":"Berechnungsblatt!C487","v":""},{"$f":"Berechnungsblatt!X487","v":""},{"$f":"Berechnungsblatt!C489","v":""},{"$f":"IF(Stammdaten!$A$2=\"\",\"\",D486-B486)","v":""},{"$f":"IF(Stammdaten!$A$2=\"\",\"\",E486/B486)","v":""},{"$f":"IF(Stammdaten!$A$2=\"\",\"\",ABS(E486))","v":""},{"$f":"IF(Stammdaten!$A$2=\"\",\"\",D486-C486)","v":""},{"$f":"IF(Stammdaten!$A$2=\"\",\"\",H486/C486)","v":""},{"$f":"IF(Stammdaten!$A$2=\"\",\"\",ABS(H486))","v":""},{"$f":"IF(Stammdaten!$A$2=\"\",\"\",IF(F486>35%,1,\"\"))","v":""},{"$f":"IF(Stammdaten!$A$2=\"\",\"\",IF(I486>35%,1,\"\"))","v":""},{"$f":"IF(Stammdaten!$A$2=\"\",\"\",MONTH(A486))","v":""},{"$f":"IF(Stammdaten!$A$2=\"\",\"\",YEAR(A486))","v":""}]
[{"$f":"Analysedaten!A487","v":""},{"$f":"Berechnungsblatt!C488","v":""},{"$f":"Berechnungsblatt!X488","v":""},{"$f":"Berechnungsblatt!C490","v":""},{"$f":"IF(Stammdaten!$A$2=\"\",\"\",D487-B487)","v":""},{"$f":"IF(Stammdaten!$A$2=\"\",\"\",E487/B487)","v":""},{"$f":"IF(Stammdaten!$A$2=\"\",\"\",ABS(E487))","v":""},{"$f":"IF(Stammdaten!$A$2=\"\",\"\",D487-C487)","v":""},{"$f":"IF(Stammdaten!$A$2=\"\",\"\",H487/C487)","v":""},{"$f":"IF(Stammdaten!$A$2=\"\",\"\",ABS(H487))","v":""},{"$f":"IF(Stammdaten!$A$2=\"\",\"\",IF(F487>35%,1,\"\"))","v":""},{"$f":"IF(Stammdaten!$A$2=\"\",\"\",IF(I487>35%,1,\"\"))","v":""},{"$f":"IF(Stammdaten!$A$2=\"\",\"\",MONTH(A487))","v":""},{"$f":"IF(Stammdaten!$A$2=\"\",\"\",YEAR(A487))","v":""}]
[{"$f":"Analysedaten!A488","v":""},{"$f":"Berechnungsblatt!C489","v":""},{"$f":"Berechnungsblatt!X489","v":""},{"$f":"Berechnungsblatt!C491","v":""},{"$f":"IF(Stammdaten!$A$2=\"\",\"\",D488-B488)","v":""},{"$f":"IF(Stammdaten!$A$2=\"\",\"\",E488/B488)","v":""},{"$f":"IF(Stammdaten!$A$2=\"\",\"\",ABS(E488))","v":""},{"$f":"IF(Stammdaten!$A$2=\"\",\"\",D488-C488)","v":""},{"$f":"IF(Stammdaten!$A$2=\"\",\"\",H488/C488)","v":""},{"$f":"IF(Stammdaten!$A$2=\"\",\"\",ABS(H488))","v":""},{"$f":"IF(Stammdaten!$A$2=\"\",\"\",IF(F488>35%,1,\"\"))","v":""},{"$f":"IF(Stammdaten!$A$2=\"\",\"\",IF(I488>35%,1,\"\"))","v":""},{"$f":"IF(Stammdaten!$A$2=\"\",\"\",MONTH(A488))","v":""},{"$f":"IF(Stammdaten!$A$2=\"\",\"\",YEAR(A488))","v":""}]
[{"$f":"Analysedaten!A489","v":""},{"$f":"Berechnungsblatt!C490","v":""},{"$f":"Berechnungsblatt!X490","v":""},{"$f":"Berechnungsblatt!C492","v":""},{"$f":"IF(Stammdaten!$A$2=\"\",\"\",D489-B489)","v":""},{"$f":"IF(Stammdaten!$A$2=\"\",\"\",E489/B489)","v":""},{"$f":"IF(Stammdaten!$A$2=\"\",\"\",ABS(E489))","v":""},{"$f":"IF(Stammdaten!$A$2=\"\",\"\",D489-C489)","v":""},{"$f":"IF(Stammdaten!$A$2=\"\",\"\",H489/C489)","v":""},{"$f":"IF(Stammdaten!$A$2=\"\",\"\",ABS(H489))","v":""},{"$f":"IF(Stammdaten!$A$2=\"\",\"\",IF(F489>35%,1,\"\"))","v":""},{"$f":"IF(Stammdaten!$A$2=\"\",\"\",IF(I489>35%,1,\"\"))","v":""},{"$f":"IF(Stammdaten!$A$2=\"\",\"\",MONTH(A489))","v":""},{"$f":"IF(Stammdaten!$A$2=\"\",\"\",YEAR(A489))","v":""}]
[{"$f":"Analysedaten!A490","v":""},{"$f":"Berechnungsblatt!C491","v":""},{"$f":"Berechnungsblatt!X491","v":""},{"$f":"Berechnungsblatt!C493","v":""},{"$f":"IF(Stammdaten!$A$2=\"\",\"\",D490-B490)","v":""},{"$f":"IF(Stammdaten!$A$2=\"\",\"\",E490/B490)","v":""},{"$f":"IF(Stammdaten!$A$2=\"\",\"\",ABS(E490))","v":""},{"$f":"IF(Stammdaten!$A$2=\"\",\"\",D490-C490)","v":""},{"$f":"IF(Stammdaten!$A$2=\"\",\"\",H490/C490)","v":""},{"$f":"IF(Stammdaten!$A$2=\"\",\"\",ABS(H490))","v":""},{"$f":"IF(Stammdaten!$A$2=\"\",\"\",IF(F490>35%,1,\"\"))","v":""},{"$f":"IF(Stammdaten!$A$2=\"\",\"\",IF(I490>35%,1,\"\"))","v":""},{"$f":"IF(Stammdaten!$A$2=\"\",\"\",MONTH(A490))","v":""},{"$f":"IF(Stammdaten!$A$2=\"\",\"\",YEAR(A490))","v":""}]
[{"$f":"Analysedaten!A491","v":""},{"$f":"Berechnungsblatt!C492","v":""},{"$f":"Berechnungsblatt!X492","v":""},{"$f":"Berechnungsblatt!C494","v":""},{"$f":"IF(Stammdaten!$A$2=\"\",\"\",D491-B491)","v":""},{"$f":"IF(Stammdaten!$A$2=\"\",\"\",E491/B491)","v":""},{"$f":"IF(Stammdaten!$A$2=\"\",\"\",ABS(E491))","v":""},{"$f":"IF(Stammdaten!$A$2=\"\",\"\",D491-C491)","v":""},{"$f":"IF(Stammdaten!$A$2=\"\",\"\",H491/C491)","v":""},{"$f":"IF(Stammdaten!$A$2=\"\",\"\",ABS(H491))","v":""},{"$f":"IF(Stammdaten!$A$2=\"\",\"\",IF(F491>35%,1,\"\"))","v":""},{"$f":"IF(Stammdaten!$A$2=\"\",\"\",IF(I491>35%,1,\"\"))","v":""},{"$f":"IF(Stammdaten!$A$2=\"\",\"\",MONTH(A491))","v":""},{"$f":"IF(Stammdaten!$A$2=\"\",\"\",YEAR(A491))","v":""}]
[{"$f":"Analysedaten!A492","v":""},{"$f":"Berechnungsblatt!C493","v":""},{"$f":"Berechnungsblatt!X493","v":""},{"$f":"Berechnungsblatt!C495","v":""},{"$f":"IF(Stammdaten!$A$2=\"\",\"\",D492-B492)","v":""},{"$f":"IF(Stammdaten!$A$2=\"\",\"\",E492/B492)","v":""},{"$f":"IF(Stammdaten!$A$2=\"\",\"\",ABS(E492))","v":""},{"$f":"IF(Stammdaten!$A$2=\"\",\"\",D492-C492)","v":""},{"$f":"IF(Stammdaten!$A$2=\"\",\"\",H492/C492)","v":""},{"$f":"IF(Stammdaten!$A$2=\"\",\"\",ABS(H492))","v":""},{"$f":"IF(Stammdaten!$A$2=\"\",\"\",IF(F492>35%,1,\"\"))","v":""},{"$f":"IF(Stammdaten!$A$2=\"\",\"\",IF(I492>35%,1,\"\"))","v":""},{"$f":"IF(Stammdaten!$A$2=\"\",\"\",MONTH(A492))","v":""},{"$f":"IF(Stammdaten!$A$2=\"\",\"\",YEAR(A492))","v":""}]
[{"$f":"Analysedaten!A493","v":""},{"$f":"Berechnungsblatt!C494","v":""},{"$f":"Berechnungsblatt!X494","v":""},{"$f":"Berechnungsblatt!C496","v":""},{"$f":"IF(Stammdaten!$A$2=\"\",\"\",D493-B493)","v":""},{"$f":"IF(Stammdaten!$A$2=\"\",\"\",E493/B493)","v":""},{"$f":"IF(Stammdaten!$A$2=\"\",\"\",ABS(E493))","v":""},{"$f":"IF(Stammdaten!$A$2=\"\",\"\",D493-C493)","v":""},{"$f":"IF(Stammdaten!$A$2=\"\",\"\",H493/C493)","v":""},{"$f":"IF(Stammdaten!$A$2=\"\",\"\",ABS(H493))","v":""},{"$f":"IF(Stammdaten!$A$2=\"\",\"\",IF(F493>35%,1,\"\"))","v":""},{"$f":"IF(Stammdaten!$A$2=\"\",\"\",IF(I493>35%,1,\"\"))","v":""},{"$f":"IF(Stammdaten!$A$2=\"\",\"\",MONTH(A493))","v":""},{"$f":"IF(Stammdaten!$A$2=\"\",\"\",YEAR(A493))","v":""}]
[{"$f":"Analysedaten!A494","v":""},{"$f":"Berechnungsblatt!C495","v":""},{"$f":"Berechnungsblatt!X495","v":""},{"$f":"Berechnungsblatt!C497","v":""},{"$f":"IF(Stammdaten!$A$2=\"\",\"\",D494-B494)","v":""},{"$f":"IF(Stammdaten!$A$2=\"\",\"\",E494/B494)","v":""},{"$f":"IF(Stammdaten!$A$2=\"\",\"\",ABS(E494))","v":""},{"$f":"IF(Stammdaten!$A$2=\"\",\"\",D494-C494)","v":""},{"$f":"IF(Stammdaten!$A$2=\"\",\"\",H494/C494)","v":""},{"$f":"IF(Stammdaten!$A$2=\"\",\"\",ABS(H494))","v":""},{"$f":"IF(Stammdaten!$A$2=\"\",\"\",IF(F494>35%,1,\"\"))","v":""},{"$f":"IF(Stammdaten!$A$2=\"\",\"\",IF(I494>35%,1,\"\"))","v":""},{"$f":"IF(Stammdaten!$A$2=\"\",\"\",MONTH(A494))","v":""},{"$f":"IF(Stammdaten!$A$2=\"\",\"\",YEAR(A494))","v":""}]
[{"$f":"Analysedaten!A495","v":""},{"$f":"Berechnungsblatt!C496","v":""},{"$f":"Berechnungsblatt!X496","v":""},{"$f":"Berechnungsblatt!C498","v":""},{"$f":"IF(Stammdaten!$A$2=\"\",\"\",D495-B495)","v":""},{"$f":"IF(Stammdaten!$A$2=\"\",\"\",E495/B495)","v":""},{"$f":"IF(Stammdaten!$A$2=\"\",\"\",ABS(E495))","v":""},{"$f":"IF(Stammdaten!$A$2=\"\",\"\",D495-C495)","v":""},{"$f":"IF(Stammdaten!$A$2=\"\",\"\",H495/C495)","v":""},{"$f":"IF(Stammdaten!$A$2=\"\",\"\",ABS(H495))","v":""},{"$f":"IF(Stammdaten!$A$2=\"\",\"\",IF(F495>35%,1,\"\"))","v":""},{"$f":"IF(Stammdaten!$A$2=\"\",\"\",IF(I495>35%,1,\"\"))","v":""},{"$f":"IF(Stammdaten!$A$2=\"\",\"\",MONTH(A495))","v":""},{"$f":"IF(Stammdaten!$A$2=\"\",\"\",YEAR(A495))","v":""}]
[{"$f":"Analysedaten!A496","v":""},{"$f":"Berechnungsblatt!C497","v":""},{"$f":"Berechnungsblatt!X497","v":""},{"$f":"Berechnungsblatt!C499","v":""},{"$f":"IF(Stammdaten!$A$2=\"\",\"\",D496-B496)","v":""},{"$f":"IF(Stammdaten!$A$2=\"\",\"\",E496/B496)","v":""},{"$f":"IF(Stammdaten!$A$2=\"\",\"\",ABS(E496))","v":""},{"$f":"IF(Stammdaten!$A$2=\"\",\"\",D496-C496)","v":""},{"$f":"IF(Stammdaten!$A$2=\"\",\"\",H496/C496)","v":""},{"$f":"IF(Stammdaten!$A$2=\"\",\"\",ABS(H496))","v":""},{"$f":"IF(Stammdaten!$A$2=\"\",\"\",IF(F496>35%,1,\"\"))","v":""},{"$f":"IF(Stammdaten!$A$2=\"\",\"\",IF(I496>35%,1,\"\"))","v":""},{"$f":"IF(Stammdaten!$A$2=\"\",\"\",MONTH(A496))","v":""},{"$f":"IF(Stammdaten!$A$2=\"\",\"\",YEAR(A496))","v":""}]
[{"$f":"Analysedaten!A497","v":""},{"$f":"Berechnungsblatt!C498","v":""},{"$f":"Berechnungsblatt!X498","v":""},{"$f":"Berechnungsblatt!C500","v":""},{"$f":"IF(Stammdaten!$A$2=\"\",\"\",D497-B497)","v":""},{"$f":"IF(Stammdaten!$A$2=\"\",\"\",E497/B497)","v":""},{"$f":"IF(Stammdaten!$A$2=\"\",\"\",ABS(E497))","v":""},{"$f":"IF(Stammdaten!$A$2=\"\",\"\",D497-C497)","v":""},{"$f":"IF(Stammdaten!$A$2=\"\",\"\",H497/C497)","v":""},{"$f":"IF(Stammdaten!$A$2=\"\",\"\",ABS(H497))","v":""},{"$f":"IF(Stammdaten!$A$2=\"\",\"\",IF(F497>35%,1,\"\"))","v":""},{"$f":"IF(Stammdaten!$A$2=\"\",\"\",IF(I497>35%,1,\"\"))","v":""},{"$f":"IF(Stammdaten!$A$2=\"\",\"\",MONTH(A497))","v":""},{"$f":"IF(Stammdaten!$A$2=\"\",\"\",YEAR(A497))","v":""}]
[{"$f":"Analysedaten!A498","v":""},{"$f":"Berechnungsblatt!C499","v":""},{"$f":"Berechnungsblatt!X499","v":""},{"$f":"Berechnungsblatt!C501","v":""},{"$f":"IF(Stammdaten!$A$2=\"\",\"\",D498-B498)","v":""},{"$f":"IF(Stammdaten!$A$2=\"\",\"\",E498/B498)","v":""},{"$f":"IF(Stammdaten!$A$2=\"\",\"\",ABS(E498))","v":""},{"$f":"IF(Stammdaten!$A$2=\"\",\"\",D498-C498)","v":""},{"$f":"IF(Stammdaten!$A$2=\"\",\"\",H498/C498)","v":""},{"$f":"IF(Stammdaten!$A$2=\"\",\"\",ABS(H498))","v":""},{"$f":"IF(Stammdaten!$A$2=\"\",\"\",IF(F498>35%,1,\"\"))","v":""},{"$f":"IF(Stammdaten!$A$2=\"\",\"\",IF(I498>35%,1,\"\"))","v":""},{"$f":"IF(Stammdaten!$A$2=\"\",\"\",MONTH(A498))","v":""},{"$f":"IF(Stammdaten!$A$2=\"\",\"\",YEAR(A498))","v":""}]
[{"$f":"Analysedaten!A499","v":""},{"$f":"Berechnungsblatt!C500","v":""},{"$f":"Berechnungsblatt!X500","v":""},{"$f":"Berechnungsblatt!C502","v":""},{"$f":"IF(Stammdaten!$A$2=\"\",\"\",D499-B499)","v":""},{"$f":"IF(Stammdaten!$A$2=\"\",\"\",E499/B499)","v":""},{"$f":"IF(Stammdaten!$A$2=\"\",\"\",ABS(E499))","v":""},{"$f":"IF(Stammdaten!$A$2=\"\",\"\",D499-C499)","v":""},{"$f":"IF(Stammdaten!$A$2=\"\",\"\",H499/C499)","v":""},{"$f":"IF(Stammdaten!$A$2=\"\",\"\",ABS(H499))","v":""},{"$f":"IF(Stammdaten!$A$2=\"\",\"\",IF(F499>35%,1,\"\"))","v":""},{"$f":"IF(Stammdaten!$A$2=\"\",\"\",IF(I499>35%,1,\"\"))","v":""},{"$f":"IF(Stammdaten!$A$2=\"\",\"\",MONTH(A499))","v":""},{"$f":"IF(Stammdaten!$A$2=\"\",\"\",YEAR(A499))","v":""}]
[{"$f":"Analysedaten!A500","v":""},{"$f":"Berechnungsblatt!C501","v":""},{"$f":"Berechnungsblatt!X501","v":""},{"$f":"Berechnungsblatt!C503","v":""},{"$f":"IF(Stammdaten!$A$2=\"\",\"\",D500-B500)","v":""},{"$f":"IF(Stammdaten!$A$2=\"\",\"\",E500/B500)","v":""},{"$f":"IF(Stammdaten!$A$2=\"\",\"\",ABS(E500))","v":""},{"$f":"IF(Stammdaten!$A$2=\"\",\"\",D500-C500)","v":""},{"$f":"IF(Stammdaten!$A$2=\"\",\"\",H500/C500)","v":""},{"$f":"IF(Stammdaten!$A$2=\"\",\"\",ABS(H500))","v":""},{"$f":"IF(Stammdaten!$A$2=\"\",\"\",IF(F500>35%,1,\"\"))","v":""},{"$f":"IF(Stammdaten!$A$2=\"\",\"\",IF(I500>35%,1,\"\"))","v":""},{"$f":"IF(Stammdaten!$A$2=\"\",\"\",MONTH(A500))","v":""},{"$f":"IF(Stammdaten!$A$2=\"\",\"\",YEAR(A500))","v":""}]
[{"$f":"Analysedaten!A501","v":""},{"$f":"Berechnungsblatt!C502","v":""},{"$f":"Berechnungsblatt!X502","v":""},{"$f":"Berechnungsblatt!C504","v":""},{"$f":"IF(Stammdaten!$A$2=\"\",\"\",D501-B501)","v":""},{"$f":"IF(Stammdaten!$A$2=\"\",\"\",E501/B501)","v":""},{"$f":"IF(Stammdaten!$A$2=\"\",\"\",ABS(E501))","v":""},{"$f":"IF(Stammdaten!$A$2=\"\",\"\",D501-C501)","v":""},{"$f":"IF(Stammdaten!$A$2=\"\",\"\",H501/C501)","v":""},{"$f":"IF(Stammdaten!$A$2=\"\",\"\",ABS(H501))","v":""},{"$f":"IF(Stammdaten!$A$2=\"\",\"\",IF(F501>35%,1,\"\"))","v":""},{"$f":"IF(Stammdaten!$A$2=\"\",\"\",IF(I501>35%,1,\"\"))","v":""},{"$f":"IF(Stammdaten!$A$2=\"\",\"\",MONTH(A501))","v":""},{"$f":"IF(Stammdaten!$A$2=\"\",\"\",YEAR(A501))","v":""}]
[{"$f":"Analysedaten!A502","v":""},{"$f":"Berechnungsblatt!C503","v":""},{"$f":"Berechnungsblatt!X503","v":""},{"$f":"Berechnungsblatt!C505","v":""},{"$f":"IF(Stammdaten!$A$2=\"\",\"\",D502-B502)","v":""},{"$f":"IF(Stammdaten!$A$2=\"\",\"\",E502/B502)","v":""},{"$f":"IF(Stammdaten!$A$2=\"\",\"\",ABS(E502))","v":""},{"$f":"IF(Stammdaten!$A$2=\"\",\"\",D502-C502)","v":""},{"$f":"IF(Stammdaten!$A$2=\"\",\"\",H502/C502)","v":""},{"$f":"IF(Stammdaten!$A$2=\"\",\"\",ABS(H502))","v":""},{"$f":"IF(Stammdaten!$A$2=\"\",\"\",IF(F502>35%,1,\"\"))","v":""},{"$f":"IF(Stammdaten!$A$2=\"\",\"\",IF(I502>35%,1,\"\"))","v":""},{"$f":"IF(Stammdaten!$A$2=\"\",\"\",MONTH(A502))","v":""},{"$f":"IF(Stammdaten!$A$2=\"\",\"\",YEAR(A502))","v":""}]
[{"$f":"Analysedaten!A503","v":""},{"$f":"Berechnungsblatt!C504","v":""},{"$f":"Berechnungsblatt!X504","v":""},{"$f":"Berechnungsblatt!C506","v":""},{"$f":"IF(Stammdaten!$A$2=\"\",\"\",D503-B503)","v":""},{"$f":"IF(Stammdaten!$A$2=\"\",\"\",E503/B503)","v":""},{"$f":"IF(Stammdaten!$A$2=\"\",\"\",ABS(E503))","v":""},{"$f":"IF(Stammdaten!$A$2=\"\",\"\",D503-C503)","v":""},{"$f":"IF(Stammdaten!$A$2=\"\",\"\",H503/C503)","v":""},{"$f":"IF(Stammdaten!$A$2=\"\",\"\",ABS(H503))","v":""},{"$f":"IF(Stammdaten!$A$2=\"\",\"\",IF(F503>35%,1,\"\"))","v":""},{"$f":"IF(Stammdaten!$A$2=\"\",\"\",IF(I503>35%,1,\"\"))","v":""},{"$f":"IF(Stammdaten!$A$2=\"\",\"\",MONTH(A503))","v":""},{"$f":"IF(Stammdaten!$A$2=\"\",\"\",YEAR(A503))","v":""}]
[{"$f":"Analysedaten!A504","v":""},{"$f":"Berechnungsblatt!C505","v":""},{"$f":"Berechnungsblatt!X505","v":""},{"$f":"Berechnungsblatt!C507","v":""},{"$f":"IF(Stammdaten!$A$2=\"\",\"\",D504-B504)","v":""},{"$f":"IF(Stammdaten!$A$2=\"\",\"\",E504/B504)","v":""},{"$f":"IF(Stammdaten!$A$2=\"\",\"\",ABS(E504))","v":""},{"$f":"IF(Stammdaten!$A$2=\"\",\"\",D504-C504)","v":""},{"$f":"IF(Stammdaten!$A$2=\"\",\"\",H504/C504)","v":""},{"$f":"IF(Stammdaten!$A$2=\"\",\"\",ABS(H504))","v":""},{"$f":"IF(Stammdaten!$A$2=\"\",\"\",IF(F504>35%,1,\"\"))","v":""},{"$f":"IF(Stammdaten!$A$2=\"\",\"\",IF(I504>35%,1,\"\"))","v":""},{"$f":"IF(Stammdaten!$A$2=\"\",\"\",MONTH(A504))","v":""},{"$f":"IF(Stammdaten!$A$2=\"\",\"\",YEAR(A504))","v":""}]
[{"$f":"Analysedaten!A505","v":""},{"$f":"Berechnungsblatt!C506","v":""},{"$f":"Berechnungsblatt!X506","v":""},{"$f":"Berechnungsblatt!C508","v":""},{"$f":"IF(Stammdaten!$A$2=\"\",\"\",D505-B505)","v":""},{"$f":"IF(Stammdaten!$A$2=\"\",\"\",E505/B505)","v":""},{"$f":"IF(Stammdaten!$A$2=\"\",\"\",ABS(E505))","v":""},{"$f":"IF(Stammdaten!$A$2=\"\",\"\",D505-C505)","v":""},{"$f":"IF(Stammdaten!$A$2=\"\",\"\",H505/C505)","v":""},{"$f":"IF(Stammdaten!$A$2=\"\",\"\",ABS(H505))","v":""},{"$f":"IF(Stammdaten!$A$2=\"\",\"\",IF(F505>35%,1,\"\"))","v":""},{"$f":"IF(Stammdaten!$A$2=\"\",\"\",IF(I505>35%,1,\"\"))","v":""},{"$f":"IF(Stammdaten!$A$2=\"\",\"\",MONTH(A505))","v":""},{"$f":"IF(Stammdaten!$A$2=\"\",\"\",YEAR(A505))","v":""}]
[{"$f":"Analysedaten!A506","v":""},{"$f":"Berechnungsblatt!C507","v":""},{"$f":"Berechnungsblatt!X507","v":""},{"$f":"Berechnungsblatt!C509","v":""},{"$f":"IF(Stammdaten!$A$2=\"\",\"\",D506-B506)","v":""},{"$f":"IF(Stammdaten!$A$2=\"\",\"\",E506/B506)","v":""},{"$f":"IF(Stammdaten!$A$2=\"\",\"\",ABS(E506))","v":""},{"$f":"IF(Stammdaten!$A$2=\"\",\"\",D506-C506)","v":""},{"$f":"IF(Stammdaten!$A$2=\"\",\"\",H506/C506)","v":""},{"$f":"IF(Stammdaten!$A$2=\"\",\"\",ABS(H506))","v":""},{"$f":"IF(Stammdaten!$A$2=\"\",\"\",IF(F506>35%,1,\"\"))","v":""},{"$f":"IF(Stammdaten!$A$2=\"\",\"\",IF(I506>35%,1,\"\"))","v":""},{"$f":"IF(Stammdaten!$A$2=\"\",\"\",MONTH(A506))","v":""},{"$f":"IF(Stammdaten!$A$2=\"\",\"\",YEAR(A506))","v":""}]
[{"$f":"Analysedaten!A507","v":""},{"$f":"Berechnungsblatt!C508","v":""},{"$f":"Berechnungsblatt!X508","v":""},{"$f":"Berechnungsblatt!C510","v":""},{"$f":"IF(Stammdaten!$A$2=\"\",\"\",D507-B507)","v":""},{"$f":"IF(Stammdaten!$A$2=\"\",\"\",E507/B507)","v":""},{"$f":"IF(Stammdaten!$A$2=\"\",\"\",ABS(E507))","v":""},{"$f":"IF(Stammdaten!$A$2=\"\",\"\",D507-C507)","v":""},{"$f":"IF(Stammdaten!$A$2=\"\",\"\",H507/C507)","v":""},{"$f":"IF(Stammdaten!$A$2=\"\",\"\",ABS(H507))","v":""},{"$f":"IF(Stammdaten!$A$2=\"\",\"\",IF(F507>35%,1,\"\"))","v":""},{"$f":"IF(Stammdaten!$A$2=\"\",\"\",IF(I507>35%,1,\"\"))","v":""},{"$f":"IF(Stammdaten!$A$2=\"\",\"\",MONTH(A507))","v":""},{"$f":"IF(Stammdaten!$A$2=\"\",\"\",YEAR(A507))","v":""}]
[{"$f":"Analysedaten!A508","v":""},{"$f":"Berechnungsblatt!C509","v":""},{"$f":"Berechnungsblatt!X509","v":""},{"$f":"Berechnungsblatt!C511","v":""},{"$f":"IF(Stammdaten!$A$2=\"\",\"\",D508-B508)","v":""},{"$f":"IF(Stammdaten!$A$2=\"\",\"\",E508/B508)","v":""},{"$f":"IF(Stammdaten!$A$2=\"\",\"\",ABS(E508))","v":""},{"$f":"IF(Stammdaten!$A$2=\"\",\"\",D508-C508)","v":""},{"$f":"IF(Stammdaten!$A$2=\"\",\"\",H508/C508)","v":""},{"$f":"IF(Stammdaten!$A$2=\"\",\"\",ABS(H508))","v":""},{"$f":"IF(Stammdaten!$A$2=\"\",\"\",IF(F508>35%,1,\"\"))","v":""},{"$f":"IF(Stammdaten!$A$2=\"\",\"\",IF(I508>35%,1,\"\"))","v":""},{"$f":"IF(Stammdaten!$A$2=\"\",\"\",MONTH(A508))","v":""},{"$f":"IF(Stammdaten!$A$2=\"\",\"\",YEAR(A508))","v":""}]
[{"$f":"Analysedaten!A509","v":""},{"$f":"Berechnungsblatt!C510","v":""},{"$f":"Berechnungsblatt!X510","v":""},{"$f":"Berechnungsblatt!C512","v":""},{"$f":"IF(Stammdaten!$A$2=\"\",\"\",D509-B509)","v":""},{"$f":"IF(Stammdaten!$A$2=\"\",\"\",E509/B509)","v":""},{"$f":"IF(Stammdaten!$A$2=\"\",\"\",ABS(E509))","v":""},{"$f":"IF(Stammdaten!$A$2=\"\",\"\",D509-C509)","v":""},{"$f":"IF(Stammdaten!$A$2=\"\",\"\",H509/C509)","v":""},{"$f":"IF(Stammdaten!$A$2=\"\",\"\",ABS(H509))","v":""},{"$f":"IF(Stammdaten!$A$2=\"\",\"\",IF(F509>35%,1,\"\"))","v":""},{"$f":"IF(Stammdaten!$A$2=\"\",\"\",IF(I509>35%,1,\"\"))","v":""},{"$f":"IF(Stammdaten!$A$2=\"\",\"\",MONTH(A509))","v":""},{"$f":"IF(Stammdaten!$A$2=\"\",\"\",YEAR(A509))","v":""}]
[{"$f":"Analysedaten!A510","v":""},{"$f":"Berechnungsblatt!C511","v":""},{"$f":"Berechnungsblatt!X511","v":""},{"$f":"Berechnungsblatt!C513","v":""},{"$f":"IF(Stammdaten!$A$2=\"\",\"\",D510-B510)","v":""},{"$f":"IF(Stammdaten!$A$2=\"\",\"\",E510/B510)","v":""},{"$f":"IF(Stammdaten!$A$2=\"\",\"\",ABS(E510))","v":""},{"$f":"IF(Stammdaten!$A$2=\"\",\"\",D510-C510)","v":""},{"$f":"IF(Stammdaten!$A$2=\"\",\"\",H510/C510)","v":""},{"$f":"IF(Stammdaten!$A$2=\"\",\"\",ABS(H510))","v":""},{"$f":"IF(Stammdaten!$A$2=\"\",\"\",IF(F510>35%,1,\"\"))","v":""},{"$f":"IF(Stammdaten!$A$2=\"\",\"\",IF(I510>35%,1,\"\"))","v":""},{"$f":"IF(Stammdaten!$A$2=\"\",\"\",MONTH(A510))","v":""},{"$f":"IF(Stammdaten!$A$2=\"\",\"\",YEAR(A510))","v":""}]
[{"$f":"Analysedaten!A511","v":""},{"$f":"Berechnungsblatt!C512","v":""},{"$f":"Berechnungsblatt!X512","v":""},{"$f":"Berechnungsblatt!C514","v":""},{"$f":"IF(Stammdaten!$A$2=\"\",\"\",D511-B511)","v":""},{"$f":"IF(Stammdaten!$A$2=\"\",\"\",E511/B511)","v":""},{"$f":"IF(Stammdaten!$A$2=\"\",\"\",ABS(E511))","v":""},{"$f":"IF(Stammdaten!$A$2=\"\",\"\",D511-C511)","v":""},{"$f":"IF(Stammdaten!$A$2=\"\",\"\",H511/C511)","v":""},{"$f":"IF(Stammdaten!$A$2=\"\",\"\",ABS(H511))","v":""},{"$f":"IF(Stammdaten!$A$2=\"\",\"\",IF(F511>35%,1,\"\"))","v":""},{"$f":"IF(Stammdaten!$A$2=\"\",\"\",IF(I511>35%,1,\"\"))","v":""},{"$f":"IF(Stammdaten!$A$2=\"\",\"\",MONTH(A511))","v":""},{"$f":"IF(Stammdaten!$A$2=\"\",\"\",YEAR(A511))","v":""}]
[{"$f":"Analysedaten!A512","v":""},{"$f":"Berechnungsblatt!C513","v":""},{"$f":"Berechnungsblatt!X513","v":""},{"$f":"Berechnungsblatt!C515","v":""},{"$f":"IF(Stammdaten!$A$2=\"\",\"\",D512-B512)","v":""},{"$f":"IF(Stammdaten!$A$2=\"\",\"\",E512/B512)","v":""},{"$f":"IF(Stammdaten!$A$2=\"\",\"\",ABS(E512))","v":""},{"$f":"IF(Stammdaten!$A$2=\"\",\"\",D512-C512)","v":""},{"$f":"IF(Stammdaten!$A$2=\"\",\"\",H512/C512)","v":""},{"$f":"IF(Stammdaten!$A$2=\"\",\"\",ABS(H512))","v":""},{"$f":"IF(Stammdaten!$A$2=\"\",\"\",IF(F512>35%,1,\"\"))","v":""},{"$f":"IF(Stammdaten!$A$2=\"\",\"\",IF(I512>35%,1,\"\"))","v":""},{"$f":"IF(Stammdaten!$A$2=\"\",\"\",MONTH(A512))","v":""},{"$f":"IF(Stammdaten!$A$2=\"\",\"\",YEAR(A512))","v":""}]
[{"$f":"Analysedaten!A513","v":""},{"$f":"Berechnungsblatt!C514","v":""},{"$f":"Berechnungsblatt!X514","v":""},{"$f":"Berechnungsblatt!C516","v":""},{"$f":"IF(Stammdaten!$A$2=\"\",\"\",D513-B513)","v":""},{"$f":"IF(Stammdaten!$A$2=\"\",\"\",E513/B513)","v":""},{"$f":"IF(Stammdaten!$A$2=\"\",\"\",ABS(E513))","v":""},{"$f":"IF(Stammdaten!$A$2=\"\",\"\",D513-C513)","v":""},{"$f":"IF(Stammdaten!$A$2=\"\",\"\",H513/C513)","v":""},{"$f":"IF(Stammdaten!$A$2=\"\",\"\",ABS(H513))","v":""},{"$f":"IF(Stammdaten!$A$2=\"\",\"\",IF(F513>35%,1,\"\"))","v":""},{"$f":"IF(Stammdaten!$A$2=\"\",\"\",IF(I513>35%,1,\"\"))","v":""},{"$f":"IF(Stammdaten!$A$2=\"\",\"\",MONTH(A513))","v":""},{"$f":"IF(Stammdaten!$A$2=\"\",\"\",YEAR(A513))","v":""}]
[{"$f":"Analysedaten!A514","v":""},{"$f":"Berechnungsblatt!C515","v":""},{"$f":"Berechnungsblatt!X515","v":""},{"$f":"Berechnungsblatt!C517","v":""},{"$f":"IF(Stammdaten!$A$2=\"\",\"\",D514-B514)","v":""},{"$f":"IF(Stammdaten!$A$2=\"\",\"\",E514/B514)","v":""},{"$f":"IF(Stammdaten!$A$2=\"\",\"\",ABS(E514))","v":""},{"$f":"IF(Stammdaten!$A$2=\"\",\"\",D514-C514)","v":""},{"$f":"IF(Stammdaten!$A$2=\"\",\"\",H514/C514)","v":""},{"$f":"IF(Stammdaten!$A$2=\"\",\"\",ABS(H514))","v":""},{"$f":"IF(Stammdaten!$A$2=\"\",\"\",IF(F514>35%,1,\"\"))","v":""},{"$f":"IF(Stammdaten!$A$2=\"\",\"\",IF(I514>35%,1,\"\"))","v":""},{"$f":"IF(Stammdaten!$A$2=\"\",\"\",MONTH(A514))","v":""},{"$f":"IF(Stammdaten!$A$2=\"\",\"\",YEAR(A514))","v":""}]
[{"$f":"Analysedaten!A515","v":""},{"$f":"Berechnungsblatt!C516","v":""},{"$f":"Berechnungsblatt!X516","v":""},{"$f":"Berechnungsblatt!C518","v":""},{"$f":"IF(Stammdaten!$A$2=\"\",\"\",D515-B515)","v":""},{"$f":"IF(Stammdaten!$A$2=\"\",\"\",E515/B515)","v":""},{"$f":"IF(Stammdaten!$A$2=\"\",\"\",ABS(E515))","v":""},{"$f":"IF(Stammdaten!$A$2=\"\",\"\",D515-C515)","v":""},{"$f":"IF(Stammdaten!$A$2=\"\",\"\",H515/C515)","v":""},{"$f":"IF(Stammdaten!$A$2=\"\",\"\",ABS(H515))","v":""},{"$f":"IF(Stammdaten!$A$2=\"\",\"\",IF(F515>35%,1,\"\"))","v":""},{"$f":"IF(Stammdaten!$A$2=\"\",\"\",IF(I515>35%,1,\"\"))","v":""},{"$f":"IF(Stammdaten!$A$2=\"\",\"\",MONTH(A515))","v":""},{"$f":"IF(Stammdaten!$A$2=\"\",\"\",YEAR(A515))","v":""}]
[{"$f":"Analysedaten!A516","v":""},{"$f":"Berechnungsblatt!C517","v":""},{"$f":"Berechnungsblatt!X517","v":""},{"$f":"Berechnungsblatt!C519","v":""},{"$f":"IF(Stammdaten!$A$2=\"\",\"\",D516-B516)","v":""},{"$f":"IF(Stammdaten!$A$2=\"\",\"\",E516/B516)","v":""},{"$f":"IF(Stammdaten!$A$2=\"\",\"\",ABS(E516))","v":""},{"$f":"IF(Stammdaten!$A$2=\"\",\"\",D516-C516)","v":""},{"$f":"IF(Stammdaten!$A$2=\"\",\"\",H516/C516)","v":""},{"$f":"IF(Stammdaten!$A$2=\"\",\"\",ABS(H516))","v":""},{"$f":"IF(Stammdaten!$A$2=\"\",\"\",IF(F516>35%,1,\"\"))","v":""},{"$f":"IF(Stammdaten!$A$2=\"\",\"\",IF(I516>35%,1,\"\"))","v":""},{"$f":"IF(Stammdaten!$A$2=\"\",\"\",MONTH(A516))","v":""},{"$f":"IF(Stammdaten!$A$2=\"\",\"\",YEAR(A516))","v":""}]
[{"$f":"Analysedaten!A517","v":""},{"$f":"Berechnungsblatt!C518","v":""},{"$f":"Berechnungsblatt!X518","v":""},{"$f":"Berechnungsblatt!C520","v":""},{"$f":"IF(Stammdaten!$A$2=\"\",\"\",D517-B517)","v":""},{"$f":"IF(Stammdaten!$A$2=\"\",\"\",E517/B517)","v":""},{"$f":"IF(Stammdaten!$A$2=\"\",\"\",ABS(E517))","v":""},{"$f":"IF(Stammdaten!$A$2=\"\",\"\",D517-C517)","v":""},{"$f":"IF(Stammdaten!$A$2=\"\",\"\",H517/C517)","v":""},{"$f":"IF(Stammdaten!$A$2=\"\",\"\",ABS(H517))","v":""},{"$f":"IF(Stammdaten!$A$2=\"\",\"\",IF(F517>35%,1,\"\"))","v":""},{"$f":"IF(Stammdaten!$A$2=\"\",\"\",IF(I517>35%,1,\"\"))","v":""},{"$f":"IF(Stammdaten!$A$2=\"\",\"\",MONTH(A517))","v":""},{"$f":"IF(Stammdaten!$A$2=\"\",\"\",YEAR(A517))","v":""}]
[{"$f":"Analysedaten!A518","v":""},{"$f":"Berechnungsblatt!C519","v":""},{"$f":"Berechnungsblatt!X519","v":""},{"$f":"Berechnungsblatt!C521","v":""},{"$f":"IF(Stammdaten!$A$2=\"\",\"\",D518-B518)","v":""},{"$f":"IF(Stammdaten!$A$2=\"\",\"\",E518/B518)","v":""},{"$f":"IF(Stammdaten!$A$2=\"\",\"\",ABS(E518))","v":""},{"$f":"IF(Stammdaten!$A$2=\"\",\"\",D518-C518)","v":""},{"$f":"IF(Stammdaten!$A$2=\"\",\"\",H518/C518)","v":""},{"$f":"IF(Stammdaten!$A$2=\"\",\"\",ABS(H518))","v":""},{"$f":"IF(Stammdaten!$A$2=\"\",\"\",IF(F518>35%,1,\"\"))","v":""},{"$f":"IF(Stammdaten!$A$2=\"\",\"\",IF(I518>35%,1,\"\"))","v":""},{"$f":"IF(Stammdaten!$A$2=\"\",\"\",MONTH(A518))","v":""},{"$f":"IF(Stammdaten!$A$2=\"\",\"\",YEAR(A518))","v":""}]
[{"$f":"Analysedaten!A519","v":""},{"$f":"Berechnungsblatt!C520","v":""},{"$f":"Berechnungsblatt!X520","v":""},{"$f":"Berechnungsblatt!C522","v":""},{"$f":"IF(Stammdaten!$A$2=\"\",\"\",D519-B519)","v":""},{"$f":"IF(Stammdaten!$A$2=\"\",\"\",E519/B519)","v":""},{"$f":"IF(Stammdaten!$A$2=\"\",\"\",ABS(E519))","v":""},{"$f":"IF(Stammdaten!$A$2=\"\",\"\",D519-C519)","v":""},{"$f":"IF(Stammdaten!$A$2=\"\",\"\",H519/C519)","v":""},{"$f":"IF(Stammdaten!$A$2=\"\",\"\",ABS(H519))","v":""},{"$f":"IF(Stammdaten!$A$2=\"\",\"\",IF(F519>35%,1,\"\"))","v":""},{"$f":"IF(Stammdaten!$A$2=\"\",\"\",IF(I519>35%,1,\"\"))","v":""},{"$f":"IF(Stammdaten!$A$2=\"\",\"\",MONTH(A519))","v":""},{"$f":"IF(Stammdaten!$A$2=\"\",\"\",YEAR(A519))","v":""}]
[{"$f":"Analysedaten!A520","v":""},{"$f":"Berechnungsblatt!C521","v":""},{"$f":"Berechnungsblatt!X521","v":""},{"$f":"Berechnungsblatt!C523","v":""},{"$f":"IF(Stammdaten!$A$2=\"\",\"\",D520-B520)","v":""},{"$f":"IF(Stammdaten!$A$2=\"\",\"\",E520/B520)","v":""},{"$f":"IF(Stammdaten!$A$2=\"\",\"\",ABS(E520))","v":""},{"$f":"IF(Stammdaten!$A$2=\"\",\"\",D520-C520)","v":""},{"$f":"IF(Stammdaten!$A$2=\"\",\"\",H520/C520)","v":""},{"$f":"IF(Stammdaten!$A$2=\"\",\"\",ABS(H520))","v":""},{"$f":"IF(Stammdaten!$A$2=\"\",\"\",IF(F520>35%,1,\"\"))","v":""},{"$f":"IF(Stammdaten!$A$2=\"\",\"\",IF(I520>35%,1,\"\"))","v":""},{"$f":"IF(Stammdaten!$A$2=\"\",\"\",MONTH(A520))","v":""},{"$f":"IF(Stammdaten!$A$2=\"\",\"\",YEAR(A520))","v":""}]
[{"$f":"Analysedaten!A521","v":""},{"$f":"Berechnungsblatt!C522","v":""},{"$f":"Berechnungsblatt!X522","v":""},{"$f":"Berechnungsblatt!C524","v":""},{"$f":"IF(Stammdaten!$A$2=\"\",\"\",D521-B521)","v":""},{"$f":"IF(Stammdaten!$A$2=\"\",\"\",E521/B521)","v":""},{"$f":"IF(Stammdaten!$A$2=\"\",\"\",ABS(E521))","v":""},{"$f":"IF(Stammdaten!$A$2=\"\",\"\",D521-C521)","v":""},{"$f":"IF(Stammdaten!$A$2=\"\",\"\",H521/C521)","v":""},{"$f":"IF(Stammdaten!$A$2=\"\",\"\",ABS(H521))","v":""},{"$f":"IF(Stammdaten!$A$2=\"\",\"\",IF(F521>35%,1,\"\"))","v":""},{"$f":"IF(Stammdaten!$A$2=\"\",\"\",IF(I521>35%,1,\"\"))","v":""},{"$f":"IF(Stammdaten!$A$2=\"\",\"\",MONTH(A521))","v":""},{"$f":"IF(Stammdaten!$A$2=\"\",\"\",YEAR(A521))","v":""}]
[{"$f":"Analysedaten!A522","v":""},{"$f":"Berechnungsblatt!C523","v":""},{"$f":"Berechnungsblatt!X523","v":""},{"$f":"Berechnungsblatt!C525","v":""},{"$f":"IF(Stammdaten!$A$2=\"\",\"\",D522-B522)","v":""},{"$f":"IF(Stammdaten!$A$2=\"\",\"\",E522/B522)","v":""},{"$f":"IF(Stammdaten!$A$2=\"\",\"\",ABS(E522))","v":""},{"$f":"IF(Stammdaten!$A$2=\"\",\"\",D522-C522)","v":""},{"$f":"IF(Stammdaten!$A$2=\"\",\"\",H522/C522)","v":""},{"$f":"IF(Stammdaten!$A$2=\"\",\"\",ABS(H522))","v":""},{"$f":"IF(Stammdaten!$A$2=\"\",\"\",IF(F522>35%,1,\"\"))","v":""},{"$f":"IF(Stammdaten!$A$2=\"\",\"\",IF(I522>35%,1,\"\"))","v":""},{"$f":"IF(Stammdaten!$A$2=\"\",\"\",MONTH(A522))","v":""},{"$f":"IF(Stammdaten!$A$2=\"\",\"\",YEAR(A522))","v":""}]
[{"$f":"Analysedaten!A523","v":""},{"$f":"Berechnungsblatt!C524","v":""},{"$f":"Berechnungsblatt!X524","v":""},{"$f":"Berechnungsblatt!C526","v":""},{"$f":"IF(Stammdaten!$A$2=\"\",\"\",D523-B523)","v":""},{"$f":"IF(Stammdaten!$A$2=\"\",\"\",E523/B523)","v":""},{"$f":"IF(Stammdaten!$A$2=\"\",\"\",ABS(E523))","v":""},{"$f":"IF(Stammdaten!$A$2=\"\",\"\",D523-C523)","v":""},{"$f":"IF(Stammdaten!$A$2=\"\",\"\",H523/C523)","v":""},{"$f":"IF(Stammdaten!$A$2=\"\",\"\",ABS(H523))","v":""},{"$f":"IF(Stammdaten!$A$2=\"\",\"\",IF(F523>35%,1,\"\"))","v":""},{"$f":"IF(Stammdaten!$A$2=\"\",\"\",IF(I523>35%,1,\"\"))","v":""},{"$f":"IF(Stammdaten!$A$2=\"\",\"\",MONTH(A523))","v":""},{"$f":"IF(Stammdaten!$A$2=\"\",\"\",YEAR(A523))","v":""}]
[{"$f":"Analysedaten!A524","v":""},{"$f":"Berechnungsblatt!C525","v":""},{"$f":"Berechnungsblatt!X525","v":""},{"$f":"Berechnungsblatt!C527","v":""},{"$f":"IF(Stammdaten!$A$2=\"\",\"\",D524-B524)","v":""},{"$f":"IF(Stammdaten!$A$2=\"\",\"\",E524/B524)","v":""},{"$f":"IF(Stammdaten!$A$2=\"\",\"\",ABS(E524))","v":""},{"$f":"IF(Stammdaten!$A$2=\"\",\"\",D524-C524)","v":""},{"$f":"IF(Stammdaten!$A$2=\"\",\"\",H524/C524)","v":""},{"$f":"IF(Stammdaten!$A$2=\"\",\"\",ABS(H524))","v":""},{"$f":"IF(Stammdaten!$A$2=\"\",\"\",IF(F524>35%,1,\"\"))","v":""},{"$f":"IF(Stammdaten!$A$2=\"\",\"\",IF(I524>35%,1,\"\"))","v":""},{"$f":"IF(Stammdaten!$A$2=\"\",\"\",MONTH(A524))","v":""},{"$f":"IF(Stammdaten!$A$2=\"\",\"\",YEAR(A524))","v":""}]
[{"$f":"Analysedaten!A525","v":""},{"$f":"Berechnungsblatt!C526","v":""},{"$f":"Berechnungsblatt!X526","v":""},{"$f":"Berechnungsblatt!C528","v":""},{"$f":"IF(Stammdaten!$A$2=\"\",\"\",D525-B525)","v":""},{"$f":"IF(Stammdaten!$A$2=\"\",\"\",E525/B525)","v":""},{"$f":"IF(Stammdaten!$A$2=\"\",\"\",ABS(E525))","v":""},{"$f":"IF(Stammdaten!$A$2=\"\",\"\",D525-C525)","v":""},{"$f":"IF(Stammdaten!$A$2=\"\",\"\",H525/C525)","v":""},{"$f":"IF(Stammdaten!$A$2=\"\",\"\",ABS(H525))","v":""},{"$f":"IF(Stammdaten!$A$2=\"\",\"\",IF(F525>35%,1,\"\"))","v":""},{"$f":"IF(Stammdaten!$A$2=\"\",\"\",IF(I525>35%,1,\"\"))","v":""},{"$f":"IF(Stammdaten!$A$2=\"\",\"\",MONTH(A525))","v":""},{"$f":"IF(Stammdaten!$A$2=\"\",\"\",YEAR(A525))","v":""}]
[{"$f":"Analysedaten!A526","v":""},{"$f":"Berechnungsblatt!C527","v":""},{"$f":"Berechnungsblatt!X527","v":""},{"$f":"Berechnungsblatt!C529","v":""},{"$f":"IF(Stammdaten!$A$2=\"\",\"\",D526-B526)","v":""},{"$f":"IF(Stammdaten!$A$2=\"\",\"\",E526/B526)","v":""},{"$f":"IF(Stammdaten!$A$2=\"\",\"\",ABS(E526))","v":""},{"$f":"IF(Stammdaten!$A$2=\"\",\"\",D526-C526)","v":""},{"$f":"IF(Stammdaten!$A$2=\"\",\"\",H526/C526)","v":""},{"$f":"IF(Stammdaten!$A$2=\"\",\"\",ABS(H526))","v":""},{"$f":"IF(Stammdaten!$A$2=\"\",\"\",IF(F526>35%,1,\"\"))","v":""},{"$f":"IF(Stammdaten!$A$2=\"\",\"\",IF(I526>35%,1,\"\"))","v":""},{"$f":"IF(Stammdaten!$A$2=\"\",\"\",MONTH(A526))","v":""},{"$f":"IF(Stammdaten!$A$2=\"\",\"\",YEAR(A526))","v":""}]
[{"$f":"Analysedaten!A527","v":""},{"$f":"Berechnungsblatt!C528","v":""},{"$f":"Berechnungsblatt!X528","v":""},{"$f":"Berechnungsblatt!C530","v":""},{"$f":"IF(Stammdaten!$A$2=\"\",\"\",D527-B527)","v":""},{"$f":"IF(Stammdaten!$A$2=\"\",\"\",E527/B527)","v":""},{"$f":"IF(Stammdaten!$A$2=\"\",\"\",ABS(E527))","v":""},{"$f":"IF(Stammdaten!$A$2=\"\",\"\",D527-C527)","v":""},{"$f":"IF(Stammdaten!$A$2=\"\",\"\",H527/C527)","v":""},{"$f":"IF(Stammdaten!$A$2=\"\",\"\",ABS(H527))","v":""},{"$f":"IF(Stammdaten!$A$2=\"\",\"\",IF(F527>35%,1,\"\"))","v":""},{"$f":"IF(Stammdaten!$A$2=\"\",\"\",IF(I527>35%,1,\"\"))","v":""},{"$f":"IF(Stammdaten!$A$2=\"\",\"\",MONTH(A527))","v":""},{"$f":"IF(Stammdaten!$A$2=\"\",\"\",YEAR(A527))","v":""}]
[{"$f":"Analysedaten!A528","v":""},{"$f":"Berechnungsblatt!C529","v":""},{"$f":"Berechnungsblatt!X529","v":""},{"$f":"Berechnungsblatt!C531","v":""},{"$f":"IF(Stammdaten!$A$2=\"\",\"\",D528-B528)","v":""},{"$f":"IF(Stammdaten!$A$2=\"\",\"\",E528/B528)","v":""},{"$f":"IF(Stammdaten!$A$2=\"\",\"\",ABS(E528))","v":""},{"$f":"IF(Stammdaten!$A$2=\"\",\"\",D528-C528)","v":""},{"$f":"IF(Stammdaten!$A$2=\"\",\"\",H528/C528)","v":""},{"$f":"IF(Stammdaten!$A$2=\"\",\"\",ABS(H528))","v":""},{"$f":"IF(Stammdaten!$A$2=\"\",\"\",IF(F528>35%,1,\"\"))","v":""},{"$f":"IF(Stammdaten!$A$2=\"\",\"\",IF(I528>35%,1,\"\"))","v":""},{"$f":"IF(Stammdaten!$A$2=\"\",\"\",MONTH(A528))","v":""},{"$f":"IF(Stammdaten!$A$2=\"\",\"\",YEAR(A528))","v":""}]
[{"$f":"Analysedaten!A529","v":""},{"$f":"Berechnungsblatt!C530","v":""},{"$f":"Berechnungsblatt!X530","v":""},{"$f":"Berechnungsblatt!C532","v":""},{"$f":"IF(Stammdaten!$A$2=\"\",\"\",D529-B529)","v":""},{"$f":"IF(Stammdaten!$A$2=\"\",\"\",E529/B529)","v":""},{"$f":"IF(Stammdaten!$A$2=\"\",\"\",ABS(E529))","v":""},{"$f":"IF(Stammdaten!$A$2=\"\",\"\",D529-C529)","v":""},{"$f":"IF(Stammdaten!$A$2=\"\",\"\",H529/C529)","v":""},{"$f":"IF(Stammdaten!$A$2=\"\",\"\",ABS(H529))","v":""},{"$f":"IF(Stammdaten!$A$2=\"\",\"\",IF(F529>35%,1,\"\"))","v":""},{"$f":"IF(Stammdaten!$A$2=\"\",\"\",IF(I529>35%,1,\"\"))","v":""},{"$f":"IF(Stammdaten!$A$2=\"\",\"\",MONTH(A529))","v":""},{"$f":"IF(Stammdaten!$A$2=\"\",\"\",YEAR(A529))","v":""}]
[{"$f":"Analysedaten!A530","v":""},{"$f":"Berechnungsblatt!C531","v":""},{"$f":"Berechnungsblatt!X531","v":""},{"$f":"Berechnungsblatt!C533","v":""},{"$f":"IF(Stammdaten!$A$2=\"\",\"\",D530-B530)","v":""},{"$f":"IF(Stammdaten!$A$2=\"\",\"\",E530/B530)","v":""},{"$f":"IF(Stammdaten!$A$2=\"\",\"\",ABS(E530))","v":""},{"$f":"IF(Stammdaten!$A$2=\"\",\"\",D530-C530)","v":""},{"$f":"IF(Stammdaten!$A$2=\"\",\"\",H530/C530)","v":""},{"$f":"IF(Stammdaten!$A$2=\"\",\"\",ABS(H530))","v":""},{"$f":"IF(Stammdaten!$A$2=\"\",\"\",IF(F530>35%,1,\"\"))","v":""},{"$f":"IF(Stammdaten!$A$2=\"\",\"\",IF(I530>35%,1,\"\"))","v":""},{"$f":"IF(Stammdaten!$A$2=\"\",\"\",MONTH(A530))","v":""},{"$f":"IF(Stammdaten!$A$2=\"\",\"\",YEAR(A530))","v":""}]
[{"$f":"Analysedaten!A531","v":""},{"$f":"Berechnungsblatt!C532","v":""},{"$f":"Berechnungsblatt!X532","v":""},{"$f":"Berechnungsblatt!C534","v":""},{"$f":"IF(Stammdaten!$A$2=\"\",\"\",D531-B531)","v":""},{"$f":"IF(Stammdaten!$A$2=\"\",\"\",E531/B531)","v":""},{"$f":"IF(Stammdaten!$A$2=\"\",\"\",ABS(E531))","v":""},{"$f":"IF(Stammdaten!$A$2=\"\",\"\",D531-C531)","v":""},{"$f":"IF(Stammdaten!$A$2=\"\",\"\",H531/C531)","v":""},{"$f":"IF(Stammdaten!$A$2=\"\",\"\",ABS(H531))","v":""},{"$f":"IF(Stammdaten!$A$2=\"\",\"\",IF(F531>35%,1,\"\"))","v":""},{"$f":"IF(Stammdaten!$A$2=\"\",\"\",IF(I531>35%,1,\"\"))","v":""},{"$f":"IF(Stammdaten!$A$2=\"\",\"\",MONTH(A531))","v":""},{"$f":"IF(Stammdaten!$A$2=\"\",\"\",YEAR(A531))","v":""}]
[{"$f":"Analysedaten!A532","v":""},{"$f":"Berechnungsblatt!C533","v":""},{"$f":"Berechnungsblatt!X533","v":""},{"$f":"Berechnungsblatt!C535","v":""},{"$f":"IF(Stammdaten!$A$2=\"\",\"\",D532-B532)","v":""},{"$f":"IF(Stammdaten!$A$2=\"\",\"\",E532/B532)","v":""},{"$f":"IF(Stammdaten!$A$2=\"\",\"\",ABS(E532))","v":""},{"$f":"IF(Stammdaten!$A$2=\"\",\"\",D532-C532)","v":""},{"$f":"IF(Stammdaten!$A$2=\"\",\"\",H532/C532)","v":""},{"$f":"IF(Stammdaten!$A$2=\"\",\"\",ABS(H532))","v":""},{"$f":"IF(Stammdaten!$A$2=\"\",\"\",IF(F532>35%,1,\"\"))","v":""},{"$f":"IF(Stammdaten!$A$2=\"\",\"\",IF(I532>35%,1,\"\"))","v":""},{"$f":"IF(Stammdaten!$A$2=\"\",\"\",MONTH(A532))","v":""},{"$f":"IF(Stammdaten!$A$2=\"\",\"\",YEAR(A532))","v":""}]
[{"$f":"Analysedaten!A533","v":""},{"$f":"Berechnungsblatt!C534","v":""},{"$f":"Berechnungsblatt!X534","v":""},{"$f":"Berechnungsblatt!C536","v":""},{"$f":"IF(Stammdaten!$A$2=\"\",\"\",D533-B533)","v":""},{"$f":"IF(Stammdaten!$A$2=\"\",\"\",E533/B533)","v":""},{"$f":"IF(Stammdaten!$A$2=\"\",\"\",ABS(E533))","v":""},{"$f":"IF(Stammdaten!$A$2=\"\",\"\",D533-C533)","v":""},{"$f":"IF(Stammdaten!$A$2=\"\",\"\",H533/C533)","v":""},{"$f":"IF(Stammdaten!$A$2=\"\",\"\",ABS(H533))","v":""},{"$f":"IF(Stammdaten!$A$2=\"\",\"\",IF(F533>35%,1,\"\"))","v":""},{"$f":"IF(Stammdaten!$A$2=\"\",\"\",IF(I533>35%,1,\"\"))","v":""},{"$f":"IF(Stammdaten!$A$2=\"\",\"\",MONTH(A533))","v":""},{"$f":"IF(Stammdaten!$A$2=\"\",\"\",YEAR(A533))","v":""}]
[{"$f":"Analysedaten!A534","v":""},{"$f":"Berechnungsblatt!C535","v":""},{"$f":"Berechnungsblatt!X535","v":""},{"$f":"Berechnungsblatt!C537","v":""},{"$f":"IF(Stammdaten!$A$2=\"\",\"\",D534-B534)","v":""},{"$f":"IF(Stammdaten!$A$2=\"\",\"\",E534/B534)","v":""},{"$f":"IF(Stammdaten!$A$2=\"\",\"\",ABS(E534))","v":""},{"$f":"IF(Stammdaten!$A$2=\"\",\"\",D534-C534)","v":""},{"$f":"IF(Stammdaten!$A$2=\"\",\"\",H534/C534)","v":""},{"$f":"IF(Stammdaten!$A$2=\"\",\"\",ABS(H534))","v":""},{"$f":"IF(Stammdaten!$A$2=\"\",\"\",IF(F534>35%,1,\"\"))","v":""},{"$f":"IF(Stammdaten!$A$2=\"\",\"\",IF(I534>35%,1,\"\"))","v":""},{"$f":"IF(Stammdaten!$A$2=\"\",\"\",MONTH(A534))","v":""},{"$f":"IF(Stammdaten!$A$2=\"\",\"\",YEAR(A534))","v":""}]
[{"$f":"Analysedaten!A535","v":""},{"$f":"Berechnungsblatt!C536","v":""},{"$f":"Berechnungsblatt!X536","v":""},{"$f":"Berechnungsblatt!C538","v":""},{"$f":"IF(Stammdaten!$A$2=\"\",\"\",D535-B535)","v":""},{"$f":"IF(Stammdaten!$A$2=\"\",\"\",E535/B535)","v":""},{"$f":"IF(Stammdaten!$A$2=\"\",\"\",ABS(E535))","v":""},{"$f":"IF(Stammdaten!$A$2=\"\",\"\",D535-C535)","v":""},{"$f":"IF(Stammdaten!$A$2=\"\",\"\",H535/C535)","v":""},{"$f":"IF(Stammdaten!$A$2=\"\",\"\",ABS(H535))","v":""},{"$f":"IF(Stammdaten!$A$2=\"\",\"\",IF(F535>35%,1,\"\"))","v":""},{"$f":"IF(Stammdaten!$A$2=\"\",\"\",IF(I535>35%,1,\"\"))","v":""},{"$f":"IF(Stammdaten!$A$2=\"\",\"\",MONTH(A535))","v":""},{"$f":"IF(Stammdaten!$A$2=\"\",\"\",YEAR(A535))","v":""}]
[{"$f":"Analysedaten!A536","v":""},{"$f":"Berechnungsblatt!C537","v":""},{"$f":"Berechnungsblatt!X537","v":""},{"$f":"Berechnungsblatt!C539","v":""},{"$f":"IF(Stammdaten!$A$2=\"\",\"\",D536-B536)","v":""},{"$f":"IF(Stammdaten!$A$2=\"\",\"\",E536/B536)","v":""},{"$f":"IF(Stammdaten!$A$2=\"\",\"\",ABS(E536))","v":""},{"$f":"IF(Stammdaten!$A$2=\"\",\"\",D536-C536)","v":""},{"$f":"IF(Stammdaten!$A$2=\"\",\"\",H536/C536)","v":""},{"$f":"IF(Stammdaten!$A$2=\"\",\"\",ABS(H536))","v":""},{"$f":"IF(Stammdaten!$A$2=\"\",\"\",IF(F536>35%,1,\"\"))","v":""},{"$f":"IF(Stammdaten!$A$2=\"\",\"\",IF(I536>35%,1,\"\"))","v":""},{"$f":"IF(Stammdaten!$A$2=\"\",\"\",MONTH(A536))","v":""},{"$f":"IF(Stammdaten!$A$2=\"\",\"\",YEAR(A536))","v":""}]
[{"$f":"Analysedaten!A537","v":""},{"$f":"Berechnungsblatt!C538","v":""},{"$f":"Berechnungsblatt!X538","v":""},{"$f":"Berechnungsblatt!C540","v":""},{"$f":"IF(Stammdaten!$A$2=\"\",\"\",D537-B537)","v":""},{"$f":"IF(Stammdaten!$A$2=\"\",\"\",E537/B537)","v":""},{"$f":"IF(Stammdaten!$A$2=\"\",\"\",ABS(E537))","v":""},{"$f":"IF(Stammdaten!$A$2=\"\",\"\",D537-C537)","v":""},{"$f":"IF(Stammdaten!$A$2=\"\",\"\",H537/C537)","v":""},{"$f":"IF(Stammdaten!$A$2=\"\",\"\",ABS(H537))","v":""},{"$f":"IF(Stammdaten!$A$2=\"\",\"\",IF(F537>35%,1,\"\"))","v":""},{"$f":"IF(Stammdaten!$A$2=\"\",\"\",IF(I537>35%,1,\"\"))","v":""},{"$f":"IF(Stammdaten!$A$2=\"\",\"\",MONTH(A537))","v":""},{"$f":"IF(Stammdaten!$A$2=\"\",\"\",YEAR(A537))","v":""}]
[{"$f":"Analysedaten!A538","v":""},{"$f":"Berechnungsblatt!C539","v":""},{"$f":"Berechnungsblatt!X539","v":""},{"$f":"Berechnungsblatt!C541","v":""},{"$f":"IF(Stammdaten!$A$2=\"\",\"\",D538-B538)","v":""},{"$f":"IF(Stammdaten!$A$2=\"\",\"\",E538/B538)","v":""},{"$f":"IF(Stammdaten!$A$2=\"\",\"\",ABS(E538))","v":""},{"$f":"IF(Stammdaten!$A$2=\"\",\"\",D538-C538)","v":""},{"$f":"IF(Stammdaten!$A$2=\"\",\"\",H538/C538)","v":""},{"$f":"IF(Stammdaten!$A$2=\"\",\"\",ABS(H538))","v":""},{"$f":"IF(Stammdaten!$A$2=\"\",\"\",IF(F538>35%,1,\"\"))","v":""},{"$f":"IF(Stammdaten!$A$2=\"\",\"\",IF(I538>35%,1,\"\"))","v":""},{"$f":"IF(Stammdaten!$A$2=\"\",\"\",MONTH(A538))","v":""},{"$f":"IF(Stammdaten!$A$2=\"\",\"\",YEAR(A538))","v":""}]
[{"$f":"Analysedaten!A539","v":""},{"$f":"Berechnungsblatt!C540","v":""},{"$f":"Berechnungsblatt!X540","v":""},{"$f":"Berechnungsblatt!C542","v":""},{"$f":"IF(Stammdaten!$A$2=\"\",\"\",D539-B539)","v":""},{"$f":"IF(Stammdaten!$A$2=\"\",\"\",E539/B539)","v":""},{"$f":"IF(Stammdaten!$A$2=\"\",\"\",ABS(E539))","v":""},{"$f":"IF(Stammdaten!$A$2=\"\",\"\",D539-C539)","v":""},{"$f":"IF(Stammdaten!$A$2=\"\",\"\",H539/C539)","v":""},{"$f":"IF(Stammdaten!$A$2=\"\",\"\",ABS(H539))","v":""},{"$f":"IF(Stammdaten!$A$2=\"\",\"\",IF(F539>35%,1,\"\"))","v":""},{"$f":"IF(Stammdaten!$A$2=\"\",\"\",IF(I539>35%,1,\"\"))","v":""},{"$f":"IF(Stammdaten!$A$2=\"\",\"\",MONTH(A539))","v":""},{"$f":"IF(Stammdaten!$A$2=\"\",\"\",YEAR(A539))","v":""}]
[{"$f":"Analysedaten!A540","v":""},{"$f":"Berechnungsblatt!C541","v":""},{"$f":"Berechnungsblatt!X541","v":""},{"$f":"Berechnungsblatt!C543","v":""},{"$f":"IF(Stammdaten!$A$2=\"\",\"\",D540-B540)","v":""},{"$f":"IF(Stammdaten!$A$2=\"\",\"\",E540/B540)","v":""},{"$f":"IF(Stammdaten!$A$2=\"\",\"\",ABS(E540))","v":""},{"$f":"IF(Stammdaten!$A$2=\"\",\"\",D540-C540)","v":""},{"$f":"IF(Stammdaten!$A$2=\"\",\"\",H540/C540)","v":""},{"$f":"IF(Stammdaten!$A$2=\"\",\"\",ABS(H540))","v":""},{"$f":"IF(Stammdaten!$A$2=\"\",\"\",IF(F540>35%,1,\"\"))","v":""},{"$f":"IF(Stammdaten!$A$2=\"\",\"\",IF(I540>35%,1,\"\"))","v":""},{"$f":"IF(Stammdaten!$A$2=\"\",\"\",MONTH(A540))","v":""},{"$f":"IF(Stammdaten!$A$2=\"\",\"\",YEAR(A540))","v":""}]
[{"$f":"Analysedaten!A541","v":""},{"$f":"Berechnungsblatt!C542","v":""},{"$f":"Berechnungsblatt!X542","v":""},{"$f":"Berechnungsblatt!C544","v":""},{"$f":"IF(Stammdaten!$A$2=\"\",\"\",D541-B541)","v":""},{"$f":"IF(Stammdaten!$A$2=\"\",\"\",E541/B541)","v":""},{"$f":"IF(Stammdaten!$A$2=\"\",\"\",ABS(E541))","v":""},{"$f":"IF(Stammdaten!$A$2=\"\",\"\",D541-C541)","v":""},{"$f":"IF(Stammdaten!$A$2=\"\",\"\",H541/C541)","v":""},{"$f":"IF(Stammdaten!$A$2=\"\",\"\",ABS(H541))","v":""},{"$f":"IF(Stammdaten!$A$2=\"\",\"\",IF(F541>35%,1,\"\"))","v":""},{"$f":"IF(Stammdaten!$A$2=\"\",\"\",IF(I541>35%,1,\"\"))","v":""},{"$f":"IF(Stammdaten!$A$2=\"\",\"\",MONTH(A541))","v":""},{"$f":"IF(Stammdaten!$A$2=\"\",\"\",YEAR(A541))","v":""}]
[{"$f":"Analysedaten!A542","v":""},{"$f":"Berechnungsblatt!C543","v":""},{"$f":"Berechnungsblatt!X543","v":""},{"$f":"Berechnungsblatt!C545","v":""},{"$f":"IF(Stammdaten!$A$2=\"\",\"\",D542-B542)","v":""},{"$f":"IF(Stammdaten!$A$2=\"\",\"\",E542/B542)","v":""},{"$f":"IF(Stammdaten!$A$2=\"\",\"\",ABS(E542))","v":""},{"$f":"IF(Stammdaten!$A$2=\"\",\"\",D542-C542)","v":""},{"$f":"IF(Stammdaten!$A$2=\"\",\"\",H542/C542)","v":""},{"$f":"IF(Stammdaten!$A$2=\"\",\"\",ABS(H542))","v":""},{"$f":"IF(Stammdaten!$A$2=\"\",\"\",IF(F542>35%,1,\"\"))","v":""},{"$f":"IF(Stammdaten!$A$2=\"\",\"\",IF(I542>35%,1,\"\"))","v":""},{"$f":"IF(Stammdaten!$A$2=\"\",\"\",MONTH(A542))","v":""},{"$f":"IF(Stammdaten!$A$2=\"\",\"\",YEAR(A542))","v":""}]
[{"$f":"Analysedaten!A543","v":""},{"$f":"Berechnungsblatt!C544","v":""},{"$f":"Berechnungsblatt!X544","v":""},{"$f":"Berechnungsblatt!C546","v":""},{"$f":"IF(Stammdaten!$A$2=\"\",\"\",D543-B543)","v":""},{"$f":"IF(Stammdaten!$A$2=\"\",\"\",E543/B543)","v":""},{"$f":"IF(Stammdaten!$A$2=\"\",\"\",ABS(E543))","v":""},{"$f":"IF(Stammdaten!$A$2=\"\",\"\",D543-C543)","v":""},{"$f":"IF(Stammdaten!$A$2=\"\",\"\",H543/C543)","v":""},{"$f":"IF(Stammdaten!$A$2=\"\",\"\",ABS(H543))","v":""},{"$f":"IF(Stammdaten!$A$2=\"\",\"\",IF(F543>35%,1,\"\"))","v":""},{"$f":"IF(Stammdaten!$A$2=\"\",\"\",IF(I543>35%,1,\"\"))","v":""},{"$f":"IF(Stammdaten!$A$2=\"\",\"\",MONTH(A543))","v":""},{"$f":"IF(Stammdaten!$A$2=\"\",\"\",YEAR(A543))","v":""}]
[{"$f":"Analysedaten!A544","v":""},{"$f":"Berechnungsblatt!C545","v":""},{"$f":"Berechnungsblatt!X545","v":""},{"$f":"Berechnungsblatt!C547","v":""},{"$f":"IF(Stammdaten!$A$2=\"\",\"\",D544-B544)","v":""},{"$f":"IF(Stammdaten!$A$2=\"\",\"\",E544/B544)","v":""},{"$f":"IF(Stammdaten!$A$2=\"\",\"\",ABS(E544))","v":""},{"$f":"IF(Stammdaten!$A$2=\"\",\"\",D544-C544)","v":""},{"$f":"IF(Stammdaten!$A$2=\"\",\"\",H544/C544)","v":""},{"$f":"IF(Stammdaten!$A$2=\"\",\"\",ABS(H544))","v":""},{"$f":"IF(Stammdaten!$A$2=\"\",\"\",IF(F544>35%,1,\"\"))","v":""},{"$f":"IF(Stammdaten!$A$2=\"\",\"\",IF(I544>35%,1,\"\"))","v":""},{"$f":"IF(Stammdaten!$A$2=\"\",\"\",MONTH(A544))","v":""},{"$f":"IF(Stammdaten!$A$2=\"\",\"\",YEAR(A544))","v":""}]
[{"$f":"Analysedaten!A545","v":""},{"$f":"Berechnungsblatt!C546","v":""},{"$f":"Berechnungsblatt!X546","v":""},{"$f":"Berechnungsblatt!C548","v":""},{"$f":"IF(Stammdaten!$A$2=\"\",\"\",D545-B545)","v":""},{"$f":"IF(Stammdaten!$A$2=\"\",\"\",E545/B545)","v":""},{"$f":"IF(Stammdaten!$A$2=\"\",\"\",ABS(E545))","v":""},{"$f":"IF(Stammdaten!$A$2=\"\",\"\",D545-C545)","v":""},{"$f":"IF(Stammdaten!$A$2=\"\",\"\",H545/C545)","v":""},{"$f":"IF(Stammdaten!$A$2=\"\",\"\",ABS(H545))","v":""},{"$f":"IF(Stammdaten!$A$2=\"\",\"\",IF(F545>35%,1,\"\"))","v":""},{"$f":"IF(Stammdaten!$A$2=\"\",\"\",IF(I545>35%,1,\"\"))","v":""},{"$f":"IF(Stammdaten!$A$2=\"\",\"\",MONTH(A545))","v":""},{"$f":"IF(Stammdaten!$A$2=\"\",\"\",YEAR(A545))","v":""}]
[{"$f":"Analysedaten!A546","v":""},{"$f":"Berechnungsblatt!C547","v":""},{"$f":"Berechnungsblatt!X547","v":""},{"$f":"Berechnungsblatt!C549","v":""},{"$f":"IF(Stammdaten!$A$2=\"\",\"\",D546-B546)","v":""},{"$f":"IF(Stammdaten!$A$2=\"\",\"\",E546/B546)","v":""},{"$f":"IF(Stammdaten!$A$2=\"\",\"\",ABS(E546))","v":""},{"$f":"IF(Stammdaten!$A$2=\"\",\"\",D546-C546)","v":""},{"$f":"IF(Stammdaten!$A$2=\"\",\"\",H546/C546)","v":""},{"$f":"IF(Stammdaten!$A$2=\"\",\"\",ABS(H546))","v":""},{"$f":"IF(Stammdaten!$A$2=\"\",\"\",IF(F546>35%,1,\"\"))","v":""},{"$f":"IF(Stammdaten!$A$2=\"\",\"\",IF(I546>35%,1,\"\"))","v":""},{"$f":"IF(Stammdaten!$A$2=\"\",\"\",MONTH(A546))","v":""},{"$f":"IF(Stammdaten!$A$2=\"\",\"\",YEAR(A546))","v":""}]
[{"$f":"Analysedaten!A547","v":""},{"$f":"Berechnungsblatt!C548","v":""},{"$f":"Berechnungsblatt!X548","v":""},{"$f":"Berechnungsblatt!C550","v":""},{"$f":"IF(Stammdaten!$A$2=\"\",\"\",D547-B547)","v":""},{"$f":"IF(Stammdaten!$A$2=\"\",\"\",E547/B547)","v":""},{"$f":"IF(Stammdaten!$A$2=\"\",\"\",ABS(E547))","v":""},{"$f":"IF(Stammdaten!$A$2=\"\",\"\",D547-C547)","v":""},{"$f":"IF(Stammdaten!$A$2=\"\",\"\",H547/C547)","v":""},{"$f":"IF(Stammdaten!$A$2=\"\",\"\",ABS(H547))","v":""},{"$f":"IF(Stammdaten!$A$2=\"\",\"\",IF(F547>35%,1,\"\"))","v":""},{"$f":"IF(Stammdaten!$A$2=\"\",\"\",IF(I547>35%,1,\"\"))","v":""},{"$f":"IF(Stammdaten!$A$2=\"\",\"\",MONTH(A547))","v":""},{"$f":"IF(Stammdaten!$A$2=\"\",\"\",YEAR(A547))","v":""}]
[{"$f":"Analysedaten!A548","v":""},{"$f":"Berechnungsblatt!C549","v":""},{"$f":"Berechnungsblatt!X549","v":""},{"$f":"Berechnungsblatt!C551","v":""},{"$f":"IF(Stammdaten!$A$2=\"\",\"\",D548-B548)","v":""},{"$f":"IF(Stammdaten!$A$2=\"\",\"\",E548/B548)","v":""},{"$f":"IF(Stammdaten!$A$2=\"\",\"\",ABS(E548))","v":""},{"$f":"IF(Stammdaten!$A$2=\"\",\"\",D548-C548)","v":""},{"$f":"IF(Stammdaten!$A$2=\"\",\"\",H548/C548)","v":""},{"$f":"IF(Stammdaten!$A$2=\"\",\"\",ABS(H548))","v":""},{"$f":"IF(Stammdaten!$A$2=\"\",\"\",IF(F548>35%,1,\"\"))","v":""},{"$f":"IF(Stammdaten!$A$2=\"\",\"\",IF(I548>35%,1,\"\"))","v":""},{"$f":"IF(Stammdaten!$A$2=\"\",\"\",MONTH(A548))","v":""},{"$f":"IF(Stammdaten!$A$2=\"\",\"\",YEAR(A548))","v":""}]
[{"$f":"Analysedaten!A549","v":""},{"$f":"Berechnungsblatt!C550","v":""},{"$f":"Berechnungsblatt!X550","v":""},{"$f":"Berechnungsblatt!C552","v":""},{"$f":"IF(Stammdaten!$A$2=\"\",\"\",D549-B549)","v":""},{"$f":"IF(Stammdaten!$A$2=\"\",\"\",E549/B549)","v":""},{"$f":"IF(Stammdaten!$A$2=\"\",\"\",ABS(E549))","v":""},{"$f":"IF(Stammdaten!$A$2=\"\",\"\",D549-C549)","v":""},{"$f":"IF(Stammdaten!$A$2=\"\",\"\",H549/C549)","v":""},{"$f":"IF(Stammdaten!$A$2=\"\",\"\",ABS(H549))","v":""},{"$f":"IF(Stammdaten!$A$2=\"\",\"\",IF(F549>35%,1,\"\"))","v":""},{"$f":"IF(Stammdaten!$A$2=\"\",\"\",IF(I549>35%,1,\"\"))","v":""},{"$f":"IF(Stammdaten!$A$2=\"\",\"\",MONTH(A549))","v":""},{"$f":"IF(Stammdaten!$A$2=\"\",\"\",YEAR(A549))","v":""}]
[{"$f":"Analysedaten!A550","v":""},{"$f":"Berechnungsblatt!C551","v":""},{"$f":"Berechnungsblatt!X551","v":""},{"$f":"Berechnungsblatt!C553","v":""},{"$f":"IF(Stammdaten!$A$2=\"\",\"\",D550-B550)","v":""},{"$f":"IF(Stammdaten!$A$2=\"\",\"\",E550/B550)","v":""},{"$f":"IF(Stammdaten!$A$2=\"\",\"\",ABS(E550))","v":""},{"$f":"IF(Stammdaten!$A$2=\"\",\"\",D550-C550)","v":""},{"$f":"IF(Stammdaten!$A$2=\"\",\"\",H550/C550)","v":""},{"$f":"IF(Stammdaten!$A$2=\"\",\"\",ABS(H550))","v":""},{"$f":"IF(Stammdaten!$A$2=\"\",\"\",IF(F550>35%,1,\"\"))","v":""},{"$f":"IF(Stammdaten!$A$2=\"\",\"\",IF(I550>35%,1,\"\"))","v":""},{"$f":"IF(Stammdaten!$A$2=\"\",\"\",MONTH(A550))","v":""},{"$f":"IF(Stammdaten!$A$2=\"\",\"\",YEAR(A550))","v":""}]
[{"$f":"Analysedaten!A551","v":""},{"$f":"Berechnungsblatt!C552","v":""},{"$f":"Berechnungsblatt!X552","v":""},{"$f":"Berechnungsblatt!C554","v":""},{"$f":"IF(Stammdaten!$A$2=\"\",\"\",D551-B551)","v":""},{"$f":"IF(Stammdaten!$A$2=\"\",\"\",E551/B551)","v":""},{"$f":"IF(Stammdaten!$A$2=\"\",\"\",ABS(E551))","v":""},{"$f":"IF(Stammdaten!$A$2=\"\",\"\",D551-C551)","v":""},{"$f":"IF(Stammdaten!$A$2=\"\",\"\",H551/C551)","v":""},{"$f":"IF(Stammdaten!$A$2=\"\",\"\",ABS(H551))","v":""},{"$f":"IF(Stammdaten!$A$2=\"\",\"\",IF(F551>35%,1,\"\"))","v":""},{"$f":"IF(Stammdaten!$A$2=\"\",\"\",IF(I551>35%,1,\"\"))","v":""},{"$f":"IF(Stammdaten!$A$2=\"\",\"\",MONTH(A551))","v":""},{"$f":"IF(Stammdaten!$A$2=\"\",\"\",YEAR(A551))","v":""}]
[{"$f":"Analysedaten!A552","v":""},{"$f":"Berechnungsblatt!C553","v":""},{"$f":"Berechnungsblatt!X553","v":""},{"$f":"Berechnungsblatt!C555","v":""},{"$f":"IF(Stammdaten!$A$2=\"\",\"\",D552-B552)","v":""},{"$f":"IF(Stammdaten!$A$2=\"\",\"\",E552/B552)","v":""},{"$f":"IF(Stammdaten!$A$2=\"\",\"\",ABS(E552))","v":""},{"$f":"IF(Stammdaten!$A$2=\"\",\"\",D552-C552)","v":""},{"$f":"IF(Stammdaten!$A$2=\"\",\"\",H552/C552)","v":""},{"$f":"IF(Stammdaten!$A$2=\"\",\"\",ABS(H552))","v":""},{"$f":"IF(Stammdaten!$A$2=\"\",\"\",IF(F552>35%,1,\"\"))","v":""},{"$f":"IF(Stammdaten!$A$2=\"\",\"\",IF(I552>35%,1,\"\"))","v":""},{"$f":"IF(Stammdaten!$A$2=\"\",\"\",MONTH(A552))","v":""},{"$f":"IF(Stammdaten!$A$2=\"\",\"\",YEAR(A552))","v":""}]
[{"$f":"Analysedaten!A553","v":""},{"$f":"Berechnungsblatt!C554","v":""},{"$f":"Berechnungsblatt!X554","v":""},{"$f":"Berechnungsblatt!C556","v":""},{"$f":"IF(Stammdaten!$A$2=\"\",\"\",D553-B553)","v":""},{"$f":"IF(Stammdaten!$A$2=\"\",\"\",E553/B553)","v":""},{"$f":"IF(Stammdaten!$A$2=\"\",\"\",ABS(E553))","v":""},{"$f":"IF(Stammdaten!$A$2=\"\",\"\",D553-C553)","v":""},{"$f":"IF(Stammdaten!$A$2=\"\",\"\",H553/C553)","v":""},{"$f":"IF(Stammdaten!$A$2=\"\",\"\",ABS(H553))","v":""},{"$f":"IF(Stammdaten!$A$2=\"\",\"\",IF(F553>35%,1,\"\"))","v":""},{"$f":"IF(Stammdaten!$A$2=\"\",\"\",IF(I553>35%,1,\"\"))","v":""},{"$f":"IF(Stammdaten!$A$2=\"\",\"\",MONTH(A553))","v":""},{"$f":"IF(Stammdaten!$A$2=\"\",\"\",YEAR(A553))","v":""}]
[{"$f":"Analysedaten!A554","v":""},{"$f":"Berechnungsblatt!C555","v":""},{"$f":"Berechnungsblatt!X555","v":""},{"$f":"Berechnungsblatt!C557","v":""},{"$f":"IF(Stammdaten!$A$2=\"\",\"\",D554-B554)","v":""},{"$f":"IF(Stammdaten!$A$2=\"\",\"\",E554/B554)","v":""},{"$f":"IF(Stammdaten!$A$2=\"\",\"\",ABS(E554))","v":""},{"$f":"IF(Stammdaten!$A$2=\"\",\"\",D554-C554)","v":""},{"$f":"IF(Stammdaten!$A$2=\"\",\"\",H554/C554)","v":""},{"$f":"IF(Stammdaten!$A$2=\"\",\"\",ABS(H554))","v":""},{"$f":"IF(Stammdaten!$A$2=\"\",\"\",IF(F554>35%,1,\"\"))","v":""},{"$f":"IF(Stammdaten!$A$2=\"\",\"\",IF(I554>35%,1,\"\"))","v":""},{"$f":"IF(Stammdaten!$A$2=\"\",\"\",MONTH(A554))","v":""},{"$f":"IF(Stammdaten!$A$2=\"\",\"\",YEAR(A554))","v":""}]
[{"$f":"Analysedaten!A555","v":""},{"$f":"Berechnungsblatt!C556","v":""},{"$f":"Berechnungsblatt!X556","v":""},{"$f":"Berechnungsblatt!C558","v":""},{"$f":"IF(Stammdaten!$A$2=\"\",\"\",D555-B555)","v":""},{"$f":"IF(Stammdaten!$A$2=\"\",\"\",E555/B555)","v":""},{"$f":"IF(Stammdaten!$A$2=\"\",\"\",ABS(E555))","v":""},{"$f":"IF(Stammdaten!$A$2=\"\",\"\",D555-C555)","v":""},{"$f":"IF(Stammdaten!$A$2=\"\",\"\",H555/C555)","v":""},{"$f":"IF(Stammdaten!$A$2=\"\",\"\",ABS(H555))","v":""},{"$f":"IF(Stammdaten!$A$2=\"\",\"\",IF(F555>35%,1,\"\"))","v":""},{"$f":"IF(Stammdaten!$A$2=\"\",\"\",IF(I555>35%,1,\"\"))","v":""},{"$f":"IF(Stammdaten!$A$2=\"\",\"\",MONTH(A555))","v":""},{"$f":"IF(Stammdaten!$A$2=\"\",\"\",YEAR(A555))","v":""}]
[{"$f":"Analysedaten!A556","v":""},{"$f":"Berechnungsblatt!C557","v":""},{"$f":"Berechnungsblatt!X557","v":""},{"$f":"Berechnungsblatt!C559","v":""},{"$f":"IF(Stammdaten!$A$2=\"\",\"\",D556-B556)","v":""},{"$f":"IF(Stammdaten!$A$2=\"\",\"\",E556/B556)","v":""},{"$f":"IF(Stammdaten!$A$2=\"\",\"\",ABS(E556))","v":""},{"$f":"IF(Stammdaten!$A$2=\"\",\"\",D556-C556)","v":""},{"$f":"IF(Stammdaten!$A$2=\"\",\"\",H556/C556)","v":""},{"$f":"IF(Stammdaten!$A$2=\"\",\"\",ABS(H556))","v":""},{"$f":"IF(Stammdaten!$A$2=\"\",\"\",IF(F556>35%,1,\"\"))","v":""},{"$f":"IF(Stammdaten!$A$2=\"\",\"\",IF(I556>35%,1,\"\"))","v":""},{"$f":"IF(Stammdaten!$A$2=\"\",\"\",MONTH(A556))","v":""},{"$f":"IF(Stammdaten!$A$2=\"\",\"\",YEAR(A556))","v":""}]
[{"$f":"Analysedaten!A557","v":""},{"$f":"Berechnungsblatt!C558","v":""},{"$f":"Berechnungsblatt!X558","v":""},{"$f":"Berechnungsblatt!C560","v":""},{"$f":"IF(Stammdaten!$A$2=\"\",\"\",D557-B557)","v":""},{"$f":"IF(Stammdaten!$A$2=\"\",\"\",E557/B557)","v":""},{"$f":"IF(Stammdaten!$A$2=\"\",\"\",ABS(E557))","v":""},{"$f":"IF(Stammdaten!$A$2=\"\",\"\",D557-C557)","v":""},{"$f":"IF(Stammdaten!$A$2=\"\",\"\",H557/C557)","v":""},{"$f":"IF(Stammdaten!$A$2=\"\",\"\",ABS(H557))","v":""},{"$f":"IF(Stammdaten!$A$2=\"\",\"\",IF(F557>35%,1,\"\"))","v":""},{"$f":"IF(Stammdaten!$A$2=\"\",\"\",IF(I557>35%,1,\"\"))","v":""},{"$f":"IF(Stammdaten!$A$2=\"\",\"\",MONTH(A557))","v":""},{"$f":"IF(Stammdaten!$A$2=\"\",\"\",YEAR(A557))","v":""}]
[{"$f":"Analysedaten!A558","v":""},{"$f":"Berechnungsblatt!C559","v":""},{"$f":"Berechnungsblatt!X559","v":""},{"$f":"Berechnungsblatt!C561","v":""},{"$f":"IF(Stammdaten!$A$2=\"\",\"\",D558-B558)","v":""},{"$f":"IF(Stammdaten!$A$2=\"\",\"\",E558/B558)","v":""},{"$f":"IF(Stammdaten!$A$2=\"\",\"\",ABS(E558))","v":""},{"$f":"IF(Stammdaten!$A$2=\"\",\"\",D558-C558)","v":""},{"$f":"IF(Stammdaten!$A$2=\"\",\"\",H558/C558)","v":""},{"$f":"IF(Stammdaten!$A$2=\"\",\"\",ABS(H558))","v":""},{"$f":"IF(Stammdaten!$A$2=\"\",\"\",IF(F558>35%,1,\"\"))","v":""},{"$f":"IF(Stammdaten!$A$2=\"\",\"\",IF(I558>35%,1,\"\"))","v":""},{"$f":"IF(Stammdaten!$A$2=\"\",\"\",MONTH(A558))","v":""},{"$f":"IF(Stammdaten!$A$2=\"\",\"\",YEAR(A558))","v":""}]
[{"$f":"Analysedaten!A559","v":""},{"$f":"Berechnungsblatt!C560","v":""},{"$f":"Berechnungsblatt!X560","v":""},{"$f":"Berechnungsblatt!C562","v":""},{"$f":"IF(Stammdaten!$A$2=\"\",\"\",D559-B559)","v":""},{"$f":"IF(Stammdaten!$A$2=\"\",\"\",E559/B559)","v":""},{"$f":"IF(Stammdaten!$A$2=\"\",\"\",ABS(E559))","v":""},{"$f":"IF(Stammdaten!$A$2=\"\",\"\",D559-C559)","v":""},{"$f":"IF(Stammdaten!$A$2=\"\",\"\",H559/C559)","v":""},{"$f":"IF(Stammdaten!$A$2=\"\",\"\",ABS(H559))","v":""},{"$f":"IF(Stammdaten!$A$2=\"\",\"\",IF(F559>35%,1,\"\"))","v":""},{"$f":"IF(Stammdaten!$A$2=\"\",\"\",IF(I559>35%,1,\"\"))","v":""},{"$f":"IF(Stammdaten!$A$2=\"\",\"\",MONTH(A559))","v":""},{"$f":"IF(Stammdaten!$A$2=\"\",\"\",YEAR(A559))","v":""}]
[{"$f":"Analysedaten!A560","v":""},{"$f":"Berechnungsblatt!C561","v":""},{"$f":"Berechnungsblatt!X561","v":""},{"$f":"Berechnungsblatt!C563","v":""},{"$f":"IF(Stammdaten!$A$2=\"\",\"\",D560-B560)","v":""},{"$f":"IF(Stammdaten!$A$2=\"\",\"\",E560/B560)","v":""},{"$f":"IF(Stammdaten!$A$2=\"\",\"\",ABS(E560))","v":""},{"$f":"IF(Stammdaten!$A$2=\"\",\"\",D560-C560)","v":""},{"$f":"IF(Stammdaten!$A$2=\"\",\"\",H560/C560)","v":""},{"$f":"IF(Stammdaten!$A$2=\"\",\"\",ABS(H560))","v":""},{"$f":"IF(Stammdaten!$A$2=\"\",\"\",IF(F560>35%,1,\"\"))","v":""},{"$f":"IF(Stammdaten!$A$2=\"\",\"\",IF(I560>35%,1,\"\"))","v":""},{"$f":"IF(Stammdaten!$A$2=\"\",\"\",MONTH(A560))","v":""},{"$f":"IF(Stammdaten!$A$2=\"\",\"\",YEAR(A560))","v":""}]
[{"$f":"Analysedaten!A561","v":""},{"$f":"Berechnungsblatt!C562","v":""},{"$f":"Berechnungsblatt!X562","v":""},{"$f":"Berechnungsblatt!C564","v":""},{"$f":"IF(Stammdaten!$A$2=\"\",\"\",D561-B561)","v":""},{"$f":"IF(Stammdaten!$A$2=\"\",\"\",E561/B561)","v":""},{"$f":"IF(Stammdaten!$A$2=\"\",\"\",ABS(E561))","v":""},{"$f":"IF(Stammdaten!$A$2=\"\",\"\",D561-C561)","v":""},{"$f":"IF(Stammdaten!$A$2=\"\",\"\",H561/C561)","v":""},{"$f":"IF(Stammdaten!$A$2=\"\",\"\",ABS(H561))","v":""},{"$f":"IF(Stammdaten!$A$2=\"\",\"\",IF(F561>35%,1,\"\"))","v":""},{"$f":"IF(Stammdaten!$A$2=\"\",\"\",IF(I561>35%,1,\"\"))","v":""},{"$f":"IF(Stammdaten!$A$2=\"\",\"\",MONTH(A561))","v":""},{"$f":"IF(Stammdaten!$A$2=\"\",\"\",YEAR(A561))","v":""}]
[{"$f":"Analysedaten!A562","v":""},{"$f":"Berechnungsblatt!C563","v":""},{"$f":"Berechnungsblatt!X563","v":""},{"$f":"Berechnungsblatt!C565","v":""},{"$f":"IF(Stammdaten!$A$2=\"\",\"\",D562-B562)","v":""},{"$f":"IF(Stammdaten!$A$2=\"\",\"\",E562/B562)","v":""},{"$f":"IF(Stammdaten!$A$2=\"\",\"\",ABS(E562))","v":""},{"$f":"IF(Stammdaten!$A$2=\"\",\"\",D562-C562)","v":""},{"$f":"IF(Stammdaten!$A$2=\"\",\"\",H562/C562)","v":""},{"$f":"IF(Stammdaten!$A$2=\"\",\"\",ABS(H562))","v":""},{"$f":"IF(Stammdaten!$A$2=\"\",\"\",IF(F562>35%,1,\"\"))","v":""},{"$f":"IF(Stammdaten!$A$2=\"\",\"\",IF(I562>35%,1,\"\"))","v":""},{"$f":"IF(Stammdaten!$A$2=\"\",\"\",MONTH(A562))","v":""},{"$f":"IF(Stammdaten!$A$2=\"\",\"\",YEAR(A562))","v":""}]
[{"$f":"Analysedaten!A563","v":""},{"$f":"Berechnungsblatt!C564","v":""},{"$f":"Berechnungsblatt!X564","v":""},{"$f":"Berechnungsblatt!C566","v":""},{"$f":"IF(Stammdaten!$A$2=\"\",\"\",D563-B563)","v":""},{"$f":"IF(Stammdaten!$A$2=\"\",\"\",E563/B563)","v":""},{"$f":"IF(Stammdaten!$A$2=\"\",\"\",ABS(E563))","v":""},{"$f":"IF(Stammdaten!$A$2=\"\",\"\",D563-C563)","v":""},{"$f":"IF(Stammdaten!$A$2=\"\",\"\",H563/C563)","v":""},{"$f":"IF(Stammdaten!$A$2=\"\",\"\",ABS(H563))","v":""},{"$f":"IF(Stammdaten!$A$2=\"\",\"\",IF(F563>35%,1,\"\"))","v":""},{"$f":"IF(Stammdaten!$A$2=\"\",\"\",IF(I563>35%,1,\"\"))","v":""},{"$f":"IF(Stammdaten!$A$2=\"\",\"\",MONTH(A563))","v":""},{"$f":"IF(Stammdaten!$A$2=\"\",\"\",YEAR(A563))","v":""}]
[{"$f":"Analysedaten!A564","v":""},{"$f":"Berechnungsblatt!C565","v":""},{"$f":"Berechnungsblatt!X565","v":""},{"$f":"Berechnungsblatt!C567","v":""},{"$f":"IF(Stammdaten!$A$2=\"\",\"\",D564-B564)","v":""},{"$f":"IF(Stammdaten!$A$2=\"\",\"\",E564/B564)","v":""},{"$f":"IF(Stammdaten!$A$2=\"\",\"\",ABS(E564))","v":""},{"$f":"IF(Stammdaten!$A$2=\"\",\"\",D564-C564)","v":""},{"$f":"IF(Stammdaten!$A$2=\"\",\"\",H564/C564)","v":""},{"$f":"IF(Stammdaten!$A$2=\"\",\"\",ABS(H564))","v":""},{"$f":"IF(Stammdaten!$A$2=\"\",\"\",IF(F564>35%,1,\"\"))","v":""},{"$f":"IF(Stammdaten!$A$2=\"\",\"\",IF(I564>35%,1,\"\"))","v":""},{"$f":"IF(Stammdaten!$A$2=\"\",\"\",MONTH(A564))","v":""},{"$f":"IF(Stammdaten!$A$2=\"\",\"\",YEAR(A564))","v":""}]
[{"$f":"Analysedaten!A565","v":""},{"$f":"Berechnungsblatt!C566","v":""},{"$f":"Berechnungsblatt!X566","v":""},{"$f":"Berechnungsblatt!C568","v":""},{"$f":"IF(Stammdaten!$A$2=\"\",\"\",D565-B565)","v":""},{"$f":"IF(Stammdaten!$A$2=\"\",\"\",E565/B565)","v":""},{"$f":"IF(Stammdaten!$A$2=\"\",\"\",ABS(E565))","v":""},{"$f":"IF(Stammdaten!$A$2=\"\",\"\",D565-C565)","v":""},{"$f":"IF(Stammdaten!$A$2=\"\",\"\",H565/C565)","v":""},{"$f":"IF(Stammdaten!$A$2=\"\",\"\",ABS(H565))","v":""},{"$f":"IF(Stammdaten!$A$2=\"\",\"\",IF(F565>35%,1,\"\"))","v":""},{"$f":"IF(Stammdaten!$A$2=\"\",\"\",IF(I565>35%,1,\"\"))","v":""},{"$f":"IF(Stammdaten!$A$2=\"\",\"\",MONTH(A565))","v":""},{"$f":"IF(Stammdaten!$A$2=\"\",\"\",YEAR(A565))","v":""}]
[{"$f":"Analysedaten!A566","v":""},{"$f":"Berechnungsblatt!C567","v":""},{"$f":"Berechnungsblatt!X567","v":""},{"$f":"Berechnungsblatt!C569","v":""},{"$f":"IF(Stammdaten!$A$2=\"\",\"\",D566-B566)","v":""},{"$f":"IF(Stammdaten!$A$2=\"\",\"\",E566/B566)","v":""},{"$f":"IF(Stammdaten!$A$2=\"\",\"\",ABS(E566))","v":""},{"$f":"IF(Stammdaten!$A$2=\"\",\"\",D566-C566)","v":""},{"$f":"IF(Stammdaten!$A$2=\"\",\"\",H566/C566)","v":""},{"$f":"IF(Stammdaten!$A$2=\"\",\"\",ABS(H566))","v":""},{"$f":"IF(Stammdaten!$A$2=\"\",\"\",IF(F566>35%,1,\"\"))","v":""},{"$f":"IF(Stammdaten!$A$2=\"\",\"\",IF(I566>35%,1,\"\"))","v":""},{"$f":"IF(Stammdaten!$A$2=\"\",\"\",MONTH(A566))","v":""},{"$f":"IF(Stammdaten!$A$2=\"\",\"\",YEAR(A566))","v":""}]
[{"$f":"Analysedaten!A567","v":""},{"$f":"Berechnungsblatt!C568","v":""},{"$f":"Berechnungsblatt!X568","v":""},{"$f":"Berechnungsblatt!C570","v":""},{"$f":"IF(Stammdaten!$A$2=\"\",\"\",D567-B567)","v":""},{"$f":"IF(Stammdaten!$A$2=\"\",\"\",E567/B567)","v":""},{"$f":"IF(Stammdaten!$A$2=\"\",\"\",ABS(E567))","v":""},{"$f":"IF(Stammdaten!$A$2=\"\",\"\",D567-C567)","v":""},{"$f":"IF(Stammdaten!$A$2=\"\",\"\",H567/C567)","v":""},{"$f":"IF(Stammdaten!$A$2=\"\",\"\",ABS(H567))","v":""},{"$f":"IF(Stammdaten!$A$2=\"\",\"\",IF(F567>35%,1,\"\"))","v":""},{"$f":"IF(Stammdaten!$A$2=\"\",\"\",IF(I567>35%,1,\"\"))","v":""},{"$f":"IF(Stammdaten!$A$2=\"\",\"\",MONTH(A567))","v":""},{"$f":"IF(Stammdaten!$A$2=\"\",\"\",YEAR(A567))","v":""}]
[{"$f":"Analysedaten!A568","v":""},{"$f":"Berechnungsblatt!C569","v":""},{"$f":"Berechnungsblatt!X569","v":""},{"$f":"Berechnungsblatt!C571","v":""},{"$f":"IF(Stammdaten!$A$2=\"\",\"\",D568-B568)","v":""},{"$f":"IF(Stammdaten!$A$2=\"\",\"\",E568/B568)","v":""},{"$f":"IF(Stammdaten!$A$2=\"\",\"\",ABS(E568))","v":""},{"$f":"IF(Stammdaten!$A$2=\"\",\"\",D568-C568)","v":""},{"$f":"IF(Stammdaten!$A$2=\"\",\"\",H568/C568)","v":""},{"$f":"IF(Stammdaten!$A$2=\"\",\"\",ABS(H568))","v":""},{"$f":"IF(Stammdaten!$A$2=\"\",\"\",IF(F568>35%,1,\"\"))","v":""},{"$f":"IF(Stammdaten!$A$2=\"\",\"\",IF(I568>35%,1,\"\"))","v":""},{"$f":"IF(Stammdaten!$A$2=\"\",\"\",MONTH(A568))","v":""},{"$f":"IF(Stammdaten!$A$2=\"\",\"\",YEAR(A568))","v":""}]
[{"$f":"Analysedaten!A569","v":""},{"$f":"Berechnungsblatt!C570","v":""},{"$f":"Berechnungsblatt!X570","v":""},{"$f":"Berechnungsblatt!C572","v":""},{"$f":"IF(Stammdaten!$A$2=\"\",\"\",D569-B569)","v":""},{"$f":"IF(Stammdaten!$A$2=\"\",\"\",E569/B569)","v":""},{"$f":"IF(Stammdaten!$A$2=\"\",\"\",ABS(E569))","v":""},{"$f":"IF(Stammdaten!$A$2=\"\",\"\",D569-C569)","v":""},{"$f":"IF(Stammdaten!$A$2=\"\",\"\",H569/C569)","v":""},{"$f":"IF(Stammdaten!$A$2=\"\",\"\",ABS(H569))","v":""},{"$f":"IF(Stammdaten!$A$2=\"\",\"\",IF(F569>35%,1,\"\"))","v":""},{"$f":"IF(Stammdaten!$A$2=\"\",\"\",IF(I569>35%,1,\"\"))","v":""},{"$f":"IF(Stammdaten!$A$2=\"\",\"\",MONTH(A569))","v":""},{"$f":"IF(Stammdaten!$A$2=\"\",\"\",YEAR(A569))","v":""}]
[{"$f":"Analysedaten!A570","v":""},{"$f":"Berechnungsblatt!C571","v":""},{"$f":"Berechnungsblatt!X571","v":""},{"$f":"Berechnungsblatt!C573","v":""},{"$f":"IF(Stammdaten!$A$2=\"\",\"\",D570-B570)","v":""},{"$f":"IF(Stammdaten!$A$2=\"\",\"\",E570/B570)","v":""},{"$f":"IF(Stammdaten!$A$2=\"\",\"\",ABS(E570))","v":""},{"$f":"IF(Stammdaten!$A$2=\"\",\"\",D570-C570)","v":""},{"$f":"IF(Stammdaten!$A$2=\"\",\"\",H570/C570)","v":""},{"$f":"IF(Stammdaten!$A$2=\"\",\"\",ABS(H570))","v":""},{"$f":"IF(Stammdaten!$A$2=\"\",\"\",IF(F570>35%,1,\"\"))","v":""},{"$f":"IF(Stammdaten!$A$2=\"\",\"\",IF(I570>35%,1,\"\"))","v":""},{"$f":"IF(Stammdaten!$A$2=\"\",\"\",MONTH(A570))","v":""},{"$f":"IF(Stammdaten!$A$2=\"\",\"\",YEAR(A570))","v":""}]
[{"$f":"Analysedaten!A571","v":""},{"$f":"Berechnungsblatt!C572","v":""},{"$f":"Berechnungsblatt!X572","v":""},{"$f":"Berechnungsblatt!C574","v":""},{"$f":"IF(Stammdaten!$A$2=\"\",\"\",D571-B571)","v":""},{"$f":"IF(Stammdaten!$A$2=\"\",\"\",E571/B571)","v":""},{"$f":"IF(Stammdaten!$A$2=\"\",\"\",ABS(E571))","v":""},{"$f":"IF(Stammdaten!$A$2=\"\",\"\",D571-C571)","v":""},{"$f":"IF(Stammdaten!$A$2=\"\",\"\",H571/C571)","v":""},{"$f":"IF(Stammdaten!$A$2=\"\",\"\",ABS(H571))","v":""},{"$f":"IF(Stammdaten!$A$2=\"\",\"\",IF(F571>35%,1,\"\"))","v":""},{"$f":"IF(Stammdaten!$A$2=\"\",\"\",IF(I571>35%,1,\"\"))","v":""},{"$f":"IF(Stammdaten!$A$2=\"\",\"\",MONTH(A571))","v":""},{"$f":"IF(Stammdaten!$A$2=\"\",\"\",YEAR(A571))","v":""}]
[{"$f":"Analysedaten!A572","v":""},{"$f":"Berechnungsblatt!C573","v":""},{"$f":"Berechnungsblatt!X573","v":""},{"$f":"Berechnungsblatt!C575","v":""},{"$f":"IF(Stammdaten!$A$2=\"\",\"\",D572-B572)","v":""},{"$f":"IF(Stammdaten!$A$2=\"\",\"\",E572/B572)","v":""},{"$f":"IF(Stammdaten!$A$2=\"\",\"\",ABS(E572))","v":""},{"$f":"IF(Stammdaten!$A$2=\"\",\"\",D572-C572)","v":""},{"$f":"IF(Stammdaten!$A$2=\"\",\"\",H572/C572)","v":""},{"$f":"IF(Stammdaten!$A$2=\"\",\"\",ABS(H572))","v":""},{"$f":"IF(Stammdaten!$A$2=\"\",\"\",IF(F572>35%,1,\"\"))","v":""},{"$f":"IF(Stammdaten!$A$2=\"\",\"\",IF(I572>35%,1,\"\"))","v":""},{"$f":"IF(Stammdaten!$A$2=\"\",\"\",MONTH(A572))","v":""},{"$f":"IF(Stammdaten!$A$2=\"\",\"\",YEAR(A572))","v":""}]
[{"$f":"Analysedaten!A573","v":""},{"$f":"Berechnungsblatt!C574","v":""},{"$f":"Berechnungsblatt!X574","v":""},{"$f":"Berechnungsblatt!C576","v":""},{"$f":"IF(Stammdaten!$A$2=\"\",\"\",D573-B573)","v":""},{"$f":"IF(Stammdaten!$A$2=\"\",\"\",E573/B573)","v":""},{"$f":"IF(Stammdaten!$A$2=\"\",\"\",ABS(E573))","v":""},{"$f":"IF(Stammdaten!$A$2=\"\",\"\",D573-C573)","v":""},{"$f":"IF(Stammdaten!$A$2=\"\",\"\",H573/C573)","v":""},{"$f":"IF(Stammdaten!$A$2=\"\",\"\",ABS(H573))","v":""},{"$f":"IF(Stammdaten!$A$2=\"\",\"\",IF(F573>35%,1,\"\"))","v":""},{"$f":"IF(Stammdaten!$A$2=\"\",\"\",IF(I573>35%,1,\"\"))","v":""},{"$f":"IF(Stammdaten!$A$2=\"\",\"\",MONTH(A573))","v":""},{"$f":"IF(Stammdaten!$A$2=\"\",\"\",YEAR(A573))","v":""}]
[{"$f":"Analysedaten!A574","v":""},{"$f":"Berechnungsblatt!C575","v":""},{"$f":"Berechnungsblatt!X575","v":""},{"$f":"Berechnungsblatt!C577","v":""},{"$f":"IF(Stammdaten!$A$2=\"\",\"\",D574-B574)","v":""},{"$f":"IF(Stammdaten!$A$2=\"\",\"\",E574/B574)","v":""},{"$f":"IF(Stammdaten!$A$2=\"\",\"\",ABS(E574))","v":""},{"$f":"IF(Stammdaten!$A$2=\"\",\"\",D574-C574)","v":""},{"$f":"IF(Stammdaten!$A$2=\"\",\"\",H574/C574)","v":""},{"$f":"IF(Stammdaten!$A$2=\"\",\"\",ABS(H574))","v":""},{"$f":"IF(Stammdaten!$A$2=\"\",\"\",IF(F574>35%,1,\"\"))","v":""},{"$f":"IF(Stammdaten!$A$2=\"\",\"\",IF(I574>35%,1,\"\"))","v":""},{"$f":"IF(Stammdaten!$A$2=\"\",\"\",MONTH(A574))","v":""},{"$f":"IF(Stammdaten!$A$2=\"\",\"\",YEAR(A574))","v":""}]
[{"$f":"Analysedaten!A575","v":""},{"$f":"Berechnungsblatt!C576","v":""},{"$f":"Berechnungsblatt!X576","v":""},{"$f":"Berechnungsblatt!C578","v":""},{"$f":"IF(Stammdaten!$A$2=\"\",\"\",D575-B575)","v":""},{"$f":"IF(Stammdaten!$A$2=\"\",\"\",E575/B575)","v":""},{"$f":"IF(Stammdaten!$A$2=\"\",\"\",ABS(E575))","v":""},{"$f":"IF(Stammdaten!$A$2=\"\",\"\",D575-C575)","v":""},{"$f":"IF(Stammdaten!$A$2=\"\",\"\",H575/C575)","v":""},{"$f":"IF(Stammdaten!$A$2=\"\",\"\",ABS(H575))","v":""},{"$f":"IF(Stammdaten!$A$2=\"\",\"\",IF(F575>35%,1,\"\"))","v":""},{"$f":"IF(Stammdaten!$A$2=\"\",\"\",IF(I575>35%,1,\"\"))","v":""},{"$f":"IF(Stammdaten!$A$2=\"\",\"\",MONTH(A575))","v":""},{"$f":"IF(Stammdaten!$A$2=\"\",\"\",YEAR(A575))","v":""}]
[{"$f":"Analysedaten!A576","v":""},{"$f":"Berechnungsblatt!C577","v":""},{"$f":"Berechnungsblatt!X577","v":""},{"$f":"Berechnungsblatt!C579","v":""},{"$f":"IF(Stammdaten!$A$2=\"\",\"\",D576-B576)","v":""},{"$f":"IF(Stammdaten!$A$2=\"\",\"\",E576/B576)","v":""},{"$f":"IF(Stammdaten!$A$2=\"\",\"\",ABS(E576))","v":""},{"$f":"IF(Stammdaten!$A$2=\"\",\"\",D576-C576)","v":""},{"$f":"IF(Stammdaten!$A$2=\"\",\"\",H576/C576)","v":""},{"$f":"IF(Stammdaten!$A$2=\"\",\"\",ABS(H576))","v":""},{"$f":"IF(Stammdaten!$A$2=\"\",\"\",IF(F576>35%,1,\"\"))","v":""},{"$f":"IF(Stammdaten!$A$2=\"\",\"\",IF(I576>35%,1,\"\"))","v":""},{"$f":"IF(Stammdaten!$A$2=\"\",\"\",MONTH(A576))","v":""},{"$f":"IF(Stammdaten!$A$2=\"\",\"\",YEAR(A576))","v":""}]
[{"$f":"Analysedaten!A577","v":""},{"$f":"Berechnungsblatt!C578","v":""},{"$f":"Berechnungsblatt!X578","v":""},{"$f":"Berechnungsblatt!C580","v":""},{"$f":"IF(Stammdaten!$A$2=\"\",\"\",D577-B577)","v":""},{"$f":"IF(Stammdaten!$A$2=\"\",\"\",E577/B577)","v":""},{"$f":"IF(Stammdaten!$A$2=\"\",\"\",ABS(E577))","v":""},{"$f":"IF(Stammdaten!$A$2=\"\",\"\",D577-C577)","v":""},{"$f":"IF(Stammdaten!$A$2=\"\",\"\",H577/C577)","v":""},{"$f":"IF(Stammdaten!$A$2=\"\",\"\",ABS(H577))","v":""},{"$f":"IF(Stammdaten!$A$2=\"\",\"\",IF(F577>35%,1,\"\"))","v":""},{"$f":"IF(Stammdaten!$A$2=\"\",\"\",IF(I577>35%,1,\"\"))","v":""},{"$f":"IF(Stammdaten!$A$2=\"\",\"\",MONTH(A577))","v":""},{"$f":"IF(Stammdaten!$A$2=\"\",\"\",YEAR(A577))","v":""}]
[{"$f":"Analysedaten!A578","v":""},{"$f":"Berechnungsblatt!C579","v":""},{"$f":"Berechnungsblatt!X579","v":""},{"$f":"Berechnungsblatt!C581","v":""},{"$f":"IF(Stammdaten!$A$2=\"\",\"\",D578-B578)","v":""},{"$f":"IF(Stammdaten!$A$2=\"\",\"\",E578/B578)","v":""},{"$f":"IF(Stammdaten!$A$2=\"\",\"\",ABS(E578))","v":""},{"$f":"IF(Stammdaten!$A$2=\"\",\"\",D578-C578)","v":""},{"$f":"IF(Stammdaten!$A$2=\"\",\"\",H578/C578)","v":""},{"$f":"IF(Stammdaten!$A$2=\"\",\"\",ABS(H578))","v":""},{"$f":"IF(Stammdaten!$A$2=\"\",\"\",IF(F578>35%,1,\"\"))","v":""},{"$f":"IF(Stammdaten!$A$2=\"\",\"\",IF(I578>35%,1,\"\"))","v":""},{"$f":"IF(Stammdaten!$A$2=\"\",\"\",MONTH(A578))","v":""},{"$f":"IF(Stammdaten!$A$2=\"\",\"\",YEAR(A578))","v":""}]
[{"$f":"Analysedaten!A579","v":""},{"$f":"Berechnungsblatt!C580","v":""},{"$f":"Berechnungsblatt!X580","v":""},{"$f":"Berechnungsblatt!C582","v":""},{"$f":"IF(Stammdaten!$A$2=\"\",\"\",D579-B579)","v":""},{"$f":"IF(Stammdaten!$A$2=\"\",\"\",E579/B579)","v":""},{"$f":"IF(Stammdaten!$A$2=\"\",\"\",ABS(E579))","v":""},{"$f":"IF(Stammdaten!$A$2=\"\",\"\",D579-C579)","v":""},{"$f":"IF(Stammdaten!$A$2=\"\",\"\",H579/C579)","v":""},{"$f":"IF(Stammdaten!$A$2=\"\",\"\",ABS(H579))","v":""},{"$f":"IF(Stammdaten!$A$2=\"\",\"\",IF(F579>35%,1,\"\"))","v":""},{"$f":"IF(Stammdaten!$A$2=\"\",\"\",IF(I579>35%,1,\"\"))","v":""},{"$f":"IF(Stammdaten!$A$2=\"\",\"\",MONTH(A579))","v":""},{"$f":"IF(Stammdaten!$A$2=\"\",\"\",YEAR(A579))","v":""}]
[{"$f":"Analysedaten!A580","v":""},{"$f":"Berechnungsblatt!C581","v":""},{"$f":"Berechnungsblatt!X581","v":""},{"$f":"Berechnungsblatt!C583","v":""},{"$f":"IF(Stammdaten!$A$2=\"\",\"\",D580-B580)","v":""},{"$f":"IF(Stammdaten!$A$2=\"\",\"\",E580/B580)","v":""},{"$f":"IF(Stammdaten!$A$2=\"\",\"\",ABS(E580))","v":""},{"$f":"IF(Stammdaten!$A$2=\"\",\"\",D580-C580)","v":""},{"$f":"IF(Stammdaten!$A$2=\"\",\"\",H580/C580)","v":""},{"$f":"IF(Stammdaten!$A$2=\"\",\"\",ABS(H580))","v":""},{"$f":"IF(Stammdaten!$A$2=\"\",\"\",IF(F580>35%,1,\"\"))","v":""},{"$f":"IF(Stammdaten!$A$2=\"\",\"\",IF(I580>35%,1,\"\"))","v":""},{"$f":"IF(Stammdaten!$A$2=\"\",\"\",MONTH(A580))","v":""},{"$f":"IF(Stammdaten!$A$2=\"\",\"\",YEAR(A580))","v":""}]
[{"$f":"Analysedaten!A581","v":""},{"$f":"Berechnungsblatt!C582","v":""},{"$f":"Berechnungsblatt!X582","v":""},{"$f":"Berechnungsblatt!C584","v":""},{"$f":"IF(Stammdaten!$A$2=\"\",\"\",D581-B581)","v":""},{"$f":"IF(Stammdaten!$A$2=\"\",\"\",E581/B581)","v":""},{"$f":"IF(Stammdaten!$A$2=\"\",\"\",ABS(E581))","v":""},{"$f":"IF(Stammdaten!$A$2=\"\",\"\",D581-C581)","v":""},{"$f":"IF(Stammdaten!$A$2=\"\",\"\",H581/C581)","v":""},{"$f":"IF(Stammdaten!$A$2=\"\",\"\",ABS(H581))","v":""},{"$f":"IF(Stammdaten!$A$2=\"\",\"\",IF(F581>35%,1,\"\"))","v":""},{"$f":"IF(Stammdaten!$A$2=\"\",\"\",IF(I581>35%,1,\"\"))","v":""},{"$f":"IF(Stammdaten!$A$2=\"\",\"\",MONTH(A581))","v":""},{"$f":"IF(Stammdaten!$A$2=\"\",\"\",YEAR(A581))","v":""}]
[{"$f":"Analysedaten!A582","v":""},{"$f":"Berechnungsblatt!C583","v":""},{"$f":"Berechnungsblatt!X583","v":""},{"$f":"Berechnungsblatt!C585","v":""},{"$f":"IF(Stammdaten!$A$2=\"\",\"\",D582-B582)","v":""},{"$f":"IF(Stammdaten!$A$2=\"\",\"\",E582/B582)","v":""},{"$f":"IF(Stammdaten!$A$2=\"\",\"\",ABS(E582))","v":""},{"$f":"IF(Stammdaten!$A$2=\"\",\"\",D582-C582)","v":""},{"$f":"IF(Stammdaten!$A$2=\"\",\"\",H582/C582)","v":""},{"$f":"IF(Stammdaten!$A$2=\"\",\"\",ABS(H582))","v":""},{"$f":"IF(Stammdaten!$A$2=\"\",\"\",IF(F582>35%,1,\"\"))","v":""},{"$f":"IF(Stammdaten!$A$2=\"\",\"\",IF(I582>35%,1,\"\"))","v":""},{"$f":"IF(Stammdaten!$A$2=\"\",\"\",MONTH(A582))","v":""},{"$f":"IF(Stammdaten!$A$2=\"\",\"\",YEAR(A582))","v":""}]
[{"$f":"Analysedaten!A583","v":""},{"$f":"Berechnungsblatt!C584","v":""},{"$f":"Berechnungsblatt!X584","v":""},{"$f":"Berechnungsblatt!C586","v":""},{"$f":"IF(Stammdaten!$A$2=\"\",\"\",D583-B583)","v":""},{"$f":"IF(Stammdaten!$A$2=\"\",\"\",E583/B583)","v":""},{"$f":"IF(Stammdaten!$A$2=\"\",\"\",ABS(E583))","v":""},{"$f":"IF(Stammdaten!$A$2=\"\",\"\",D583-C583)","v":""},{"$f":"IF(Stammdaten!$A$2=\"\",\"\",H583/C583)","v":""},{"$f":"IF(Stammdaten!$A$2=\"\",\"\",ABS(H583))","v":""},{"$f":"IF(Stammdaten!$A$2=\"\",\"\",IF(F583>35%,1,\"\"))","v":""},{"$f":"IF(Stammdaten!$A$2=\"\",\"\",IF(I583>35%,1,\"\"))","v":""},{"$f":"IF(Stammdaten!$A$2=\"\",\"\",MONTH(A583))","v":""},{"$f":"IF(Stammdaten!$A$2=\"\",\"\",YEAR(A583))","v":""}]
[{"$f":"Analysedaten!A584","v":""},{"$f":"Berechnungsblatt!C585","v":""},{"$f":"Berechnungsblatt!X585","v":""},{"$f":"Berechnungsblatt!C587","v":""},{"$f":"IF(Stammdaten!$A$2=\"\",\"\",D584-B584)","v":""},{"$f":"IF(Stammdaten!$A$2=\"\",\"\",E584/B584)","v":""},{"$f":"IF(Stammdaten!$A$2=\"\",\"\",ABS(E584))","v":""},{"$f":"IF(Stammdaten!$A$2=\"\",\"\",D584-C584)","v":""},{"$f":"IF(Stammdaten!$A$2=\"\",\"\",H584/C584)","v":""},{"$f":"IF(Stammdaten!$A$2=\"\",\"\",ABS(H584))","v":""},{"$f":"IF(Stammdaten!$A$2=\"\",\"\",IF(F584>35%,1,\"\"))","v":""},{"$f":"IF(Stammdaten!$A$2=\"\",\"\",IF(I584>35%,1,\"\"))","v":""},{"$f":"IF(Stammdaten!$A$2=\"\",\"\",MONTH(A584))","v":""},{"$f":"IF(Stammdaten!$A$2=\"\",\"\",YEAR(A584))","v":""}]
[{"$f":"Analysedaten!A585","v":""},{"$f":"Berechnungsblatt!C586","v":""},{"$f":"Berechnungsblatt!X586","v":""},{"$f":"Berechnungsblatt!C588","v":""},{"$f":"IF(Stammdaten!$A$2=\"\",\"\",D585-B585)","v":""},{"$f":"IF(Stammdaten!$A$2=\"\",\"\",E585/B585)","v":""},{"$f":"IF(Stammdaten!$A$2=\"\",\"\",ABS(E585))","v":""},{"$f":"IF(Stammdaten!$A$2=\"\",\"\",D585-C585)","v":""},{"$f":"IF(Stammdaten!$A$2=\"\",\"\",H585/C585)","v":""},{"$f":"IF(Stammdaten!$A$2=\"\",\"\",ABS(H585))","v":""},{"$f":"IF(Stammdaten!$A$2=\"\",\"\",IF(F585>35%,1,\"\"))","v":""},{"$f":"IF(Stammdaten!$A$2=\"\",\"\",IF(I585>35%,1,\"\"))","v":""},{"$f":"IF(Stammdaten!$A$2=\"\",\"\",MONTH(A585))","v":""},{"$f":"IF(Stammdaten!$A$2=\"\",\"\",YEAR(A585))","v":""}]
[{"$f":"Analysedaten!A586","v":""},{"$f":"Berechnungsblatt!C587","v":""},{"$f":"Berechnungsblatt!X587","v":""},{"$f":"Berechnungsblatt!C589","v":""},{"$f":"IF(Stammdaten!$A$2=\"\",\"\",D586-B586)","v":""},{"$f":"IF(Stammdaten!$A$2=\"\",\"\",E586/B586)","v":""},{"$f":"IF(Stammdaten!$A$2=\"\",\"\",ABS(E586))","v":""},{"$f":"IF(Stammdaten!$A$2=\"\",\"\",D586-C586)","v":""},{"$f":"IF(Stammdaten!$A$2=\"\",\"\",H586/C586)","v":""},{"$f":"IF(Stammdaten!$A$2=\"\",\"\",ABS(H586))","v":""},{"$f":"IF(Stammdaten!$A$2=\"\",\"\",IF(F586>35%,1,\"\"))","v":""},{"$f":"IF(Stammdaten!$A$2=\"\",\"\",IF(I586>35%,1,\"\"))","v":""},{"$f":"IF(Stammdaten!$A$2=\"\",\"\",MONTH(A586))","v":""},{"$f":"IF(Stammdaten!$A$2=\"\",\"\",YEAR(A586))","v":""}]
[{"$f":"Analysedaten!A587","v":""},{"$f":"Berechnungsblatt!C588","v":""},{"$f":"Berechnungsblatt!X588","v":""},{"$f":"Berechnungsblatt!C590","v":""},{"$f":"IF(Stammdaten!$A$2=\"\",\"\",D587-B587)","v":""},{"$f":"IF(Stammdaten!$A$2=\"\",\"\",E587/B587)","v":""},{"$f":"IF(Stammdaten!$A$2=\"\",\"\",ABS(E587))","v":""},{"$f":"IF(Stammdaten!$A$2=\"\",\"\",D587-C587)","v":""},{"$f":"IF(Stammdaten!$A$2=\"\",\"\",H587/C587)","v":""},{"$f":"IF(Stammdaten!$A$2=\"\",\"\",ABS(H587))","v":""},{"$f":"IF(Stammdaten!$A$2=\"\",\"\",IF(F587>35%,1,\"\"))","v":""},{"$f":"IF(Stammdaten!$A$2=\"\",\"\",IF(I587>35%,1,\"\"))","v":""},{"$f":"IF(Stammdaten!$A$2=\"\",\"\",MONTH(A587))","v":""},{"$f":"IF(Stammdaten!$A$2=\"\",\"\",YEAR(A587))","v":""}]
[{"$f":"Analysedaten!A588","v":""},{"$f":"Berechnungsblatt!C589","v":""},{"$f":"Berechnungsblatt!X589","v":""},{"$f":"Berechnungsblatt!C591","v":""},{"$f":"IF(Stammdaten!$A$2=\"\",\"\",D588-B588)","v":""},{"$f":"IF(Stammdaten!$A$2=\"\",\"\",E588/B588)","v":""},{"$f":"IF(Stammdaten!$A$2=\"\",\"\",ABS(E588))","v":""},{"$f":"IF(Stammdaten!$A$2=\"\",\"\",D588-C588)","v":""},{"$f":"IF(Stammdaten!$A$2=\"\",\"\",H588/C588)","v":""},{"$f":"IF(Stammdaten!$A$2=\"\",\"\",ABS(H588))","v":""},{"$f":"IF(Stammdaten!$A$2=\"\",\"\",IF(F588>35%,1,\"\"))","v":""},{"$f":"IF(Stammdaten!$A$2=\"\",\"\",IF(I588>35%,1,\"\"))","v":""},{"$f":"IF(Stammdaten!$A$2=\"\",\"\",MONTH(A588))","v":""},{"$f":"IF(Stammdaten!$A$2=\"\",\"\",YEAR(A588))","v":""}]
[{"$f":"Analysedaten!A589","v":""},{"$f":"Berechnungsblatt!C590","v":""},{"$f":"Berechnungsblatt!X590","v":""},{"$f":"Berechnungsblatt!C592","v":""},{"$f":"IF(Stammdaten!$A$2=\"\",\"\",D589-B589)","v":""},{"$f":"IF(Stammdaten!$A$2=\"\",\"\",E589/B589)","v":""},{"$f":"IF(Stammdaten!$A$2=\"\",\"\",ABS(E589))","v":""},{"$f":"IF(Stammdaten!$A$2=\"\",\"\",D589-C589)","v":""},{"$f":"IF(Stammdaten!$A$2=\"\",\"\",H589/C589)","v":""},{"$f":"IF(Stammdaten!$A$2=\"\",\"\",ABS(H589))","v":""},{"$f":"IF(Stammdaten!$A$2=\"\",\"\",IF(F589>35%,1,\"\"))","v":""},{"$f":"IF(Stammdaten!$A$2=\"\",\"\",IF(I589>35%,1,\"\"))","v":""},{"$f":"IF(Stammdaten!$A$2=\"\",\"\",MONTH(A589))","v":""},{"$f":"IF(Stammdaten!$A$2=\"\",\"\",YEAR(A589))","v":""}]
[{"$f":"Analysedaten!A590","v":""},{"$f":"Berechnungsblatt!C591","v":""},{"$f":"Berechnungsblatt!X591","v":""},{"$f":"Berechnungsblatt!C593","v":""},{"$f":"IF(Stammdaten!$A$2=\"\",\"\",D590-B590)","v":""},{"$f":"IF(Stammdaten!$A$2=\"\",\"\",E590/B590)","v":""},{"$f":"IF(Stammdaten!$A$2=\"\",\"\",ABS(E590))","v":""},{"$f":"IF(Stammdaten!$A$2=\"\",\"\",D590-C590)","v":""},{"$f":"IF(Stammdaten!$A$2=\"\",\"\",H590/C590)","v":""},{"$f":"IF(Stammdaten!$A$2=\"\",\"\",ABS(H590))","v":""},{"$f":"IF(Stammdaten!$A$2=\"\",\"\",IF(F590>35%,1,\"\"))","v":""},{"$f":"IF(Stammdaten!$A$2=\"\",\"\",IF(I590>35%,1,\"\"))","v":""},{"$f":"IF(Stammdaten!$A$2=\"\",\"\",MONTH(A590))","v":""},{"$f":"IF(Stammdaten!$A$2=\"\",\"\",YEAR(A590))","v":""}]
[{"$f":"Analysedaten!A591","v":""},{"$f":"Berechnungsblatt!C592","v":""},{"$f":"Berechnungsblatt!X592","v":""},{"$f":"Berechnungsblatt!C594","v":""},{"$f":"IF(Stammdaten!$A$2=\"\",\"\",D591-B591)","v":""},{"$f":"IF(Stammdaten!$A$2=\"\",\"\",E591/B591)","v":""},{"$f":"IF(Stammdaten!$A$2=\"\",\"\",ABS(E591))","v":""},{"$f":"IF(Stammdaten!$A$2=\"\",\"\",D591-C591)","v":""},{"$f":"IF(Stammdaten!$A$2=\"\",\"\",H591/C591)","v":""},{"$f":"IF(Stammdaten!$A$2=\"\",\"\",ABS(H591))","v":""},{"$f":"IF(Stammdaten!$A$2=\"\",\"\",IF(F591>35%,1,\"\"))","v":""},{"$f":"IF(Stammdaten!$A$2=\"\",\"\",IF(I591>35%,1,\"\"))","v":""},{"$f":"IF(Stammdaten!$A$2=\"\",\"\",MONTH(A591))","v":""},{"$f":"IF(Stammdaten!$A$2=\"\",\"\",YEAR(A591))","v":""}]
[{"$f":"Analysedaten!A592","v":""},{"$f":"Berechnungsblatt!C593","v":""},{"$f":"Berechnungsblatt!X593","v":""},{"$f":"Berechnungsblatt!C595","v":""},{"$f":"IF(Stammdaten!$A$2=\"\",\"\",D592-B592)","v":""},{"$f":"IF(Stammdaten!$A$2=\"\",\"\",E592/B592)","v":""},{"$f":"IF(Stammdaten!$A$2=\"\",\"\",ABS(E592))","v":""},{"$f":"IF(Stammdaten!$A$2=\"\",\"\",D592-C592)","v":""},{"$f":"IF(Stammdaten!$A$2=\"\",\"\",H592/C592)","v":""},{"$f":"IF(Stammdaten!$A$2=\"\",\"\",ABS(H592))","v":""},{"$f":"IF(Stammdaten!$A$2=\"\",\"\",IF(F592>35%,1,\"\"))","v":""},{"$f":"IF(Stammdaten!$A$2=\"\",\"\",IF(I592>35%,1,\"\"))","v":""},{"$f":"IF(Stammdaten!$A$2=\"\",\"\",MONTH(A592))","v":""},{"$f":"IF(Stammdaten!$A$2=\"\",\"\",YEAR(A592))","v":""}]
[{"$f":"Analysedaten!A593","v":""},{"$f":"Berechnungsblatt!C594","v":""},{"$f":"Berechnungsblatt!X594","v":""},{"$f":"Berechnungsblatt!C596","v":""},{"$f":"IF(Stammdaten!$A$2=\"\",\"\",D593-B593)","v":""},{"$f":"IF(Stammdaten!$A$2=\"\",\"\",E593/B593)","v":""},{"$f":"IF(Stammdaten!$A$2=\"\",\"\",ABS(E593))","v":""},{"$f":"IF(Stammdaten!$A$2=\"\",\"\",D593-C593)","v":""},{"$f":"IF(Stammdaten!$A$2=\"\",\"\",H593/C593)","v":""},{"$f":"IF(Stammdaten!$A$2=\"\",\"\",ABS(H593))","v":""},{"$f":"IF(Stammdaten!$A$2=\"\",\"\",IF(F593>35%,1,\"\"))","v":""},{"$f":"IF(Stammdaten!$A$2=\"\",\"\",IF(I593>35%,1,\"\"))","v":""},{"$f":"IF(Stammdaten!$A$2=\"\",\"\",MONTH(A593))","v":""},{"$f":"IF(Stammdaten!$A$2=\"\",\"\",YEAR(A593))","v":""}]
[{"$f":"Analysedaten!A594","v":""},{"$f":"Berechnungsblatt!C595","v":""},{"$f":"Berechnungsblatt!X595","v":""},{"$f":"Berechnungsblatt!C597","v":""},{"$f":"IF(Stammdaten!$A$2=\"\",\"\",D594-B594)","v":""},{"$f":"IF(Stammdaten!$A$2=\"\",\"\",E594/B594)","v":""},{"$f":"IF(Stammdaten!$A$2=\"\",\"\",ABS(E594))","v":""},{"$f":"IF(Stammdaten!$A$2=\"\",\"\",D594-C594)","v":""},{"$f":"IF(Stammdaten!$A$2=\"\",\"\",H594/C594)","v":""},{"$f":"IF(Stammdaten!$A$2=\"\",\"\",ABS(H594))","v":""},{"$f":"IF(Stammdaten!$A$2=\"\",\"\",IF(F594>35%,1,\"\"))","v":""},{"$f":"IF(Stammdaten!$A$2=\"\",\"\",IF(I594>35%,1,\"\"))","v":""},{"$f":"IF(Stammdaten!$A$2=\"\",\"\",MONTH(A594))","v":""},{"$f":"IF(Stammdaten!$A$2=\"\",\"\",YEAR(A594))","v":""}]
[{"$f":"Analysedaten!A595","v":""},{"$f":"Berechnungsblatt!C596","v":""},{"$f":"Berechnungsblatt!X596","v":""},{"$f":"Berechnungsblatt!C598","v":""},{"$f":"IF(Stammdaten!$A$2=\"\",\"\",D595-B595)","v":""},{"$f":"IF(Stammdaten!$A$2=\"\",\"\",E595/B595)","v":""},{"$f":"IF(Stammdaten!$A$2=\"\",\"\",ABS(E595))","v":""},{"$f":"IF(Stammdaten!$A$2=\"\",\"\",D595-C595)","v":""},{"$f":"IF(Stammdaten!$A$2=\"\",\"\",H595/C595)","v":""},{"$f":"IF(Stammdaten!$A$2=\"\",\"\",ABS(H595))","v":""},{"$f":"IF(Stammdaten!$A$2=\"\",\"\",IF(F595>35%,1,\"\"))","v":""},{"$f":"IF(Stammdaten!$A$2=\"\",\"\",IF(I595>35%,1,\"\"))","v":""},{"$f":"IF(Stammdaten!$A$2=\"\",\"\",MONTH(A595))","v":""},{"$f":"IF(Stammdaten!$A$2=\"\",\"\",YEAR(A595))","v":""}]
[{"$f":"Analysedaten!A596","v":""},{"$f":"Berechnungsblatt!C597","v":""},{"$f":"Berechnungsblatt!X597","v":""},{"$f":"Berechnungsblatt!C599","v":""},{"$f":"IF(Stammdaten!$A$2=\"\",\"\",D596-B596)","v":""},{"$f":"IF(Stammdaten!$A$2=\"\",\"\",E596/B596)","v":""},{"$f":"IF(Stammdaten!$A$2=\"\",\"\",ABS(E596))","v":""},{"$f":"IF(Stammdaten!$A$2=\"\",\"\",D596-C596)","v":""},{"$f":"IF(Stammdaten!$A$2=\"\",\"\",H596/C596)","v":""},{"$f":"IF(Stammdaten!$A$2=\"\",\"\",ABS(H596))","v":""},{"$f":"IF(Stammdaten!$A$2=\"\",\"\",IF(F596>35%,1,\"\"))","v":""},{"$f":"IF(Stammdaten!$A$2=\"\",\"\",IF(I596>35%,1,\"\"))","v":""},{"$f":"IF(Stammdaten!$A$2=\"\",\"\",MONTH(A596))","v":""},{"$f":"IF(Stammdaten!$A$2=\"\",\"\",YEAR(A596))","v":""}]
[{"$f":"Analysedaten!A597","v":""},{"$f":"Berechnungsblatt!C598","v":""},{"$f":"Berechnungsblatt!X598","v":""},{"$f":"Berechnungsblatt!C600","v":""},{"$f":"IF(Stammdaten!$A$2=\"\",\"\",D597-B597)","v":""},{"$f":"IF(Stammdaten!$A$2=\"\",\"\",E597/B597)","v":""},{"$f":"IF(Stammdaten!$A$2=\"\",\"\",ABS(E597))","v":""},{"$f":"IF(Stammdaten!$A$2=\"\",\"\",D597-C597)","v":""},{"$f":"IF(Stammdaten!$A$2=\"\",\"\",H597/C597)","v":""},{"$f":"IF(Stammdaten!$A$2=\"\",\"\",ABS(H597))","v":""},{"$f":"IF(Stammdaten!$A$2=\"\",\"\",IF(F597>35%,1,\"\"))","v":""},{"$f":"IF(Stammdaten!$A$2=\"\",\"\",IF(I597>35%,1,\"\"))","v":""},{"$f":"IF(Stammdaten!$A$2=\"\",\"\",MONTH(A597))","v":""},{"$f":"IF(Stammdaten!$A$2=\"\",\"\",YEAR(A597))","v":""}]
[{"$f":"Analysedaten!A598","v":""},{"$f":"Berechnungsblatt!C599","v":""},{"$f":"Berechnungsblatt!X599","v":""},{"$f":"Berechnungsblatt!C601","v":""},{"$f":"IF(Stammdaten!$A$2=\"\",\"\",D598-B598)","v":""},{"$f":"IF(Stammdaten!$A$2=\"\",\"\",E598/B598)","v":""},{"$f":"IF(Stammdaten!$A$2=\"\",\"\",ABS(E598))","v":""},{"$f":"IF(Stammdaten!$A$2=\"\",\"\",D598-C598)","v":""},{"$f":"IF(Stammdaten!$A$2=\"\",\"\",H598/C598)","v":""},{"$f":"IF(Stammdaten!$A$2=\"\",\"\",ABS(H598))","v":""},{"$f":"IF(Stammdaten!$A$2=\"\",\"\",IF(F598>35%,1,\"\"))","v":""},{"$f":"IF(Stammdaten!$A$2=\"\",\"\",IF(I598>35%,1,\"\"))","v":""},{"$f":"IF(Stammdaten!$A$2=\"\",\"\",MONTH(A598))","v":""},{"$f":"IF(Stammdaten!$A$2=\"\",\"\",YEAR(A598))","v":""}]
[{"$f":"Analysedaten!A599","v":""},{"$f":"Berechnungsblatt!C600","v":""},{"$f":"Berechnungsblatt!X600","v":""},{"$f":"Berechnungsblatt!C602","v":""},{"$f":"IF(Stammdaten!$A$2=\"\",\"\",D599-B599)","v":""},{"$f":"IF(Stammdaten!$A$2=\"\",\"\",E599/B599)","v":""},{"$f":"IF(Stammdaten!$A$2=\"\",\"\",ABS(E599))","v":""},{"$f":"IF(Stammdaten!$A$2=\"\",\"\",D599-C599)","v":""},{"$f":"IF(Stammdaten!$A$2=\"\",\"\",H599/C599)","v":""},{"$f":"IF(Stammdaten!$A$2=\"\",\"\",ABS(H599))","v":""},{"$f":"IF(Stammdaten!$A$2=\"\",\"\",IF(F599>35%,1,\"\"))","v":""},{"$f":"IF(Stammdaten!$A$2=\"\",\"\",IF(I599>35%,1,\"\"))","v":""},{"$f":"IF(Stammdaten!$A$2=\"\",\"\",MONTH(A599))","v":""},{"$f":"IF(Stammdaten!$A$2=\"\",\"\",YEAR(A599))","v":""}]
[{"$f":"Analysedaten!A600","v":""},{"$f":"Berechnungsblatt!C601","v":""},{"$f":"Berechnungsblatt!X601","v":""},{"$f":"Berechnungsblatt!C603","v":""},{"$f":"IF(Stammdaten!$A$2=\"\",\"\",D600-B600)","v":""},{"$f":"IF(Stammdaten!$A$2=\"\",\"\",E600/B600)","v":""},{"$f":"IF(Stammdaten!$A$2=\"\",\"\",ABS(E600))","v":""},{"$f":"IF(Stammdaten!$A$2=\"\",\"\",D600-C600)","v":""},{"$f":"IF(Stammdaten!$A$2=\"\",\"\",H600/C600)","v":""},{"$f":"IF(Stammdaten!$A$2=\"\",\"\",ABS(H600))","v":""},{"$f":"IF(Stammdaten!$A$2=\"\",\"\",IF(F600>35%,1,\"\"))","v":""},{"$f":"IF(Stammdaten!$A$2=\"\",\"\",IF(I600>35%,1,\"\"))","v":""},{"$f":"IF(Stammdaten!$A$2=\"\",\"\",MONTH(A600))","v":""},{"$f":"IF(Stammdaten!$A$2=\"\",\"\",YEAR(A600))","v":""}]
[{"$f":"Analysedaten!A601","v":""},{"$f":"Berechnungsblatt!C602","v":""},{"$f":"Berechnungsblatt!X602","v":""},{"$f":"Berechnungsblatt!C604","v":""},{"$f":"IF(Stammdaten!$A$2=\"\",\"\",D601-B601)","v":""},{"$f":"IF(Stammdaten!$A$2=\"\",\"\",E601/B601)","v":""},{"$f":"IF(Stammdaten!$A$2=\"\",\"\",ABS(E601))","v":""},{"$f":"IF(Stammdaten!$A$2=\"\",\"\",D601-C601)","v":""},{"$f":"IF(Stammdaten!$A$2=\"\",\"\",H601/C601)","v":""},{"$f":"IF(Stammdaten!$A$2=\"\",\"\",ABS(H601))","v":""},{"$f":"IF(Stammdaten!$A$2=\"\",\"\",IF(F601>35%,1,\"\"))","v":""},{"$f":"IF(Stammdaten!$A$2=\"\",\"\",IF(I601>35%,1,\"\"))","v":""},{"$f":"IF(Stammdaten!$A$2=\"\",\"\",MONTH(A601))","v":""},{"$f":"IF(Stammdaten!$A$2=\"\",\"\",YEAR(A601))","v":""}]
[{"$f":"Analysedaten!A602","v":""},{"$f":"Berechnungsblatt!C603","v":""},{"$f":"Berechnungsblatt!X603","v":""},{"$f":"Berechnungsblatt!C605","v":""},{"$f":"IF(Stammdaten!$A$2=\"\",\"\",D602-B602)","v":""},{"$f":"IF(Stammdaten!$A$2=\"\",\"\",E602/B602)","v":""},{"$f":"IF(Stammdaten!$A$2=\"\",\"\",ABS(E602))","v":""},{"$f":"IF(Stammdaten!$A$2=\"\",\"\",D602-C602)","v":""},{"$f":"IF(Stammdaten!$A$2=\"\",\"\",H602/C602)","v":""},{"$f":"IF(Stammdaten!$A$2=\"\",\"\",ABS(H602))","v":""},{"$f":"IF(Stammdaten!$A$2=\"\",\"\",IF(F602>35%,1,\"\"))","v":""},{"$f":"IF(Stammdaten!$A$2=\"\",\"\",IF(I602>35%,1,\"\"))","v":""},{"$f":"IF(Stammdaten!$A$2=\"\",\"\",MONTH(A602))","v":""},{"$f":"IF(Stammdaten!$A$2=\"\",\"\",YEAR(A602))","v":""}]
[{"$f":"Analysedaten!A603","v":""},{"$f":"Berechnungsblatt!C604","v":""},{"$f":"Berechnungsblatt!X604","v":""},{"$f":"Berechnungsblatt!C606","v":""},{"$f":"IF(Stammdaten!$A$2=\"\",\"\",D603-B603)","v":""},{"$f":"IF(Stammdaten!$A$2=\"\",\"\",E603/B603)","v":""},{"$f":"IF(Stammdaten!$A$2=\"\",\"\",ABS(E603))","v":""},{"$f":"IF(Stammdaten!$A$2=\"\",\"\",D603-C603)","v":""},{"$f":"IF(Stammdaten!$A$2=\"\",\"\",H603/C603)","v":""},{"$f":"IF(Stammdaten!$A$2=\"\",\"\",ABS(H603))","v":""},{"$f":"IF(Stammdaten!$A$2=\"\",\"\",IF(F603>35%,1,\"\"))","v":""},{"$f":"IF(Stammdaten!$A$2=\"\",\"\",IF(I603>35%,1,\"\"))","v":""},{"$f":"IF(Stammdaten!$A$2=\"\",\"\",MONTH(A603))","v":""},{"$f":"IF(Stammdaten!$A$2=\"\",\"\",YEAR(A603))","v":""}]
[{"$f":"Analysedaten!A604","v":""},{"$f":"Berechnungsblatt!C605","v":""},{"$f":"Berechnungsblatt!X605","v":""},{"$f":"Berechnungsblatt!C607","v":""},{"$f":"IF(Stammdaten!$A$2=\"\",\"\",D604-B604)","v":""},{"$f":"IF(Stammdaten!$A$2=\"\",\"\",E604/B604)","v":""},{"$f":"IF(Stammdaten!$A$2=\"\",\"\",ABS(E604))","v":""},{"$f":"IF(Stammdaten!$A$2=\"\",\"\",D604-C604)","v":""},{"$f":"IF(Stammdaten!$A$2=\"\",\"\",H604/C604)","v":""},{"$f":"IF(Stammdaten!$A$2=\"\",\"\",ABS(H604))","v":""},{"$f":"IF(Stammdaten!$A$2=\"\",\"\",IF(F604>35%,1,\"\"))","v":""},{"$f":"IF(Stammdaten!$A$2=\"\",\"\",IF(I604>35%,1,\"\"))","v":""},{"$f":"IF(Stammdaten!$A$2=\"\",\"\",MONTH(A604))","v":""},{"$f":"IF(Stammdaten!$A$2=\"\",\"\",YEAR(A604))","v":""}]
[{"$f":"Analysedaten!A605","v":""},{"$f":"Berechnungsblatt!C606","v":""},{"$f":"Berechnungsblatt!X606","v":""},{"$f":"Berechnungsblatt!C608","v":""},{"$f":"IF(Stammdaten!$A$2=\"\",\"\",D605-B605)","v":""},{"$f":"IF(Stammdaten!$A$2=\"\",\"\",E605/B605)","v":""},{"$f":"IF(Stammdaten!$A$2=\"\",\"\",ABS(E605))","v":""},{"$f":"IF(Stammdaten!$A$2=\"\",\"\",D605-C605)","v":""},{"$f":"IF(Stammdaten!$A$2=\"\",\"\",H605/C605)","v":""},{"$f":"IF(Stammdaten!$A$2=\"\",\"\",ABS(H605))","v":""},{"$f":"IF(Stammdaten!$A$2=\"\",\"\",IF(F605>35%,1,\"\"))","v":""},{"$f":"IF(Stammdaten!$A$2=\"\",\"\",IF(I605>35%,1,\"\"))","v":""},{"$f":"IF(Stammdaten!$A$2=\"\",\"\",MONTH(A605))","v":""},{"$f":"IF(Stammdaten!$A$2=\"\",\"\",YEAR(A605))","v":""}]
[{"$f":"Analysedaten!A606","v":""},{"$f":"Berechnungsblatt!C607","v":""},{"$f":"Berechnungsblatt!X607","v":""},{"$f":"Berechnungsblatt!C609","v":""},{"$f":"IF(Stammdaten!$A$2=\"\",\"\",D606-B606)","v":""},{"$f":"IF(Stammdaten!$A$2=\"\",\"\",E606/B606)","v":""},{"$f":"IF(Stammdaten!$A$2=\"\",\"\",ABS(E606))","v":""},{"$f":"IF(Stammdaten!$A$2=\"\",\"\",D606-C606)","v":""},{"$f":"IF(Stammdaten!$A$2=\"\",\"\",H606/C606)","v":""},{"$f":"IF(Stammdaten!$A$2=\"\",\"\",ABS(H606))","v":""},{"$f":"IF(Stammdaten!$A$2=\"\",\"\",IF(F606>35%,1,\"\"))","v":""},{"$f":"IF(Stammdaten!$A$2=\"\",\"\",IF(I606>35%,1,\"\"))","v":""},{"$f":"IF(Stammdaten!$A$2=\"\",\"\",MONTH(A606))","v":""},{"$f":"IF(Stammdaten!$A$2=\"\",\"\",YEAR(A606))","v":""}]
[{"$f":"Analysedaten!A607","v":""},{"$f":"Berechnungsblatt!C608","v":""},{"$f":"Berechnungsblatt!X608","v":""},{"$f":"Berechnungsblatt!C610","v":""},{"$f":"IF(Stammdaten!$A$2=\"\",\"\",D607-B607)","v":""},{"$f":"IF(Stammdaten!$A$2=\"\",\"\",E607/B607)","v":""},{"$f":"IF(Stammdaten!$A$2=\"\",\"\",ABS(E607))","v":""},{"$f":"IF(Stammdaten!$A$2=\"\",\"\",D607-C607)","v":""},{"$f":"IF(Stammdaten!$A$2=\"\",\"\",H607/C607)","v":""},{"$f":"IF(Stammdaten!$A$2=\"\",\"\",ABS(H607))","v":""},{"$f":"IF(Stammdaten!$A$2=\"\",\"\",IF(F607>35%,1,\"\"))","v":""},{"$f":"IF(Stammdaten!$A$2=\"\",\"\",IF(I607>35%,1,\"\"))","v":""},{"$f":"IF(Stammdaten!$A$2=\"\",\"\",MONTH(A607))","v":""},{"$f":"IF(Stammdaten!$A$2=\"\",\"\",YEAR(A607))","v":""}]
[{"$f":"Analysedaten!A608","v":""},{"$f":"Berechnungsblatt!C609","v":""},{"$f":"Berechnungsblatt!X609","v":""},{"$f":"Berechnungsblatt!C611","v":""},{"$f":"IF(Stammdaten!$A$2=\"\",\"\",D608-B608)","v":""},{"$f":"IF(Stammdaten!$A$2=\"\",\"\",E608/B608)","v":""},{"$f":"IF(Stammdaten!$A$2=\"\",\"\",ABS(E608))","v":""},{"$f":"IF(Stammdaten!$A$2=\"\",\"\",D608-C608)","v":""},{"$f":"IF(Stammdaten!$A$2=\"\",\"\",H608/C608)","v":""},{"$f":"IF(Stammdaten!$A$2=\"\",\"\",ABS(H608))","v":""},{"$f":"IF(Stammdaten!$A$2=\"\",\"\",IF(F608>35%,1,\"\"))","v":""},{"$f":"IF(Stammdaten!$A$2=\"\",\"\",IF(I608>35%,1,\"\"))","v":""},{"$f":"IF(Stammdaten!$A$2=\"\",\"\",MONTH(A608))","v":""},{"$f":"IF(Stammdaten!$A$2=\"\",\"\",YEAR(A608))","v":""}]
[{"$f":"Analysedaten!A609","v":""},{"$f":"Berechnungsblatt!C610","v":""},{"$f":"Berechnungsblatt!X610","v":""},{"$f":"Berechnungsblatt!C612","v":""},{"$f":"IF(Stammdaten!$A$2=\"\",\"\",D609-B609)","v":""},{"$f":"IF(Stammdaten!$A$2=\"\",\"\",E609/B609)","v":""},{"$f":"IF(Stammdaten!$A$2=\"\",\"\",ABS(E609))","v":""},{"$f":"IF(Stammdaten!$A$2=\"\",\"\",D609-C609)","v":""},{"$f":"IF(Stammdaten!$A$2=\"\",\"\",H609/C609)","v":""},{"$f":"IF(Stammdaten!$A$2=\"\",\"\",ABS(H609))","v":""},{"$f":"IF(Stammdaten!$A$2=\"\",\"\",IF(F609>35%,1,\"\"))","v":""},{"$f":"IF(Stammdaten!$A$2=\"\",\"\",IF(I609>35%,1,\"\"))","v":""},{"$f":"IF(Stammdaten!$A$2=\"\",\"\",MONTH(A609))","v":""},{"$f":"IF(Stammdaten!$A$2=\"\",\"\",YEAR(A609))","v":""}]
[{"$f":"Analysedaten!A610","v":""},{"$f":"Berechnungsblatt!C611","v":""},{"$f":"Berechnungsblatt!X611","v":""},{"$f":"Berechnungsblatt!C613","v":""},{"$f":"IF(Stammdaten!$A$2=\"\",\"\",D610-B610)","v":""},{"$f":"IF(Stammdaten!$A$2=\"\",\"\",E610/B610)","v":""},{"$f":"IF(Stammdaten!$A$2=\"\",\"\",ABS(E610))","v":""},{"$f":"IF(Stammdaten!$A$2=\"\",\"\",D610-C610)","v":""},{"$f":"IF(Stammdaten!$A$2=\"\",\"\",H610/C610)","v":""},{"$f":"IF(Stammdaten!$A$2=\"\",\"\",ABS(H610))","v":""},{"$f":"IF(Stammdaten!$A$2=\"\",\"\",IF(F610>35%,1,\"\"))","v":""},{"$f":"IF(Stammdaten!$A$2=\"\",\"\",IF(I610>35%,1,\"\"))","v":""},{"$f":"IF(Stammdaten!$A$2=\"\",\"\",MONTH(A610))","v":""},{"$f":"IF(Stammdaten!$A$2=\"\",\"\",YEAR(A610))","v":""}]
[{"$f":"Analysedaten!A611","v":""},{"$f":"Berechnungsblatt!C612","v":""},{"$f":"Berechnungsblatt!X612","v":""},{"$f":"Berechnungsblatt!C614","v":""},{"$f":"IF(Stammdaten!$A$2=\"\",\"\",D611-B611)","v":""},{"$f":"IF(Stammdaten!$A$2=\"\",\"\",E611/B611)","v":""},{"$f":"IF(Stammdaten!$A$2=\"\",\"\",ABS(E611))","v":""},{"$f":"IF(Stammdaten!$A$2=\"\",\"\",D611-C611)","v":""},{"$f":"IF(Stammdaten!$A$2=\"\",\"\",H611/C611)","v":""},{"$f":"IF(Stammdaten!$A$2=\"\",\"\",ABS(H611))","v":""},{"$f":"IF(Stammdaten!$A$2=\"\",\"\",IF(F611>35%,1,\"\"))","v":""},{"$f":"IF(Stammdaten!$A$2=\"\",\"\",IF(I611>35%,1,\"\"))","v":""},{"$f":"IF(Stammdaten!$A$2=\"\",\"\",MONTH(A611))","v":""},{"$f":"IF(Stammdaten!$A$2=\"\",\"\",YEAR(A611))","v":""}]
[{"$f":"Analysedaten!A612","v":""},{"$f":"Berechnungsblatt!C613","v":""},{"$f":"Berechnungsblatt!X613","v":""},{"$f":"Berechnungsblatt!C615","v":""},{"$f":"IF(Stammdaten!$A$2=\"\",\"\",D612-B612)","v":""},{"$f":"IF(Stammdaten!$A$2=\"\",\"\",E612/B612)","v":""},{"$f":"IF(Stammdaten!$A$2=\"\",\"\",ABS(E612))","v":""},{"$f":"IF(Stammdaten!$A$2=\"\",\"\",D612-C612)","v":""},{"$f":"IF(Stammdaten!$A$2=\"\",\"\",H612/C612)","v":""},{"$f":"IF(Stammdaten!$A$2=\"\",\"\",ABS(H612))","v":""},{"$f":"IF(Stammdaten!$A$2=\"\",\"\",IF(F612>35%,1,\"\"))","v":""},{"$f":"IF(Stammdaten!$A$2=\"\",\"\",IF(I612>35%,1,\"\"))","v":""},{"$f":"IF(Stammdaten!$A$2=\"\",\"\",MONTH(A612))","v":""},{"$f":"IF(Stammdaten!$A$2=\"\",\"\",YEAR(A612))","v":""}]
[{"$f":"Analysedaten!A613","v":""},{"$f":"Berechnungsblatt!C614","v":""},{"$f":"Berechnungsblatt!X614","v":""},{"$f":"Berechnungsblatt!C616","v":""},{"$f":"IF(Stammdaten!$A$2=\"\",\"\",D613-B613)","v":""},{"$f":"IF(Stammdaten!$A$2=\"\",\"\",E613/B613)","v":""},{"$f":"IF(Stammdaten!$A$2=\"\",\"\",ABS(E613))","v":""},{"$f":"IF(Stammdaten!$A$2=\"\",\"\",D613-C613)","v":""},{"$f":"IF(Stammdaten!$A$2=\"\",\"\",H613/C613)","v":""},{"$f":"IF(Stammdaten!$A$2=\"\",\"\",ABS(H613))","v":""},{"$f":"IF(Stammdaten!$A$2=\"\",\"\",IF(F613>35%,1,\"\"))","v":""},{"$f":"IF(Stammdaten!$A$2=\"\",\"\",IF(I613>35%,1,\"\"))","v":""},{"$f":"IF(Stammdaten!$A$2=\"\",\"\",MONTH(A613))","v":""},{"$f":"IF(Stammdaten!$A$2=\"\",\"\",YEAR(A613))","v":""}]
[{"$f":"Analysedaten!A614","v":""},{"$f":"Berechnungsblatt!C615","v":""},{"$f":"Berechnungsblatt!X615","v":""},{"$f":"Berechnungsblatt!C617","v":""},{"$f":"IF(Stammdaten!$A$2=\"\",\"\",D614-B614)","v":""},{"$f":"IF(Stammdaten!$A$2=\"\",\"\",E614/B614)","v":""},{"$f":"IF(Stammdaten!$A$2=\"\",\"\",ABS(E614))","v":""},{"$f":"IF(Stammdaten!$A$2=\"\",\"\",D614-C614)","v":""},{"$f":"IF(Stammdaten!$A$2=\"\",\"\",H614/C614)","v":""},{"$f":"IF(Stammdaten!$A$2=\"\",\"\",ABS(H614))","v":""},{"$f":"IF(Stammdaten!$A$2=\"\",\"\",IF(F614>35%,1,\"\"))","v":""},{"$f":"IF(Stammdaten!$A$2=\"\",\"\",IF(I614>35%,1,\"\"))","v":""},{"$f":"IF(Stammdaten!$A$2=\"\",\"\",MONTH(A614))","v":""},{"$f":"IF(Stammdaten!$A$2=\"\",\"\",YEAR(A614))","v":""}]
[{"$f":"Analysedaten!A615","v":""},{"$f":"Berechnungsblatt!C616","v":""},{"$f":"Berechnungsblatt!X616","v":""},{"$f":"Berechnungsblatt!C618","v":""},{"$f":"IF(Stammdaten!$A$2=\"\",\"\",D615-B615)","v":""},{"$f":"IF(Stammdaten!$A$2=\"\",\"\",E615/B615)","v":""},{"$f":"IF(Stammdaten!$A$2=\"\",\"\",ABS(E615))","v":""},{"$f":"IF(Stammdaten!$A$2=\"\",\"\",D615-C615)","v":""},{"$f":"IF(Stammdaten!$A$2=\"\",\"\",H615/C615)","v":""},{"$f":"IF(Stammdaten!$A$2=\"\",\"\",ABS(H615))","v":""},{"$f":"IF(Stammdaten!$A$2=\"\",\"\",IF(F615>35%,1,\"\"))","v":""},{"$f":"IF(Stammdaten!$A$2=\"\",\"\",IF(I615>35%,1,\"\"))","v":""},{"$f":"IF(Stammdaten!$A$2=\"\",\"\",MONTH(A615))","v":""},{"$f":"IF(Stammdaten!$A$2=\"\",\"\",YEAR(A615))","v":""}]
[{"$f":"Analysedaten!A616","v":""},{"$f":"Berechnungsblatt!C617","v":""},{"$f":"Berechnungsblatt!X617","v":""},{"$f":"Berechnungsblatt!C619","v":""},{"$f":"IF(Stammdaten!$A$2=\"\",\"\",D616-B616)","v":""},{"$f":"IF(Stammdaten!$A$2=\"\",\"\",E616/B616)","v":""},{"$f":"IF(Stammdaten!$A$2=\"\",\"\",ABS(E616))","v":""},{"$f":"IF(Stammdaten!$A$2=\"\",\"\",D616-C616)","v":""},{"$f":"IF(Stammdaten!$A$2=\"\",\"\",H616/C616)","v":""},{"$f":"IF(Stammdaten!$A$2=\"\",\"\",ABS(H616))","v":""},{"$f":"IF(Stammdaten!$A$2=\"\",\"\",IF(F616>35%,1,\"\"))","v":""},{"$f":"IF(Stammdaten!$A$2=\"\",\"\",IF(I616>35%,1,\"\"))","v":""},{"$f":"IF(Stammdaten!$A$2=\"\",\"\",MONTH(A616))","v":""},{"$f":"IF(Stammdaten!$A$2=\"\",\"\",YEAR(A616))","v":""}]
[{"$f":"Analysedaten!A617","v":""},{"$f":"Berechnungsblatt!C618","v":""},{"$f":"Berechnungsblatt!X618","v":""},{"$f":"Berechnungsblatt!C620","v":""},{"$f":"IF(Stammdaten!$A$2=\"\",\"\",D617-B617)","v":""},{"$f":"IF(Stammdaten!$A$2=\"\",\"\",E617/B617)","v":""},{"$f":"IF(Stammdaten!$A$2=\"\",\"\",ABS(E617))","v":""},{"$f":"IF(Stammdaten!$A$2=\"\",\"\",D617-C617)","v":""},{"$f":"IF(Stammdaten!$A$2=\"\",\"\",H617/C617)","v":""},{"$f":"IF(Stammdaten!$A$2=\"\",\"\",ABS(H617))","v":""},{"$f":"IF(Stammdaten!$A$2=\"\",\"\",IF(F617>35%,1,\"\"))","v":""},{"$f":"IF(Stammdaten!$A$2=\"\",\"\",IF(I617>35%,1,\"\"))","v":""},{"$f":"IF(Stammdaten!$A$2=\"\",\"\",MONTH(A617))","v":""},{"$f":"IF(Stammdaten!$A$2=\"\",\"\",YEAR(A617))","v":""}]
[{"$f":"Analysedaten!A618","v":""},{"$f":"Berechnungsblatt!C619","v":""},{"$f":"Berechnungsblatt!X619","v":""},{"$f":"Berechnungsblatt!C621","v":""},{"$f":"IF(Stammdaten!$A$2=\"\",\"\",D618-B618)","v":""},{"$f":"IF(Stammdaten!$A$2=\"\",\"\",E618/B618)","v":""},{"$f":"IF(Stammdaten!$A$2=\"\",\"\",ABS(E618))","v":""},{"$f":"IF(Stammdaten!$A$2=\"\",\"\",D618-C618)","v":""},{"$f":"IF(Stammdaten!$A$2=\"\",\"\",H618/C618)","v":""},{"$f":"IF(Stammdaten!$A$2=\"\",\"\",ABS(H618))","v":""},{"$f":"IF(Stammdaten!$A$2=\"\",\"\",IF(F618>35%,1,\"\"))","v":""},{"$f":"IF(Stammdaten!$A$2=\"\",\"\",IF(I618>35%,1,\"\"))","v":""},{"$f":"IF(Stammdaten!$A$2=\"\",\"\",MONTH(A618))","v":""},{"$f":"IF(Stammdaten!$A$2=\"\",\"\",YEAR(A618))","v":""}]
[{"$f":"Analysedaten!A619","v":""},{"$f":"Berechnungsblatt!C620","v":""},{"$f":"Berechnungsblatt!X620","v":""},{"$f":"Berechnungsblatt!C622","v":""},{"$f":"IF(Stammdaten!$A$2=\"\",\"\",D619-B619)","v":""},{"$f":"IF(Stammdaten!$A$2=\"\",\"\",E619/B619)","v":""},{"$f":"IF(Stammdaten!$A$2=\"\",\"\",ABS(E619))","v":""},{"$f":"IF(Stammdaten!$A$2=\"\",\"\",D619-C619)","v":""},{"$f":"IF(Stammdaten!$A$2=\"\",\"\",H619/C619)","v":""},{"$f":"IF(Stammdaten!$A$2=\"\",\"\",ABS(H619))","v":""},{"$f":"IF(Stammdaten!$A$2=\"\",\"\",IF(F619>35%,1,\"\"))","v":""},{"$f":"IF(Stammdaten!$A$2=\"\",\"\",IF(I619>35%,1,\"\"))","v":""},{"$f":"IF(Stammdaten!$A$2=\"\",\"\",MONTH(A619))","v":""},{"$f":"IF(Stammdaten!$A$2=\"\",\"\",YEAR(A619))","v":""}]
[{"$f":"Analysedaten!A620","v":""},{"$f":"Berechnungsblatt!C621","v":""},{"$f":"Berechnungsblatt!X621","v":""},{"$f":"Berechnungsblatt!C623","v":""},{"$f":"IF(Stammdaten!$A$2=\"\",\"\",D620-B620)","v":""},{"$f":"IF(Stammdaten!$A$2=\"\",\"\",E620/B620)","v":""},{"$f":"IF(Stammdaten!$A$2=\"\",\"\",ABS(E620))","v":""},{"$f":"IF(Stammdaten!$A$2=\"\",\"\",D620-C620)","v":""},{"$f":"IF(Stammdaten!$A$2=\"\",\"\",H620/C620)","v":""},{"$f":"IF(Stammdaten!$A$2=\"\",\"\",ABS(H620))","v":""},{"$f":"IF(Stammdaten!$A$2=\"\",\"\",IF(F620>35%,1,\"\"))","v":""},{"$f":"IF(Stammdaten!$A$2=\"\",\"\",IF(I620>35%,1,\"\"))","v":""},{"$f":"IF(Stammdaten!$A$2=\"\",\"\",MONTH(A620))","v":""},{"$f":"IF(Stammdaten!$A$2=\"\",\"\",YEAR(A620))","v":""}]
[{"$f":"Analysedaten!A621","v":""},{"$f":"Berechnungsblatt!C622","v":""},{"$f":"Berechnungsblatt!X622","v":""},{"$f":"Berechnungsblatt!C624","v":""},{"$f":"IF(Stammdaten!$A$2=\"\",\"\",D621-B621)","v":""},{"$f":"IF(Stammdaten!$A$2=\"\",\"\",E621/B621)","v":""},{"$f":"IF(Stammdaten!$A$2=\"\",\"\",ABS(E621))","v":""},{"$f":"IF(Stammdaten!$A$2=\"\",\"\",D621-C621)","v":""},{"$f":"IF(Stammdaten!$A$2=\"\",\"\",H621/C621)","v":""},{"$f":"IF(Stammdaten!$A$2=\"\",\"\",ABS(H621))","v":""},{"$f":"IF(Stammdaten!$A$2=\"\",\"\",IF(F621>35%,1,\"\"))","v":""},{"$f":"IF(Stammdaten!$A$2=\"\",\"\",IF(I621>35%,1,\"\"))","v":""},{"$f":"IF(Stammdaten!$A$2=\"\",\"\",MONTH(A621))","v":""},{"$f":"IF(Stammdaten!$A$2=\"\",\"\",YEAR(A621))","v":""}]
[{"$f":"Analysedaten!A622","v":""},{"$f":"Berechnungsblatt!C623","v":""},{"$f":"Berechnungsblatt!X623","v":""},{"$f":"Berechnungsblatt!C625","v":""},{"$f":"IF(Stammdaten!$A$2=\"\",\"\",D622-B622)","v":""},{"$f":"IF(Stammdaten!$A$2=\"\",\"\",E622/B622)","v":""},{"$f":"IF(Stammdaten!$A$2=\"\",\"\",ABS(E622))","v":""},{"$f":"IF(Stammdaten!$A$2=\"\",\"\",D622-C622)","v":""},{"$f":"IF(Stammdaten!$A$2=\"\",\"\",H622/C622)","v":""},{"$f":"IF(Stammdaten!$A$2=\"\",\"\",ABS(H622))","v":""},{"$f":"IF(Stammdaten!$A$2=\"\",\"\",IF(F622>35%,1,\"\"))","v":""},{"$f":"IF(Stammdaten!$A$2=\"\",\"\",IF(I622>35%,1,\"\"))","v":""},{"$f":"IF(Stammdaten!$A$2=\"\",\"\",MONTH(A622))","v":""},{"$f":"IF(Stammdaten!$A$2=\"\",\"\",YEAR(A622))","v":""}]
[{"$f":"Analysedaten!A623","v":""},{"$f":"Berechnungsblatt!C624","v":""},{"$f":"Berechnungsblatt!X624","v":""},{"$f":"Berechnungsblatt!C626","v":""},{"$f":"IF(Stammdaten!$A$2=\"\",\"\",D623-B623)","v":""},{"$f":"IF(Stammdaten!$A$2=\"\",\"\",E623/B623)","v":""},{"$f":"IF(Stammdaten!$A$2=\"\",\"\",ABS(E623))","v":""},{"$f":"IF(Stammdaten!$A$2=\"\",\"\",D623-C623)","v":""},{"$f":"IF(Stammdaten!$A$2=\"\",\"\",H623/C623)","v":""},{"$f":"IF(Stammdaten!$A$2=\"\",\"\",ABS(H623))","v":""},{"$f":"IF(Stammdaten!$A$2=\"\",\"\",IF(F623>35%,1,\"\"))","v":""},{"$f":"IF(Stammdaten!$A$2=\"\",\"\",IF(I623>35%,1,\"\"))","v":""},{"$f":"IF(Stammdaten!$A$2=\"\",\"\",MONTH(A623))","v":""},{"$f":"IF(Stammdaten!$A$2=\"\",\"\",YEAR(A623))","v":""}]
[{"$f":"Analysedaten!A624","v":""},{"$f":"Berechnungsblatt!C625","v":""},{"$f":"Berechnungsblatt!X625","v":""},{"$f":"Berechnungsblatt!C627","v":""},{"$f":"IF(Stammdaten!$A$2=\"\",\"\",D624-B624)","v":""},{"$f":"IF(Stammdaten!$A$2=\"\",\"\",E624/B624)","v":""},{"$f":"IF(Stammdaten!$A$2=\"\",\"\",ABS(E624))","v":""},{"$f":"IF(Stammdaten!$A$2=\"\",\"\",D624-C624)","v":""},{"$f":"IF(Stammdaten!$A$2=\"\",\"\",H624/C624)","v":""},{"$f":"IF(Stammdaten!$A$2=\"\",\"\",ABS(H624))","v":""},{"$f":"IF(Stammdaten!$A$2=\"\",\"\",IF(F624>35%,1,\"\"))","v":""},{"$f":"IF(Stammdaten!$A$2=\"\",\"\",IF(I624>35%,1,\"\"))","v":""},{"$f":"IF(Stammdaten!$A$2=\"\",\"\",MONTH(A624))","v":""},{"$f":"IF(Stammdaten!$A$2=\"\",\"\",YEAR(A624))","v":""}]
[{"$f":"Analysedaten!A625","v":""},{"$f":"Berechnungsblatt!C626","v":""},{"$f":"Berechnungsblatt!X626","v":""},{"$f":"Berechnungsblatt!C628","v":""},{"$f":"IF(Stammdaten!$A$2=\"\",\"\",D625-B625)","v":""},{"$f":"IF(Stammdaten!$A$2=\"\",\"\",E625/B625)","v":""},{"$f":"IF(Stammdaten!$A$2=\"\",\"\",ABS(E625))","v":""},{"$f":"IF(Stammdaten!$A$2=\"\",\"\",D625-C625)","v":""},{"$f":"IF(Stammdaten!$A$2=\"\",\"\",H625/C625)","v":""},{"$f":"IF(Stammdaten!$A$2=\"\",\"\",ABS(H625))","v":""},{"$f":"IF(Stammdaten!$A$2=\"\",\"\",IF(F625>35%,1,\"\"))","v":""},{"$f":"IF(Stammdaten!$A$2=\"\",\"\",IF(I625>35%,1,\"\"))","v":""},{"$f":"IF(Stammdaten!$A$2=\"\",\"\",MONTH(A625))","v":""},{"$f":"IF(Stammdaten!$A$2=\"\",\"\",YEAR(A625))","v":""}]
[{"$f":"Analysedaten!A626","v":""},{"$f":"Berechnungsblatt!C627","v":""},{"$f":"Berechnungsblatt!X627","v":""},{"$f":"Berechnungsblatt!C629","v":""},{"$f":"IF(Stammdaten!$A$2=\"\",\"\",D626-B626)","v":""},{"$f":"IF(Stammdaten!$A$2=\"\",\"\",E626/B626)","v":""},{"$f":"IF(Stammdaten!$A$2=\"\",\"\",ABS(E626))","v":""},{"$f":"IF(Stammdaten!$A$2=\"\",\"\",D626-C626)","v":""},{"$f":"IF(Stammdaten!$A$2=\"\",\"\",H626/C626)","v":""},{"$f":"IF(Stammdaten!$A$2=\"\",\"\",ABS(H626))","v":""},{"$f":"IF(Stammdaten!$A$2=\"\",\"\",IF(F626>35%,1,\"\"))","v":""},{"$f":"IF(Stammdaten!$A$2=\"\",\"\",IF(I626>35%,1,\"\"))","v":""},{"$f":"IF(Stammdaten!$A$2=\"\",\"\",MONTH(A626))","v":""},{"$f":"IF(Stammdaten!$A$2=\"\",\"\",YEAR(A626))","v":""}]
[{"$f":"Analysedaten!A627","v":""},{"$f":"Berechnungsblatt!C628","v":""},{"$f":"Berechnungsblatt!X628","v":""},{"$f":"Berechnungsblatt!C630","v":""},{"$f":"IF(Stammdaten!$A$2=\"\",\"\",D627-B627)","v":""},{"$f":"IF(Stammdaten!$A$2=\"\",\"\",E627/B627)","v":""},{"$f":"IF(Stammdaten!$A$2=\"\",\"\",ABS(E627))","v":""},{"$f":"IF(Stammdaten!$A$2=\"\",\"\",D627-C627)","v":""},{"$f":"IF(Stammdaten!$A$2=\"\",\"\",H627/C627)","v":""},{"$f":"IF(Stammdaten!$A$2=\"\",\"\",ABS(H627))","v":""},{"$f":"IF(Stammdaten!$A$2=\"\",\"\",IF(F627>35%,1,\"\"))","v":""},{"$f":"IF(Stammdaten!$A$2=\"\",\"\",IF(I627>35%,1,\"\"))","v":""},{"$f":"IF(Stammdaten!$A$2=\"\",\"\",MONTH(A627))","v":""},{"$f":"IF(Stammdaten!$A$2=\"\",\"\",YEAR(A627))","v":""}]
[{"$f":"Analysedaten!A628","v":""},{"$f":"Berechnungsblatt!C629","v":""},{"$f":"Berechnungsblatt!X629","v":""},{"$f":"Berechnungsblatt!C631","v":""},{"$f":"IF(Stammdaten!$A$2=\"\",\"\",D628-B628)","v":""},{"$f":"IF(Stammdaten!$A$2=\"\",\"\",E628/B628)","v":""},{"$f":"IF(Stammdaten!$A$2=\"\",\"\",ABS(E628))","v":""},{"$f":"IF(Stammdaten!$A$2=\"\",\"\",D628-C628)","v":""},{"$f":"IF(Stammdaten!$A$2=\"\",\"\",H628/C628)","v":""},{"$f":"IF(Stammdaten!$A$2=\"\",\"\",ABS(H628))","v":""},{"$f":"IF(Stammdaten!$A$2=\"\",\"\",IF(F628>35%,1,\"\"))","v":""},{"$f":"IF(Stammdaten!$A$2=\"\",\"\",IF(I628>35%,1,\"\"))","v":""},{"$f":"IF(Stammdaten!$A$2=\"\",\"\",MONTH(A628))","v":""},{"$f":"IF(Stammdaten!$A$2=\"\",\"\",YEAR(A628))","v":""}]
[{"$f":"Analysedaten!A629","v":""},{"$f":"Berechnungsblatt!C630","v":""},{"$f":"Berechnungsblatt!X630","v":""},{"$f":"Berechnungsblatt!C632","v":""},{"$f":"IF(Stammdaten!$A$2=\"\",\"\",D629-B629)","v":""},{"$f":"IF(Stammdaten!$A$2=\"\",\"\",E629/B629)","v":""},{"$f":"IF(Stammdaten!$A$2=\"\",\"\",ABS(E629))","v":""},{"$f":"IF(Stammdaten!$A$2=\"\",\"\",D629-C629)","v":""},{"$f":"IF(Stammdaten!$A$2=\"\",\"\",H629/C629)","v":""},{"$f":"IF(Stammdaten!$A$2=\"\",\"\",ABS(H629))","v":""},{"$f":"IF(Stammdaten!$A$2=\"\",\"\",IF(F629>35%,1,\"\"))","v":""},{"$f":"IF(Stammdaten!$A$2=\"\",\"\",IF(I629>35%,1,\"\"))","v":""},{"$f":"IF(Stammdaten!$A$2=\"\",\"\",MONTH(A629))","v":""},{"$f":"IF(Stammdaten!$A$2=\"\",\"\",YEAR(A629))","v":""}]
[{"$f":"Analysedaten!A630","v":""},{"$f":"Berechnungsblatt!C631","v":""},{"$f":"Berechnungsblatt!X631","v":""},{"$f":"Berechnungsblatt!C633","v":""},{"$f":"IF(Stammdaten!$A$2=\"\",\"\",D630-B630)","v":""},{"$f":"IF(Stammdaten!$A$2=\"\",\"\",E630/B630)","v":""},{"$f":"IF(Stammdaten!$A$2=\"\",\"\",ABS(E630))","v":""},{"$f":"IF(Stammdaten!$A$2=\"\",\"\",D630-C630)","v":""},{"$f":"IF(Stammdaten!$A$2=\"\",\"\",H630/C630)","v":""},{"$f":"IF(Stammdaten!$A$2=\"\",\"\",ABS(H630))","v":""},{"$f":"IF(Stammdaten!$A$2=\"\",\"\",IF(F630>35%,1,\"\"))","v":""},{"$f":"IF(Stammdaten!$A$2=\"\",\"\",IF(I630>35%,1,\"\"))","v":""},{"$f":"IF(Stammdaten!$A$2=\"\",\"\",MONTH(A630))","v":""},{"$f":"IF(Stammdaten!$A$2=\"\",\"\",YEAR(A630))","v":""}]
[{"$f":"Analysedaten!A631","v":""},{"$f":"Berechnungsblatt!C632","v":""},{"$f":"Berechnungsblatt!X632","v":""},{"$f":"Berechnungsblatt!C634","v":""},{"$f":"IF(Stammdaten!$A$2=\"\",\"\",D631-B631)","v":""},{"$f":"IF(Stammdaten!$A$2=\"\",\"\",E631/B631)","v":""},{"$f":"IF(Stammdaten!$A$2=\"\",\"\",ABS(E631))","v":""},{"$f":"IF(Stammdaten!$A$2=\"\",\"\",D631-C631)","v":""},{"$f":"IF(Stammdaten!$A$2=\"\",\"\",H631/C631)","v":""},{"$f":"IF(Stammdaten!$A$2=\"\",\"\",ABS(H631))","v":""},{"$f":"IF(Stammdaten!$A$2=\"\",\"\",IF(F631>35%,1,\"\"))","v":""},{"$f":"IF(Stammdaten!$A$2=\"\",\"\",IF(I631>35%,1,\"\"))","v":""},{"$f":"IF(Stammdaten!$A$2=\"\",\"\",MONTH(A631))","v":""},{"$f":"IF(Stammdaten!$A$2=\"\",\"\",YEAR(A631))","v":""}]
[{"$f":"Analysedaten!A632","v":""},{"$f":"Berechnungsblatt!C633","v":""},{"$f":"Berechnungsblatt!X633","v":""},{"$f":"Berechnungsblatt!C635","v":""},{"$f":"IF(Stammdaten!$A$2=\"\",\"\",D632-B632)","v":""},{"$f":"IF(Stammdaten!$A$2=\"\",\"\",E632/B632)","v":""},{"$f":"IF(Stammdaten!$A$2=\"\",\"\",ABS(E632))","v":""},{"$f":"IF(Stammdaten!$A$2=\"\",\"\",D632-C632)","v":""},{"$f":"IF(Stammdaten!$A$2=\"\",\"\",H632/C632)","v":""},{"$f":"IF(Stammdaten!$A$2=\"\",\"\",ABS(H632))","v":""},{"$f":"IF(Stammdaten!$A$2=\"\",\"\",IF(F632>35%,1,\"\"))","v":""},{"$f":"IF(Stammdaten!$A$2=\"\",\"\",IF(I632>35%,1,\"\"))","v":""},{"$f":"IF(Stammdaten!$A$2=\"\",\"\",MONTH(A632))","v":""},{"$f":"IF(Stammdaten!$A$2=\"\",\"\",YEAR(A632))","v":""}]
[{"$f":"Analysedaten!A633","v":""},{"$f":"Berechnungsblatt!C634","v":""},{"$f":"Berechnungsblatt!X634","v":""},{"$f":"Berechnungsblatt!C636","v":""},{"$f":"IF(Stammdaten!$A$2=\"\",\"\",D633-B633)","v":""},{"$f":"IF(Stammdaten!$A$2=\"\",\"\",E633/B633)","v":""},{"$f":"IF(Stammdaten!$A$2=\"\",\"\",ABS(E633))","v":""},{"$f":"IF(Stammdaten!$A$2=\"\",\"\",D633-C633)","v":""},{"$f":"IF(Stammdaten!$A$2=\"\",\"\",H633/C633)","v":""},{"$f":"IF(Stammdaten!$A$2=\"\",\"\",ABS(H633))","v":""},{"$f":"IF(Stammdaten!$A$2=\"\",\"\",IF(F633>35%,1,\"\"))","v":""},{"$f":"IF(Stammdaten!$A$2=\"\",\"\",IF(I633>35%,1,\"\"))","v":""},{"$f":"IF(Stammdaten!$A$2=\"\",\"\",MONTH(A633))","v":""},{"$f":"IF(Stammdaten!$A$2=\"\",\"\",YEAR(A633))","v":""}]
[{"$f":"Analysedaten!A634","v":""},{"$f":"Berechnungsblatt!C635","v":""},{"$f":"Berechnungsblatt!X635","v":""},{"$f":"Berechnungsblatt!C637","v":""},{"$f":"IF(Stammdaten!$A$2=\"\",\"\",D634-B634)","v":""},{"$f":"IF(Stammdaten!$A$2=\"\",\"\",E634/B634)","v":""},{"$f":"IF(Stammdaten!$A$2=\"\",\"\",ABS(E634))","v":""},{"$f":"IF(Stammdaten!$A$2=\"\",\"\",D634-C634)","v":""},{"$f":"IF(Stammdaten!$A$2=\"\",\"\",H634/C634)","v":""},{"$f":"IF(Stammdaten!$A$2=\"\",\"\",ABS(H634))","v":""},{"$f":"IF(Stammdaten!$A$2=\"\",\"\",IF(F634>35%,1,\"\"))","v":""},{"$f":"IF(Stammdaten!$A$2=\"\",\"\",IF(I634>35%,1,\"\"))","v":""},{"$f":"IF(Stammdaten!$A$2=\"\",\"\",MONTH(A634))","v":""},{"$f":"IF(Stammdaten!$A$2=\"\",\"\",YEAR(A634))","v":""}]
[{"$f":"Analysedaten!A635","v":""},{"$f":"Berechnungsblatt!C636","v":""},{"$f":"Berechnungsblatt!X636","v":""},{"$f":"Berechnungsblatt!C638","v":""},{"$f":"IF(Stammdaten!$A$2=\"\",\"\",D635-B635)","v":""},{"$f":"IF(Stammdaten!$A$2=\"\",\"\",E635/B635)","v":""},{"$f":"IF(Stammdaten!$A$2=\"\",\"\",ABS(E635))","v":""},{"$f":"IF(Stammdaten!$A$2=\"\",\"\",D635-C635)","v":""},{"$f":"IF(Stammdaten!$A$2=\"\",\"\",H635/C635)","v":""},{"$f":"IF(Stammdaten!$A$2=\"\",\"\",ABS(H635))","v":""},{"$f":"IF(Stammdaten!$A$2=\"\",\"\",IF(F635>35%,1,\"\"))","v":""},{"$f":"IF(Stammdaten!$A$2=\"\",\"\",IF(I635>35%,1,\"\"))","v":""},{"$f":"IF(Stammdaten!$A$2=\"\",\"\",MONTH(A635))","v":""},{"$f":"IF(Stammdaten!$A$2=\"\",\"\",YEAR(A635))","v":""}]
[{"$f":"Analysedaten!A636","v":""},{"$f":"Berechnungsblatt!C637","v":""},{"$f":"Berechnungsblatt!X637","v":""},{"$f":"Berechnungsblatt!C639","v":""},{"$f":"IF(Stammdaten!$A$2=\"\",\"\",D636-B636)","v":""},{"$f":"IF(Stammdaten!$A$2=\"\",\"\",E636/B636)","v":""},{"$f":"IF(Stammdaten!$A$2=\"\",\"\",ABS(E636))","v":""},{"$f":"IF(Stammdaten!$A$2=\"\",\"\",D636-C636)","v":""},{"$f":"IF(Stammdaten!$A$2=\"\",\"\",H636/C636)","v":""},{"$f":"IF(Stammdaten!$A$2=\"\",\"\",ABS(H636))","v":""},{"$f":"IF(Stammdaten!$A$2=\"\",\"\",IF(F636>35%,1,\"\"))","v":""},{"$f":"IF(Stammdaten!$A$2=\"\",\"\",IF(I636>35%,1,\"\"))","v":""},{"$f":"IF(Stammdaten!$A$2=\"\",\"\",MONTH(A636))","v":""},{"$f":"IF(Stammdaten!$A$2=\"\",\"\",YEAR(A636))","v":""}]
[{"$f":"Analysedaten!A637","v":""},{"$f":"Berechnungsblatt!C638","v":""},{"$f":"Berechnungsblatt!X638","v":""},{"$f":"Berechnungsblatt!C640","v":""},{"$f":"IF(Stammdaten!$A$2=\"\",\"\",D637-B637)","v":""},{"$f":"IF(Stammdaten!$A$2=\"\",\"\",E637/B637)","v":""},{"$f":"IF(Stammdaten!$A$2=\"\",\"\",ABS(E637))","v":""},{"$f":"IF(Stammdaten!$A$2=\"\",\"\",D637-C637)","v":""},{"$f":"IF(Stammdaten!$A$2=\"\",\"\",H637/C637)","v":""},{"$f":"IF(Stammdaten!$A$2=\"\",\"\",ABS(H637))","v":""},{"$f":"IF(Stammdaten!$A$2=\"\",\"\",IF(F637>35%,1,\"\"))","v":""},{"$f":"IF(Stammdaten!$A$2=\"\",\"\",IF(I637>35%,1,\"\"))","v":""},{"$f":"IF(Stammdaten!$A$2=\"\",\"\",MONTH(A637))","v":""},{"$f":"IF(Stammdaten!$A$2=\"\",\"\",YEAR(A637))","v":""}]
[{"$f":"Analysedaten!A638","v":""},{"$f":"Berechnungsblatt!C639","v":""},{"$f":"Berechnungsblatt!X639","v":""},{"$f":"Berechnungsblatt!C641","v":""},{"$f":"IF(Stammdaten!$A$2=\"\",\"\",D638-B638)","v":""},{"$f":"IF(Stammdaten!$A$2=\"\",\"\",E638/B638)","v":""},{"$f":"IF(Stammdaten!$A$2=\"\",\"\",ABS(E638))","v":""},{"$f":"IF(Stammdaten!$A$2=\"\",\"\",D638-C638)","v":""},{"$f":"IF(Stammdaten!$A$2=\"\",\"\",H638/C638)","v":""},{"$f":"IF(Stammdaten!$A$2=\"\",\"\",ABS(H638))","v":""},{"$f":"IF(Stammdaten!$A$2=\"\",\"\",IF(F638>35%,1,\"\"))","v":""},{"$f":"IF(Stammdaten!$A$2=\"\",\"\",IF(I638>35%,1,\"\"))","v":""},{"$f":"IF(Stammdaten!$A$2=\"\",\"\",MONTH(A638))","v":""},{"$f":"IF(Stammdaten!$A$2=\"\",\"\",YEAR(A638))","v":""}]
[{"$f":"Analysedaten!A639","v":""},{"$f":"Berechnungsblatt!C640","v":""},{"$f":"Berechnungsblatt!X640","v":""},{"$f":"Berechnungsblatt!C642","v":""},{"$f":"IF(Stammdaten!$A$2=\"\",\"\",D639-B639)","v":""},{"$f":"IF(Stammdaten!$A$2=\"\",\"\",E639/B639)","v":""},{"$f":"IF(Stammdaten!$A$2=\"\",\"\",ABS(E639))","v":""},{"$f":"IF(Stammdaten!$A$2=\"\",\"\",D639-C639)","v":""},{"$f":"IF(Stammdaten!$A$2=\"\",\"\",H639/C639)","v":""},{"$f":"IF(Stammdaten!$A$2=\"\",\"\",ABS(H639))","v":""},{"$f":"IF(Stammdaten!$A$2=\"\",\"\",IF(F639>35%,1,\"\"))","v":""},{"$f":"IF(Stammdaten!$A$2=\"\",\"\",IF(I639>35%,1,\"\"))","v":""},{"$f":"IF(Stammdaten!$A$2=\"\",\"\",MONTH(A639))","v":""},{"$f":"IF(Stammdaten!$A$2=\"\",\"\",YEAR(A639))","v":""}]
[{"$f":"Analysedaten!A640","v":""},{"$f":"Berechnungsblatt!C641","v":""},{"$f":"Berechnungsblatt!X641","v":""},{"$f":"Berechnungsblatt!C643","v":""},{"$f":"IF(Stammdaten!$A$2=\"\",\"\",D640-B640)","v":""},{"$f":"IF(Stammdaten!$A$2=\"\",\"\",E640/B640)","v":""},{"$f":"IF(Stammdaten!$A$2=\"\",\"\",ABS(E640))","v":""},{"$f":"IF(Stammdaten!$A$2=\"\",\"\",D640-C640)","v":""},{"$f":"IF(Stammdaten!$A$2=\"\",\"\",H640/C640)","v":""},{"$f":"IF(Stammdaten!$A$2=\"\",\"\",ABS(H640))","v":""},{"$f":"IF(Stammdaten!$A$2=\"\",\"\",IF(F640>35%,1,\"\"))","v":""},{"$f":"IF(Stammdaten!$A$2=\"\",\"\",IF(I640>35%,1,\"\"))","v":""},{"$f":"IF(Stammdaten!$A$2=\"\",\"\",MONTH(A640))","v":""},{"$f":"IF(Stammdaten!$A$2=\"\",\"\",YEAR(A640))","v":""}]
[{"$f":"Analysedaten!A641","v":""},{"$f":"Berechnungsblatt!C642","v":""},{"$f":"Berechnungsblatt!X642","v":""},{"$f":"Berechnungsblatt!C644","v":""},{"$f":"IF(Stammdaten!$A$2=\"\",\"\",D641-B641)","v":""},{"$f":"IF(Stammdaten!$A$2=\"\",\"\",E641/B641)","v":""},{"$f":"IF(Stammdaten!$A$2=\"\",\"\",ABS(E641))","v":""},{"$f":"IF(Stammdaten!$A$2=\"\",\"\",D641-C641)","v":""},{"$f":"IF(Stammdaten!$A$2=\"\",\"\",H641/C641)","v":""},{"$f":"IF(Stammdaten!$A$2=\"\",\"\",ABS(H641))","v":""},{"$f":"IF(Stammdaten!$A$2=\"\",\"\",IF(F641>35%,1,\"\"))","v":""},{"$f":"IF(Stammdaten!$A$2=\"\",\"\",IF(I641>35%,1,\"\"))","v":""},{"$f":"IF(Stammdaten!$A$2=\"\",\"\",MONTH(A641))","v":""},{"$f":"IF(Stammdaten!$A$2=\"\",\"\",YEAR(A641))","v":""}]
[{"$f":"Analysedaten!A642","v":""},{"$f":"Berechnungsblatt!C643","v":""},{"$f":"Berechnungsblatt!X643","v":""},{"$f":"Berechnungsblatt!C645","v":""},{"$f":"IF(Stammdaten!$A$2=\"\",\"\",D642-B642)","v":""},{"$f":"IF(Stammdaten!$A$2=\"\",\"\",E642/B642)","v":""},{"$f":"IF(Stammdaten!$A$2=\"\",\"\",ABS(E642))","v":""},{"$f":"IF(Stammdaten!$A$2=\"\",\"\",D642-C642)","v":""},{"$f":"IF(Stammdaten!$A$2=\"\",\"\",H642/C642)","v":""},{"$f":"IF(Stammdaten!$A$2=\"\",\"\",ABS(H642))","v":""},{"$f":"IF(Stammdaten!$A$2=\"\",\"\",IF(F642>35%,1,\"\"))","v":""},{"$f":"IF(Stammdaten!$A$2=\"\",\"\",IF(I642>35%,1,\"\"))","v":""},{"$f":"IF(Stammdaten!$A$2=\"\",\"\",MONTH(A642))","v":""},{"$f":"IF(Stammdaten!$A$2=\"\",\"\",YEAR(A642))","v":""}]
[{"$f":"Analysedaten!A643","v":""},{"$f":"Berechnungsblatt!C644","v":""},{"$f":"Berechnungsblatt!X644","v":""},{"$f":"Berechnungsblatt!C646","v":""},{"$f":"IF(Stammdaten!$A$2=\"\",\"\",D643-B643)","v":""},{"$f":"IF(Stammdaten!$A$2=\"\",\"\",E643/B643)","v":""},{"$f":"IF(Stammdaten!$A$2=\"\",\"\",ABS(E643))","v":""},{"$f":"IF(Stammdaten!$A$2=\"\",\"\",D643-C643)","v":""},{"$f":"IF(Stammdaten!$A$2=\"\",\"\",H643/C643)","v":""},{"$f":"IF(Stammdaten!$A$2=\"\",\"\",ABS(H643))","v":""},{"$f":"IF(Stammdaten!$A$2=\"\",\"\",IF(F643>35%,1,\"\"))","v":""},{"$f":"IF(Stammdaten!$A$2=\"\",\"\",IF(I643>35%,1,\"\"))","v":""},{"$f":"IF(Stammdaten!$A$2=\"\",\"\",MONTH(A643))","v":""},{"$f":"IF(Stammdaten!$A$2=\"\",\"\",YEAR(A643))","v":""}]
[{"$f":"Analysedaten!A644","v":""},{"$f":"Berechnungsblatt!C645","v":""},{"$f":"Berechnungsblatt!X645","v":""},{"$f":"Berechnungsblatt!C647","v":""},{"$f":"IF(Stammdaten!$A$2=\"\",\"\",D644-B644)","v":""},{"$f":"IF(Stammdaten!$A$2=\"\",\"\",E644/B644)","v":""},{"$f":"IF(Stammdaten!$A$2=\"\",\"\",ABS(E644))","v":""},{"$f":"IF(Stammdaten!$A$2=\"\",\"\",D644-C644)","v":""},{"$f":"IF(Stammdaten!$A$2=\"\",\"\",H644/C644)","v":""},{"$f":"IF(Stammdaten!$A$2=\"\",\"\",ABS(H644))","v":""},{"$f":"IF(Stammdaten!$A$2=\"\",\"\",IF(F644>35%,1,\"\"))","v":""},{"$f":"IF(Stammdaten!$A$2=\"\",\"\",IF(I644>35%,1,\"\"))","v":""},{"$f":"IF(Stammdaten!$A$2=\"\",\"\",MONTH(A644))","v":""},{"$f":"IF(Stammdaten!$A$2=\"\",\"\",YEAR(A644))","v":""}]
[{"$f":"Analysedaten!A645","v":""},{"$f":"Berechnungsblatt!C646","v":""},{"$f":"Berechnungsblatt!X646","v":""},{"$f":"Berechnungsblatt!C648","v":""},{"$f":"IF(Stammdaten!$A$2=\"\",\"\",D645-B645)","v":""},{"$f":"IF(Stammdaten!$A$2=\"\",\"\",E645/B645)","v":""},{"$f":"IF(Stammdaten!$A$2=\"\",\"\",ABS(E645))","v":""},{"$f":"IF(Stammdaten!$A$2=\"\",\"\",D645-C645)","v":""},{"$f":"IF(Stammdaten!$A$2=\"\",\"\",H645/C645)","v":""},{"$f":"IF(Stammdaten!$A$2=\"\",\"\",ABS(H645))","v":""},{"$f":"IF(Stammdaten!$A$2=\"\",\"\",IF(F645>35%,1,\"\"))","v":""},{"$f":"IF(Stammdaten!$A$2=\"\",\"\",IF(I645>35%,1,\"\"))","v":""},{"$f":"IF(Stammdaten!$A$2=\"\",\"\",MONTH(A645))","v":""},{"$f":"IF(Stammdaten!$A$2=\"\",\"\",YEAR(A645))","v":""}]
[{"$f":"Analysedaten!A646","v":""},{"$f":"Berechnungsblatt!C647","v":""},{"$f":"Berechnungsblatt!X647","v":""},{"$f":"Berechnungsblatt!C649","v":""},{"$f":"IF(Stammdaten!$A$2=\"\",\"\",D646-B646)","v":""},{"$f":"IF(Stammdaten!$A$2=\"\",\"\",E646/B646)","v":""},{"$f":"IF(Stammdaten!$A$2=\"\",\"\",ABS(E646))","v":""},{"$f":"IF(Stammdaten!$A$2=\"\",\"\",D646-C646)","v":""},{"$f":"IF(Stammdaten!$A$2=\"\",\"\",H646/C646)","v":""},{"$f":"IF(Stammdaten!$A$2=\"\",\"\",ABS(H646))","v":""},{"$f":"IF(Stammdaten!$A$2=\"\",\"\",IF(F646>35%,1,\"\"))","v":""},{"$f":"IF(Stammdaten!$A$2=\"\",\"\",IF(I646>35%,1,\"\"))","v":""},{"$f":"IF(Stammdaten!$A$2=\"\",\"\",MONTH(A646))","v":""},{"$f":"IF(Stammdaten!$A$2=\"\",\"\",YEAR(A646))","v":""}]
[{"$f":"Analysedaten!A647","v":""},{"$f":"Berechnungsblatt!C648","v":""},{"$f":"Berechnungsblatt!X648","v":""},{"$f":"Berechnungsblatt!C650","v":""},{"$f":"IF(Stammdaten!$A$2=\"\",\"\",D647-B647)","v":""},{"$f":"IF(Stammdaten!$A$2=\"\",\"\",E647/B647)","v":""},{"$f":"IF(Stammdaten!$A$2=\"\",\"\",ABS(E647))","v":""},{"$f":"IF(Stammdaten!$A$2=\"\",\"\",D647-C647)","v":""},{"$f":"IF(Stammdaten!$A$2=\"\",\"\",H647/C647)","v":""},{"$f":"IF(Stammdaten!$A$2=\"\",\"\",ABS(H647))","v":""},{"$f":"IF(Stammdaten!$A$2=\"\",\"\",IF(F647>35%,1,\"\"))","v":""},{"$f":"IF(Stammdaten!$A$2=\"\",\"\",IF(I647>35%,1,\"\"))","v":""},{"$f":"IF(Stammdaten!$A$2=\"\",\"\",MONTH(A647))","v":""},{"$f":"IF(Stammdaten!$A$2=\"\",\"\",YEAR(A647))","v":""}]
[{"$f":"Analysedaten!A648","v":""},{"$f":"Berechnungsblatt!C649","v":""},{"$f":"Berechnungsblatt!X649","v":""},{"$f":"Berechnungsblatt!C651","v":""},{"$f":"IF(Stammdaten!$A$2=\"\",\"\",D648-B648)","v":""},{"$f":"IF(Stammdaten!$A$2=\"\",\"\",E648/B648)","v":""},{"$f":"IF(Stammdaten!$A$2=\"\",\"\",ABS(E648))","v":""},{"$f":"IF(Stammdaten!$A$2=\"\",\"\",D648-C648)","v":""},{"$f":"IF(Stammdaten!$A$2=\"\",\"\",H648/C648)","v":""},{"$f":"IF(Stammdaten!$A$2=\"\",\"\",ABS(H648))","v":""},{"$f":"IF(Stammdaten!$A$2=\"\",\"\",IF(F648>35%,1,\"\"))","v":""},{"$f":"IF(Stammdaten!$A$2=\"\",\"\",IF(I648>35%,1,\"\"))","v":""},{"$f":"IF(Stammdaten!$A$2=\"\",\"\",MONTH(A648))","v":""},{"$f":"IF(Stammdaten!$A$2=\"\",\"\",YEAR(A648))","v":""}]
[{"$f":"Analysedaten!A649","v":""},{"$f":"Berechnungsblatt!C650","v":""},{"$f":"Berechnungsblatt!X650","v":""},{"$f":"Berechnungsblatt!C652","v":""},{"$f":"IF(Stammdaten!$A$2=\"\",\"\",D649-B649)","v":""},{"$f":"IF(Stammdaten!$A$2=\"\",\"\",E649/B649)","v":""},{"$f":"IF(Stammdaten!$A$2=\"\",\"\",ABS(E649))","v":""},{"$f":"IF(Stammdaten!$A$2=\"\",\"\",D649-C649)","v":""},{"$f":"IF(Stammdaten!$A$2=\"\",\"\",H649/C649)","v":""},{"$f":"IF(Stammdaten!$A$2=\"\",\"\",ABS(H649))","v":""},{"$f":"IF(Stammdaten!$A$2=\"\",\"\",IF(F649>35%,1,\"\"))","v":""},{"$f":"IF(Stammdaten!$A$2=\"\",\"\",IF(I649>35%,1,\"\"))","v":""},{"$f":"IF(Stammdaten!$A$2=\"\",\"\",MONTH(A649))","v":""},{"$f":"IF(Stammdaten!$A$2=\"\",\"\",YEAR(A649))","v":""}]
[{"$f":"Analysedaten!A650","v":""},{"$f":"Berechnungsblatt!C651","v":""},{"$f":"Berechnungsblatt!X651","v":""},{"$f":"Berechnungsblatt!C653","v":""},{"$f":"IF(Stammdaten!$A$2=\"\",\"\",D650-B650)","v":""},{"$f":"IF(Stammdaten!$A$2=\"\",\"\",E650/B650)","v":""},{"$f":"IF(Stammdaten!$A$2=\"\",\"\",ABS(E650))","v":""},{"$f":"IF(Stammdaten!$A$2=\"\",\"\",D650-C650)","v":""},{"$f":"IF(Stammdaten!$A$2=\"\",\"\",H650/C650)","v":""},{"$f":"IF(Stammdaten!$A$2=\"\",\"\",ABS(H650))","v":""},{"$f":"IF(Stammdaten!$A$2=\"\",\"\",IF(F650>35%,1,\"\"))","v":""},{"$f":"IF(Stammdaten!$A$2=\"\",\"\",IF(I650>35%,1,\"\"))","v":""},{"$f":"IF(Stammdaten!$A$2=\"\",\"\",MONTH(A650))","v":""},{"$f":"IF(Stammdaten!$A$2=\"\",\"\",YEAR(A650))","v":""}]
[{"$f":"Analysedaten!A651","v":""},{"$f":"Berechnungsblatt!C652","v":""},{"$f":"Berechnungsblatt!X652","v":""},{"$f":"Berechnungsblatt!C654","v":""},{"$f":"IF(Stammdaten!$A$2=\"\",\"\",D651-B651)","v":""},{"$f":"IF(Stammdaten!$A$2=\"\",\"\",E651/B651)","v":""},{"$f":"IF(Stammdaten!$A$2=\"\",\"\",ABS(E651))","v":""},{"$f":"IF(Stammdaten!$A$2=\"\",\"\",D651-C651)","v":""},{"$f":"IF(Stammdaten!$A$2=\"\",\"\",H651/C651)","v":""},{"$f":"IF(Stammdaten!$A$2=\"\",\"\",ABS(H651))","v":""},{"$f":"IF(Stammdaten!$A$2=\"\",\"\",IF(F651>35%,1,\"\"))","v":""},{"$f":"IF(Stammdaten!$A$2=\"\",\"\",IF(I651>35%,1,\"\"))","v":""},{"$f":"IF(Stammdaten!$A$2=\"\",\"\",MONTH(A651))","v":""},{"$f":"IF(Stammdaten!$A$2=\"\",\"\",YEAR(A651))","v":""}]
[{"$f":"Analysedaten!A652","v":""},{"$f":"Berechnungsblatt!C653","v":""},{"$f":"Berechnungsblatt!X653","v":""},{"$f":"Berechnungsblatt!C655","v":""},{"$f":"IF(Stammdaten!$A$2=\"\",\"\",D652-B652)","v":""},{"$f":"IF(Stammdaten!$A$2=\"\",\"\",E652/B652)","v":""},{"$f":"IF(Stammdaten!$A$2=\"\",\"\",ABS(E652))","v":""},{"$f":"IF(Stammdaten!$A$2=\"\",\"\",D652-C652)","v":""},{"$f":"IF(Stammdaten!$A$2=\"\",\"\",H652/C652)","v":""},{"$f":"IF(Stammdaten!$A$2=\"\",\"\",ABS(H652))","v":""},{"$f":"IF(Stammdaten!$A$2=\"\",\"\",IF(F652>35%,1,\"\"))","v":""},{"$f":"IF(Stammdaten!$A$2=\"\",\"\",IF(I652>35%,1,\"\"))","v":""},{"$f":"IF(Stammdaten!$A$2=\"\",\"\",MONTH(A652))","v":""},{"$f":"IF(Stammdaten!$A$2=\"\",\"\",YEAR(A652))","v":""}]
[{"$f":"Analysedaten!A653","v":""},{"$f":"Berechnungsblatt!C654","v":""},{"$f":"Berechnungsblatt!X654","v":""},{"$f":"Berechnungsblatt!C656","v":""},{"$f":"IF(Stammdaten!$A$2=\"\",\"\",D653-B653)","v":""},{"$f":"IF(Stammdaten!$A$2=\"\",\"\",E653/B653)","v":""},{"$f":"IF(Stammdaten!$A$2=\"\",\"\",ABS(E653))","v":""},{"$f":"IF(Stammdaten!$A$2=\"\",\"\",D653-C653)","v":""},{"$f":"IF(Stammdaten!$A$2=\"\",\"\",H653/C653)","v":""},{"$f":"IF(Stammdaten!$A$2=\"\",\"\",ABS(H653))","v":""},{"$f":"IF(Stammdaten!$A$2=\"\",\"\",IF(F653>35%,1,\"\"))","v":""},{"$f":"IF(Stammdaten!$A$2=\"\",\"\",IF(I653>35%,1,\"\"))","v":""},{"$f":"IF(Stammdaten!$A$2=\"\",\"\",MONTH(A653))","v":""},{"$f":"IF(Stammdaten!$A$2=\"\",\"\",YEAR(A653))","v":""}]
[{"$f":"Analysedaten!A654","v":""},{"$f":"Berechnungsblatt!C655","v":""},{"$f":"Berechnungsblatt!X655","v":""},{"$f":"Berechnungsblatt!C657","v":""},{"$f":"IF(Stammdaten!$A$2=\"\",\"\",D654-B654)","v":""},{"$f":"IF(Stammdaten!$A$2=\"\",\"\",E654/B654)","v":""},{"$f":"IF(Stammdaten!$A$2=\"\",\"\",ABS(E654))","v":""},{"$f":"IF(Stammdaten!$A$2=\"\",\"\",D654-C654)","v":""},{"$f":"IF(Stammdaten!$A$2=\"\",\"\",H654/C654)","v":""},{"$f":"IF(Stammdaten!$A$2=\"\",\"\",ABS(H654))","v":""},{"$f":"IF(Stammdaten!$A$2=\"\",\"\",IF(F654>35%,1,\"\"))","v":""},{"$f":"IF(Stammdaten!$A$2=\"\",\"\",IF(I654>35%,1,\"\"))","v":""},{"$f":"IF(Stammdaten!$A$2=\"\",\"\",MONTH(A654))","v":""},{"$f":"IF(Stammdaten!$A$2=\"\",\"\",YEAR(A654))","v":""}]
[{"$f":"Analysedaten!A655","v":""},{"$f":"Berechnungsblatt!C656","v":""},{"$f":"Berechnungsblatt!X656","v":""},{"$f":"Berechnungsblatt!C658","v":""},{"$f":"IF(Stammdaten!$A$2=\"\",\"\",D655-B655)","v":""},{"$f":"IF(Stammdaten!$A$2=\"\",\"\",E655/B655)","v":""},{"$f":"IF(Stammdaten!$A$2=\"\",\"\",ABS(E655))","v":""},{"$f":"IF(Stammdaten!$A$2=\"\",\"\",D655-C655)","v":""},{"$f":"IF(Stammdaten!$A$2=\"\",\"\",H655/C655)","v":""},{"$f":"IF(Stammdaten!$A$2=\"\",\"\",ABS(H655))","v":""},{"$f":"IF(Stammdaten!$A$2=\"\",\"\",IF(F655>35%,1,\"\"))","v":""},{"$f":"IF(Stammdaten!$A$2=\"\",\"\",IF(I655>35%,1,\"\"))","v":""},{"$f":"IF(Stammdaten!$A$2=\"\",\"\",MONTH(A655))","v":""},{"$f":"IF(Stammdaten!$A$2=\"\",\"\",YEAR(A655))","v":""}]
[{"$f":"Analysedaten!A656","v":""},{"$f":"Berechnungsblatt!C657","v":""},{"$f":"Berechnungsblatt!X657","v":""},{"$f":"Berechnungsblatt!C659","v":""},{"$f":"IF(Stammdaten!$A$2=\"\",\"\",D656-B656)","v":""},{"$f":"IF(Stammdaten!$A$2=\"\",\"\",E656/B656)","v":""},{"$f":"IF(Stammdaten!$A$2=\"\",\"\",ABS(E656))","v":""},{"$f":"IF(Stammdaten!$A$2=\"\",\"\",D656-C656)","v":""},{"$f":"IF(Stammdaten!$A$2=\"\",\"\",H656/C656)","v":""},{"$f":"IF(Stammdaten!$A$2=\"\",\"\",ABS(H656))","v":""},{"$f":"IF(Stammdaten!$A$2=\"\",\"\",IF(F656>35%,1,\"\"))","v":""},{"$f":"IF(Stammdaten!$A$2=\"\",\"\",IF(I656>35%,1,\"\"))","v":""},{"$f":"IF(Stammdaten!$A$2=\"\",\"\",MONTH(A656))","v":""},{"$f":"IF(Stammdaten!$A$2=\"\",\"\",YEAR(A656))","v":""}]
[{"$f":"Analysedaten!A657","v":""},{"$f":"Berechnungsblatt!C658","v":""},{"$f":"Berechnungsblatt!X658","v":""},{"$f":"Berechnungsblatt!C660","v":""},{"$f":"IF(Stammdaten!$A$2=\"\",\"\",D657-B657)","v":""},{"$f":"IF(Stammdaten!$A$2=\"\",\"\",E657/B657)","v":""},{"$f":"IF(Stammdaten!$A$2=\"\",\"\",ABS(E657))","v":""},{"$f":"IF(Stammdaten!$A$2=\"\",\"\",D657-C657)","v":""},{"$f":"IF(Stammdaten!$A$2=\"\",\"\",H657/C657)","v":""},{"$f":"IF(Stammdaten!$A$2=\"\",\"\",ABS(H657))","v":""},{"$f":"IF(Stammdaten!$A$2=\"\",\"\",IF(F657>35%,1,\"\"))","v":""},{"$f":"IF(Stammdaten!$A$2=\"\",\"\",IF(I657>35%,1,\"\"))","v":""},{"$f":"IF(Stammdaten!$A$2=\"\",\"\",MONTH(A657))","v":""},{"$f":"IF(Stammdaten!$A$2=\"\",\"\",YEAR(A657))","v":""}]
[{"$f":"Analysedaten!A658","v":""},{"$f":"Berechnungsblatt!C659","v":""},{"$f":"Berechnungsblatt!X659","v":""},{"$f":"Berechnungsblatt!C661","v":""},{"$f":"IF(Stammdaten!$A$2=\"\",\"\",D658-B658)","v":""},{"$f":"IF(Stammdaten!$A$2=\"\",\"\",E658/B658)","v":""},{"$f":"IF(Stammdaten!$A$2=\"\",\"\",ABS(E658))","v":""},{"$f":"IF(Stammdaten!$A$2=\"\",\"\",D658-C658)","v":""},{"$f":"IF(Stammdaten!$A$2=\"\",\"\",H658/C658)","v":""},{"$f":"IF(Stammdaten!$A$2=\"\",\"\",ABS(H658))","v":""},{"$f":"IF(Stammdaten!$A$2=\"\",\"\",IF(F658>35%,1,\"\"))","v":""},{"$f":"IF(Stammdaten!$A$2=\"\",\"\",IF(I658>35%,1,\"\"))","v":""},{"$f":"IF(Stammdaten!$A$2=\"\",\"\",MONTH(A658))","v":""},{"$f":"IF(Stammdaten!$A$2=\"\",\"\",YEAR(A658))","v":""}]
[{"$f":"Analysedaten!A659","v":""},{"$f":"Berechnungsblatt!C660","v":""},{"$f":"Berechnungsblatt!X660","v":""},{"$f":"Berechnungsblatt!C662","v":""},{"$f":"IF(Stammdaten!$A$2=\"\",\"\",D659-B659)","v":""},{"$f":"IF(Stammdaten!$A$2=\"\",\"\",E659/B659)","v":""},{"$f":"IF(Stammdaten!$A$2=\"\",\"\",ABS(E659))","v":""},{"$f":"IF(Stammdaten!$A$2=\"\",\"\",D659-C659)","v":""},{"$f":"IF(Stammdaten!$A$2=\"\",\"\",H659/C659)","v":""},{"$f":"IF(Stammdaten!$A$2=\"\",\"\",ABS(H659))","v":""},{"$f":"IF(Stammdaten!$A$2=\"\",\"\",IF(F659>35%,1,\"\"))","v":""},{"$f":"IF(Stammdaten!$A$2=\"\",\"\",IF(I659>35%,1,\"\"))","v":""},{"$f":"IF(Stammdaten!$A$2=\"\",\"\",MONTH(A659))","v":""},{"$f":"IF(Stammdaten!$A$2=\"\",\"\",YEAR(A659))","v":""}]
[{"$f":"Analysedaten!A660","v":""},{"$f":"Berechnungsblatt!C661","v":""},{"$f":"Berechnungsblatt!X661","v":""},{"$f":"Berechnungsblatt!C663","v":""},{"$f":"IF(Stammdaten!$A$2=\"\",\"\",D660-B660)","v":""},{"$f":"IF(Stammdaten!$A$2=\"\",\"\",E660/B660)","v":""},{"$f":"IF(Stammdaten!$A$2=\"\",\"\",ABS(E660))","v":""},{"$f":"IF(Stammdaten!$A$2=\"\",\"\",D660-C660)","v":""},{"$f":"IF(Stammdaten!$A$2=\"\",\"\",H660/C660)","v":""},{"$f":"IF(Stammdaten!$A$2=\"\",\"\",ABS(H660))","v":""},{"$f":"IF(Stammdaten!$A$2=\"\",\"\",IF(F660>35%,1,\"\"))","v":""},{"$f":"IF(Stammdaten!$A$2=\"\",\"\",IF(I660>35%,1,\"\"))","v":""},{"$f":"IF(Stammdaten!$A$2=\"\",\"\",MONTH(A660))","v":""},{"$f":"IF(Stammdaten!$A$2=\"\",\"\",YEAR(A660))","v":""}]
[{"$f":"Analysedaten!A661","v":""},{"$f":"Berechnungsblatt!C662","v":""},{"$f":"Berechnungsblatt!X662","v":""},{"$f":"Berechnungsblatt!C664","v":""},{"$f":"IF(Stammdaten!$A$2=\"\",\"\",D661-B661)","v":""},{"$f":"IF(Stammdaten!$A$2=\"\",\"\",E661/B661)","v":""},{"$f":"IF(Stammdaten!$A$2=\"\",\"\",ABS(E661))","v":""},{"$f":"IF(Stammdaten!$A$2=\"\",\"\",D661-C661)","v":""},{"$f":"IF(Stammdaten!$A$2=\"\",\"\",H661/C661)","v":""},{"$f":"IF(Stammdaten!$A$2=\"\",\"\",ABS(H661))","v":""},{"$f":"IF(Stammdaten!$A$2=\"\",\"\",IF(F661>35%,1,\"\"))","v":""},{"$f":"IF(Stammdaten!$A$2=\"\",\"\",IF(I661>35%,1,\"\"))","v":""},{"$f":"IF(Stammdaten!$A$2=\"\",\"\",MONTH(A661))","v":""},{"$f":"IF(Stammdaten!$A$2=\"\",\"\",YEAR(A661))","v":""}]
[{"$f":"Analysedaten!A662","v":""},{"$f":"Berechnungsblatt!C663","v":""},{"$f":"Berechnungsblatt!X663","v":""},{"$f":"Berechnungsblatt!C665","v":""},{"$f":"IF(Stammdaten!$A$2=\"\",\"\",D662-B662)","v":""},{"$f":"IF(Stammdaten!$A$2=\"\",\"\",E662/B662)","v":""},{"$f":"IF(Stammdaten!$A$2=\"\",\"\",ABS(E662))","v":""},{"$f":"IF(Stammdaten!$A$2=\"\",\"\",D662-C662)","v":""},{"$f":"IF(Stammdaten!$A$2=\"\",\"\",H662/C662)","v":""},{"$f":"IF(Stammdaten!$A$2=\"\",\"\",ABS(H662))","v":""},{"$f":"IF(Stammdaten!$A$2=\"\",\"\",IF(F662>35%,1,\"\"))","v":""},{"$f":"IF(Stammdaten!$A$2=\"\",\"\",IF(I662>35%,1,\"\"))","v":""},{"$f":"IF(Stammdaten!$A$2=\"\",\"\",MONTH(A662))","v":""},{"$f":"IF(Stammdaten!$A$2=\"\",\"\",YEAR(A662))","v":""}]
[{"$f":"Analysedaten!A663","v":""},{"$f":"Berechnungsblatt!C664","v":""},{"$f":"Berechnungsblatt!X664","v":""},{"$f":"Berechnungsblatt!C666","v":""},{"$f":"IF(Stammdaten!$A$2=\"\",\"\",D663-B663)","v":""},{"$f":"IF(Stammdaten!$A$2=\"\",\"\",E663/B663)","v":""},{"$f":"IF(Stammdaten!$A$2=\"\",\"\",ABS(E663))","v":""},{"$f":"IF(Stammdaten!$A$2=\"\",\"\",D663-C663)","v":""},{"$f":"IF(Stammdaten!$A$2=\"\",\"\",H663/C663)","v":""},{"$f":"IF(Stammdaten!$A$2=\"\",\"\",ABS(H663))","v":""},{"$f":"IF(Stammdaten!$A$2=\"\",\"\",IF(F663>35%,1,\"\"))","v":""},{"$f":"IF(Stammdaten!$A$2=\"\",\"\",IF(I663>35%,1,\"\"))","v":""},{"$f":"IF(Stammdaten!$A$2=\"\",\"\",MONTH(A663))","v":""},{"$f":"IF(Stammdaten!$A$2=\"\",\"\",YEAR(A663))","v":""}]
[{"$f":"Analysedaten!A664","v":""},{"$f":"Berechnungsblatt!C665","v":""},{"$f":"Berechnungsblatt!X665","v":""},{"$f":"Berechnungsblatt!C667","v":""},{"$f":"IF(Stammdaten!$A$2=\"\",\"\",D664-B664)","v":""},{"$f":"IF(Stammdaten!$A$2=\"\",\"\",E664/B664)","v":""},{"$f":"IF(Stammdaten!$A$2=\"\",\"\",ABS(E664))","v":""},{"$f":"IF(Stammdaten!$A$2=\"\",\"\",D664-C664)","v":""},{"$f":"IF(Stammdaten!$A$2=\"\",\"\",H664/C664)","v":""},{"$f":"IF(Stammdaten!$A$2=\"\",\"\",ABS(H664))","v":""},{"$f":"IF(Stammdaten!$A$2=\"\",\"\",IF(F664>35%,1,\"\"))","v":""},{"$f":"IF(Stammdaten!$A$2=\"\",\"\",IF(I664>35%,1,\"\"))","v":""},{"$f":"IF(Stammdaten!$A$2=\"\",\"\",MONTH(A664))","v":""},{"$f":"IF(Stammdaten!$A$2=\"\",\"\",YEAR(A664))","v":""}]
[{"$f":"Analysedaten!A665","v":""},{"$f":"Berechnungsblatt!C666","v":""},{"$f":"Berechnungsblatt!X666","v":""},{"$f":"Berechnungsblatt!C668","v":""},{"$f":"IF(Stammdaten!$A$2=\"\",\"\",D665-B665)","v":""},{"$f":"IF(Stammdaten!$A$2=\"\",\"\",E665/B665)","v":""},{"$f":"IF(Stammdaten!$A$2=\"\",\"\",ABS(E665))","v":""},{"$f":"IF(Stammdaten!$A$2=\"\",\"\",D665-C665)","v":""},{"$f":"IF(Stammdaten!$A$2=\"\",\"\",H665/C665)","v":""},{"$f":"IF(Stammdaten!$A$2=\"\",\"\",ABS(H665))","v":""},{"$f":"IF(Stammdaten!$A$2=\"\",\"\",IF(F665>35%,1,\"\"))","v":""},{"$f":"IF(Stammdaten!$A$2=\"\",\"\",IF(I665>35%,1,\"\"))","v":""},{"$f":"IF(Stammdaten!$A$2=\"\",\"\",MONTH(A665))","v":""},{"$f":"IF(Stammdaten!$A$2=\"\",\"\",YEAR(A665))","v":""}]
[{"$f":"Analysedaten!A666","v":""},{"$f":"Berechnungsblatt!C667","v":""},{"$f":"Berechnungsblatt!X667","v":""},{"$f":"Berechnungsblatt!C669","v":""},{"$f":"IF(Stammdaten!$A$2=\"\",\"\",D666-B666)","v":""},{"$f":"IF(Stammdaten!$A$2=\"\",\"\",E666/B666)","v":""},{"$f":"IF(Stammdaten!$A$2=\"\",\"\",ABS(E666))","v":""},{"$f":"IF(Stammdaten!$A$2=\"\",\"\",D666-C666)","v":""},{"$f":"IF(Stammdaten!$A$2=\"\",\"\",H666/C666)","v":""},{"$f":"IF(Stammdaten!$A$2=\"\",\"\",ABS(H666))","v":""},{"$f":"IF(Stammdaten!$A$2=\"\",\"\",IF(F666>35%,1,\"\"))","v":""},{"$f":"IF(Stammdaten!$A$2=\"\",\"\",IF(I666>35%,1,\"\"))","v":""},{"$f":"IF(Stammdaten!$A$2=\"\",\"\",MONTH(A666))","v":""},{"$f":"IF(Stammdaten!$A$2=\"\",\"\",YEAR(A666))","v":""}]
[{"$f":"Analysedaten!A667","v":""},{"$f":"Berechnungsblatt!C668","v":""},{"$f":"Berechnungsblatt!X668","v":""},{"$f":"Berechnungsblatt!C670","v":""},{"$f":"IF(Stammdaten!$A$2=\"\",\"\",D667-B667)","v":""},{"$f":"IF(Stammdaten!$A$2=\"\",\"\",E667/B667)","v":""},{"$f":"IF(Stammdaten!$A$2=\"\",\"\",ABS(E667))","v":""},{"$f":"IF(Stammdaten!$A$2=\"\",\"\",D667-C667)","v":""},{"$f":"IF(Stammdaten!$A$2=\"\",\"\",H667/C667)","v":""},{"$f":"IF(Stammdaten!$A$2=\"\",\"\",ABS(H667))","v":""},{"$f":"IF(Stammdaten!$A$2=\"\",\"\",IF(F667>35%,1,\"\"))","v":""},{"$f":"IF(Stammdaten!$A$2=\"\",\"\",IF(I667>35%,1,\"\"))","v":""},{"$f":"IF(Stammdaten!$A$2=\"\",\"\",MONTH(A667))","v":""},{"$f":"IF(Stammdaten!$A$2=\"\",\"\",YEAR(A667))","v":""}]
[{"$f":"Analysedaten!A668","v":""},{"$f":"Berechnungsblatt!C669","v":""},{"$f":"Berechnungsblatt!X669","v":""},{"$f":"Berechnungsblatt!C671","v":""},{"$f":"IF(Stammdaten!$A$2=\"\",\"\",D668-B668)","v":""},{"$f":"IF(Stammdaten!$A$2=\"\",\"\",E668/B668)","v":""},{"$f":"IF(Stammdaten!$A$2=\"\",\"\",ABS(E668))","v":""},{"$f":"IF(Stammdaten!$A$2=\"\",\"\",D668-C668)","v":""},{"$f":"IF(Stammdaten!$A$2=\"\",\"\",H668/C668)","v":""},{"$f":"IF(Stammdaten!$A$2=\"\",\"\",ABS(H668))","v":""},{"$f":"IF(Stammdaten!$A$2=\"\",\"\",IF(F668>35%,1,\"\"))","v":""},{"$f":"IF(Stammdaten!$A$2=\"\",\"\",IF(I668>35%,1,\"\"))","v":""},{"$f":"IF(Stammdaten!$A$2=\"\",\"\",MONTH(A668))","v":""},{"$f":"IF(Stammdaten!$A$2=\"\",\"\",YEAR(A668))","v":""}]
[{"$f":"Analysedaten!A669","v":""},{"$f":"Berechnungsblatt!C670","v":""},{"$f":"Berechnungsblatt!X670","v":""},{"$f":"Berechnungsblatt!C672","v":""},{"$f":"IF(Stammdaten!$A$2=\"\",\"\",D669-B669)","v":""},{"$f":"IF(Stammdaten!$A$2=\"\",\"\",E669/B669)","v":""},{"$f":"IF(Stammdaten!$A$2=\"\",\"\",ABS(E669))","v":""},{"$f":"IF(Stammdaten!$A$2=\"\",\"\",D669-C669)","v":""},{"$f":"IF(Stammdaten!$A$2=\"\",\"\",H669/C669)","v":""},{"$f":"IF(Stammdaten!$A$2=\"\",\"\",ABS(H669))","v":""},{"$f":"IF(Stammdaten!$A$2=\"\",\"\",IF(F669>35%,1,\"\"))","v":""},{"$f":"IF(Stammdaten!$A$2=\"\",\"\",IF(I669>35%,1,\"\"))","v":""},{"$f":"IF(Stammdaten!$A$2=\"\",\"\",MONTH(A669))","v":""},{"$f":"IF(Stammdaten!$A$2=\"\",\"\",YEAR(A669))","v":""}]
[{"$f":"Analysedaten!A670","v":""},{"$f":"Berechnungsblatt!C671","v":""},{"$f":"Berechnungsblatt!X671","v":""},{"$f":"Berechnungsblatt!C673","v":""},{"$f":"IF(Stammdaten!$A$2=\"\",\"\",D670-B670)","v":""},{"$f":"IF(Stammdaten!$A$2=\"\",\"\",E670/B670)","v":""},{"$f":"IF(Stammdaten!$A$2=\"\",\"\",ABS(E670))","v":""},{"$f":"IF(Stammdaten!$A$2=\"\",\"\",D670-C670)","v":""},{"$f":"IF(Stammdaten!$A$2=\"\",\"\",H670/C670)","v":""},{"$f":"IF(Stammdaten!$A$2=\"\",\"\",ABS(H670))","v":""},{"$f":"IF(Stammdaten!$A$2=\"\",\"\",IF(F670>35%,1,\"\"))","v":""},{"$f":"IF(Stammdaten!$A$2=\"\",\"\",IF(I670>35%,1,\"\"))","v":""},{"$f":"IF(Stammdaten!$A$2=\"\",\"\",MONTH(A670))","v":""},{"$f":"IF(Stammdaten!$A$2=\"\",\"\",YEAR(A670))","v":""}]
[{"$f":"Analysedaten!A671","v":""},{"$f":"Berechnungsblatt!C672","v":""},{"$f":"Berechnungsblatt!X672","v":""},{"$f":"Berechnungsblatt!C674","v":""},{"$f":"IF(Stammdaten!$A$2=\"\",\"\",D671-B671)","v":""},{"$f":"IF(Stammdaten!$A$2=\"\",\"\",E671/B671)","v":""},{"$f":"IF(Stammdaten!$A$2=\"\",\"\",ABS(E671))","v":""},{"$f":"IF(Stammdaten!$A$2=\"\",\"\",D671-C671)","v":""},{"$f":"IF(Stammdaten!$A$2=\"\",\"\",H671/C671)","v":""},{"$f":"IF(Stammdaten!$A$2=\"\",\"\",ABS(H671))","v":""},{"$f":"IF(Stammdaten!$A$2=\"\",\"\",IF(F671>35%,1,\"\"))","v":""},{"$f":"IF(Stammdaten!$A$2=\"\",\"\",IF(I671>35%,1,\"\"))","v":""},{"$f":"IF(Stammdaten!$A$2=\"\",\"\",MONTH(A671))","v":""},{"$f":"IF(Stammdaten!$A$2=\"\",\"\",YEAR(A671))","v":""}]
[{"$f":"Analysedaten!A672","v":""},{"$f":"Berechnungsblatt!C673","v":""},{"$f":"Berechnungsblatt!X673","v":""},{"$f":"Berechnungsblatt!C675","v":""},{"$f":"IF(Stammdaten!$A$2=\"\",\"\",D672-B672)","v":""},{"$f":"IF(Stammdaten!$A$2=\"\",\"\",E672/B672)","v":""},{"$f":"IF(Stammdaten!$A$2=\"\",\"\",ABS(E672))","v":""},{"$f":"IF(Stammdaten!$A$2=\"\",\"\",D672-C672)","v":""},{"$f":"IF(Stammdaten!$A$2=\"\",\"\",H672/C672)","v":""},{"$f":"IF(Stammdaten!$A$2=\"\",\"\",ABS(H672))","v":""},{"$f":"IF(Stammdaten!$A$2=\"\",\"\",IF(F672>35%,1,\"\"))","v":""},{"$f":"IF(Stammdaten!$A$2=\"\",\"\",IF(I672>35%,1,\"\"))","v":""},{"$f":"IF(Stammdaten!$A$2=\"\",\"\",MONTH(A672))","v":""},{"$f":"IF(Stammdaten!$A$2=\"\",\"\",YEAR(A672))","v":""}]
[{"$f":"Analysedaten!A673","v":""},{"$f":"Berechnungsblatt!C674","v":""},{"$f":"Berechnungsblatt!X674","v":""},{"$f":"Berechnungsblatt!C676","v":""},{"$f":"IF(Stammdaten!$A$2=\"\",\"\",D673-B673)","v":""},{"$f":"IF(Stammdaten!$A$2=\"\",\"\",E673/B673)","v":""},{"$f":"IF(Stammdaten!$A$2=\"\",\"\",ABS(E673))","v":""},{"$f":"IF(Stammdaten!$A$2=\"\",\"\",D673-C673)","v":""},{"$f":"IF(Stammdaten!$A$2=\"\",\"\",H673/C673)","v":""},{"$f":"IF(Stammdaten!$A$2=\"\",\"\",ABS(H673))","v":""},{"$f":"IF(Stammdaten!$A$2=\"\",\"\",IF(F673>35%,1,\"\"))","v":""},{"$f":"IF(Stammdaten!$A$2=\"\",\"\",IF(I673>35%,1,\"\"))","v":""},{"$f":"IF(Stammdaten!$A$2=\"\",\"\",MONTH(A673))","v":""},{"$f":"IF(Stammdaten!$A$2=\"\",\"\",YEAR(A673))","v":""}]
[{"$f":"Analysedaten!A674","v":""},{"$f":"Berechnungsblatt!C675","v":""},{"$f":"Berechnungsblatt!X675","v":""},{"$f":"Berechnungsblatt!C677","v":""},{"$f":"IF(Stammdaten!$A$2=\"\",\"\",D674-B674)","v":""},{"$f":"IF(Stammdaten!$A$2=\"\",\"\",E674/B674)","v":""},{"$f":"IF(Stammdaten!$A$2=\"\",\"\",ABS(E674))","v":""},{"$f":"IF(Stammdaten!$A$2=\"\",\"\",D674-C674)","v":""},{"$f":"IF(Stammdaten!$A$2=\"\",\"\",H674/C674)","v":""},{"$f":"IF(Stammdaten!$A$2=\"\",\"\",ABS(H674))","v":""},{"$f":"IF(Stammdaten!$A$2=\"\",\"\",IF(F674>35%,1,\"\"))","v":""},{"$f":"IF(Stammdaten!$A$2=\"\",\"\",IF(I674>35%,1,\"\"))","v":""},{"$f":"IF(Stammdaten!$A$2=\"\",\"\",MONTH(A674))","v":""},{"$f":"IF(Stammdaten!$A$2=\"\",\"\",YEAR(A674))","v":""}]
[{"$f":"Analysedaten!A675","v":""},{"$f":"Berechnungsblatt!C676","v":""},{"$f":"Berechnungsblatt!X676","v":""},{"$f":"Berechnungsblatt!C678","v":""},{"$f":"IF(Stammdaten!$A$2=\"\",\"\",D675-B675)","v":""},{"$f":"IF(Stammdaten!$A$2=\"\",\"\",E675/B675)","v":""},{"$f":"IF(Stammdaten!$A$2=\"\",\"\",ABS(E675))","v":""},{"$f":"IF(Stammdaten!$A$2=\"\",\"\",D675-C675)","v":""},{"$f":"IF(Stammdaten!$A$2=\"\",\"\",H675/C675)","v":""},{"$f":"IF(Stammdaten!$A$2=\"\",\"\",ABS(H675))","v":""},{"$f":"IF(Stammdaten!$A$2=\"\",\"\",IF(F675>35%,1,\"\"))","v":""},{"$f":"IF(Stammdaten!$A$2=\"\",\"\",IF(I675>35%,1,\"\"))","v":""},{"$f":"IF(Stammdaten!$A$2=\"\",\"\",MONTH(A675))","v":""},{"$f":"IF(Stammdaten!$A$2=\"\",\"\",YEAR(A675))","v":""}]
[{"$f":"Analysedaten!A676","v":""},{"$f":"Berechnungsblatt!C677","v":""},{"$f":"Berechnungsblatt!X677","v":""},{"$f":"Berechnungsblatt!C679","v":""},{"$f":"IF(Stammdaten!$A$2=\"\",\"\",D676-B676)","v":""},{"$f":"IF(Stammdaten!$A$2=\"\",\"\",E676/B676)","v":""},{"$f":"IF(Stammdaten!$A$2=\"\",\"\",ABS(E676))","v":""},{"$f":"IF(Stammdaten!$A$2=\"\",\"\",D676-C676)","v":""},{"$f":"IF(Stammdaten!$A$2=\"\",\"\",H676/C676)","v":""},{"$f":"IF(Stammdaten!$A$2=\"\",\"\",ABS(H676))","v":""},{"$f":"IF(Stammdaten!$A$2=\"\",\"\",IF(F676>35%,1,\"\"))","v":""},{"$f":"IF(Stammdaten!$A$2=\"\",\"\",IF(I676>35%,1,\"\"))","v":""},{"$f":"IF(Stammdaten!$A$2=\"\",\"\",MONTH(A676))","v":""},{"$f":"IF(Stammdaten!$A$2=\"\",\"\",YEAR(A676))","v":""}]
[{"$f":"Analysedaten!A677","v":""},{"$f":"Berechnungsblatt!C678","v":""},{"$f":"Berechnungsblatt!X678","v":""},{"$f":"Berechnungsblatt!C680","v":""},{"$f":"IF(Stammdaten!$A$2=\"\",\"\",D677-B677)","v":""},{"$f":"IF(Stammdaten!$A$2=\"\",\"\",E677/B677)","v":""},{"$f":"IF(Stammdaten!$A$2=\"\",\"\",ABS(E677))","v":""},{"$f":"IF(Stammdaten!$A$2=\"\",\"\",D677-C677)","v":""},{"$f":"IF(Stammdaten!$A$2=\"\",\"\",H677/C677)","v":""},{"$f":"IF(Stammdaten!$A$2=\"\",\"\",ABS(H677))","v":""},{"$f":"IF(Stammdaten!$A$2=\"\",\"\",IF(F677>35%,1,\"\"))","v":""},{"$f":"IF(Stammdaten!$A$2=\"\",\"\",IF(I677>35%,1,\"\"))","v":""},{"$f":"IF(Stammdaten!$A$2=\"\",\"\",MONTH(A677))","v":""},{"$f":"IF(Stammdaten!$A$2=\"\",\"\",YEAR(A677))","v":""}]
[{"$f":"Analysedaten!A678","v":""},{"$f":"Berechnungsblatt!C679","v":""},{"$f":"Berechnungsblatt!X679","v":""},{"$f":"Berechnungsblatt!C681","v":""},{"$f":"IF(Stammdaten!$A$2=\"\",\"\",D678-B678)","v":""},{"$f":"IF(Stammdaten!$A$2=\"\",\"\",E678/B678)","v":""},{"$f":"IF(Stammdaten!$A$2=\"\",\"\",ABS(E678))","v":""},{"$f":"IF(Stammdaten!$A$2=\"\",\"\",D678-C678)","v":""},{"$f":"IF(Stammdaten!$A$2=\"\",\"\",H678/C678)","v":""},{"$f":"IF(Stammdaten!$A$2=\"\",\"\",ABS(H678))","v":""},{"$f":"IF(Stammdaten!$A$2=\"\",\"\",IF(F678>35%,1,\"\"))","v":""},{"$f":"IF(Stammdaten!$A$2=\"\",\"\",IF(I678>35%,1,\"\"))","v":""},{"$f":"IF(Stammdaten!$A$2=\"\",\"\",MONTH(A678))","v":""},{"$f":"IF(Stammdaten!$A$2=\"\",\"\",YEAR(A678))","v":""}]
[{"$f":"Analysedaten!A679","v":""},{"$f":"Berechnungsblatt!C680","v":""},{"$f":"Berechnungsblatt!X680","v":""},{"$f":"Berechnungsblatt!C682","v":""},{"$f":"IF(Stammdaten!$A$2=\"\",\"\",D679-B679)","v":""},{"$f":"IF(Stammdaten!$A$2=\"\",\"\",E679/B679)","v":""},{"$f":"IF(Stammdaten!$A$2=\"\",\"\",ABS(E679))","v":""},{"$f":"IF(Stammdaten!$A$2=\"\",\"\",D679-C679)","v":""},{"$f":"IF(Stammdaten!$A$2=\"\",\"\",H679/C679)","v":""},{"$f":"IF(Stammdaten!$A$2=\"\",\"\",ABS(H679))","v":""},{"$f":"IF(Stammdaten!$A$2=\"\",\"\",IF(F679>35%,1,\"\"))","v":""},{"$f":"IF(Stammdaten!$A$2=\"\",\"\",IF(I679>35%,1,\"\"))","v":""},{"$f":"IF(Stammdaten!$A$2=\"\",\"\",MONTH(A679))","v":""},{"$f":"IF(Stammdaten!$A$2=\"\",\"\",YEAR(A679))","v":""}]
[{"$f":"Analysedaten!A680","v":""},{"$f":"Berechnungsblatt!C681","v":""},{"$f":"Berechnungsblatt!X681","v":""},{"$f":"Berechnungsblatt!C683","v":""},{"$f":"IF(Stammdaten!$A$2=\"\",\"\",D680-B680)","v":""},{"$f":"IF(Stammdaten!$A$2=\"\",\"\",E680/B680)","v":""},{"$f":"IF(Stammdaten!$A$2=\"\",\"\",ABS(E680))","v":""},{"$f":"IF(Stammdaten!$A$2=\"\",\"\",D680-C680)","v":""},{"$f":"IF(Stammdaten!$A$2=\"\",\"\",H680/C680)","v":""},{"$f":"IF(Stammdaten!$A$2=\"\",\"\",ABS(H680))","v":""},{"$f":"IF(Stammdaten!$A$2=\"\",\"\",IF(F680>35%,1,\"\"))","v":""},{"$f":"IF(Stammdaten!$A$2=\"\",\"\",IF(I680>35%,1,\"\"))","v":""},{"$f":"IF(Stammdaten!$A$2=\"\",\"\",MONTH(A680))","v":""},{"$f":"IF(Stammdaten!$A$2=\"\",\"\",YEAR(A680))","v":""}]
[{"$f":"Analysedaten!A681","v":""},{"$f":"Berechnungsblatt!C682","v":""},{"$f":"Berechnungsblatt!X682","v":""},{"$f":"Berechnungsblatt!C684","v":""},{"$f":"IF(Stammdaten!$A$2=\"\",\"\",D681-B681)","v":""},{"$f":"IF(Stammdaten!$A$2=\"\",\"\",E681/B681)","v":""},{"$f":"IF(Stammdaten!$A$2=\"\",\"\",ABS(E681))","v":""},{"$f":"IF(Stammdaten!$A$2=\"\",\"\",D681-C681)","v":""},{"$f":"IF(Stammdaten!$A$2=\"\",\"\",H681/C681)","v":""},{"$f":"IF(Stammdaten!$A$2=\"\",\"\",ABS(H681))","v":""},{"$f":"IF(Stammdaten!$A$2=\"\",\"\",IF(F681>35%,1,\"\"))","v":""},{"$f":"IF(Stammdaten!$A$2=\"\",\"\",IF(I681>35%,1,\"\"))","v":""},{"$f":"IF(Stammdaten!$A$2=\"\",\"\",MONTH(A681))","v":""},{"$f":"IF(Stammdaten!$A$2=\"\",\"\",YEAR(A681))","v":""}]
[{"$f":"Analysedaten!A682","v":""},{"$f":"Berechnungsblatt!C683","v":""},{"$f":"Berechnungsblatt!X683","v":""},{"$f":"Berechnungsblatt!C685","v":""},{"$f":"IF(Stammdaten!$A$2=\"\",\"\",D682-B682)","v":""},{"$f":"IF(Stammdaten!$A$2=\"\",\"\",E682/B682)","v":""},{"$f":"IF(Stammdaten!$A$2=\"\",\"\",ABS(E682))","v":""},{"$f":"IF(Stammdaten!$A$2=\"\",\"\",D682-C682)","v":""},{"$f":"IF(Stammdaten!$A$2=\"\",\"\",H682/C682)","v":""},{"$f":"IF(Stammdaten!$A$2=\"\",\"\",ABS(H682))","v":""},{"$f":"IF(Stammdaten!$A$2=\"\",\"\",IF(F682>35%,1,\"\"))","v":""},{"$f":"IF(Stammdaten!$A$2=\"\",\"\",IF(I682>35%,1,\"\"))","v":""},{"$f":"IF(Stammdaten!$A$2=\"\",\"\",MONTH(A682))","v":""},{"$f":"IF(Stammdaten!$A$2=\"\",\"\",YEAR(A682))","v":""}]
[{"$f":"Analysedaten!A683","v":""},{"$f":"Berechnungsblatt!C684","v":""},{"$f":"Berechnungsblatt!X684","v":""},{"$f":"Berechnungsblatt!C686","v":""},{"$f":"IF(Stammdaten!$A$2=\"\",\"\",D683-B683)","v":""},{"$f":"IF(Stammdaten!$A$2=\"\",\"\",E683/B683)","v":""},{"$f":"IF(Stammdaten!$A$2=\"\",\"\",ABS(E683))","v":""},{"$f":"IF(Stammdaten!$A$2=\"\",\"\",D683-C683)","v":""},{"$f":"IF(Stammdaten!$A$2=\"\",\"\",H683/C683)","v":""},{"$f":"IF(Stammdaten!$A$2=\"\",\"\",ABS(H683))","v":""},{"$f":"IF(Stammdaten!$A$2=\"\",\"\",IF(F683>35%,1,\"\"))","v":""},{"$f":"IF(Stammdaten!$A$2=\"\",\"\",IF(I683>35%,1,\"\"))","v":""},{"$f":"IF(Stammdaten!$A$2=\"\",\"\",MONTH(A683))","v":""},{"$f":"IF(Stammdaten!$A$2=\"\",\"\",YEAR(A683))","v":""}]
[{"$f":"Analysedaten!A684","v":""},{"$f":"Berechnungsblatt!C685","v":""},{"$f":"Berechnungsblatt!X685","v":""},{"$f":"Berechnungsblatt!C687","v":""},{"$f":"IF(Stammdaten!$A$2=\"\",\"\",D684-B684)","v":""},{"$f":"IF(Stammdaten!$A$2=\"\",\"\",E684/B684)","v":""},{"$f":"IF(Stammdaten!$A$2=\"\",\"\",ABS(E684))","v":""},{"$f":"IF(Stammdaten!$A$2=\"\",\"\",D684-C684)","v":""},{"$f":"IF(Stammdaten!$A$2=\"\",\"\",H684/C684)","v":""},{"$f":"IF(Stammdaten!$A$2=\"\",\"\",ABS(H684))","v":""},{"$f":"IF(Stammdaten!$A$2=\"\",\"\",IF(F684>35%,1,\"\"))","v":""},{"$f":"IF(Stammdaten!$A$2=\"\",\"\",IF(I684>35%,1,\"\"))","v":""},{"$f":"IF(Stammdaten!$A$2=\"\",\"\",MONTH(A684))","v":""},{"$f":"IF(Stammdaten!$A$2=\"\",\"\",YEAR(A684))","v":""}]
[{"$f":"Analysedaten!A685","v":""},{"$f":"Berechnungsblatt!C686","v":""},{"$f":"Berechnungsblatt!X686","v":""},{"$f":"Berechnungsblatt!C688","v":""},{"$f":"IF(Stammdaten!$A$2=\"\",\"\",D685-B685)","v":""},{"$f":"IF(Stammdaten!$A$2=\"\",\"\",E685/B685)","v":""},{"$f":"IF(Stammdaten!$A$2=\"\",\"\",ABS(E685))","v":""},{"$f":"IF(Stammdaten!$A$2=\"\",\"\",D685-C685)","v":""},{"$f":"IF(Stammdaten!$A$2=\"\",\"\",H685/C685)","v":""},{"$f":"IF(Stammdaten!$A$2=\"\",\"\",ABS(H685))","v":""},{"$f":"IF(Stammdaten!$A$2=\"\",\"\",IF(F685>35%,1,\"\"))","v":""},{"$f":"IF(Stammdaten!$A$2=\"\",\"\",IF(I685>35%,1,\"\"))","v":""},{"$f":"IF(Stammdaten!$A$2=\"\",\"\",MONTH(A685))","v":""},{"$f":"IF(Stammdaten!$A$2=\"\",\"\",YEAR(A685))","v":""}]
[{"$f":"Analysedaten!A686","v":""},{"$f":"Berechnungsblatt!C687","v":""},{"$f":"Berechnungsblatt!X687","v":""},{"$f":"Berechnungsblatt!C689","v":""},{"$f":"IF(Stammdaten!$A$2=\"\",\"\",D686-B686)","v":""},{"$f":"IF(Stammdaten!$A$2=\"\",\"\",E686/B686)","v":""},{"$f":"IF(Stammdaten!$A$2=\"\",\"\",ABS(E686))","v":""},{"$f":"IF(Stammdaten!$A$2=\"\",\"\",D686-C686)","v":""},{"$f":"IF(Stammdaten!$A$2=\"\",\"\",H686/C686)","v":""},{"$f":"IF(Stammdaten!$A$2=\"\",\"\",ABS(H686))","v":""},{"$f":"IF(Stammdaten!$A$2=\"\",\"\",IF(F686>35%,1,\"\"))","v":""},{"$f":"IF(Stammdaten!$A$2=\"\",\"\",IF(I686>35%,1,\"\"))","v":""},{"$f":"IF(Stammdaten!$A$2=\"\",\"\",MONTH(A686))","v":""},{"$f":"IF(Stammdaten!$A$2=\"\",\"\",YEAR(A686))","v":""}]
[{"$f":"Analysedaten!A687","v":""},{"$f":"Berechnungsblatt!C688","v":""},{"$f":"Berechnungsblatt!X688","v":""},{"$f":"Berechnungsblatt!C690","v":""},{"$f":"IF(Stammdaten!$A$2=\"\",\"\",D687-B687)","v":""},{"$f":"IF(Stammdaten!$A$2=\"\",\"\",E687/B687)","v":""},{"$f":"IF(Stammdaten!$A$2=\"\",\"\",ABS(E687))","v":""},{"$f":"IF(Stammdaten!$A$2=\"\",\"\",D687-C687)","v":""},{"$f":"IF(Stammdaten!$A$2=\"\",\"\",H687/C687)","v":""},{"$f":"IF(Stammdaten!$A$2=\"\",\"\",ABS(H687))","v":""},{"$f":"IF(Stammdaten!$A$2=\"\",\"\",IF(F687>35%,1,\"\"))","v":""},{"$f":"IF(Stammdaten!$A$2=\"\",\"\",IF(I687>35%,1,\"\"))","v":""},{"$f":"IF(Stammdaten!$A$2=\"\",\"\",MONTH(A687))","v":""},{"$f":"IF(Stammdaten!$A$2=\"\",\"\",YEAR(A687))","v":""}]
[{"$f":"Analysedaten!A688","v":""},{"$f":"Berechnungsblatt!C689","v":""},{"$f":"Berechnungsblatt!X689","v":""},{"$f":"Berechnungsblatt!C691","v":""},{"$f":"IF(Stammdaten!$A$2=\"\",\"\",D688-B688)","v":""},{"$f":"IF(Stammdaten!$A$2=\"\",\"\",E688/B688)","v":""},{"$f":"IF(Stammdaten!$A$2=\"\",\"\",ABS(E688))","v":""},{"$f":"IF(Stammdaten!$A$2=\"\",\"\",D688-C688)","v":""},{"$f":"IF(Stammdaten!$A$2=\"\",\"\",H688/C688)","v":""},{"$f":"IF(Stammdaten!$A$2=\"\",\"\",ABS(H688))","v":""},{"$f":"IF(Stammdaten!$A$2=\"\",\"\",IF(F688>35%,1,\"\"))","v":""},{"$f":"IF(Stammdaten!$A$2=\"\",\"\",IF(I688>35%,1,\"\"))","v":""},{"$f":"IF(Stammdaten!$A$2=\"\",\"\",MONTH(A688))","v":""},{"$f":"IF(Stammdaten!$A$2=\"\",\"\",YEAR(A688))","v":""}]
[{"$f":"Analysedaten!A689","v":""},{"$f":"Berechnungsblatt!C690","v":""},{"$f":"Berechnungsblatt!X690","v":""},{"$f":"Berechnungsblatt!C692","v":""},{"$f":"IF(Stammdaten!$A$2=\"\",\"\",D689-B689)","v":""},{"$f":"IF(Stammdaten!$A$2=\"\",\"\",E689/B689)","v":""},{"$f":"IF(Stammdaten!$A$2=\"\",\"\",ABS(E689))","v":""},{"$f":"IF(Stammdaten!$A$2=\"\",\"\",D689-C689)","v":""},{"$f":"IF(Stammdaten!$A$2=\"\",\"\",H689/C689)","v":""},{"$f":"IF(Stammdaten!$A$2=\"\",\"\",ABS(H689))","v":""},{"$f":"IF(Stammdaten!$A$2=\"\",\"\",IF(F689>35%,1,\"\"))","v":""},{"$f":"IF(Stammdaten!$A$2=\"\",\"\",IF(I689>35%,1,\"\"))","v":""},{"$f":"IF(Stammdaten!$A$2=\"\",\"\",MONTH(A689))","v":""},{"$f":"IF(Stammdaten!$A$2=\"\",\"\",YEAR(A689))","v":""}]
[{"$f":"Analysedaten!A690","v":""},{"$f":"Berechnungsblatt!C691","v":""},{"$f":"Berechnungsblatt!X691","v":""},{"$f":"Berechnungsblatt!C693","v":""},{"$f":"IF(Stammdaten!$A$2=\"\",\"\",D690-B690)","v":""},{"$f":"IF(Stammdaten!$A$2=\"\",\"\",E690/B690)","v":""},{"$f":"IF(Stammdaten!$A$2=\"\",\"\",ABS(E690))","v":""},{"$f":"IF(Stammdaten!$A$2=\"\",\"\",D690-C690)","v":""},{"$f":"IF(Stammdaten!$A$2=\"\",\"\",H690/C690)","v":""},{"$f":"IF(Stammdaten!$A$2=\"\",\"\",ABS(H690))","v":""},{"$f":"IF(Stammdaten!$A$2=\"\",\"\",IF(F690>35%,1,\"\"))","v":""},{"$f":"IF(Stammdaten!$A$2=\"\",\"\",IF(I690>35%,1,\"\"))","v":""},{"$f":"IF(Stammdaten!$A$2=\"\",\"\",MONTH(A690))","v":""},{"$f":"IF(Stammdaten!$A$2=\"\",\"\",YEAR(A690))","v":""}]
[{"$f":"Analysedaten!A691","v":""},{"$f":"Berechnungsblatt!C692","v":""},{"$f":"Berechnungsblatt!X692","v":""},{"$f":"Berechnungsblatt!C694","v":""},{"$f":"IF(Stammdaten!$A$2=\"\",\"\",D691-B691)","v":""},{"$f":"IF(Stammdaten!$A$2=\"\",\"\",E691/B691)","v":""},{"$f":"IF(Stammdaten!$A$2=\"\",\"\",ABS(E691))","v":""},{"$f":"IF(Stammdaten!$A$2=\"\",\"\",D691-C691)","v":""},{"$f":"IF(Stammdaten!$A$2=\"\",\"\",H691/C691)","v":""},{"$f":"IF(Stammdaten!$A$2=\"\",\"\",ABS(H691))","v":""},{"$f":"IF(Stammdaten!$A$2=\"\",\"\",IF(F691>35%,1,\"\"))","v":""},{"$f":"IF(Stammdaten!$A$2=\"\",\"\",IF(I691>35%,1,\"\"))","v":""},{"$f":"IF(Stammdaten!$A$2=\"\",\"\",MONTH(A691))","v":""},{"$f":"IF(Stammdaten!$A$2=\"\",\"\",YEAR(A691))","v":""}]
[{"$f":"Analysedaten!A692","v":""},{"$f":"Berechnungsblatt!C693","v":""},{"$f":"Berechnungsblatt!X693","v":""},{"$f":"Berechnungsblatt!C695","v":""},{"$f":"IF(Stammdaten!$A$2=\"\",\"\",D692-B692)","v":""},{"$f":"IF(Stammdaten!$A$2=\"\",\"\",E692/B692)","v":""},{"$f":"IF(Stammdaten!$A$2=\"\",\"\",ABS(E692))","v":""},{"$f":"IF(Stammdaten!$A$2=\"\",\"\",D692-C692)","v":""},{"$f":"IF(Stammdaten!$A$2=\"\",\"\",H692/C692)","v":""},{"$f":"IF(Stammdaten!$A$2=\"\",\"\",ABS(H692))","v":""},{"$f":"IF(Stammdaten!$A$2=\"\",\"\",IF(F692>35%,1,\"\"))","v":""},{"$f":"IF(Stammdaten!$A$2=\"\",\"\",IF(I692>35%,1,\"\"))","v":""},{"$f":"IF(Stammdaten!$A$2=\"\",\"\",MONTH(A692))","v":""},{"$f":"IF(Stammdaten!$A$2=\"\",\"\",YEAR(A692))","v":""}]
[{"$f":"Analysedaten!A693","v":""},{"$f":"Berechnungsblatt!C694","v":""},{"$f":"Berechnungsblatt!X694","v":""},{"$f":"Berechnungsblatt!C696","v":""},{"$f":"IF(Stammdaten!$A$2=\"\",\"\",D693-B693)","v":""},{"$f":"IF(Stammdaten!$A$2=\"\",\"\",E693/B693)","v":""},{"$f":"IF(Stammdaten!$A$2=\"\",\"\",ABS(E693))","v":""},{"$f":"IF(Stammdaten!$A$2=\"\",\"\",D693-C693)","v":""},{"$f":"IF(Stammdaten!$A$2=\"\",\"\",H693/C693)","v":""},{"$f":"IF(Stammdaten!$A$2=\"\",\"\",ABS(H693))","v":""},{"$f":"IF(Stammdaten!$A$2=\"\",\"\",IF(F693>35%,1,\"\"))","v":""},{"$f":"IF(Stammdaten!$A$2=\"\",\"\",IF(I693>35%,1,\"\"))","v":""},{"$f":"IF(Stammdaten!$A$2=\"\",\"\",MONTH(A693))","v":""},{"$f":"IF(Stammdaten!$A$2=\"\",\"\",YEAR(A693))","v":""}]
[{"$f":"Analysedaten!A694","v":""},{"$f":"Berechnungsblatt!C695","v":""},{"$f":"Berechnungsblatt!X695","v":""},{"$f":"Berechnungsblatt!C697","v":""},{"$f":"IF(Stammdaten!$A$2=\"\",\"\",D694-B694)","v":""},{"$f":"IF(Stammdaten!$A$2=\"\",\"\",E694/B694)","v":""},{"$f":"IF(Stammdaten!$A$2=\"\",\"\",ABS(E694))","v":""},{"$f":"IF(Stammdaten!$A$2=\"\",\"\",D694-C694)","v":""},{"$f":"IF(Stammdaten!$A$2=\"\",\"\",H694/C694)","v":""},{"$f":"IF(Stammdaten!$A$2=\"\",\"\",ABS(H694))","v":""},{"$f":"IF(Stammdaten!$A$2=\"\",\"\",IF(F694>35%,1,\"\"))","v":""},{"$f":"IF(Stammdaten!$A$2=\"\",\"\",IF(I694>35%,1,\"\"))","v":""},{"$f":"IF(Stammdaten!$A$2=\"\",\"\",MONTH(A694))","v":""},{"$f":"IF(Stammdaten!$A$2=\"\",\"\",YEAR(A694))","v":""}]
[{"$f":"Analysedaten!A695","v":""},{"$f":"Berechnungsblatt!C696","v":""},{"$f":"Berechnungsblatt!X696","v":""},{"$f":"Berechnungsblatt!C698","v":""},{"$f":"IF(Stammdaten!$A$2=\"\",\"\",D695-B695)","v":""},{"$f":"IF(Stammdaten!$A$2=\"\",\"\",E695/B695)","v":""},{"$f":"IF(Stammdaten!$A$2=\"\",\"\",ABS(E695))","v":""},{"$f":"IF(Stammdaten!$A$2=\"\",\"\",D695-C695)","v":""},{"$f":"IF(Stammdaten!$A$2=\"\",\"\",H695/C695)","v":""},{"$f":"IF(Stammdaten!$A$2=\"\",\"\",ABS(H695))","v":""},{"$f":"IF(Stammdaten!$A$2=\"\",\"\",IF(F695>35%,1,\"\"))","v":""},{"$f":"IF(Stammdaten!$A$2=\"\",\"\",IF(I695>35%,1,\"\"))","v":""},{"$f":"IF(Stammdaten!$A$2=\"\",\"\",MONTH(A695))","v":""},{"$f":"IF(Stammdaten!$A$2=\"\",\"\",YEAR(A695))","v":""}]
[{"$f":"Analysedaten!A696","v":""},{"$f":"Berechnungsblatt!C697","v":""},{"$f":"Berechnungsblatt!X697","v":""},{"$f":"Berechnungsblatt!C699","v":""},{"$f":"IF(Stammdaten!$A$2=\"\",\"\",D696-B696)","v":""},{"$f":"IF(Stammdaten!$A$2=\"\",\"\",E696/B696)","v":""},{"$f":"IF(Stammdaten!$A$2=\"\",\"\",ABS(E696))","v":""},{"$f":"IF(Stammdaten!$A$2=\"\",\"\",D696-C696)","v":""},{"$f":"IF(Stammdaten!$A$2=\"\",\"\",H696/C696)","v":""},{"$f":"IF(Stammdaten!$A$2=\"\",\"\",ABS(H696))","v":""},{"$f":"IF(Stammdaten!$A$2=\"\",\"\",IF(F696>35%,1,\"\"))","v":""},{"$f":"IF(Stammdaten!$A$2=\"\",\"\",IF(I696>35%,1,\"\"))","v":""},{"$f":"IF(Stammdaten!$A$2=\"\",\"\",MONTH(A696))","v":""},{"$f":"IF(Stammdaten!$A$2=\"\",\"\",YEAR(A696))","v":""}]
[{"$f":"Analysedaten!A697","v":""},{"$f":"Berechnungsblatt!C698","v":""},{"$f":"Berechnungsblatt!X698","v":""},{"$f":"Berechnungsblatt!C700","v":""},{"$f":"IF(Stammdaten!$A$2=\"\",\"\",D697-B697)","v":""},{"$f":"IF(Stammdaten!$A$2=\"\",\"\",E697/B697)","v":""},{"$f":"IF(Stammdaten!$A$2=\"\",\"\",ABS(E697))","v":""},{"$f":"IF(Stammdaten!$A$2=\"\",\"\",D697-C697)","v":""},{"$f":"IF(Stammdaten!$A$2=\"\",\"\",H697/C697)","v":""},{"$f":"IF(Stammdaten!$A$2=\"\",\"\",ABS(H697))","v":""},{"$f":"IF(Stammdaten!$A$2=\"\",\"\",IF(F697>35%,1,\"\"))","v":""},{"$f":"IF(Stammdaten!$A$2=\"\",\"\",IF(I697>35%,1,\"\"))","v":""},{"$f":"IF(Stammdaten!$A$2=\"\",\"\",MONTH(A697))","v":""},{"$f":"IF(Stammdaten!$A$2=\"\",\"\",YEAR(A697))","v":""}]
[{"$f":"Analysedaten!A698","v":""},{"$f":"Berechnungsblatt!C699","v":""},{"$f":"Berechnungsblatt!X699","v":""},{"$f":"Berechnungsblatt!C701","v":""},{"$f":"IF(Stammdaten!$A$2=\"\",\"\",D698-B698)","v":""},{"$f":"IF(Stammdaten!$A$2=\"\",\"\",E698/B698)","v":""},{"$f":"IF(Stammdaten!$A$2=\"\",\"\",ABS(E698))","v":""},{"$f":"IF(Stammdaten!$A$2=\"\",\"\",D698-C698)","v":""},{"$f":"IF(Stammdaten!$A$2=\"\",\"\",H698/C698)","v":""},{"$f":"IF(Stammdaten!$A$2=\"\",\"\",ABS(H698))","v":""},{"$f":"IF(Stammdaten!$A$2=\"\",\"\",IF(F698>35%,1,\"\"))","v":""},{"$f":"IF(Stammdaten!$A$2=\"\",\"\",IF(I698>35%,1,\"\"))","v":""},{"$f":"IF(Stammdaten!$A$2=\"\",\"\",MONTH(A698))","v":""},{"$f":"IF(Stammdaten!$A$2=\"\",\"\",YEAR(A698))","v":""}]
[{"$f":"Analysedaten!A699","v":""},{"$f":"Berechnungsblatt!C700","v":""},{"$f":"Berechnungsblatt!X700","v":""},{"$f":"Berechnungsblatt!C702","v":""},{"$f":"IF(Stammdaten!$A$2=\"\",\"\",D699-B699)","v":""},{"$f":"IF(Stammdaten!$A$2=\"\",\"\",E699/B699)","v":""},{"$f":"IF(Stammdaten!$A$2=\"\",\"\",ABS(E699))","v":""},{"$f":"IF(Stammdaten!$A$2=\"\",\"\",D699-C699)","v":""},{"$f":"IF(Stammdaten!$A$2=\"\",\"\",H699/C699)","v":""},{"$f":"IF(Stammdaten!$A$2=\"\",\"\",ABS(H699))","v":""},{"$f":"IF(Stammdaten!$A$2=\"\",\"\",IF(F699>35%,1,\"\"))","v":""},{"$f":"IF(Stammdaten!$A$2=\"\",\"\",IF(I699>35%,1,\"\"))","v":""},{"$f":"IF(Stammdaten!$A$2=\"\",\"\",MONTH(A699))","v":""},{"$f":"IF(Stammdaten!$A$2=\"\",\"\",YEAR(A699))","v":""}]
[{"$f":"Analysedaten!A700","v":""},{"$f":"Berechnungsblatt!C701","v":""},{"$f":"Berechnungsblatt!X701","v":""},{"$f":"Berechnungsblatt!C703","v":""},{"$f":"IF(Stammdaten!$A$2=\"\",\"\",D700-B700)","v":""},{"$f":"IF(Stammdaten!$A$2=\"\",\"\",E700/B700)","v":""},{"$f":"IF(Stammdaten!$A$2=\"\",\"\",ABS(E700))","v":""},{"$f":"IF(Stammdaten!$A$2=\"\",\"\",D700-C700)","v":""},{"$f":"IF(Stammdaten!$A$2=\"\",\"\",H700/C700)","v":""},{"$f":"IF(Stammdaten!$A$2=\"\",\"\",ABS(H700))","v":""},{"$f":"IF(Stammdaten!$A$2=\"\",\"\",IF(F700>35%,1,\"\"))","v":""},{"$f":"IF(Stammdaten!$A$2=\"\",\"\",IF(I700>35%,1,\"\"))","v":""},{"$f":"IF(Stammdaten!$A$2=\"\",\"\",MONTH(A700))","v":""},{"$f":"IF(Stammdaten!$A$2=\"\",\"\",YEAR(A700))","v":""}]
[{"$f":"Analysedaten!A701","v":""},{"$f":"Berechnungsblatt!C702","v":""},{"$f":"Berechnungsblatt!X702","v":""},{"$f":"Berechnungsblatt!C704","v":""},{"$f":"IF(Stammdaten!$A$2=\"\",\"\",D701-B701)","v":""},{"$f":"IF(Stammdaten!$A$2=\"\",\"\",E701/B701)","v":""},{"$f":"IF(Stammdaten!$A$2=\"\",\"\",ABS(E701))","v":""},{"$f":"IF(Stammdaten!$A$2=\"\",\"\",D701-C701)","v":""},{"$f":"IF(Stammdaten!$A$2=\"\",\"\",H701/C701)","v":""},{"$f":"IF(Stammdaten!$A$2=\"\",\"\",ABS(H701))","v":""},{"$f":"IF(Stammdaten!$A$2=\"\",\"\",IF(F701>35%,1,\"\"))","v":""},{"$f":"IF(Stammdaten!$A$2=\"\",\"\",IF(I701>35%,1,\"\"))","v":""},{"$f":"IF(Stammdaten!$A$2=\"\",\"\",MONTH(A701))","v":""},{"$f":"IF(Stammdaten!$A$2=\"\",\"\",YEAR(A701))","v":""}]
[{"$f":"Analysedaten!A702","v":""},{"$f":"Berechnungsblatt!C703","v":""},{"$f":"Berechnungsblatt!X703","v":""},{"$f":"Berechnungsblatt!C705","v":""},{"$f":"IF(Stammdaten!$A$2=\"\",\"\",D702-B702)","v":""},{"$f":"IF(Stammdaten!$A$2=\"\",\"\",E702/B702)","v":""},{"$f":"IF(Stammdaten!$A$2=\"\",\"\",ABS(E702))","v":""},{"$f":"IF(Stammdaten!$A$2=\"\",\"\",D702-C702)","v":""},{"$f":"IF(Stammdaten!$A$2=\"\",\"\",H702/C702)","v":""},{"$f":"IF(Stammdaten!$A$2=\"\",\"\",ABS(H702))","v":""},{"$f":"IF(Stammdaten!$A$2=\"\",\"\",IF(F702>35%,1,\"\"))","v":""},{"$f":"IF(Stammdaten!$A$2=\"\",\"\",IF(I702>35%,1,\"\"))","v":""},{"$f":"IF(Stammdaten!$A$2=\"\",\"\",MONTH(A702))","v":""},{"$f":"IF(Stammdaten!$A$2=\"\",\"\",YEAR(A702))","v":""}]
[{"$f":"Analysedaten!A703","v":""},{"$f":"Berechnungsblatt!C704","v":""},{"$f":"Berechnungsblatt!X704","v":""},{"$f":"Berechnungsblatt!C706","v":""},{"$f":"IF(Stammdaten!$A$2=\"\",\"\",D703-B703)","v":""},{"$f":"IF(Stammdaten!$A$2=\"\",\"\",E703/B703)","v":""},{"$f":"IF(Stammdaten!$A$2=\"\",\"\",ABS(E703))","v":""},{"$f":"IF(Stammdaten!$A$2=\"\",\"\",D703-C703)","v":""},{"$f":"IF(Stammdaten!$A$2=\"\",\"\",H703/C703)","v":""},{"$f":"IF(Stammdaten!$A$2=\"\",\"\",ABS(H703))","v":""},{"$f":"IF(Stammdaten!$A$2=\"\",\"\",IF(F703>35%,1,\"\"))","v":""},{"$f":"IF(Stammdaten!$A$2=\"\",\"\",IF(I703>35%,1,\"\"))","v":""},{"$f":"IF(Stammdaten!$A$2=\"\",\"\",MONTH(A703))","v":""},{"$f":"IF(Stammdaten!$A$2=\"\",\"\",YEAR(A703))","v":""}]
[{"$f":"Analysedaten!A704","v":""},{"$f":"Berechnungsblatt!C705","v":""},{"$f":"Berechnungsblatt!X705","v":""},{"$f":"Berechnungsblatt!C707","v":""},{"$f":"IF(Stammdaten!$A$2=\"\",\"\",D704-B704)","v":""},{"$f":"IF(Stammdaten!$A$2=\"\",\"\",E704/B704)","v":""},{"$f":"IF(Stammdaten!$A$2=\"\",\"\",ABS(E704))","v":""},{"$f":"IF(Stammdaten!$A$2=\"\",\"\",D704-C704)","v":""},{"$f":"IF(Stammdaten!$A$2=\"\",\"\",H704/C704)","v":""},{"$f":"IF(Stammdaten!$A$2=\"\",\"\",ABS(H704))","v":""},{"$f":"IF(Stammdaten!$A$2=\"\",\"\",IF(F704>35%,1,\"\"))","v":""},{"$f":"IF(Stammdaten!$A$2=\"\",\"\",IF(I704>35%,1,\"\"))","v":""},{"$f":"IF(Stammdaten!$A$2=\"\",\"\",MONTH(A704))","v":""},{"$f":"IF(Stammdaten!$A$2=\"\",\"\",YEAR(A704))","v":""}]
[{"$f":"Analysedaten!A705","v":""},{"$f":"Berechnungsblatt!C706","v":""},{"$f":"Berechnungsblatt!X706","v":""},{"$f":"Berechnungsblatt!C708","v":""},{"$f":"IF(Stammdaten!$A$2=\"\",\"\",D705-B705)","v":""},{"$f":"IF(Stammdaten!$A$2=\"\",\"\",E705/B705)","v":""},{"$f":"IF(Stammdaten!$A$2=\"\",\"\",ABS(E705))","v":""},{"$f":"IF(Stammdaten!$A$2=\"\",\"\",D705-C705)","v":""},{"$f":"IF(Stammdaten!$A$2=\"\",\"\",H705/C705)","v":""},{"$f":"IF(Stammdaten!$A$2=\"\",\"\",ABS(H705))","v":""},{"$f":"IF(Stammdaten!$A$2=\"\",\"\",IF(F705>35%,1,\"\"))","v":""},{"$f":"IF(Stammdaten!$A$2=\"\",\"\",IF(I705>35%,1,\"\"))","v":""},{"$f":"IF(Stammdaten!$A$2=\"\",\"\",MONTH(A705))","v":""},{"$f":"IF(Stammdaten!$A$2=\"\",\"\",YEAR(A705))","v":""}]
[{"$f":"Analysedaten!A706","v":""},{"$f":"Berechnungsblatt!C707","v":""},{"$f":"Berechnungsblatt!X707","v":""},{"$f":"Berechnungsblatt!C709","v":""},{"$f":"IF(Stammdaten!$A$2=\"\",\"\",D706-B706)","v":""},{"$f":"IF(Stammdaten!$A$2=\"\",\"\",E706/B706)","v":""},{"$f":"IF(Stammdaten!$A$2=\"\",\"\",ABS(E706))","v":""},{"$f":"IF(Stammdaten!$A$2=\"\",\"\",D706-C706)","v":""},{"$f":"IF(Stammdaten!$A$2=\"\",\"\",H706/C706)","v":""},{"$f":"IF(Stammdaten!$A$2=\"\",\"\",ABS(H706))","v":""},{"$f":"IF(Stammdaten!$A$2=\"\",\"\",IF(F706>35%,1,\"\"))","v":""},{"$f":"IF(Stammdaten!$A$2=\"\",\"\",IF(I706>35%,1,\"\"))","v":""},{"$f":"IF(Stammdaten!$A$2=\"\",\"\",MONTH(A706))","v":""},{"$f":"IF(Stammdaten!$A$2=\"\",\"\",YEAR(A706))","v":""}]
[{"$f":"Analysedaten!A707","v":""},{"$f":"Berechnungsblatt!C708","v":""},{"$f":"Berechnungsblatt!X708","v":""},{"$f":"Berechnungsblatt!C710","v":""},{"$f":"IF(Stammdaten!$A$2=\"\",\"\",D707-B707)","v":""},{"$f":"IF(Stammdaten!$A$2=\"\",\"\",E707/B707)","v":""},{"$f":"IF(Stammdaten!$A$2=\"\",\"\",ABS(E707))","v":""},{"$f":"IF(Stammdaten!$A$2=\"\",\"\",D707-C707)","v":""},{"$f":"IF(Stammdaten!$A$2=\"\",\"\",H707/C707)","v":""},{"$f":"IF(Stammdaten!$A$2=\"\",\"\",ABS(H707))","v":""},{"$f":"IF(Stammdaten!$A$2=\"\",\"\",IF(F707>35%,1,\"\"))","v":""},{"$f":"IF(Stammdaten!$A$2=\"\",\"\",IF(I707>35%,1,\"\"))","v":""},{"$f":"IF(Stammdaten!$A$2=\"\",\"\",MONTH(A707))","v":""},{"$f":"IF(Stammdaten!$A$2=\"\",\"\",YEAR(A707))","v":""}]
[{"$f":"Analysedaten!A708","v":""},{"$f":"Berechnungsblatt!C709","v":""},{"$f":"Berechnungsblatt!X709","v":""},{"$f":"Berechnungsblatt!C711","v":""},{"$f":"IF(Stammdaten!$A$2=\"\",\"\",D708-B708)","v":""},{"$f":"IF(Stammdaten!$A$2=\"\",\"\",E708/B708)","v":""},{"$f":"IF(Stammdaten!$A$2=\"\",\"\",ABS(E708))","v":""},{"$f":"IF(Stammdaten!$A$2=\"\",\"\",D708-C708)","v":""},{"$f":"IF(Stammdaten!$A$2=\"\",\"\",H708/C708)","v":""},{"$f":"IF(Stammdaten!$A$2=\"\",\"\",ABS(H708))","v":""},{"$f":"IF(Stammdaten!$A$2=\"\",\"\",IF(F708>35%,1,\"\"))","v":""},{"$f":"IF(Stammdaten!$A$2=\"\",\"\",IF(I708>35%,1,\"\"))","v":""},{"$f":"IF(Stammdaten!$A$2=\"\",\"\",MONTH(A708))","v":""},{"$f":"IF(Stammdaten!$A$2=\"\",\"\",YEAR(A708))","v":""}]
[{"$f":"Analysedaten!A709","v":""},{"$f":"Berechnungsblatt!C710","v":""},{"$f":"Berechnungsblatt!X710","v":""},{"$f":"Berechnungsblatt!C712","v":""},{"$f":"IF(Stammdaten!$A$2=\"\",\"\",D709-B709)","v":""},{"$f":"IF(Stammdaten!$A$2=\"\",\"\",E709/B709)","v":""},{"$f":"IF(Stammdaten!$A$2=\"\",\"\",ABS(E709))","v":""},{"$f":"IF(Stammdaten!$A$2=\"\",\"\",D709-C709)","v":""},{"$f":"IF(Stammdaten!$A$2=\"\",\"\",H709/C709)","v":""},{"$f":"IF(Stammdaten!$A$2=\"\",\"\",ABS(H709))","v":""},{"$f":"IF(Stammdaten!$A$2=\"\",\"\",IF(F709>35%,1,\"\"))","v":""},{"$f":"IF(Stammdaten!$A$2=\"\",\"\",IF(I709>35%,1,\"\"))","v":""},{"$f":"IF(Stammdaten!$A$2=\"\",\"\",MONTH(A709))","v":""},{"$f":"IF(Stammdaten!$A$2=\"\",\"\",YEAR(A709))","v":""}]
[{"$f":"Analysedaten!A710","v":""},{"$f":"Berechnungsblatt!C711","v":""},{"$f":"Berechnungsblatt!X711","v":""},{"$f":"Berechnungsblatt!C713","v":""},{"$f":"IF(Stammdaten!$A$2=\"\",\"\",D710-B710)","v":""},{"$f":"IF(Stammdaten!$A$2=\"\",\"\",E710/B710)","v":""},{"$f":"IF(Stammdaten!$A$2=\"\",\"\",ABS(E710))","v":""},{"$f":"IF(Stammdaten!$A$2=\"\",\"\",D710-C710)","v":""},{"$f":"IF(Stammdaten!$A$2=\"\",\"\",H710/C710)","v":""},{"$f":"IF(Stammdaten!$A$2=\"\",\"\",ABS(H710))","v":""},{"$f":"IF(Stammdaten!$A$2=\"\",\"\",IF(F710>35%,1,\"\"))","v":""},{"$f":"IF(Stammdaten!$A$2=\"\",\"\",IF(I710>35%,1,\"\"))","v":""},{"$f":"IF(Stammdaten!$A$2=\"\",\"\",MONTH(A710))","v":""},{"$f":"IF(Stammdaten!$A$2=\"\",\"\",YEAR(A710))","v":""}]
[{"$f":"Analysedaten!A711","v":""},{"$f":"Berechnungsblatt!C712","v":""},{"$f":"Berechnungsblatt!X712","v":""},{"$f":"Berechnungsblatt!C714","v":""},{"$f":"IF(Stammdaten!$A$2=\"\",\"\",D711-B711)","v":""},{"$f":"IF(Stammdaten!$A$2=\"\",\"\",E711/B711)","v":""},{"$f":"IF(Stammdaten!$A$2=\"\",\"\",ABS(E711))","v":""},{"$f":"IF(Stammdaten!$A$2=\"\",\"\",D711-C711)","v":""},{"$f":"IF(Stammdaten!$A$2=\"\",\"\",H711/C711)","v":""},{"$f":"IF(Stammdaten!$A$2=\"\",\"\",ABS(H711))","v":""},{"$f":"IF(Stammdaten!$A$2=\"\",\"\",IF(F711>35%,1,\"\"))","v":""},{"$f":"IF(Stammdaten!$A$2=\"\",\"\",IF(I711>35%,1,\"\"))","v":""},{"$f":"IF(Stammdaten!$A$2=\"\",\"\",MONTH(A711))","v":""},{"$f":"IF(Stammdaten!$A$2=\"\",\"\",YEAR(A711))","v":""}]
[{"$f":"Analysedaten!A712","v":""},{"$f":"Berechnungsblatt!C713","v":""},{"$f":"Berechnungsblatt!X713","v":""},{"$f":"Berechnungsblatt!C715","v":""},{"$f":"IF(Stammdaten!$A$2=\"\",\"\",D712-B712)","v":""},{"$f":"IF(Stammdaten!$A$2=\"\",\"\",E712/B712)","v":""},{"$f":"IF(Stammdaten!$A$2=\"\",\"\",ABS(E712))","v":""},{"$f":"IF(Stammdaten!$A$2=\"\",\"\",D712-C712)","v":""},{"$f":"IF(Stammdaten!$A$2=\"\",\"\",H712/C712)","v":""},{"$f":"IF(Stammdaten!$A$2=\"\",\"\",ABS(H712))","v":""},{"$f":"IF(Stammdaten!$A$2=\"\",\"\",IF(F712>35%,1,\"\"))","v":""},{"$f":"IF(Stammdaten!$A$2=\"\",\"\",IF(I712>35%,1,\"\"))","v":""},{"$f":"IF(Stammdaten!$A$2=\"\",\"\",MONTH(A712))","v":""},{"$f":"IF(Stammdaten!$A$2=\"\",\"\",YEAR(A712))","v":""}]
[{"$f":"Analysedaten!A713","v":""},{"$f":"Berechnungsblatt!C714","v":""},{"$f":"Berechnungsblatt!X714","v":""},{"$f":"Berechnungsblatt!C716","v":""},{"$f":"IF(Stammdaten!$A$2=\"\",\"\",D713-B713)","v":""},{"$f":"IF(Stammdaten!$A$2=\"\",\"\",E713/B713)","v":""},{"$f":"IF(Stammdaten!$A$2=\"\",\"\",ABS(E713))","v":""},{"$f":"IF(Stammdaten!$A$2=\"\",\"\",D713-C713)","v":""},{"$f":"IF(Stammdaten!$A$2=\"\",\"\",H713/C713)","v":""},{"$f":"IF(Stammdaten!$A$2=\"\",\"\",ABS(H713))","v":""},{"$f":"IF(Stammdaten!$A$2=\"\",\"\",IF(F713>35%,1,\"\"))","v":""},{"$f":"IF(Stammdaten!$A$2=\"\",\"\",IF(I713>35%,1,\"\"))","v":""},{"$f":"IF(Stammdaten!$A$2=\"\",\"\",MONTH(A713))","v":""},{"$f":"IF(Stammdaten!$A$2=\"\",\"\",YEAR(A713))","v":""}]
[{"$f":"Analysedaten!A714","v":""},{"$f":"Berechnungsblatt!C715","v":""},{"$f":"Berechnungsblatt!X715","v":""},{"$f":"Berechnungsblatt!C717","v":""},{"$f":"IF(Stammdaten!$A$2=\"\",\"\",D714-B714)","v":""},{"$f":"IF(Stammdaten!$A$2=\"\",\"\",E714/B714)","v":""},{"$f":"IF(Stammdaten!$A$2=\"\",\"\",ABS(E714))","v":""},{"$f":"IF(Stammdaten!$A$2=\"\",\"\",D714-C714)","v":""},{"$f":"IF(Stammdaten!$A$2=\"\",\"\",H714/C714)","v":""},{"$f":"IF(Stammdaten!$A$2=\"\",\"\",ABS(H714))","v":""},{"$f":"IF(Stammdaten!$A$2=\"\",\"\",IF(F714>35%,1,\"\"))","v":""},{"$f":"IF(Stammdaten!$A$2=\"\",\"\",IF(I714>35%,1,\"\"))","v":""},{"$f":"IF(Stammdaten!$A$2=\"\",\"\",MONTH(A714))","v":""},{"$f":"IF(Stammdaten!$A$2=\"\",\"\",YEAR(A714))","v":""}]
[{"$f":"Analysedaten!A715","v":""},{"$f":"Berechnungsblatt!C716","v":""},{"$f":"Berechnungsblatt!X716","v":""},{"$f":"Berechnungsblatt!C718","v":""},{"$f":"IF(Stammdaten!$A$2=\"\",\"\",D715-B715)","v":""},{"$f":"IF(Stammdaten!$A$2=\"\",\"\",E715/B715)","v":""},{"$f":"IF(Stammdaten!$A$2=\"\",\"\",ABS(E715))","v":""},{"$f":"IF(Stammdaten!$A$2=\"\",\"\",D715-C715)","v":""},{"$f":"IF(Stammdaten!$A$2=\"\",\"\",H715/C715)","v":""},{"$f":"IF(Stammdaten!$A$2=\"\",\"\",ABS(H715))","v":""},{"$f":"IF(Stammdaten!$A$2=\"\",\"\",IF(F715>35%,1,\"\"))","v":""},{"$f":"IF(Stammdaten!$A$2=\"\",\"\",IF(I715>35%,1,\"\"))","v":""},{"$f":"IF(Stammdaten!$A$2=\"\",\"\",MONTH(A715))","v":""},{"$f":"IF(Stammdaten!$A$2=\"\",\"\",YEAR(A715))","v":""}]
[{"$f":"Analysedaten!A716","v":""},{"$f":"Berechnungsblatt!C717","v":""},{"$f":"Berechnungsblatt!X717","v":""},{"$f":"Berechnungsblatt!C719","v":""},{"$f":"IF(Stammdaten!$A$2=\"\",\"\",D716-B716)","v":""},{"$f":"IF(Stammdaten!$A$2=\"\",\"\",E716/B716)","v":""},{"$f":"IF(Stammdaten!$A$2=\"\",\"\",ABS(E716))","v":""},{"$f":"IF(Stammdaten!$A$2=\"\",\"\",D716-C716)","v":""},{"$f":"IF(Stammdaten!$A$2=\"\",\"\",H716/C716)","v":""},{"$f":"IF(Stammdaten!$A$2=\"\",\"\",ABS(H716))","v":""},{"$f":"IF(Stammdaten!$A$2=\"\",\"\",IF(F716>35%,1,\"\"))","v":""},{"$f":"IF(Stammdaten!$A$2=\"\",\"\",IF(I716>35%,1,\"\"))","v":""},{"$f":"IF(Stammdaten!$A$2=\"\",\"\",MONTH(A716))","v":""},{"$f":"IF(Stammdaten!$A$2=\"\",\"\",YEAR(A716))","v":""}]
[{"$f":"Analysedaten!A717","v":""},{"$f":"Berechnungsblatt!C718","v":""},{"$f":"Berechnungsblatt!X718","v":""},{"$f":"Berechnungsblatt!C720","v":""},{"$f":"IF(Stammdaten!$A$2=\"\",\"\",D717-B717)","v":""},{"$f":"IF(Stammdaten!$A$2=\"\",\"\",E717/B717)","v":""},{"$f":"IF(Stammdaten!$A$2=\"\",\"\",ABS(E717))","v":""},{"$f":"IF(Stammdaten!$A$2=\"\",\"\",D717-C717)","v":""},{"$f":"IF(Stammdaten!$A$2=\"\",\"\",H717/C717)","v":""},{"$f":"IF(Stammdaten!$A$2=\"\",\"\",ABS(H717))","v":""},{"$f":"IF(Stammdaten!$A$2=\"\",\"\",IF(F717>35%,1,\"\"))","v":""},{"$f":"IF(Stammdaten!$A$2=\"\",\"\",IF(I717>35%,1,\"\"))","v":""},{"$f":"IF(Stammdaten!$A$2=\"\",\"\",MONTH(A717))","v":""},{"$f":"IF(Stammdaten!$A$2=\"\",\"\",YEAR(A717))","v":""}]
[{"$f":"Analysedaten!A718","v":""},{"$f":"Berechnungsblatt!C719","v":""},{"$f":"Berechnungsblatt!X719","v":""},{"$f":"Berechnungsblatt!C721","v":""},{"$f":"IF(Stammdaten!$A$2=\"\",\"\",D718-B718)","v":""},{"$f":"IF(Stammdaten!$A$2=\"\",\"\",E718/B718)","v":""},{"$f":"IF(Stammdaten!$A$2=\"\",\"\",ABS(E718))","v":""},{"$f":"IF(Stammdaten!$A$2=\"\",\"\",D718-C718)","v":""},{"$f":"IF(Stammdaten!$A$2=\"\",\"\",H718/C718)","v":""},{"$f":"IF(Stammdaten!$A$2=\"\",\"\",ABS(H718))","v":""},{"$f":"IF(Stammdaten!$A$2=\"\",\"\",IF(F718>35%,1,\"\"))","v":""},{"$f":"IF(Stammdaten!$A$2=\"\",\"\",IF(I718>35%,1,\"\"))","v":""},{"$f":"IF(Stammdaten!$A$2=\"\",\"\",MONTH(A718))","v":""},{"$f":"IF(Stammdaten!$A$2=\"\",\"\",YEAR(A718))","v":""}]
[{"$f":"Analysedaten!A719","v":""},{"$f":"Berechnungsblatt!C720","v":""},{"$f":"Berechnungsblatt!X720","v":""},{"$f":"Berechnungsblatt!C722","v":""},{"$f":"IF(Stammdaten!$A$2=\"\",\"\",D719-B719)","v":""},{"$f":"IF(Stammdaten!$A$2=\"\",\"\",E719/B719)","v":""},{"$f":"IF(Stammdaten!$A$2=\"\",\"\",ABS(E719))","v":""},{"$f":"IF(Stammdaten!$A$2=\"\",\"\",D719-C719)","v":""},{"$f":"IF(Stammdaten!$A$2=\"\",\"\",H719/C719)","v":""},{"$f":"IF(Stammdaten!$A$2=\"\",\"\",ABS(H719))","v":""},{"$f":"IF(Stammdaten!$A$2=\"\",\"\",IF(F719>35%,1,\"\"))","v":""},{"$f":"IF(Stammdaten!$A$2=\"\",\"\",IF(I719>35%,1,\"\"))","v":""},{"$f":"IF(Stammdaten!$A$2=\"\",\"\",MONTH(A719))","v":""},{"$f":"IF(Stammdaten!$A$2=\"\",\"\",YEAR(A719))","v":""}]
[{"$f":"Analysedaten!A720","v":""},{"$f":"Berechnungsblatt!C721","v":""},{"$f":"Berechnungsblatt!X721","v":""},{"$f":"Berechnungsblatt!C723","v":""},{"$f":"IF(Stammdaten!$A$2=\"\",\"\",D720-B720)","v":""},{"$f":"IF(Stammdaten!$A$2=\"\",\"\",E720/B720)","v":""},{"$f":"IF(Stammdaten!$A$2=\"\",\"\",ABS(E720))","v":""},{"$f":"IF(Stammdaten!$A$2=\"\",\"\",D720-C720)","v":""},{"$f":"IF(Stammdaten!$A$2=\"\",\"\",H720/C720)","v":""},{"$f":"IF(Stammdaten!$A$2=\"\",\"\",ABS(H720))","v":""},{"$f":"IF(Stammdaten!$A$2=\"\",\"\",IF(F720>35%,1,\"\"))","v":""},{"$f":"IF(Stammdaten!$A$2=\"\",\"\",IF(I720>35%,1,\"\"))","v":""},{"$f":"IF(Stammdaten!$A$2=\"\",\"\",MONTH(A720))","v":""},{"$f":"IF(Stammdaten!$A$2=\"\",\"\",YEAR(A720))","v":""}]
[{"$f":"Analysedaten!A721","v":""},{"$f":"Berechnungsblatt!C722","v":""},{"$f":"Berechnungsblatt!X722","v":""},{"$f":"Berechnungsblatt!C724","v":""},{"$f":"IF(Stammdaten!$A$2=\"\",\"\",D721-B721)","v":""},{"$f":"IF(Stammdaten!$A$2=\"\",\"\",E721/B721)","v":""},{"$f":"IF(Stammdaten!$A$2=\"\",\"\",ABS(E721))","v":""},{"$f":"IF(Stammdaten!$A$2=\"\",\"\",D721-C721)","v":""},{"$f":"IF(Stammdaten!$A$2=\"\",\"\",H721/C721)","v":""},{"$f":"IF(Stammdaten!$A$2=\"\",\"\",ABS(H721))","v":""},{"$f":"IF(Stammdaten!$A$2=\"\",\"\",IF(F721>35%,1,\"\"))","v":""},{"$f":"IF(Stammdaten!$A$2=\"\",\"\",IF(I721>35%,1,\"\"))","v":""},{"$f":"IF(Stammdaten!$A$2=\"\",\"\",MONTH(A721))","v":""},{"$f":"IF(Stammdaten!$A$2=\"\",\"\",YEAR(A721))","v":""}]
[{"$f":"Analysedaten!A722","v":""},{"$f":"Berechnungsblatt!C723","v":""},{"$f":"Berechnungsblatt!X723","v":""},{"$f":"Berechnungsblatt!C725","v":""},{"$f":"IF(Stammdaten!$A$2=\"\",\"\",D722-B722)","v":""},{"$f":"IF(Stammdaten!$A$2=\"\",\"\",E722/B722)","v":""},{"$f":"IF(Stammdaten!$A$2=\"\",\"\",ABS(E722))","v":""},{"$f":"IF(Stammdaten!$A$2=\"\",\"\",D722-C722)","v":""},{"$f":"IF(Stammdaten!$A$2=\"\",\"\",H722/C722)","v":""},{"$f":"IF(Stammdaten!$A$2=\"\",\"\",ABS(H722))","v":""},{"$f":"IF(Stammdaten!$A$2=\"\",\"\",IF(F722>35%,1,\"\"))","v":""},{"$f":"IF(Stammdaten!$A$2=\"\",\"\",IF(I722>35%,1,\"\"))","v":""},{"$f":"IF(Stammdaten!$A$2=\"\",\"\",MONTH(A722))","v":""},{"$f":"IF(Stammdaten!$A$2=\"\",\"\",YEAR(A722))","v":""}]
[{"$f":"Analysedaten!A723","v":""},{"$f":"Berechnungsblatt!C724","v":""},{"$f":"Berechnungsblatt!X724","v":""},{"$f":"Berechnungsblatt!C726","v":""},{"$f":"IF(Stammdaten!$A$2=\"\",\"\",D723-B723)","v":""},{"$f":"IF(Stammdaten!$A$2=\"\",\"\",E723/B723)","v":""},{"$f":"IF(Stammdaten!$A$2=\"\",\"\",ABS(E723))","v":""},{"$f":"IF(Stammdaten!$A$2=\"\",\"\",D723-C723)","v":""},{"$f":"IF(Stammdaten!$A$2=\"\",\"\",H723/C723)","v":""},{"$f":"IF(Stammdaten!$A$2=\"\",\"\",ABS(H723))","v":""},{"$f":"IF(Stammdaten!$A$2=\"\",\"\",IF(F723>35%,1,\"\"))","v":""},{"$f":"IF(Stammdaten!$A$2=\"\",\"\",IF(I723>35%,1,\"\"))","v":""},{"$f":"IF(Stammdaten!$A$2=\"\",\"\",MONTH(A723))","v":""},{"$f":"IF(Stammdaten!$A$2=\"\",\"\",YEAR(A723))","v":""}]
[{"$f":"Analysedaten!A724","v":""},{"$f":"Berechnungsblatt!C725","v":""},{"$f":"Berechnungsblatt!X725","v":""},{"$f":"Berechnungsblatt!C727","v":""},{"$f":"IF(Stammdaten!$A$2=\"\",\"\",D724-B724)","v":""},{"$f":"IF(Stammdaten!$A$2=\"\",\"\",E724/B724)","v":""},{"$f":"IF(Stammdaten!$A$2=\"\",\"\",ABS(E724))","v":""},{"$f":"IF(Stammdaten!$A$2=\"\",\"\",D724-C724)","v":""},{"$f":"IF(Stammdaten!$A$2=\"\",\"\",H724/C724)","v":""},{"$f":"IF(Stammdaten!$A$2=\"\",\"\",ABS(H724))","v":""},{"$f":"IF(Stammdaten!$A$2=\"\",\"\",IF(F724>35%,1,\"\"))","v":""},{"$f":"IF(Stammdaten!$A$2=\"\",\"\",IF(I724>35%,1,\"\"))","v":""},{"$f":"IF(Stammdaten!$A$2=\"\",\"\",MONTH(A724))","v":""},{"$f":"IF(Stammdaten!$A$2=\"\",\"\",YEAR(A724))","v":""}]
[{"$f":"Analysedaten!A725","v":""},{"$f":"Berechnungsblatt!C726","v":""},{"$f":"Berechnungsblatt!X726","v":""},{"$f":"Berechnungsblatt!C728","v":""},{"$f":"IF(Stammdaten!$A$2=\"\",\"\",D725-B725)","v":""},{"$f":"IF(Stammdaten!$A$2=\"\",\"\",E725/B725)","v":""},{"$f":"IF(Stammdaten!$A$2=\"\",\"\",ABS(E725))","v":""},{"$f":"IF(Stammdaten!$A$2=\"\",\"\",D725-C725)","v":""},{"$f":"IF(Stammdaten!$A$2=\"\",\"\",H725/C725)","v":""},{"$f":"IF(Stammdaten!$A$2=\"\",\"\",ABS(H725))","v":""},{"$f":"IF(Stammdaten!$A$2=\"\",\"\",IF(F725>35%,1,\"\"))","v":""},{"$f":"IF(Stammdaten!$A$2=\"\",\"\",IF(I725>35%,1,\"\"))","v":""},{"$f":"IF(Stammdaten!$A$2=\"\",\"\",MONTH(A725))","v":""},{"$f":"IF(Stammdaten!$A$2=\"\",\"\",YEAR(A725))","v":""}]
[{"$f":"Analysedaten!A726","v":""},{"$f":"Berechnungsblatt!C727","v":""},{"$f":"Berechnungsblatt!X727","v":""},{"$f":"Berechnungsblatt!C729","v":""},{"$f":"IF(Stammdaten!$A$2=\"\",\"\",D726-B726)","v":""},{"$f":"IF(Stammdaten!$A$2=\"\",\"\",E726/B726)","v":""},{"$f":"IF(Stammdaten!$A$2=\"\",\"\",ABS(E726))","v":""},{"$f":"IF(Stammdaten!$A$2=\"\",\"\",D726-C726)","v":""},{"$f":"IF(Stammdaten!$A$2=\"\",\"\",H726/C726)","v":""},{"$f":"IF(Stammdaten!$A$2=\"\",\"\",ABS(H726))","v":""},{"$f":"IF(Stammdaten!$A$2=\"\",\"\",IF(F726>35%,1,\"\"))","v":""},{"$f":"IF(Stammdaten!$A$2=\"\",\"\",IF(I726>35%,1,\"\"))","v":""},{"$f":"IF(Stammdaten!$A$2=\"\",\"\",MONTH(A726))","v":""},{"$f":"IF(Stammdaten!$A$2=\"\",\"\",YEAR(A726))","v":""}]
[{"$f":"Analysedaten!A727","v":""},{"$f":"Berechnungsblatt!C728","v":""},{"$f":"Berechnungsblatt!X728","v":""},{"$f":"Berechnungsblatt!C730","v":""},{"$f":"IF(Stammdaten!$A$2=\"\",\"\",D727-B727)","v":""},{"$f":"IF(Stammdaten!$A$2=\"\",\"\",E727/B727)","v":""},{"$f":"IF(Stammdaten!$A$2=\"\",\"\",ABS(E727))","v":""},{"$f":"IF(Stammdaten!$A$2=\"\",\"\",D727-C727)","v":""},{"$f":"IF(Stammdaten!$A$2=\"\",\"\",H727/C727)","v":""},{"$f":"IF(Stammdaten!$A$2=\"\",\"\",ABS(H727))","v":""},{"$f":"IF(Stammdaten!$A$2=\"\",\"\",IF(F727>35%,1,\"\"))","v":""},{"$f":"IF(Stammdaten!$A$2=\"\",\"\",IF(I727>35%,1,\"\"))","v":""},{"$f":"IF(Stammdaten!$A$2=\"\",\"\",MONTH(A727))","v":""},{"$f":"IF(Stammdaten!$A$2=\"\",\"\",YEAR(A727))","v":""}]
[{"$f":"Analysedaten!A728","v":""},{"$f":"Berechnungsblatt!C729","v":""},{"$f":"Berechnungsblatt!X729","v":""},{"$f":"Berechnungsblatt!C731","v":""},{"$f":"IF(Stammdaten!$A$2=\"\",\"\",D728-B728)","v":""},{"$f":"IF(Stammdaten!$A$2=\"\",\"\",E728/B728)","v":""},{"$f":"IF(Stammdaten!$A$2=\"\",\"\",ABS(E728))","v":""},{"$f":"IF(Stammdaten!$A$2=\"\",\"\",D728-C728)","v":""},{"$f":"IF(Stammdaten!$A$2=\"\",\"\",H728/C728)","v":""},{"$f":"IF(Stammdaten!$A$2=\"\",\"\",ABS(H728))","v":""},{"$f":"IF(Stammdaten!$A$2=\"\",\"\",IF(F728>35%,1,\"\"))","v":""},{"$f":"IF(Stammdaten!$A$2=\"\",\"\",IF(I728>35%,1,\"\"))","v":""},{"$f":"IF(Stammdaten!$A$2=\"\",\"\",MONTH(A728))","v":""},{"$f":"IF(Stammdaten!$A$2=\"\",\"\",YEAR(A728))","v":""}]
[{"$f":"Analysedaten!A729","v":""},{"$f":"Berechnungsblatt!C730","v":""},{"$f":"Berechnungsblatt!X730","v":""},{"$f":"Berechnungsblatt!C732","v":""},{"$f":"IF(Stammdaten!$A$2=\"\",\"\",D729-B729)","v":""},{"$f":"IF(Stammdaten!$A$2=\"\",\"\",E729/B729)","v":""},{"$f":"IF(Stammdaten!$A$2=\"\",\"\",ABS(E729))","v":""},{"$f":"IF(Stammdaten!$A$2=\"\",\"\",D729-C729)","v":""},{"$f":"IF(Stammdaten!$A$2=\"\",\"\",H729/C729)","v":""},{"$f":"IF(Stammdaten!$A$2=\"\",\"\",ABS(H729))","v":""},{"$f":"IF(Stammdaten!$A$2=\"\",\"\",IF(F729>35%,1,\"\"))","v":""},{"$f":"IF(Stammdaten!$A$2=\"\",\"\",IF(I729>35%,1,\"\"))","v":""},{"$f":"IF(Stammdaten!$A$2=\"\",\"\",MONTH(A729))","v":""},{"$f":"IF(Stammdaten!$A$2=\"\",\"\",YEAR(A729))","v":""}]
[{"$f":"Analysedaten!A730","v":""},{"$f":"Berechnungsblatt!C731","v":""},{"$f":"Berechnungsblatt!X731","v":""},{"$f":"Berechnungsblatt!C733","v":""},{"$f":"IF(Stammdaten!$A$2=\"\",\"\",D730-B730)","v":""},{"$f":"IF(Stammdaten!$A$2=\"\",\"\",E730/B730)","v":""},{"$f":"IF(Stammdaten!$A$2=\"\",\"\",ABS(E730))","v":""},{"$f":"IF(Stammdaten!$A$2=\"\",\"\",D730-C730)","v":""},{"$f":"IF(Stammdaten!$A$2=\"\",\"\",H730/C730)","v":""},{"$f":"IF(Stammdaten!$A$2=\"\",\"\",ABS(H730))","v":""},{"$f":"IF(Stammdaten!$A$2=\"\",\"\",IF(F730>35%,1,\"\"))","v":""},{"$f":"IF(Stammdaten!$A$2=\"\",\"\",IF(I730>35%,1,\"\"))","v":""},{"$f":"IF(Stammdaten!$A$2=\"\",\"\",MONTH(A730))","v":""},{"$f":"IF(Stammdaten!$A$2=\"\",\"\",YEAR(A730))","v":""}]
[{"$f":"Analysedaten!A731","v":""},{"$f":"Berechnungsblatt!C732","v":""},{"$f":"Berechnungsblatt!X732","v":""},{"$f":"Berechnungsblatt!C734","v":""},{"$f":"IF(Stammdaten!$A$2=\"\",\"\",D731-B731)","v":""},{"$f":"IF(Stammdaten!$A$2=\"\",\"\",E731/B731)","v":""},{"$f":"IF(Stammdaten!$A$2=\"\",\"\",ABS(E731))","v":""},{"$f":"IF(Stammdaten!$A$2=\"\",\"\",D731-C731)","v":""},{"$f":"IF(Stammdaten!$A$2=\"\",\"\",H731/C731)","v":""},{"$f":"IF(Stammdaten!$A$2=\"\",\"\",ABS(H731))","v":""},{"$f":"IF(Stammdaten!$A$2=\"\",\"\",IF(F731>35%,1,\"\"))","v":""},{"$f":"IF(Stammdaten!$A$2=\"\",\"\",IF(I731>35%,1,\"\"))","v":""},{"$f":"IF(Stammdaten!$A$2=\"\",\"\",MONTH(A731))","v":""},{"$f":"IF(Stammdaten!$A$2=\"\",\"\",YEAR(A731))","v":""}]
[{"$f":"Analysedaten!A732","v":""},{"$f":"Berechnungsblatt!C733","v":""},{"$f":"Berechnungsblatt!X733","v":""},{"$f":"Berechnungsblatt!C735","v":""},{"$f":"IF(Stammdaten!$A$2=\"\",\"\",D732-B732)","v":""},{"$f":"IF(Stammdaten!$A$2=\"\",\"\",E732/B732)","v":""},{"$f":"IF(Stammdaten!$A$2=\"\",\"\",ABS(E732))","v":""},{"$f":"IF(Stammdaten!$A$2=\"\",\"\",D732-C732)","v":""},{"$f":"IF(Stammdaten!$A$2=\"\",\"\",H732/C732)","v":""},{"$f":"IF(Stammdaten!$A$2=\"\",\"\",ABS(H732))","v":""},{"$f":"IF(Stammdaten!$A$2=\"\",\"\",IF(F732>35%,1,\"\"))","v":""},{"$f":"IF(Stammdaten!$A$2=\"\",\"\",IF(I732>35%,1,\"\"))","v":""},{"$f":"IF(Stammdaten!$A$2=\"\",\"\",MONTH(A732))","v":""},{"$f":"IF(Stammdaten!$A$2=\"\",\"\",YEAR(A732))","v":""}]
[{"$f":"Analysedaten!A733","v":""},{"$f":"Berechnungsblatt!C734","v":""},{"$f":"Berechnungsblatt!X734","v":""},{"$f":"Berechnungsblatt!C736","v":0},{"$f":"IF(Stammdaten!$A$2=\"\",\"\",D733-B733)","v":""},{"$f":"IF(Stammdaten!$A$2=\"\",\"\",E733/B733)","v":""},{"$f":"IF(Stammdaten!$A$2=\"\",\"\",ABS(E733))","v":""},{"$f":"IF(Stammdaten!$A$2=\"\",\"\",D733-C733)","v":""},{"$f":"IF(Stammdaten!$A$2=\"\",\"\",H733/C733)","v":""},{"$f":"IF(Stammdaten!$A$2=\"\",\"\",ABS(H733))","v":""},{"$f":"IF(Stammdaten!$A$2=\"\",\"\",IF(F733>35%,1,\"\"))","v":""},{"$f":"IF(Stammdaten!$A$2=\"\",\"\",IF(I733>35%,1,\"\"))","v":""},{"$f":"IF(Stammdaten!$A$2=\"\",\"\",MONTH(A733))","v":""},{"$f":"IF(Stammdaten!$A$2=\"\",\"\",YEAR(A733))","v":""}]
[{"$f":"Analysedaten!A734","v":""},{"$f":"Berechnungsblatt!C735","v":""},{"$f":"Berechnungsblatt!X735","v":{"$error":"#REF!"}},{"$f":"Berechnungsblatt!C737","v":0},{"$f":"IF(Stammdaten!$A$2=\"\",\"\",D734-B734)","v":""},{"$f":"IF(Stammdaten!$A$2=\"\",\"\",E734/B734)","v":""},{"$f":"IF(Stammdaten!$A$2=\"\",\"\",ABS(E734))","v":""},{"$f":"IF(Stammdaten!$A$2=\"\",\"\",D734-C734)","v":""},{"$f":"IF(Stammdaten!$A$2=\"\",\"\",H734/C734)","v":""},{"$f":"IF(Stammdaten!$A$2=\"\",\"\",ABS(H734))","v":""},{"$f":"IF(Stammdaten!$A$2=\"\",\"\",IF(F734>35%,1,\"\"))","v":""},{"$f":"IF(Stammdaten!$A$2=\"\",\"\",IF(I734>35%,1,\"\"))","v":""},{"$f":"IF(Stammdaten!$A$2=\"\",\"\",MONTH(A734))","v":""},{"$f":"IF(Stammdaten!$A$2=\"\",\"\",YEAR(A734))","v":""}]

{"sheet":"Monatliche Auswertung","index":7,"n_rows":36,"n_cols":11,"rows_kept":36,"cut":false,"hidden":false,"merged":[]}
[]
[]
[null,"Jahr","(Mehrere Elemente)"]
[]
[null,"Monat","Summe der Restlast","Summe der tats. Allokationsmenge","Summe der optimierten Allokationsmenge","Summe kum. sald. Netzkonto 2- Tagesversatz","Summe kum. sald. Netzkonto  opt. 2- Tagesversatz","Anzahl der Tage >35% 2- Tagesversatz","Anzahl der Tage >35%  opt. 2- Tagesversatz","∆m / ∆j 2- Tagesversatz","∆m / ∆j  opt. 2- Tagesversatz"]
[null,"Gesamtergebnis",null,null,null,null,null,null,null,{"$f":"F6/D6*1000","v":{"$error":"#DIV/0!"}},{"$f":"G6/E6*1000","v":{"$error":"#DIV/0!"}}]
[null,null,null,null,null,null,null,null,null,{"$f":"F7/D7*1000","v":{"$error":"#DIV/0!"}},{"$f":"G7/E7*1000","v":{"$error":"#DIV/0!"}}]
[null,null,null,null,null,null,null,null,null,{"$error":"#DIV/0!"},{"$error":"#DIV/0!"}]
[null,null,null,null,null,null,null,null,null,{"$error":"#DIV/0!"},{"$error":"#DIV/0!"}]
[null,null,null,null,null,null,null,null,null,{"$error":"#DIV/0!"},{"$error":"#DIV/0!"}]
[null,null,null,null,null,null,null,null,null,{"$error":"#DIV/0!"},{"$error":"#DIV/0!"}]
[null,null,null,null,null,null,null,null,null,{"$error":"#DIV/0!"},{"$error":"#DIV/0!"}]
[null,null,null,null,null,null,null,null,null,{"$error":"#DIV/0!"},{"$error":"#DIV/0!"}]
[null,null,null,null,null,null,null,null,null,{"$error":"#DIV/0!"},{"$error":"#DIV/0!"}]
[null,null,null,null,null,null,null,null,null,{"$error":"#DIV/0!"},{"$error":"#DIV/0!"}]
[null,null,null,null,null,null,null,null,null,{"$error":"#DIV/0!"},{"$error":"#DIV/0!"}]
[null,null,null,null,null,null,null,null,null,{"$error":"#DIV/0!"},{"$error":"#DIV/0!"}]
[null,null,null,null,null,null,null,null,null,{"$f":"F18/D18*1000","v":{"$error":"#DIV/0!"}},{"$error":"#DIV/0!"}]
[]
[]
[null,"Jahr","(Mehrere Elemente)"]
[]
[null,"Monat","Summe der Restlast","Summe der tats. Allokationsmenge","Summe der optimierten Allokationsmenge","Summe kum. sald. Netzkonto 2- Tagesversatz","Summe kum. sald. Netzkonto  opt. 2- Tagesversatz","Anzahl der Tage >35% 2- Tagesversatz","Anzahl der Tage >35%  opt. 2- Tagesversatz","∆m / ∆j 2- Tagesversatz","∆m / ∆j  opt. 2- Tagesversatz"]
[null,"Gesamtergebnis",null,null,null,null,null,null,null,{"$f":"F24/D24*1000","v":{"$error":"#DIV/0!"}},{"$f":"G24/E24*1000","v":{"$error":"#DIV/0!"}}]
[null,null,null,null,null,null,null,null,null,{"$f":"F25/D25*1000","v":{"$error":"#DIV/0!"}},{"$f":"G25/E25*1000","v":{"$error":"#DIV/0!"}}]
[null,null,null,null,null,null,null,null,null,{"$error":"#DIV/0!"},{"$error":"#DIV/0!"}]
[null,null,null,null,null,null,null,null,null,{"$error":"#DIV/0!"},{"$error":"#DIV/0!"}]
[null,null,null,null,null,null,null,null,null,{"$error":"#DIV/0!"},{"$error":"#DIV/0!"}]
[null,null,null,null,null,null,null,null,null,{"$error":"#DIV/0!"},{"$error":"#DIV/0!"}]
[null,null,null,null,null,null,null,null,null,{"$error":"#DIV/0!"},{"$error":"#DIV/0!"}]
[null,null,null,null,null,null,null,null,null,{"$error":"#DIV/0!"},{"$error":"#DIV/0!"}]
[null,null,null,null,null,null,null,null,null,{"$error":"#DIV/0!"},{"$error":"#DIV/0!"}]
[null,null,null,null,null,null,null,null,null,{"$error":"#DIV/0!"},{"$error":"#DIV/0!"}]
[null,null,null,null,null,null,null,null,null,{"$error":"#DIV/0!"},{"$error":"#DIV/0!"}]
[null,null,null,null,null,null,null,null,null,{"$error":"#DIV/0!"},{"$error":"#DIV/0!"}]
[null,null,null,null,null,null,null,null,null,{"$f":"F36/D36*1000","v":{"$error":"#DIV/0!"}},{"$error":"#DIV/0!"}]

{"sheet":"Grenzwerte","index":8,"n_rows":4,"n_cols":4,"rows_kept":4,"cut":false,"hidden":true,"merged":[]}
[null,"Schwellenwert der Verbesserung"]
["Ausschlusskriterium",0,{"$f":"IF(Überprüfungsergebnisse!C6>$B$3,1,0)","v":1},{"$f":"IF(Überprüfungsergebnisse!C6<$B$2,-1,0)","v":0}]
["Mindestkriterium",0.1,{"$f":"IF(Überprüfungsergebnisse!C7>$B$3,1,0)","v":1},{"$f":"IF(Überprüfungsergebnisse!C7<$B$2,-1,0)","v":0}]
["Ergebnis",{"$f":"C4+D4","v":2},{"$f":"SUM(C2:C3)","v":2},{"$f":"MIN(D2:D3)","v":0}]